{"text_format":"3","workbook":"xlsx","n_sheets":4,"sheets":["Snowball vs Avalanche","Debt Payoff Chart","Debt Snowball Calculator","Debt Avalanche Calculator"],"not_rendered":{"charts":1,"macros":1,"defined_names":3},"read":"whole","date_system":"1900"}

{"sheet":"Snowball vs Avalanche","index":0,"n_rows":47,"n_cols":14,"rows_kept":47,"merged":[[1,1,5,4],[8,1,10,2],[8,8,10,9],[12,1,12,4],[12,8,12,11]]}
[]
[null,"Debt Snowball vs. Debt Avalanche Calculator (FREE Version)"]
[]
[{"$nulls":6},"Extra Monthly Payment:",{"v":200,"d":"$200"},{"$nulls":5},"Provided by: Life And My Finances"]
[{"$nulls":6},"One-Time Startup Payment:",0,{"$nulls":5},"Copyright 2022"]
[]
[]
[]
[null,"Debt Snowball",null,"Total Debts",{"$f":"SUM(C16:C47)","v":{"v":6000,"d":"$6,000.00"}},{"$nulls":3},"Debt Avalanche",null,"Total Debts",{"$f":"SUM(J16:J47)","v":{"v":6000,"d":"$6,000.00"}}]
[{"$nulls":3},"Total Amount Paid",{"$f":"SUM('Debt Snowball Calculator'!B18:B137)","v":{"v":7106.378915058847,"d":"$7,106.38"}},{"$nulls":5},"Total Amount Paid",{"$f":"SUM('Debt Avalanche Calculator'!B18:B137)","v":{"v":6677.189967227846,"d":"$6,677.19"}}]
[{"$nulls":3},"# Months to Get Out of Debt",{"$f":"(VLOOKUP(0,'Debt Snowball Calculator'!$A$18:$C$137,3,FALSE)-1)","v":22},{"$nulls":5},"# Months to Get Out of Debt",{"$f":"(VLOOKUP(0,'Debt Avalanche Calculator'!$A$18:$C$137,3,FALSE)-1)","v":21}]
[]
[null,"Enter Snowball Debts From Smallest Debts to Largest",{"$nulls":6},"Enter Avalanche Debts From Highest Interest to Lowest Interest"]
[]
[null,"Debt Name","Current Balance","Minimum Payment","Interest Rate",null,"# Months to Pay Debts",null,"Debt Name","Current Balance","Minimum Payment","Interest Rate",null,"# Months to Pay Debts"]
[null,"Debt 1",{"v":1000,"d":"$1,000.00"},{"v":25,"d":"$25.00"},{"v":0.08,"d":"8.0%"},null,{"$f":"VLOOKUP(0,'Debt Snowball Calculator'!$CX$17:$CY$137,2,FALSE)","v":5},null,"Debt 3",{"v":3000,"d":"$3,000.00"},{"v":60,"d":"$60.00"},{"v":0.26,"d":"26.0%"},null,{"$f":"VLOOKUP(0,'Debt Avalanche Calculator'!$CX$17:$CY$137,2,FALSE)","v":13}]
[null,"Debt 2",{"v":2000,"d":"$2,000.00"},{"v":40,"d":"$40.00"},{"v":0.12,"d":"12.0%"},null,{"$f":"IF(VLOOKUP(0,'Debt Snowball Calculator'!$DA$17:$DB$137,2,FALSE)=1,\"\",VLOOKUP(0,'Debt Snowball Calculator'!$DA$17:$DB$137,2,FALSE))","v":12},null,"Debt 2",{"v":2000,"d":"$2,000.00"},{"v":40,"d":"$40.00"},{"v":0.12,"d":"12.0%"},null,{"$f":"IF(VLOOKUP(0,'Debt Avalanche Calculator'!$DA$17:$DB$137,2,FALSE)=1,\"\",VLOOKUP(0,'Debt Avalanche Calculator'!$DA$17:$DB$137,2,FALSE))","v":19}]
[null,"Debt 3",{"v":3000,"d":"$3,000.00"},{"v":60,"d":"$60.00"},{"v":0.26,"d":"26.0%"},null,{"$f":"IF(VLOOKUP(0,'Debt Snowball Calculator'!$DD$17:$DE$137,2,FALSE)=1,\"\",VLOOKUP(0,'Debt Snowball Calculator'!$DD$17:$DE$137,2,FALSE))","v":22},null,"Debt 1",{"v":1000,"d":"$1,000.00"},{"v":25,"d":"$25.00"},{"v":0.08,"d":"8.0%"},null,{"$f":"IF(VLOOKUP(0,'Debt Avalanche Calculator'!$DD$17:$DE$137,2,FALSE)=1,\"\",VLOOKUP(0,'Debt Avalanche Calculator'!$DD$17:$DE$137,2,FALSE))","v":21}]
[null,"Debt 4",{"$nulls":4},{"$f":"IF(VLOOKUP(0,'Debt Snowball Calculator'!$DG$17:$DH$137,2,FALSE)=1,\"\",VLOOKUP(0,'Debt Snowball Calculator'!$DG$17:$DH$137,2,FALSE))","v":""},null,"Debt 4",{"$nulls":4},{"$f":"IF(VLOOKUP(0,'Debt Avalanche Calculator'!$DG$17:$DH$137,2,FALSE)=1,\"\",VLOOKUP(0,'Debt Avalanche Calculator'!$DG$17:$DH$137,2,FALSE))","v":""}]
[null,"Debt 5",{"$nulls":4},{"$f":"IF(VLOOKUP(0,'Debt Snowball Calculator'!$DJ$17:$DK$137,2,FALSE)=1,\"\",VLOOKUP(0,'Debt Snowball Calculator'!$DJ$17:$DK$137,2,FALSE))","v":""},null,"Debt 5",{"$nulls":4},{"$f":"IF(VLOOKUP(0,'Debt Avalanche Calculator'!$DJ$17:$DK$137,2,FALSE)=1,\"\",VLOOKUP(0,'Debt Avalanche Calculator'!$DJ$17:$DK$137,2,FALSE))","v":""}]
[null,"Debt 6",{"$nulls":4},{"$f":"IF(VLOOKUP(0,'Debt Snowball Calculator'!$DM$17:$DN$137,2,FALSE)=1,\"\",VLOOKUP(0,'Debt Snowball Calculator'!$DM$17:$DN$137,2,FALSE))","v":""},null,"Debt 6",{"$nulls":4},{"$f":"IF(VLOOKUP(0,'Debt Avalanche Calculator'!$DM$17:$DN$137,2,FALSE)=1,\"\",VLOOKUP(0,'Debt Avalanche Calculator'!$DM$17:$DN$137,2,FALSE))","v":""}]
[null,"Debt 7",{"$nulls":4},{"$f":"IF(VLOOKUP(0,'Debt Snowball Calculator'!$DP$17:$DQ$137,2,FALSE)=1,\"\",VLOOKUP(0,'Debt Snowball Calculator'!$DP$17:$DQ$137,2,FALSE))","v":""},null,"Debt 7",{"$nulls":4},{"$f":"IF(VLOOKUP(0,'Debt Avalanche Calculator'!$DP$17:$DQ$137,2,FALSE)=1,\"\",VLOOKUP(0,'Debt Avalanche Calculator'!$DP$17:$DQ$137,2,FALSE))","v":""}]
[null,"Debt 8",{"$nulls":4},{"$f":"IF(VLOOKUP(0,'Debt Snowball Calculator'!$DS$17:$DT$137,2,FALSE)=1,\"\",VLOOKUP(0,'Debt Snowball Calculator'!$DS$17:$DT$137,2,FALSE))","v":""},null,"Debt 8",{"$nulls":4},{"$f":"IF(VLOOKUP(0,'Debt Avalanche Calculator'!$DS$17:$DT$137,2,FALSE)=1,\"\",VLOOKUP(0,'Debt Avalanche Calculator'!$DS$17:$DT$137,2,FALSE))","v":""}]
[{"$nulls":6},{"$f":"IF(VLOOKUP(0,'Debt Snowball Calculator'!$DV$17:$DW$137,2,FALSE)=1,\"\",VLOOKUP(0,'Debt Snowball Calculator'!$DV$17:$DW$137,2,FALSE))","v":""},{"$nulls":6},{"$f":"IF(VLOOKUP(0,'Debt Avalanche Calculator'!$DV$17:$DW$137,2,FALSE)=1,\"\",VLOOKUP(0,'Debt Avalanche Calculator'!$DV$17:$DW$137,2,FALSE))","v":""}]
[{"$nulls":6},{"$f":"IF(VLOOKUP(0,'Debt Snowball Calculator'!$DY$17:$DZ$137,2,FALSE)=1,\"\",VLOOKUP(0,'Debt Snowball Calculator'!$DY$17:$DZ$137,2,FALSE))","v":""},{"$nulls":6},{"$f":"IF(VLOOKUP(0,'Debt Avalanche Calculator'!$DY$17:$DZ$137,2,FALSE)=1,\"\",VLOOKUP(0,'Debt Avalanche Calculator'!$DY$17:$DZ$137,2,FALSE))","v":""}]
[{"$nulls":6},{"$f":"IF(VLOOKUP(0,'Debt Snowball Calculator'!$EB$17:$EC$137,2,FALSE)=1,\"\",VLOOKUP(0,'Debt Snowball Calculator'!$EB$17:$EC$137,2,FALSE))","v":""},{"$nulls":6},{"$f":"IF(VLOOKUP(0,'Debt Avalanche Calculator'!$EB$17:$EC$137,2,FALSE)=1,\"\",VLOOKUP(0,'Debt Avalanche Calculator'!$EB$17:$EC$137,2,FALSE))","v":""}]
[{"$nulls":6},{"$f":"IF(VLOOKUP(0,'Debt Snowball Calculator'!$EE$17:$EF$137,2,FALSE)=1,\"\",VLOOKUP(0,'Debt Snowball Calculator'!$EE$17:$EF$137,2,FALSE))","v":""},{"$nulls":6},{"$f":"IF(VLOOKUP(0,'Debt Avalanche Calculator'!$EE$17:$EF$137,2,FALSE)=1,\"\",VLOOKUP(0,'Debt Avalanche Calculator'!$EE$17:$EF$137,2,FALSE))","v":""}]
[{"$nulls":6},{"$f":"IF(VLOOKUP(0,'Debt Snowball Calculator'!$EH$17:$EI$137,2,FALSE)=1,\"\",VLOOKUP(0,'Debt Snowball Calculator'!$EH$17:$EI$137,2,FALSE))","v":""},{"$nulls":6},{"$f":"IF(VLOOKUP(0,'Debt Avalanche Calculator'!$EH$17:$EI$137,2,FALSE)=1,\"\",VLOOKUP(0,'Debt Avalanche Calculator'!$EH$17:$EI$137,2,FALSE))","v":""}]
[{"$nulls":6},{"$f":"IF(VLOOKUP(0,'Debt Snowball Calculator'!$EK$17:$EL$137,2,FALSE)=1,\"\",VLOOKUP(0,'Debt Snowball Calculator'!$EK$17:$EL$137,2,FALSE))","v":""},{"$nulls":6},{"$f":"IF(VLOOKUP(0,'Debt Avalanche Calculator'!$EK$17:$EL$137,2,FALSE)=1,\"\",VLOOKUP(0,'Debt Avalanche Calculator'!$EK$17:$EL$137,2,FALSE))","v":""}]
[{"$nulls":6},{"$f":"IF(VLOOKUP(0,'Debt Snowball Calculator'!$EN$17:$EO$137,2,FALSE)=1,\"\",VLOOKUP(0,'Debt Snowball Calculator'!$EN$17:$EO$137,2,FALSE))","v":""},{"$nulls":6},{"$f":"IF(VLOOKUP(0,'Debt Avalanche Calculator'!$EN$17:$EO$137,2,FALSE)=1,\"\",VLOOKUP(0,'Debt Avalanche Calculator'!$EN$17:$EO$137,2,FALSE))","v":""}]
[{"$nulls":6},{"$f":"IF(VLOOKUP(0,'Debt Snowball Calculator'!$EQ$17:$ER$137,2,FALSE)=1,\"\",VLOOKUP(0,'Debt Snowball Calculator'!$EQ$17:$ER$137,2,FALSE))","v":""},{"$nulls":6},{"$f":"IF(VLOOKUP(0,'Debt Avalanche Calculator'!$EQ$17:$ER$137,2,FALSE)=1,\"\",VLOOKUP(0,'Debt Avalanche Calculator'!$EQ$17:$ER$137,2,FALSE))","v":""}]
[{"$nulls":6},{"$f":"IF(VLOOKUP(0,'Debt Snowball Calculator'!$ET$17:$EU$137,2,FALSE)=1,\"\",VLOOKUP(0,'Debt Snowball Calculator'!$ET$17:$EU$137,2,FALSE))","v":""},{"$nulls":6},{"$f":"IF(VLOOKUP(0,'Debt Avalanche Calculator'!$ET$17:$EU$137,2,FALSE)=1,\"\",VLOOKUP(0,'Debt Avalanche Calculator'!$ET$17:$EU$137,2,FALSE))","v":""}]
[{"$nulls":6},{"$f":"IF(VLOOKUP(0,'Debt Snowball Calculator'!$EW$17:$EX$137,2,FALSE)=1,\"\",VLOOKUP(0,'Debt Snowball Calculator'!$EW$17:$EX$137,2,FALSE))","v":""},{"$nulls":6},{"$f":"IF(VLOOKUP(0,'Debt Avalanche Calculator'!$EW$17:$EX$137,2,FALSE)=1,\"\",VLOOKUP(0,'Debt Avalanche Calculator'!$EW$17:$EX$137,2,FALSE))","v":""}]
[{"$nulls":6},{"$f":"IF(VLOOKUP(0,'Debt Snowball Calculator'!$EZ$17:$FA$137,2,FALSE)=1,\"\",VLOOKUP(0,'Debt Snowball Calculator'!$EZ$17:$FA$137,2,FALSE))","v":""},{"$nulls":6},{"$f":"IF(VLOOKUP(0,'Debt Avalanche Calculator'!$EZ$17:$FA$137,2,FALSE)=1,\"\",VLOOKUP(0,'Debt Avalanche Calculator'!$EZ$17:$FA$137,2,FALSE))","v":""}]
[{"$nulls":6},{"$f":"IF(VLOOKUP(0,'Debt Snowball Calculator'!$FC$17:$FD$137,2,FALSE)=1,\"\",VLOOKUP(0,'Debt Snowball Calculator'!$FC$17:$FD$137,2,FALSE))","v":""},{"$nulls":6},{"$f":"IF(VLOOKUP(0,'Debt Avalanche Calculator'!$FC$17:$FD$137,2,FALSE)=1,\"\",VLOOKUP(0,'Debt Avalanche Calculator'!$FC$17:$FD$137,2,FALSE))","v":""}]
[{"$nulls":6},{"$f":"IF(VLOOKUP(0,'Debt Snowball Calculator'!$FF$17:$FG$137,2,FALSE)=1,\"\",VLOOKUP(0,'Debt Snowball Calculator'!$FF$17:$FG$137,2,FALSE))","v":""},{"$nulls":6},{"$f":"IF(VLOOKUP(0,'Debt Avalanche Calculator'!$FF$17:$FG$137,2,FALSE)=1,\"\",VLOOKUP(0,'Debt Avalanche Calculator'!$FF$17:$FG$137,2,FALSE))","v":""}]
[{"$nulls":6},{"$f":"IF(VLOOKUP(0,'Debt Snowball Calculator'!$FI$17:$FJ$137,2,FALSE)=1,\"\",VLOOKUP(0,'Debt Snowball Calculator'!$FI$17:$FJ$137,2,FALSE))","v":""},{"$nulls":6},{"$f":"IF(VLOOKUP(0,'Debt Avalanche Calculator'!$FI$17:$FJ$137,2,FALSE)=1,\"\",VLOOKUP(0,'Debt Avalanche Calculator'!$FI$17:$FJ$137,2,FALSE))","v":""}]
[{"$nulls":6},{"$f":"IF(VLOOKUP(0,'Debt Snowball Calculator'!$FL$17:$FM$137,2,FALSE)=1,\"\",VLOOKUP(0,'Debt Snowball Calculator'!$FL$17:$FM$137,2,FALSE))","v":""},{"$nulls":6},{"$f":"IF(VLOOKUP(0,'Debt Avalanche Calculator'!$FL$17:$FM$137,2,FALSE)=1,\"\",VLOOKUP(0,'Debt Avalanche Calculator'!$FL$17:$FM$137,2,FALSE))","v":""}]
[{"$nulls":6},{"$f":"IF(VLOOKUP(0,'Debt Snowball Calculator'!$FO$17:$FP$137,2,FALSE)=1,\"\",VLOOKUP(0,'Debt Snowball Calculator'!$FO$17:$FP$137,2,FALSE))","v":""},{"$nulls":6},{"$f":"IF(VLOOKUP(0,'Debt Avalanche Calculator'!$FO$17:$FP$137,2,FALSE)=1,\"\",VLOOKUP(0,'Debt Avalanche Calculator'!$FO$17:$FP$137,2,FALSE))","v":""}]
[{"$nulls":6},{"$f":"IF(VLOOKUP(0,'Debt Snowball Calculator'!$FR$17:$FS$137,2,FALSE)=1,\"\",VLOOKUP(0,'Debt Snowball Calculator'!$FR$17:$FS$137,2,FALSE))","v":""},{"$nulls":6},{"$f":"IF(VLOOKUP(0,'Debt Avalanche Calculator'!$FR$17:$FS$137,2,FALSE)=1,\"\",VLOOKUP(0,'Debt Avalanche Calculator'!$FR$17:$FS$137,2,FALSE))","v":""}]
[{"$nulls":6},{"$f":"IF(VLOOKUP(0,'Debt Snowball Calculator'!$FU$17:$FV$137,2,FALSE)=1,\"\",VLOOKUP(0,'Debt Snowball Calculator'!$FU$17:$FV$137,2,FALSE))","v":""},{"$nulls":6},{"$f":"IF(VLOOKUP(0,'Debt Avalanche Calculator'!$FU$17:$FV$137,2,FALSE)=1,\"\",VLOOKUP(0,'Debt Avalanche Calculator'!$FU$17:$FV$137,2,FALSE))","v":""}]
[{"$nulls":6},{"$f":"IF(VLOOKUP(0,'Debt Snowball Calculator'!$FX$17:$FY$137,2,FALSE)=1,\"\",VLOOKUP(0,'Debt Snowball Calculator'!$FX$17:$FY$137,2,FALSE))","v":""},{"$nulls":6},{"$f":"IF(VLOOKUP(0,'Debt Avalanche Calculator'!$FX$17:$FY$137,2,FALSE)=1,\"\",VLOOKUP(0,'Debt Avalanche Calculator'!$FX$17:$FY$137,2,FALSE))","v":""}]
[{"$nulls":6},{"$f":"IF(VLOOKUP(0,'Debt Snowball Calculator'!$GA$17:$GB$137,2,FALSE)=1,\"\",VLOOKUP(0,'Debt Snowball Calculator'!$GA$17:$GB$137,2,FALSE))","v":""},{"$nulls":6},{"$f":"IF(VLOOKUP(0,'Debt Avalanche Calculator'!$GA$17:$GB$137,2,FALSE)=1,\"\",VLOOKUP(0,'Debt Avalanche Calculator'!$GA$17:$GB$137,2,FALSE))","v":""}]
[{"$nulls":6},{"$f":"IF(VLOOKUP(0,'Debt Snowball Calculator'!$GD$17:$GE$137,2,FALSE)=1,\"\",VLOOKUP(0,'Debt Snowball Calculator'!$GD$17:$GE$137,2,FALSE))","v":""},{"$nulls":6},{"$f":"IF(VLOOKUP(0,'Debt Avalanche Calculator'!$GD$17:$GE$137,2,FALSE)=1,\"\",VLOOKUP(0,'Debt Avalanche Calculator'!$GD$17:$GE$137,2,FALSE))","v":""}]
[{"$nulls":6},{"$f":"IF(VLOOKUP(0,'Debt Snowball Calculator'!$GG$17:$GH$137,2,FALSE)=1,\"\",VLOOKUP(0,'Debt Snowball Calculator'!$GG$17:$GH$137,2,FALSE))","v":""},{"$nulls":6},{"$f":"IF(VLOOKUP(0,'Debt Avalanche Calculator'!$GG$17:$GH$137,2,FALSE)=1,\"\",VLOOKUP(0,'Debt Avalanche Calculator'!$GG$17:$GH$137,2,FALSE))","v":""}]
[{"$nulls":6},{"$f":"IF(VLOOKUP(0,'Debt Snowball Calculator'!$GJ$17:$GK$137,2,FALSE)=1,\"\",VLOOKUP(0,'Debt Snowball Calculator'!$GJ$17:$GK$137,2,FALSE))","v":""},{"$nulls":6},{"$f":"IF(VLOOKUP(0,'Debt Avalanche Calculator'!$GJ$17:$GK$137,2,FALSE)=1,\"\",VLOOKUP(0,'Debt Avalanche Calculator'!$GJ$17:$GK$137,2,FALSE))","v":""}]
[{"$nulls":6},{"$f":"IF(VLOOKUP(0,'Debt Snowball Calculator'!$GM$17:$GN$137,2,FALSE)=1,\"\",VLOOKUP(0,'Debt Snowball Calculator'!$GM$17:$GN$137,2,FALSE))","v":""},{"$nulls":6},{"$f":"IF(VLOOKUP(0,'Debt Avalanche Calculator'!$GM$17:$GN$137,2,FALSE)=1,\"\",VLOOKUP(0,'Debt Avalanche Calculator'!$GM$17:$GN$137,2,FALSE))","v":""}]

{"sheet":"Debt Payoff Chart","index":1,"n_rows":139,"n_cols":24,"rows_kept":139,"merged":[[2,2,4,6]]}
[]
[]
[null,null,"Debt Payoff Chart"]
[{"$nulls":7},"Enter all your numbers in the 'Snowball vs Avalanche' tab and then click \"Refresh Chart\" to the right.",{"$nulls":15},"Provided by: LifeAndMyFinances.com"]
[{"$nulls":7},"See the payoff cadence of the debt snowball vs the debt avalanche!",{"$nulls":15},"Copyright 2022"]
[]
[]
[]
[]
[null,null,"Debt Snowball vs Debt Avalanche"]
[]
[]
[null,"X","Y"]
["Max",{"$f":"$M$19","v":22},{"$f":"C16*11","v":{"v":11000,"d":"11,000.00"}}]
["Min",0,0]
["Incre",1,{"$f":"ROUNDUP($J$19/11,-3)","v":{"v":1000,"d":"$1,000.00"}}]
[]
[{"$nulls":8},"Month","Debt Snowball","Debt Avalanche",null,"Debt Payoff Month"]
[{"$nulls":8},0,{"$f":"SUM('Debt Snowball Calculator'!E13:CT13)","v":{"v":6000,"d":"$6,000.00"}},{"$f":"SUM('Debt Avalanche Calculator'!E13:CT13)","v":{"v":6000,"d":"$6,000.00"}},0,{"$f":"VLOOKUP(I19,$J$19:$L$139,3,FALSE)","v":22}]
[{"$nulls":8},1,{"$f":"SUM('Debt Snowball Calculator'!$E18,'Debt Snowball Calculator'!$H18,'Debt Snowball Calculator'!$K18,'Debt Snowball Calculator'!$N18,'Debt Snowball Calculator'!$Q18,'Debt Snowball Calculator'!$T18,'Debt Snowball Calculator'!$W18,'Debt Snowball Calculator'!$Z18,'Debt Snowball Calculator'!$AC18,'Debt Snowball Calculator'!$AF18,'Debt Snowball Calculator'!$AI18,'Debt Snowball Calculator'!$AL18,'Debt Snowball Calculator'!$AO18,'Debt Snowball Calculator'!$AR18,'Debt Snowball Calculator'!$AU18,'Debt Snowball Calculator'!$AX18,'Debt Snowball Calculator'!$BA18,'Debt Snowball Calculator'!$BD18,'Debt Snowball Calculator'!$BG18,'Debt Snowball Calculator'!$BJ18,'Debt Snowball Calculator'!$BM18,'Debt Snowball Calculator'!$BP18,'Debt Snowball Calculator'!$BS18,'Debt Snowball Calculator'!$BV18,'Debt Snowball Calculator'!$BY18,'Debt Snowball Calculator'!$CB18,'Debt Snowball Calculator'!$CE18,'Debt Snowball Calculator'!$CH18,'Debt Snowball Calculator'!$CK18,'Debt Snowball Calculator'!$CN18,'Debt Snowball Calculator'!$CQ18,'Debt Snowball Calculator'!$CT18)","v":{"v":5675,"d":"$5,675.00"}},{"$f":"SUM('Debt Avalanche Calculator'!$E18,'Debt Avalanche Calculator'!$H18,'Debt Avalanche Calculator'!$K18,'Debt Avalanche Calculator'!$N18,'Debt Avalanche Calculator'!$Q18,'Debt Avalanche Calculator'!$T18,'Debt Avalanche Calculator'!$W18,'Debt Avalanche Calculator'!$Z18,'Debt Avalanche Calculator'!$AC18,'Debt Avalanche Calculator'!$AF18,'Debt Avalanche Calculator'!$AI18,'Debt Avalanche Calculator'!$AL18,'Debt Avalanche Calculator'!$AO18,'Debt Avalanche Calculator'!$AR18,'Debt Avalanche Calculator'!$AU18,'Debt Avalanche Calculator'!$AX18,'Debt Avalanche Calculator'!$BA18,'Debt Avalanche Calculator'!$BD18,'Debt Avalanche Calculator'!$BG18,'Debt Avalanche Calculator'!$BJ18,'Debt Avalanche Calculator'!$BM18,'Debt Avalanche Calculator'!$BP18,'Debt Avalanche Calculator'!$BS18,'Debt Avalanche Calculator'!$BV18,'Debt Avalanche Calculator'!$BY18,'Debt Avalanche Calculator'!$CB18,'Debt Avalanche Calculator'!$CE18,'Debt Avalanche Calculator'!$CH18,'Debt Avalanche Calculator'!$CK18,'Debt Avalanche Calculator'!$CN18,'Debt Avalanche Calculator'!$CQ18,'Debt Avalanche Calculator'!$CT18)","v":{"v":5675,"d":"$5,675.00"}},1]
[{"$nulls":8},2,{"$f":"SUM('Debt Snowball Calculator'!E19,'Debt Snowball Calculator'!H19,'Debt Snowball Calculator'!K19,'Debt Snowball Calculator'!N19,'Debt Snowball Calculator'!Q19,'Debt Snowball Calculator'!T19,'Debt Snowball Calculator'!W19,'Debt Snowball Calculator'!Z19,'Debt Snowball Calculator'!AC19,'Debt Snowball Calculator'!AF19,'Debt Snowball Calculator'!AI19,'Debt Snowball Calculator'!AL19,'Debt Snowball Calculator'!AO19,'Debt Snowball Calculator'!AR19,'Debt Snowball Calculator'!AU19,'Debt Snowball Calculator'!AX19,'Debt Snowball Calculator'!BA19,'Debt Snowball Calculator'!BD19,'Debt Snowball Calculator'!BG19,'Debt Snowball Calculator'!BJ19,'Debt Snowball Calculator'!BM19,'Debt Snowball Calculator'!BP19,'Debt Snowball Calculator'!BS19,'Debt Snowball Calculator'!BV19,'Debt Snowball Calculator'!BY19,'Debt Snowball Calculator'!CB19,'Debt Snowball Calculator'!CE19,'Debt Snowball Calculator'!CH19,'Debt Snowball Calculator'!CK19,'Debt Snowball Calculator'!CN19,'Debt Snowball Calculator'!CQ19,'Debt Snowball Calculator'!CT19)","v":{"v":5435.266666666666,"d":"$5,435.27"}},{"$f":"SUM('Debt Avalanche Calculator'!$E19,'Debt Avalanche Calculator'!$H19,'Debt Avalanche Calculator'!$K19,'Debt Avalanche Calculator'!$N19,'Debt Avalanche Calculator'!$Q19,'Debt Avalanche Calculator'!$T19,'Debt Avalanche Calculator'!$W19,'Debt Avalanche Calculator'!$Z19,'Debt Avalanche Calculator'!$AC19,'Debt Avalanche Calculator'!$AF19,'Debt Avalanche Calculator'!$AI19,'Debt Avalanche Calculator'!$AL19,'Debt Avalanche Calculator'!$AO19,'Debt Avalanche Calculator'!$AR19,'Debt Avalanche Calculator'!$AU19,'Debt Avalanche Calculator'!$AX19,'Debt Avalanche Calculator'!$BA19,'Debt Avalanche Calculator'!$BD19,'Debt Avalanche Calculator'!$BG19,'Debt Avalanche Calculator'!$BJ19,'Debt Avalanche Calculator'!$BM19,'Debt Avalanche Calculator'!$BP19,'Debt Avalanche Calculator'!$BS19,'Debt Avalanche Calculator'!$BV19,'Debt Avalanche Calculator'!$BY19,'Debt Avalanche Calculator'!$CB19,'Debt Avalanche Calculator'!$CE19,'Debt Avalanche Calculator'!$CH19,'Debt Avalanche Calculator'!$CK19,'Debt Avalanche Calculator'!$CN19,'Debt Avalanche Calculator'!$CQ19,'Debt Avalanche Calculator'!$CT19)","v":{"v":5429.266666666666,"d":"$5,429.27"}},2]
[{"$nulls":8},3,{"$f":"SUM('Debt Snowball Calculator'!E20,'Debt Snowball Calculator'!H20,'Debt Snowball Calculator'!K20,'Debt Snowball Calculator'!N20,'Debt Snowball Calculator'!Q20,'Debt Snowball Calculator'!T20,'Debt Snowball Calculator'!W20,'Debt Snowball Calculator'!Z20,'Debt Snowball Calculator'!AC20,'Debt Snowball Calculator'!AF20,'Debt Snowball Calculator'!AI20,'Debt Snowball Calculator'!AL20,'Debt Snowball Calculator'!AO20,'Debt Snowball Calculator'!AR20,'Debt Snowball Calculator'!AU20,'Debt Snowball Calculator'!AX20,'Debt Snowball Calculator'!BA20,'Debt Snowball Calculator'!BD20,'Debt Snowball Calculator'!BG20,'Debt Snowball Calculator'!BJ20,'Debt Snowball Calculator'!BM20,'Debt Snowball Calculator'!BP20,'Debt Snowball Calculator'!BS20,'Debt Snowball Calculator'!BV20,'Debt Snowball Calculator'!BY20,'Debt Snowball Calculator'!CB20,'Debt Snowball Calculator'!CE20,'Debt Snowball Calculator'!CH20,'Debt Snowball Calculator'!CK20,'Debt Snowball Calculator'!CN20,'Debt Snowball Calculator'!CQ20,'Debt Snowball Calculator'!CT20)","v":{"v":5193.901777777778,"d":"$5,193.90"}},{"$f":"SUM('Debt Avalanche Calculator'!$E20,'Debt Avalanche Calculator'!$H20,'Debt Avalanche Calculator'!$K20,'Debt Avalanche Calculator'!$N20,'Debt Avalanche Calculator'!$Q20,'Debt Avalanche Calculator'!$T20,'Debt Avalanche Calculator'!$W20,'Debt Avalanche Calculator'!$Z20,'Debt Avalanche Calculator'!$AC20,'Debt Avalanche Calculator'!$AF20,'Debt Avalanche Calculator'!$AI20,'Debt Avalanche Calculator'!$AL20,'Debt Avalanche Calculator'!$AO20,'Debt Avalanche Calculator'!$AR20,'Debt Avalanche Calculator'!$AU20,'Debt Avalanche Calculator'!$AX20,'Debt Avalanche Calculator'!$BA20,'Debt Avalanche Calculator'!$BD20,'Debt Avalanche Calculator'!$BG20,'Debt Avalanche Calculator'!$BJ20,'Debt Avalanche Calculator'!$BM20,'Debt Avalanche Calculator'!$BP20,'Debt Avalanche Calculator'!$BS20,'Debt Avalanche Calculator'!$BV20,'Debt Avalanche Calculator'!$BY20,'Debt Avalanche Calculator'!$CB20,'Debt Avalanche Calculator'!$CE20,'Debt Avalanche Calculator'!$CH20,'Debt Avalanche Calculator'!$CK20,'Debt Avalanche Calculator'!$CN20,'Debt Avalanche Calculator'!$CQ20,'Debt Avalanche Calculator'!$CT20)","v":{"v":5178.731777777779,"d":"$5,178.73"}},3]
[{"$nulls":8},4,{"$f":"SUM('Debt Snowball Calculator'!E21,'Debt Snowball Calculator'!H21,'Debt Snowball Calculator'!K21,'Debt Snowball Calculator'!N21,'Debt Snowball Calculator'!Q21,'Debt Snowball Calculator'!T21,'Debt Snowball Calculator'!W21,'Debt Snowball Calculator'!Z21,'Debt Snowball Calculator'!AC21,'Debt Snowball Calculator'!AF21,'Debt Snowball Calculator'!AI21,'Debt Snowball Calculator'!AL21,'Debt Snowball Calculator'!AO21,'Debt Snowball Calculator'!AR21,'Debt Snowball Calculator'!AU21,'Debt Snowball Calculator'!AX21,'Debt Snowball Calculator'!BA21,'Debt Snowball Calculator'!BD21,'Debt Snowball Calculator'!BG21,'Debt Snowball Calculator'!BJ21,'Debt Snowball Calculator'!BM21,'Debt Snowball Calculator'!BP21,'Debt Snowball Calculator'!BS21,'Debt Snowball Calculator'!BV21,'Debt Snowball Calculator'!BY21,'Debt Snowball Calculator'!CB21,'Debt Snowball Calculator'!CE21,'Debt Snowball Calculator'!CH21,'Debt Snowball Calculator'!CK21,'Debt Snowball Calculator'!CN21,'Debt Snowball Calculator'!CQ21,'Debt Snowball Calculator'!CT21)","v":{"v":4950.894542962964,"d":"$4,950.89"}},{"$f":"SUM('Debt Avalanche Calculator'!$E21,'Debt Avalanche Calculator'!$H21,'Debt Avalanche Calculator'!$K21,'Debt Avalanche Calculator'!$N21,'Debt Avalanche Calculator'!$Q21,'Debt Avalanche Calculator'!$T21,'Debt Avalanche Calculator'!$W21,'Debt Avalanche Calculator'!$Z21,'Debt Avalanche Calculator'!$AC21,'Debt Avalanche Calculator'!$AF21,'Debt Avalanche Calculator'!$AI21,'Debt Avalanche Calculator'!$AL21,'Debt Avalanche Calculator'!$AO21,'Debt Avalanche Calculator'!$AR21,'Debt Avalanche Calculator'!$AU21,'Debt Avalanche Calculator'!$AX21,'Debt Avalanche Calculator'!$BA21,'Debt Avalanche Calculator'!$BD21,'Debt Avalanche Calculator'!$BG21,'Debt Avalanche Calculator'!$BJ21,'Debt Avalanche Calculator'!$BM21,'Debt Avalanche Calculator'!$BP21,'Debt Avalanche Calculator'!$BS21,'Debt Avalanche Calculator'!$BV21,'Debt Avalanche Calculator'!$BY21,'Debt Avalanche Calculator'!$CB21,'Debt Avalanche Calculator'!$CE21,'Debt Avalanche Calculator'!$CH21,'Debt Avalanche Calculator'!$CK21,'Debt Avalanche Calculator'!$CN21,'Debt Avalanche Calculator'!$CQ21,'Debt Avalanche Calculator'!$CT21)","v":{"v":4923.295592962963,"d":"$4,923.30"}},4]
[{"$nulls":8},5,{"$f":"SUM('Debt Snowball Calculator'!E22,'Debt Snowball Calculator'!H22,'Debt Snowball Calculator'!K22,'Debt Snowball Calculator'!N22,'Debt Snowball Calculator'!Q22,'Debt Snowball Calculator'!T22,'Debt Snowball Calculator'!W22,'Debt Snowball Calculator'!Z22,'Debt Snowball Calculator'!AC22,'Debt Snowball Calculator'!AF22,'Debt Snowball Calculator'!AI22,'Debt Snowball Calculator'!AL22,'Debt Snowball Calculator'!AO22,'Debt Snowball Calculator'!AR22,'Debt Snowball Calculator'!AU22,'Debt Snowball Calculator'!AX22,'Debt Snowball Calculator'!BA22,'Debt Snowball Calculator'!BD22,'Debt Snowball Calculator'!BG22,'Debt Snowball Calculator'!BJ22,'Debt Snowball Calculator'!BM22,'Debt Snowball Calculator'!BP22,'Debt Snowball Calculator'!BS22,'Debt Snowball Calculator'!BV22,'Debt Snowball Calculator'!BY22,'Debt Snowball Calculator'!CB22,'Debt Snowball Calculator'!CE22,'Debt Snowball Calculator'!CH22,'Debt Snowball Calculator'!CK22,'Debt Snowball Calculator'!CN22,'Debt Snowball Calculator'!CQ22,'Debt Snowball Calculator'!CT22)","v":{"v":4705.839321537038,"d":"$4,705.84"}},{"$f":"SUM('Debt Avalanche Calculator'!$E22,'Debt Avalanche Calculator'!$H22,'Debt Avalanche Calculator'!$K22,'Debt Avalanche Calculator'!$N22,'Debt Avalanche Calculator'!$Q22,'Debt Avalanche Calculator'!$T22,'Debt Avalanche Calculator'!$W22,'Debt Avalanche Calculator'!$Z22,'Debt Avalanche Calculator'!$AC22,'Debt Avalanche Calculator'!$AF22,'Debt Avalanche Calculator'!$AI22,'Debt Avalanche Calculator'!$AL22,'Debt Avalanche Calculator'!$AO22,'Debt Avalanche Calculator'!$AR22,'Debt Avalanche Calculator'!$AU22,'Debt Avalanche Calculator'!$AX22,'Debt Avalanche Calculator'!$BA22,'Debt Avalanche Calculator'!$BD22,'Debt Avalanche Calculator'!$BG22,'Debt Avalanche Calculator'!$BJ22,'Debt Avalanche Calculator'!$BM22,'Debt Avalanche Calculator'!$BP22,'Debt Avalanche Calculator'!$BS22,'Debt Avalanche Calculator'!$BV22,'Debt Avalanche Calculator'!$BY22,'Debt Avalanche Calculator'!$CB22,'Debt Avalanche Calculator'!$CE22,'Debt Avalanche Calculator'!$CH22,'Debt Avalanche Calculator'!$CK22,'Debt Avalanche Calculator'!$CN22,'Debt Avalanche Calculator'!$CQ22,'Debt Avalanche Calculator'!$CT22)","v":{"v":4662.856247521606,"d":"$4,662.86"}},5]
[{"$nulls":8},6,{"$f":"SUM('Debt Snowball Calculator'!E23,'Debt Snowball Calculator'!H23,'Debt Snowball Calculator'!K23,'Debt Snowball Calculator'!N23,'Debt Snowball Calculator'!Q23,'Debt Snowball Calculator'!T23,'Debt Snowball Calculator'!W23,'Debt Snowball Calculator'!Z23,'Debt Snowball Calculator'!AC23,'Debt Snowball Calculator'!AF23,'Debt Snowball Calculator'!AI23,'Debt Snowball Calculator'!AL23,'Debt Snowball Calculator'!AO23,'Debt Snowball Calculator'!AR23,'Debt Snowball Calculator'!AU23,'Debt Snowball Calculator'!AX23,'Debt Snowball Calculator'!BA23,'Debt Snowball Calculator'!BD23,'Debt Snowball Calculator'!BG23,'Debt Snowball Calculator'!BJ23,'Debt Snowball Calculator'!BM23,'Debt Snowball Calculator'!BP23,'Debt Snowball Calculator'!BS23,'Debt Snowball Calculator'!BV23,'Debt Snowball Calculator'!BY23,'Debt Snowball Calculator'!CB23,'Debt Snowball Calculator'!CE23,'Debt Snowball Calculator'!CH23,'Debt Snowball Calculator'!CK23,'Debt Snowball Calculator'!CN23,'Debt Snowball Calculator'!CQ23,'Debt Snowball Calculator'!CT23)","v":{"v":4458.363407614982,"d":"$4,458.36"}},{"$f":"SUM('Debt Avalanche Calculator'!$E23,'Debt Avalanche Calculator'!$H23,'Debt Avalanche Calculator'!$K23,'Debt Avalanche Calculator'!$N23,'Debt Avalanche Calculator'!$Q23,'Debt Avalanche Calculator'!$T23,'Debt Avalanche Calculator'!$W23,'Debt Avalanche Calculator'!$Z23,'Debt Avalanche Calculator'!$AC23,'Debt Avalanche Calculator'!$AF23,'Debt Avalanche Calculator'!$AI23,'Debt Avalanche Calculator'!$AL23,'Debt Avalanche Calculator'!$AO23,'Debt Avalanche Calculator'!$AR23,'Debt Avalanche Calculator'!$AU23,'Debt Avalanche Calculator'!$AX23,'Debt Avalanche Calculator'!$BA23,'Debt Avalanche Calculator'!$BD23,'Debt Avalanche Calculator'!$BG23,'Debt Avalanche Calculator'!$BJ23,'Debt Avalanche Calculator'!$BM23,'Debt Avalanche Calculator'!$BP23,'Debt Avalanche Calculator'!$BS23,'Debt Avalanche Calculator'!$BV23,'Debt Avalanche Calculator'!$BY23,'Debt Avalanche Calculator'!$CB23,'Debt Avalanche Calculator'!$CE23,'Debt Avalanche Calculator'!$CH23,'Debt Avalanche Calculator'!$CK23,'Debt Avalanche Calculator'!$CN23,'Debt Avalanche Calculator'!$CQ23,'Debt Avalanche Calculator'!$CT23)","v":{"v":4397.309706721315,"d":"$4,397.31"}},6]
[{"$nulls":8},7,{"$f":"SUM('Debt Snowball Calculator'!E24,'Debt Snowball Calculator'!H24,'Debt Snowball Calculator'!K24,'Debt Snowball Calculator'!N24,'Debt Snowball Calculator'!Q24,'Debt Snowball Calculator'!T24,'Debt Snowball Calculator'!W24,'Debt Snowball Calculator'!Z24,'Debt Snowball Calculator'!AC24,'Debt Snowball Calculator'!AF24,'Debt Snowball Calculator'!AI24,'Debt Snowball Calculator'!AL24,'Debt Snowball Calculator'!AO24,'Debt Snowball Calculator'!AR24,'Debt Snowball Calculator'!AU24,'Debt Snowball Calculator'!AX24,'Debt Snowball Calculator'!BA24,'Debt Snowball Calculator'!BD24,'Debt Snowball Calculator'!BG24,'Debt Snowball Calculator'!BJ24,'Debt Snowball Calculator'!BM24,'Debt Snowball Calculator'!BP24,'Debt Snowball Calculator'!BS24,'Debt Snowball Calculator'!BV24,'Debt Snowball Calculator'!BY24,'Debt Snowball Calculator'!CB24,'Debt Snowball Calculator'!CE24,'Debt Snowball Calculator'!CH24,'Debt Snowball Calculator'!CK24,'Debt Snowball Calculator'!CN24,'Debt Snowball Calculator'!CQ24,'Debt Snowball Calculator'!CT24)","v":{"v":4208.443241232395,"d":"$4,208.44"}},{"$f":"SUM('Debt Avalanche Calculator'!$E24,'Debt Avalanche Calculator'!$H24,'Debt Avalanche Calculator'!$K24,'Debt Avalanche Calculator'!$N24,'Debt Avalanche Calculator'!$Q24,'Debt Avalanche Calculator'!$T24,'Debt Avalanche Calculator'!$W24,'Debt Avalanche Calculator'!$Z24,'Debt Avalanche Calculator'!$AC24,'Debt Avalanche Calculator'!$AF24,'Debt Avalanche Calculator'!$AI24,'Debt Avalanche Calculator'!$AL24,'Debt Avalanche Calculator'!$AO24,'Debt Avalanche Calculator'!$AR24,'Debt Avalanche Calculator'!$AU24,'Debt Avalanche Calculator'!$AX24,'Debt Avalanche Calculator'!$BA24,'Debt Avalanche Calculator'!$BD24,'Debt Avalanche Calculator'!$BG24,'Debt Avalanche Calculator'!$BJ24,'Debt Avalanche Calculator'!$BM24,'Debt Avalanche Calculator'!$BP24,'Debt Avalanche Calculator'!$BS24,'Debt Avalanche Calculator'!$BV24,'Debt Avalanche Calculator'!$BY24,'Debt Avalanche Calculator'!$CB24,'Debt Avalanche Calculator'!$CE24,'Debt Avalanche Calculator'!$CH24,'Debt Avalanche Calculator'!$CK24,'Debt Avalanche Calculator'!$CN24,'Debt Avalanche Calculator'!$CQ24,'Debt Avalanche Calculator'!$CT24)","v":{"v":4126.549719109182,"d":"$4,126.55"}},7]
[{"$nulls":8},8,{"$f":"SUM('Debt Snowball Calculator'!E25,'Debt Snowball Calculator'!H25,'Debt Snowball Calculator'!K25,'Debt Snowball Calculator'!N25,'Debt Snowball Calculator'!Q25,'Debt Snowball Calculator'!T25,'Debt Snowball Calculator'!W25,'Debt Snowball Calculator'!Z25,'Debt Snowball Calculator'!AC25,'Debt Snowball Calculator'!AF25,'Debt Snowball Calculator'!AI25,'Debt Snowball Calculator'!AL25,'Debt Snowball Calculator'!AO25,'Debt Snowball Calculator'!AR25,'Debt Snowball Calculator'!AU25,'Debt Snowball Calculator'!AX25,'Debt Snowball Calculator'!BA25,'Debt Snowball Calculator'!BD25,'Debt Snowball Calculator'!BG25,'Debt Snowball Calculator'!BJ25,'Debt Snowball Calculator'!BM25,'Debt Snowball Calculator'!BP25,'Debt Snowball Calculator'!BS25,'Debt Snowball Calculator'!BV25,'Debt Snowball Calculator'!BY25,'Debt Snowball Calculator'!CB25,'Debt Snowball Calculator'!CE25,'Debt Snowball Calculator'!CH25,'Debt Snowball Calculator'!CK25,'Debt Snowball Calculator'!CN25,'Debt Snowball Calculator'!CQ25,'Debt Snowball Calculator'!CT25)","v":{"v":3956.05504084271,"d":"$3,956.06"}},{"$f":"SUM('Debt Avalanche Calculator'!$E25,'Debt Avalanche Calculator'!$H25,'Debt Avalanche Calculator'!$K25,'Debt Avalanche Calculator'!$N25,'Debt Avalanche Calculator'!$Q25,'Debt Avalanche Calculator'!$T25,'Debt Avalanche Calculator'!$W25,'Debt Avalanche Calculator'!$Z25,'Debt Avalanche Calculator'!$AC25,'Debt Avalanche Calculator'!$AF25,'Debt Avalanche Calculator'!$AI25,'Debt Avalanche Calculator'!$AL25,'Debt Avalanche Calculator'!$AO25,'Debt Avalanche Calculator'!$AR25,'Debt Avalanche Calculator'!$AU25,'Debt Avalanche Calculator'!$AX25,'Debt Avalanche Calculator'!$BA25,'Debt Avalanche Calculator'!$BD25,'Debt Avalanche Calculator'!$BG25,'Debt Avalanche Calculator'!$BJ25,'Debt Avalanche Calculator'!$BM25,'Debt Avalanche Calculator'!$BP25,'Debt Avalanche Calculator'!$BS25,'Debt Avalanche Calculator'!$BV25,'Debt Avalanche Calculator'!$BY25,'Debt Avalanche Calculator'!$CB25,'Debt Avalanche Calculator'!$CE25,'Debt Avalanche Calculator'!$CH25,'Debt Avalanche Calculator'!$CK25,'Debt Avalanche Calculator'!$CN25,'Debt Avalanche Calculator'!$CQ25,'Debt Avalanche Calculator'!$CT25)","v":{"v":3850.467768814454,"d":"$3,850.47"}},8]
[{"$nulls":8},9,{"$f":"SUM('Debt Snowball Calculator'!E26,'Debt Snowball Calculator'!H26,'Debt Snowball Calculator'!K26,'Debt Snowball Calculator'!N26,'Debt Snowball Calculator'!Q26,'Debt Snowball Calculator'!T26,'Debt Snowball Calculator'!W26,'Debt Snowball Calculator'!Z26,'Debt Snowball Calculator'!AC26,'Debt Snowball Calculator'!AF26,'Debt Snowball Calculator'!AI26,'Debt Snowball Calculator'!AL26,'Debt Snowball Calculator'!AO26,'Debt Snowball Calculator'!AR26,'Debt Snowball Calculator'!AU26,'Debt Snowball Calculator'!AX26,'Debt Snowball Calculator'!BA26,'Debt Snowball Calculator'!BD26,'Debt Snowball Calculator'!BG26,'Debt Snowball Calculator'!BJ26,'Debt Snowball Calculator'!BM26,'Debt Snowball Calculator'!BP26,'Debt Snowball Calculator'!BS26,'Debt Snowball Calculator'!BV26,'Debt Snowball Calculator'!BY26,'Debt Snowball Calculator'!CB26,'Debt Snowball Calculator'!CE26,'Debt Snowball Calculator'!CH26,'Debt Snowball Calculator'!CK26,'Debt Snowball Calculator'!CN26,'Debt Snowball Calculator'!CQ26,'Debt Snowball Calculator'!CT26)","v":{"v":3701.1748014050845,"d":"$3,701.17"}},{"$f":"SUM('Debt Avalanche Calculator'!$E26,'Debt Avalanche Calculator'!$H26,'Debt Avalanche Calculator'!$K26,'Debt Avalanche Calculator'!$N26,'Debt Avalanche Calculator'!$Q26,'Debt Avalanche Calculator'!$T26,'Debt Avalanche Calculator'!$W26,'Debt Avalanche Calculator'!$Z26,'Debt Avalanche Calculator'!$AC26,'Debt Avalanche Calculator'!$AF26,'Debt Avalanche Calculator'!$AI26,'Debt Avalanche Calculator'!$AL26,'Debt Avalanche Calculator'!$AO26,'Debt Avalanche Calculator'!$AR26,'Debt Avalanche Calculator'!$AU26,'Debt Avalanche Calculator'!$AX26,'Debt Avalanche Calculator'!$BA26,'Debt Avalanche Calculator'!$BD26,'Debt Avalanche Calculator'!$BG26,'Debt Avalanche Calculator'!$BJ26,'Debt Avalanche Calculator'!$BM26,'Debt Avalanche Calculator'!$BP26,'Debt Avalanche Calculator'!$BS26,'Debt Avalanche Calculator'!$BV26,'Debt Avalanche Calculator'!$BY26,'Debt Avalanche Calculator'!$CB26,'Debt Avalanche Calculator'!$CE26,'Debt Avalanche Calculator'!$CH26,'Debt Avalanche Calculator'!$CK26,'Debt Avalanche Calculator'!$CN26,'Debt Avalanche Calculator'!$CQ26,'Debt Avalanche Calculator'!$CT26)","v":{"v":3568.9530268207973,"d":"$3,568.95"}},9]
[{"$nulls":8},10,{"$f":"SUM('Debt Snowball Calculator'!E27,'Debt Snowball Calculator'!H27,'Debt Snowball Calculator'!K27,'Debt Snowball Calculator'!N27,'Debt Snowball Calculator'!Q27,'Debt Snowball Calculator'!T27,'Debt Snowball Calculator'!W27,'Debt Snowball Calculator'!Z27,'Debt Snowball Calculator'!AC27,'Debt Snowball Calculator'!AF27,'Debt Snowball Calculator'!AI27,'Debt Snowball Calculator'!AL27,'Debt Snowball Calculator'!AO27,'Debt Snowball Calculator'!AR27,'Debt Snowball Calculator'!AU27,'Debt Snowball Calculator'!AX27,'Debt Snowball Calculator'!BA27,'Debt Snowball Calculator'!BD27,'Debt Snowball Calculator'!BG27,'Debt Snowball Calculator'!BJ27,'Debt Snowball Calculator'!BM27,'Debt Snowball Calculator'!BP27,'Debt Snowball Calculator'!BS27,'Debt Snowball Calculator'!BV27,'Debt Snowball Calculator'!BY27,'Debt Snowball Calculator'!CB27,'Debt Snowball Calculator'!CE27,'Debt Snowball Calculator'!CH27,'Debt Snowball Calculator'!CK27,'Debt Snowball Calculator'!CN27,'Debt Snowball Calculator'!CQ27,'Debt Snowball Calculator'!CT27)","v":{"v":3443.7782924597514,"d":"$3,443.78"}},{"$f":"SUM('Debt Avalanche Calculator'!$E27,'Debt Avalanche Calculator'!$H27,'Debt Avalanche Calculator'!$K27,'Debt Avalanche Calculator'!$N27,'Debt Avalanche Calculator'!$Q27,'Debt Avalanche Calculator'!$T27,'Debt Avalanche Calculator'!$W27,'Debt Avalanche Calculator'!$Z27,'Debt Avalanche Calculator'!$AC27,'Debt Avalanche Calculator'!$AF27,'Debt Avalanche Calculator'!$AI27,'Debt Avalanche Calculator'!$AL27,'Debt Avalanche Calculator'!$AO27,'Debt Avalanche Calculator'!$AR27,'Debt Avalanche Calculator'!$AU27,'Debt Avalanche Calculator'!$AX27,'Debt Avalanche Calculator'!$BA27,'Debt Avalanche Calculator'!$BD27,'Debt Avalanche Calculator'!$BG27,'Debt Avalanche Calculator'!$BJ27,'Debt Avalanche Calculator'!$BM27,'Debt Avalanche Calculator'!$BP27,'Debt Avalanche Calculator'!$BS27,'Debt Avalanche Calculator'!$BV27,'Debt Avalanche Calculator'!$BY27,'Debt Avalanche Calculator'!$CB27,'Debt Avalanche Calculator'!$CE27,'Debt Avalanche Calculator'!$CH27,'Debt Avalanche Calculator'!$CK27,'Debt Avalanche Calculator'!$CN27,'Debt Avalanche Calculator'!$CQ27,'Debt Avalanche Calculator'!$CT27)","v":{"v":3281.8923011858615,"d":"$3,281.89"}},10]
[{"$nulls":8},11,{"$f":"SUM('Debt Snowball Calculator'!E28,'Debt Snowball Calculator'!H28,'Debt Snowball Calculator'!K28,'Debt Snowball Calculator'!N28,'Debt Snowball Calculator'!Q28,'Debt Snowball Calculator'!T28,'Debt Snowball Calculator'!W28,'Debt Snowball Calculator'!Z28,'Debt Snowball Calculator'!AC28,'Debt Snowball Calculator'!AF28,'Debt Snowball Calculator'!AI28,'Debt Snowball Calculator'!AL28,'Debt Snowball Calculator'!AO28,'Debt Snowball Calculator'!AR28,'Debt Snowball Calculator'!AU28,'Debt Snowball Calculator'!AX28,'Debt Snowball Calculator'!BA28,'Debt Snowball Calculator'!BD28,'Debt Snowball Calculator'!BG28,'Debt Snowball Calculator'!BJ28,'Debt Snowball Calculator'!BM28,'Debt Snowball Calculator'!BP28,'Debt Snowball Calculator'!BS28,'Debt Snowball Calculator'!BV28,'Debt Snowball Calculator'!BY28,'Debt Snowball Calculator'!CB28,'Debt Snowball Calculator'!CE28,'Debt Snowball Calculator'!CH28,'Debt Snowball Calculator'!CK28,'Debt Snowball Calculator'!CN28,'Debt Snowball Calculator'!CQ28,'Debt Snowball Calculator'!CT28)","v":{"v":3183.841056190845,"d":"$3,183.84"}},{"$f":"SUM('Debt Avalanche Calculator'!$E28,'Debt Avalanche Calculator'!$H28,'Debt Avalanche Calculator'!$K28,'Debt Avalanche Calculator'!$N28,'Debt Avalanche Calculator'!$Q28,'Debt Avalanche Calculator'!$T28,'Debt Avalanche Calculator'!$W28,'Debt Avalanche Calculator'!$Z28,'Debt Avalanche Calculator'!$AC28,'Debt Avalanche Calculator'!$AF28,'Debt Avalanche Calculator'!$AI28,'Debt Avalanche Calculator'!$AL28,'Debt Avalanche Calculator'!$AO28,'Debt Avalanche Calculator'!$AR28,'Debt Avalanche Calculator'!$AU28,'Debt Avalanche Calculator'!$AX28,'Debt Avalanche Calculator'!$BA28,'Debt Avalanche Calculator'!$BD28,'Debt Avalanche Calculator'!$BG28,'Debt Avalanche Calculator'!$BJ28,'Debt Avalanche Calculator'!$BM28,'Debt Avalanche Calculator'!$BP28,'Debt Avalanche Calculator'!$BS28,'Debt Avalanche Calculator'!$BV28,'Debt Avalanche Calculator'!$BY28,'Debt Avalanche Calculator'!$CB28,'Debt Avalanche Calculator'!$CE28,'Debt Avalanche Calculator'!$CH28,'Debt Avalanche Calculator'!$CK28,'Debt Avalanche Calculator'!$CN28,'Debt Avalanche Calculator'!$CQ28,'Debt Avalanche Calculator'!$CT28)","v":{"v":2989.169986185362,"d":"$2,989.17"}},11]
[{"$nulls":8},12,{"$f":"SUM('Debt Snowball Calculator'!E29,'Debt Snowball Calculator'!H29,'Debt Snowball Calculator'!K29,'Debt Snowball Calculator'!N29,'Debt Snowball Calculator'!Q29,'Debt Snowball Calculator'!T29,'Debt Snowball Calculator'!W29,'Debt Snowball Calculator'!Z29,'Debt Snowball Calculator'!AC29,'Debt Snowball Calculator'!AF29,'Debt Snowball Calculator'!AI29,'Debt Snowball Calculator'!AL29,'Debt Snowball Calculator'!AO29,'Debt Snowball Calculator'!AR29,'Debt Snowball Calculator'!AU29,'Debt Snowball Calculator'!AX29,'Debt Snowball Calculator'!BA29,'Debt Snowball Calculator'!BD29,'Debt Snowball Calculator'!BG29,'Debt Snowball Calculator'!BJ29,'Debt Snowball Calculator'!BM29,'Debt Snowball Calculator'!BP29,'Debt Snowball Calculator'!BS29,'Debt Snowball Calculator'!BV29,'Debt Snowball Calculator'!BY29,'Debt Snowball Calculator'!CB29,'Debt Snowball Calculator'!CE29,'Debt Snowball Calculator'!CH29,'Debt Snowball Calculator'!CK29,'Debt Snowball Calculator'!CN29,'Debt Snowball Calculator'!CQ29,'Debt Snowball Calculator'!CT29)","v":{"v":2920.7826124083135,"d":"$2,920.78"}},{"$f":"SUM('Debt Avalanche Calculator'!$E29,'Debt Avalanche Calculator'!$H29,'Debt Avalanche Calculator'!$K29,'Debt Avalanche Calculator'!$N29,'Debt Avalanche Calculator'!$Q29,'Debt Avalanche Calculator'!$T29,'Debt Avalanche Calculator'!$W29,'Debt Avalanche Calculator'!$Z29,'Debt Avalanche Calculator'!$AC29,'Debt Avalanche Calculator'!$AF29,'Debt Avalanche Calculator'!$AI29,'Debt Avalanche Calculator'!$AL29,'Debt Avalanche Calculator'!$AO29,'Debt Avalanche Calculator'!$AR29,'Debt Avalanche Calculator'!$AU29,'Debt Avalanche Calculator'!$AX29,'Debt Avalanche Calculator'!$BA29,'Debt Avalanche Calculator'!$BD29,'Debt Avalanche Calculator'!$BG29,'Debt Avalanche Calculator'!$BJ29,'Debt Avalanche Calculator'!$BM29,'Debt Avalanche Calculator'!$BP29,'Debt Avalanche Calculator'!$BS29,'Debt Avalanche Calculator'!$BV29,'Debt Avalanche Calculator'!$BY29,'Debt Avalanche Calculator'!$CB29,'Debt Avalanche Calculator'!$CE29,'Debt Avalanche Calculator'!$CH29,'Debt Avalanche Calculator'!$CK29,'Debt Avalanche Calculator'!$CN29,'Debt Avalanche Calculator'!$CQ29,'Debt Avalanche Calculator'!$CT29)","v":{"v":2690.668010358401,"d":"$2,690.67"}},12,"Month"]
[{"$nulls":8},13,{"$f":"SUM('Debt Snowball Calculator'!E30,'Debt Snowball Calculator'!H30,'Debt Snowball Calculator'!K30,'Debt Snowball Calculator'!N30,'Debt Snowball Calculator'!Q30,'Debt Snowball Calculator'!T30,'Debt Snowball Calculator'!W30,'Debt Snowball Calculator'!Z30,'Debt Snowball Calculator'!AC30,'Debt Snowball Calculator'!AF30,'Debt Snowball Calculator'!AI30,'Debt Snowball Calculator'!AL30,'Debt Snowball Calculator'!AO30,'Debt Snowball Calculator'!AR30,'Debt Snowball Calculator'!AU30,'Debt Snowball Calculator'!AX30,'Debt Snowball Calculator'!BA30,'Debt Snowball Calculator'!BD30,'Debt Snowball Calculator'!BG30,'Debt Snowball Calculator'!BJ30,'Debt Snowball Calculator'!BM30,'Debt Snowball Calculator'!BP30,'Debt Snowball Calculator'!BS30,'Debt Snowball Calculator'!BV30,'Debt Snowball Calculator'!BY30,'Debt Snowball Calculator'!CB30,'Debt Snowball Calculator'!CE30,'Debt Snowball Calculator'!CH30,'Debt Snowball Calculator'!CK30,'Debt Snowball Calculator'!CN30,'Debt Snowball Calculator'!CQ30,'Debt Snowball Calculator'!CT30)","v":{"v":2652.024569010494,"d":"$2,652.02"}},{"$f":"SUM('Debt Avalanche Calculator'!$E30,'Debt Avalanche Calculator'!$H30,'Debt Avalanche Calculator'!$K30,'Debt Avalanche Calculator'!$N30,'Debt Avalanche Calculator'!$Q30,'Debt Avalanche Calculator'!$T30,'Debt Avalanche Calculator'!$W30,'Debt Avalanche Calculator'!$Z30,'Debt Avalanche Calculator'!$AC30,'Debt Avalanche Calculator'!$AF30,'Debt Avalanche Calculator'!$AI30,'Debt Avalanche Calculator'!$AL30,'Debt Avalanche Calculator'!$AO30,'Debt Avalanche Calculator'!$AR30,'Debt Avalanche Calculator'!$AU30,'Debt Avalanche Calculator'!$AX30,'Debt Avalanche Calculator'!$BA30,'Debt Avalanche Calculator'!$BD30,'Debt Avalanche Calculator'!$BG30,'Debt Avalanche Calculator'!$BJ30,'Debt Avalanche Calculator'!$BM30,'Debt Avalanche Calculator'!$BP30,'Debt Avalanche Calculator'!$BS30,'Debt Avalanche Calculator'!$BV30,'Debt Avalanche Calculator'!$BY30,'Debt Avalanche Calculator'!$CB30,'Debt Avalanche Calculator'!$CE30,'Debt Avalanche Calculator'!$CH30,'Debt Avalanche Calculator'!$CK30,'Debt Avalanche Calculator'!$CN30,'Debt Avalanche Calculator'!$CQ30,'Debt Avalanche Calculator'!$CT30)","v":{"v":2386.865745491988,"d":"$2,386.87"}},13]
[{"$nulls":8},14,{"$f":"SUM('Debt Snowball Calculator'!E31,'Debt Snowball Calculator'!H31,'Debt Snowball Calculator'!K31,'Debt Snowball Calculator'!N31,'Debt Snowball Calculator'!Q31,'Debt Snowball Calculator'!T31,'Debt Snowball Calculator'!W31,'Debt Snowball Calculator'!Z31,'Debt Snowball Calculator'!AC31,'Debt Snowball Calculator'!AF31,'Debt Snowball Calculator'!AI31,'Debt Snowball Calculator'!AL31,'Debt Snowball Calculator'!AO31,'Debt Snowball Calculator'!AR31,'Debt Snowball Calculator'!AU31,'Debt Snowball Calculator'!AX31,'Debt Snowball Calculator'!BA31,'Debt Snowball Calculator'!BD31,'Debt Snowball Calculator'!BG31,'Debt Snowball Calculator'!BJ31,'Debt Snowball Calculator'!BM31,'Debt Snowball Calculator'!BP31,'Debt Snowball Calculator'!BS31,'Debt Snowball Calculator'!BV31,'Debt Snowball Calculator'!BY31,'Debt Snowball Calculator'!CB31,'Debt Snowball Calculator'!CE31,'Debt Snowball Calculator'!CH31,'Debt Snowball Calculator'!CK31,'Debt Snowball Calculator'!CN31,'Debt Snowball Calculator'!CQ31,'Debt Snowball Calculator'!CT31)","v":{"v":2377.443434672388,"d":"$2,377.44"}},{"$f":"SUM('Debt Avalanche Calculator'!$E31,'Debt Avalanche Calculator'!$H31,'Debt Avalanche Calculator'!$K31,'Debt Avalanche Calculator'!$N31,'Debt Avalanche Calculator'!$Q31,'Debt Avalanche Calculator'!$T31,'Debt Avalanche Calculator'!$W31,'Debt Avalanche Calculator'!$Z31,'Debt Avalanche Calculator'!$AC31,'Debt Avalanche Calculator'!$AF31,'Debt Avalanche Calculator'!$AI31,'Debt Avalanche Calculator'!$AL31,'Debt Avalanche Calculator'!$AO31,'Debt Avalanche Calculator'!$AR31,'Debt Avalanche Calculator'!$AU31,'Debt Avalanche Calculator'!$AX31,'Debt Avalanche Calculator'!$BA31,'Debt Avalanche Calculator'!$BD31,'Debt Avalanche Calculator'!$BG31,'Debt Avalanche Calculator'!$BJ31,'Debt Avalanche Calculator'!$BM31,'Debt Avalanche Calculator'!$BP31,'Debt Avalanche Calculator'!$BS31,'Debt Avalanche Calculator'!$BV31,'Debt Avalanche Calculator'!$BY31,'Debt Avalanche Calculator'!$CB31,'Debt Avalanche Calculator'!$CE31,'Debt Avalanche Calculator'!$CH31,'Debt Avalanche Calculator'!$CK31,'Debt Avalanche Calculator'!$CN31,'Debt Avalanche Calculator'!$CQ31,'Debt Avalanche Calculator'!$CT31)","v":{"v":2080.092398343778,"d":"$2,080.09"}},14]
[{"$nulls":8},15,{"$f":"SUM('Debt Snowball Calculator'!E32,'Debt Snowball Calculator'!H32,'Debt Snowball Calculator'!K32,'Debt Snowball Calculator'!N32,'Debt Snowball Calculator'!Q32,'Debt Snowball Calculator'!T32,'Debt Snowball Calculator'!W32,'Debt Snowball Calculator'!Z32,'Debt Snowball Calculator'!AC32,'Debt Snowball Calculator'!AF32,'Debt Snowball Calculator'!AI32,'Debt Snowball Calculator'!AL32,'Debt Snowball Calculator'!AO32,'Debt Snowball Calculator'!AR32,'Debt Snowball Calculator'!AU32,'Debt Snowball Calculator'!AX32,'Debt Snowball Calculator'!BA32,'Debt Snowball Calculator'!BD32,'Debt Snowball Calculator'!BG32,'Debt Snowball Calculator'!BJ32,'Debt Snowball Calculator'!BM32,'Debt Snowball Calculator'!BP32,'Debt Snowball Calculator'!BS32,'Debt Snowball Calculator'!BV32,'Debt Snowball Calculator'!BY32,'Debt Snowball Calculator'!CB32,'Debt Snowball Calculator'!CE32,'Debt Snowball Calculator'!CH32,'Debt Snowball Calculator'!CK32,'Debt Snowball Calculator'!CN32,'Debt Snowball Calculator'!CQ32,'Debt Snowball Calculator'!CT32)","v":{"v":2096.913042423623,"d":"$2,096.91"}},{"$f":"SUM('Debt Avalanche Calculator'!$E32,'Debt Avalanche Calculator'!$H32,'Debt Avalanche Calculator'!$K32,'Debt Avalanche Calculator'!$N32,'Debt Avalanche Calculator'!$Q32,'Debt Avalanche Calculator'!$T32,'Debt Avalanche Calculator'!$W32,'Debt Avalanche Calculator'!$Z32,'Debt Avalanche Calculator'!$AC32,'Debt Avalanche Calculator'!$AF32,'Debt Avalanche Calculator'!$AI32,'Debt Avalanche Calculator'!$AL32,'Debt Avalanche Calculator'!$AO32,'Debt Avalanche Calculator'!$AR32,'Debt Avalanche Calculator'!$AU32,'Debt Avalanche Calculator'!$AX32,'Debt Avalanche Calculator'!$BA32,'Debt Avalanche Calculator'!$BD32,'Debt Avalanche Calculator'!$BG32,'Debt Avalanche Calculator'!$BJ32,'Debt Avalanche Calculator'!$BM32,'Debt Avalanche Calculator'!$BP32,'Debt Avalanche Calculator'!$BS32,'Debt Avalanche Calculator'!$BV32,'Debt Avalanche Calculator'!$BY32,'Debt Avalanche Calculator'!$CB32,'Debt Avalanche Calculator'!$CE32,'Debt Avalanche Calculator'!$CH32,'Debt Avalanche Calculator'!$CK32,'Debt Avalanche Calculator'!$CN32,'Debt Avalanche Calculator'!$CQ32,'Debt Avalanche Calculator'!$CT32)","v":{"v":1770.3187043600647,"d":"$1,770.32"}},15]
[{"$nulls":8},16,{"$f":"SUM('Debt Snowball Calculator'!E33,'Debt Snowball Calculator'!H33,'Debt Snowball Calculator'!K33,'Debt Snowball Calculator'!N33,'Debt Snowball Calculator'!Q33,'Debt Snowball Calculator'!T33,'Debt Snowball Calculator'!W33,'Debt Snowball Calculator'!Z33,'Debt Snowball Calculator'!AC33,'Debt Snowball Calculator'!AF33,'Debt Snowball Calculator'!AI33,'Debt Snowball Calculator'!AL33,'Debt Snowball Calculator'!AO33,'Debt Snowball Calculator'!AR33,'Debt Snowball Calculator'!AU33,'Debt Snowball Calculator'!AX33,'Debt Snowball Calculator'!BA33,'Debt Snowball Calculator'!BD33,'Debt Snowball Calculator'!BG33,'Debt Snowball Calculator'!BJ33,'Debt Snowball Calculator'!BM33,'Debt Snowball Calculator'!BP33,'Debt Snowball Calculator'!BS33,'Debt Snowball Calculator'!BV33,'Debt Snowball Calculator'!BY33,'Debt Snowball Calculator'!CB33,'Debt Snowball Calculator'!CE33,'Debt Snowball Calculator'!CH33,'Debt Snowball Calculator'!CK33,'Debt Snowball Calculator'!CN33,'Debt Snowball Calculator'!CQ33,'Debt Snowball Calculator'!CT33)","v":{"v":1810.304491676135,"d":"$1,810.30"}},{"$f":"SUM('Debt Avalanche Calculator'!$E33,'Debt Avalanche Calculator'!$H33,'Debt Avalanche Calculator'!$K33,'Debt Avalanche Calculator'!$N33,'Debt Avalanche Calculator'!$Q33,'Debt Avalanche Calculator'!$T33,'Debt Avalanche Calculator'!$W33,'Debt Avalanche Calculator'!$Z33,'Debt Avalanche Calculator'!$AC33,'Debt Avalanche Calculator'!$AF33,'Debt Avalanche Calculator'!$AI33,'Debt Avalanche Calculator'!$AL33,'Debt Avalanche Calculator'!$AO33,'Debt Avalanche Calculator'!$AR33,'Debt Avalanche Calculator'!$AU33,'Debt Avalanche Calculator'!$AX33,'Debt Avalanche Calculator'!$BA33,'Debt Avalanche Calculator'!$BD33,'Debt Avalanche Calculator'!$BG33,'Debt Avalanche Calculator'!$BJ33,'Debt Avalanche Calculator'!$BM33,'Debt Avalanche Calculator'!$BP33,'Debt Avalanche Calculator'!$BS33,'Debt Avalanche Calculator'!$BV33,'Debt Avalanche Calculator'!$BY33,'Debt Avalanche Calculator'!$CB33,'Debt Avalanche Calculator'!$CE33,'Debt Avalanche Calculator'!$CH33,'Debt Avalanche Calculator'!$CK33,'Debt Avalanche Calculator'!$CN33,'Debt Avalanche Calculator'!$CQ33,'Debt Avalanche Calculator'!$CT33)","v":{"v":1457.5151093167337,"d":"$1,457.52"}},16]
[{"$nulls":8},17,{"$f":"SUM('Debt Snowball Calculator'!E34,'Debt Snowball Calculator'!H34,'Debt Snowball Calculator'!K34,'Debt Snowball Calculator'!N34,'Debt Snowball Calculator'!Q34,'Debt Snowball Calculator'!T34,'Debt Snowball Calculator'!W34,'Debt Snowball Calculator'!Z34,'Debt Snowball Calculator'!AC34,'Debt Snowball Calculator'!AF34,'Debt Snowball Calculator'!AI34,'Debt Snowball Calculator'!AL34,'Debt Snowball Calculator'!AO34,'Debt Snowball Calculator'!AR34,'Debt Snowball Calculator'!AU34,'Debt Snowball Calculator'!AX34,'Debt Snowball Calculator'!BA34,'Debt Snowball Calculator'!BD34,'Debt Snowball Calculator'!BG34,'Debt Snowball Calculator'!BJ34,'Debt Snowball Calculator'!BM34,'Debt Snowball Calculator'!BP34,'Debt Snowball Calculator'!BS34,'Debt Snowball Calculator'!BV34,'Debt Snowball Calculator'!BY34,'Debt Snowball Calculator'!CB34,'Debt Snowball Calculator'!CE34,'Debt Snowball Calculator'!CH34,'Debt Snowball Calculator'!CK34,'Debt Snowball Calculator'!CN34,'Debt Snowball Calculator'!CQ34,'Debt Snowball Calculator'!CT34)","v":{"v":1517.4860889957847,"d":"$1,517.49"}},{"$f":"SUM('Debt Avalanche Calculator'!$E34,'Debt Avalanche Calculator'!$H34,'Debt Avalanche Calculator'!$K34,'Debt Avalanche Calculator'!$N34,'Debt Avalanche Calculator'!$Q34,'Debt Avalanche Calculator'!$T34,'Debt Avalanche Calculator'!$W34,'Debt Avalanche Calculator'!$Z34,'Debt Avalanche Calculator'!$AC34,'Debt Avalanche Calculator'!$AF34,'Debt Avalanche Calculator'!$AI34,'Debt Avalanche Calculator'!$AL34,'Debt Avalanche Calculator'!$AO34,'Debt Avalanche Calculator'!$AR34,'Debt Avalanche Calculator'!$AU34,'Debt Avalanche Calculator'!$AX34,'Debt Avalanche Calculator'!$BA34,'Debt Avalanche Calculator'!$BD34,'Debt Avalanche Calculator'!$BG34,'Debt Avalanche Calculator'!$BJ34,'Debt Avalanche Calculator'!$BM34,'Debt Avalanche Calculator'!$BP34,'Debt Avalanche Calculator'!$BS34,'Debt Avalanche Calculator'!$BV34,'Debt Avalanche Calculator'!$BY34,'Debt Avalanche Calculator'!$CB34,'Debt Avalanche Calculator'!$CE34,'Debt Avalanche Calculator'!$CH34,'Debt Avalanche Calculator'!$CK34,'Debt Avalanche Calculator'!$CN34,'Debt Avalanche Calculator'!$CQ34,'Debt Avalanche Calculator'!$CT34)","v":{"v":1141.6517664423895,"d":"$1,141.65"}},17]
[{"$nulls":8},18,{"$f":"SUM('Debt Snowball Calculator'!E35,'Debt Snowball Calculator'!H35,'Debt Snowball Calculator'!K35,'Debt Snowball Calculator'!N35,'Debt Snowball Calculator'!Q35,'Debt Snowball Calculator'!T35,'Debt Snowball Calculator'!W35,'Debt Snowball Calculator'!Z35,'Debt Snowball Calculator'!AC35,'Debt Snowball Calculator'!AF35,'Debt Snowball Calculator'!AI35,'Debt Snowball Calculator'!AL35,'Debt Snowball Calculator'!AO35,'Debt Snowball Calculator'!AR35,'Debt Snowball Calculator'!AU35,'Debt Snowball Calculator'!AX35,'Debt Snowball Calculator'!BA35,'Debt Snowball Calculator'!BD35,'Debt Snowball Calculator'!BG35,'Debt Snowball Calculator'!BJ35,'Debt Snowball Calculator'!BM35,'Debt Snowball Calculator'!BP35,'Debt Snowball Calculator'!BS35,'Debt Snowball Calculator'!BV35,'Debt Snowball Calculator'!BY35,'Debt Snowball Calculator'!CB35,'Debt Snowball Calculator'!CE35,'Debt Snowball Calculator'!CH35,'Debt Snowball Calculator'!CK35,'Debt Snowball Calculator'!CN35,'Debt Snowball Calculator'!CQ35,'Debt Snowball Calculator'!CT35)","v":{"v":1218.3232875906936,"d":"$1,218.32"}},{"$f":"SUM('Debt Avalanche Calculator'!$E35,'Debt Avalanche Calculator'!$H35,'Debt Avalanche Calculator'!$K35,'Debt Avalanche Calculator'!$N35,'Debt Avalanche Calculator'!$Q35,'Debt Avalanche Calculator'!$T35,'Debt Avalanche Calculator'!$W35,'Debt Avalanche Calculator'!$Z35,'Debt Avalanche Calculator'!$AC35,'Debt Avalanche Calculator'!$AF35,'Debt Avalanche Calculator'!$AI35,'Debt Avalanche Calculator'!$AL35,'Debt Avalanche Calculator'!$AO35,'Debt Avalanche Calculator'!$AR35,'Debt Avalanche Calculator'!$AU35,'Debt Avalanche Calculator'!$AX35,'Debt Avalanche Calculator'!$BA35,'Debt Avalanche Calculator'!$BD35,'Debt Avalanche Calculator'!$BG35,'Debt Avalanche Calculator'!$BJ35,'Debt Avalanche Calculator'!$BM35,'Debt Avalanche Calculator'!$BP35,'Debt Avalanche Calculator'!$BS35,'Debt Avalanche Calculator'!$BV35,'Debt Avalanche Calculator'!$BY35,'Debt Avalanche Calculator'!$CB35,'Debt Avalanche Calculator'!$CE35,'Debt Avalanche Calculator'!$CH35,'Debt Avalanche Calculator'!$CK35,'Debt Avalanche Calculator'!$CN35,'Debt Avalanche Calculator'!$CQ35,'Debt Avalanche Calculator'!$CT35)","v":{"v":822.6985335128521,"d":"$822.70"}},18,"Month"]
[{"$nulls":8},19,{"$f":"SUM('Debt Snowball Calculator'!E36,'Debt Snowball Calculator'!H36,'Debt Snowball Calculator'!K36,'Debt Snowball Calculator'!N36,'Debt Snowball Calculator'!Q36,'Debt Snowball Calculator'!T36,'Debt Snowball Calculator'!W36,'Debt Snowball Calculator'!Z36,'Debt Snowball Calculator'!AC36,'Debt Snowball Calculator'!AF36,'Debt Snowball Calculator'!AI36,'Debt Snowball Calculator'!AL36,'Debt Snowball Calculator'!AO36,'Debt Snowball Calculator'!AR36,'Debt Snowball Calculator'!AU36,'Debt Snowball Calculator'!AX36,'Debt Snowball Calculator'!BA36,'Debt Snowball Calculator'!BD36,'Debt Snowball Calculator'!BG36,'Debt Snowball Calculator'!BJ36,'Debt Snowball Calculator'!BM36,'Debt Snowball Calculator'!BP36,'Debt Snowball Calculator'!BS36,'Debt Snowball Calculator'!BV36,'Debt Snowball Calculator'!BY36,'Debt Snowball Calculator'!CB36,'Debt Snowball Calculator'!CE36,'Debt Snowball Calculator'!CH36,'Debt Snowball Calculator'!CK36,'Debt Snowball Calculator'!CN36,'Debt Snowball Calculator'!CQ36,'Debt Snowball Calculator'!CT36)","v":{"v":912.678625488492,"d":"$912.68"}},{"$f":"SUM('Debt Avalanche Calculator'!$E36,'Debt Avalanche Calculator'!$H36,'Debt Avalanche Calculator'!$K36,'Debt Avalanche Calculator'!$N36,'Debt Avalanche Calculator'!$Q36,'Debt Avalanche Calculator'!$T36,'Debt Avalanche Calculator'!$W36,'Debt Avalanche Calculator'!$Z36,'Debt Avalanche Calculator'!$AC36,'Debt Avalanche Calculator'!$AF36,'Debt Avalanche Calculator'!$AI36,'Debt Avalanche Calculator'!$AL36,'Debt Avalanche Calculator'!$AO36,'Debt Avalanche Calculator'!$AR36,'Debt Avalanche Calculator'!$AU36,'Debt Avalanche Calculator'!$AX36,'Debt Avalanche Calculator'!$BA36,'Debt Avalanche Calculator'!$BD36,'Debt Avalanche Calculator'!$BG36,'Debt Avalanche Calculator'!$BJ36,'Debt Avalanche Calculator'!$BM36,'Debt Avalanche Calculator'!$BP36,'Debt Avalanche Calculator'!$BS36,'Debt Avalanche Calculator'!$BV36,'Debt Avalanche Calculator'!$BY36,'Debt Avalanche Calculator'!$CB36,'Debt Avalanche Calculator'!$CE36,'Debt Avalanche Calculator'!$CH36,'Debt Avalanche Calculator'!$CK36,'Debt Avalanche Calculator'!$CN36,'Debt Avalanche Calculator'!$CQ36,'Debt Avalanche Calculator'!$CT36)","v":{"v":501.0165237362711,"d":"$501.02"}},19]
[{"$nulls":8},20,{"$f":"SUM('Debt Snowball Calculator'!E37,'Debt Snowball Calculator'!H37,'Debt Snowball Calculator'!K37,'Debt Snowball Calculator'!N37,'Debt Snowball Calculator'!Q37,'Debt Snowball Calculator'!T37,'Debt Snowball Calculator'!W37,'Debt Snowball Calculator'!Z37,'Debt Snowball Calculator'!AC37,'Debt Snowball Calculator'!AF37,'Debt Snowball Calculator'!AI37,'Debt Snowball Calculator'!AL37,'Debt Snowball Calculator'!AO37,'Debt Snowball Calculator'!AR37,'Debt Snowball Calculator'!AU37,'Debt Snowball Calculator'!AX37,'Debt Snowball Calculator'!BA37,'Debt Snowball Calculator'!BD37,'Debt Snowball Calculator'!BG37,'Debt Snowball Calculator'!BJ37,'Debt Snowball Calculator'!BM37,'Debt Snowball Calculator'!BP37,'Debt Snowball Calculator'!BS37,'Debt Snowball Calculator'!BV37,'Debt Snowball Calculator'!BY37,'Debt Snowball Calculator'!CB37,'Debt Snowball Calculator'!CE37,'Debt Snowball Calculator'!CH37,'Debt Snowball Calculator'!CK37,'Debt Snowball Calculator'!CN37,'Debt Snowball Calculator'!CQ37,'Debt Snowball Calculator'!CT37)","v":{"v":600.4116623740761,"d":"$600.41"}},{"$f":"SUM('Debt Avalanche Calculator'!$E37,'Debt Avalanche Calculator'!$H37,'Debt Avalanche Calculator'!$K37,'Debt Avalanche Calculator'!$N37,'Debt Avalanche Calculator'!$Q37,'Debt Avalanche Calculator'!$T37,'Debt Avalanche Calculator'!$W37,'Debt Avalanche Calculator'!$Z37,'Debt Avalanche Calculator'!$AC37,'Debt Avalanche Calculator'!$AF37,'Debt Avalanche Calculator'!$AI37,'Debt Avalanche Calculator'!$AL37,'Debt Avalanche Calculator'!$AO37,'Debt Avalanche Calculator'!$AR37,'Debt Avalanche Calculator'!$AU37,'Debt Avalanche Calculator'!$AX37,'Debt Avalanche Calculator'!$BA37,'Debt Avalanche Calculator'!$BD37,'Debt Avalanche Calculator'!$BG37,'Debt Avalanche Calculator'!$BJ37,'Debt Avalanche Calculator'!$BM37,'Debt Avalanche Calculator'!$BP37,'Debt Avalanche Calculator'!$BS37,'Debt Avalanche Calculator'!$BV37,'Debt Avalanche Calculator'!$BY37,'Debt Avalanche Calculator'!$CB37,'Debt Avalanche Calculator'!$CE37,'Debt Avalanche Calculator'!$CH37,'Debt Avalanche Calculator'!$CK37,'Debt Avalanche Calculator'!$CN37,'Debt Avalanche Calculator'!$CQ37,'Debt Avalanche Calculator'!$CT37)","v":{"v":177.18996722784624,"d":"$177.19"}},20]
[{"$nulls":8},21,{"$f":"SUM('Debt Snowball Calculator'!E38,'Debt Snowball Calculator'!H38,'Debt Snowball Calculator'!K38,'Debt Snowball Calculator'!N38,'Debt Snowball Calculator'!Q38,'Debt Snowball Calculator'!T38,'Debt Snowball Calculator'!W38,'Debt Snowball Calculator'!Z38,'Debt Snowball Calculator'!AC38,'Debt Snowball Calculator'!AF38,'Debt Snowball Calculator'!AI38,'Debt Snowball Calculator'!AL38,'Debt Snowball Calculator'!AO38,'Debt Snowball Calculator'!AR38,'Debt Snowball Calculator'!AU38,'Debt Snowball Calculator'!AX38,'Debt Snowball Calculator'!BA38,'Debt Snowball Calculator'!BD38,'Debt Snowball Calculator'!BG38,'Debt Snowball Calculator'!BJ38,'Debt Snowball Calculator'!BM38,'Debt Snowball Calculator'!BP38,'Debt Snowball Calculator'!BS38,'Debt Snowball Calculator'!BV38,'Debt Snowball Calculator'!BY38,'Debt Snowball Calculator'!CB38,'Debt Snowball Calculator'!CE38,'Debt Snowball Calculator'!CH38,'Debt Snowball Calculator'!CK38,'Debt Snowball Calculator'!CN38,'Debt Snowball Calculator'!CQ38,'Debt Snowball Calculator'!CT38)","v":{"v":281.3789150588477,"d":"$281.38"}},{"$f":"SUM('Debt Avalanche Calculator'!$E38,'Debt Avalanche Calculator'!$H38,'Debt Avalanche Calculator'!$K38,'Debt Avalanche Calculator'!$N38,'Debt Avalanche Calculator'!$Q38,'Debt Avalanche Calculator'!$T38,'Debt Avalanche Calculator'!$W38,'Debt Avalanche Calculator'!$Z38,'Debt Avalanche Calculator'!$AC38,'Debt Avalanche Calculator'!$AF38,'Debt Avalanche Calculator'!$AI38,'Debt Avalanche Calculator'!$AL38,'Debt Avalanche Calculator'!$AO38,'Debt Avalanche Calculator'!$AR38,'Debt Avalanche Calculator'!$AU38,'Debt Avalanche Calculator'!$AX38,'Debt Avalanche Calculator'!$BA38,'Debt Avalanche Calculator'!$BD38,'Debt Avalanche Calculator'!$BG38,'Debt Avalanche Calculator'!$BJ38,'Debt Avalanche Calculator'!$BM38,'Debt Avalanche Calculator'!$BP38,'Debt Avalanche Calculator'!$BS38,'Debt Avalanche Calculator'!$BV38,'Debt Avalanche Calculator'!$BY38,'Debt Avalanche Calculator'!$CB38,'Debt Avalanche Calculator'!$CE38,'Debt Avalanche Calculator'!$CH38,'Debt Avalanche Calculator'!$CK38,'Debt Avalanche Calculator'!$CN38,'Debt Avalanche Calculator'!$CQ38,'Debt Avalanche Calculator'!$CT38)","v":0},21]
[{"$nulls":8},22,{"$f":"SUM('Debt Snowball Calculator'!E39,'Debt Snowball Calculator'!H39,'Debt Snowball Calculator'!K39,'Debt Snowball Calculator'!N39,'Debt Snowball Calculator'!Q39,'Debt Snowball Calculator'!T39,'Debt Snowball Calculator'!W39,'Debt Snowball Calculator'!Z39,'Debt Snowball Calculator'!AC39,'Debt Snowball Calculator'!AF39,'Debt Snowball Calculator'!AI39,'Debt Snowball Calculator'!AL39,'Debt Snowball Calculator'!AO39,'Debt Snowball Calculator'!AR39,'Debt Snowball Calculator'!AU39,'Debt Snowball Calculator'!AX39,'Debt Snowball Calculator'!BA39,'Debt Snowball Calculator'!BD39,'Debt Snowball Calculator'!BG39,'Debt Snowball Calculator'!BJ39,'Debt Snowball Calculator'!BM39,'Debt Snowball Calculator'!BP39,'Debt Snowball Calculator'!BS39,'Debt Snowball Calculator'!BV39,'Debt Snowball Calculator'!BY39,'Debt Snowball Calculator'!CB39,'Debt Snowball Calculator'!CE39,'Debt Snowball Calculator'!CH39,'Debt Snowball Calculator'!CK39,'Debt Snowball Calculator'!CN39,'Debt Snowball Calculator'!CQ39,'Debt Snowball Calculator'!CT39)","v":0},{"$f":"SUM('Debt Avalanche Calculator'!$E39,'Debt Avalanche Calculator'!$H39,'Debt Avalanche Calculator'!$K39,'Debt Avalanche Calculator'!$N39,'Debt Avalanche Calculator'!$Q39,'Debt Avalanche Calculator'!$T39,'Debt Avalanche Calculator'!$W39,'Debt Avalanche Calculator'!$Z39,'Debt Avalanche Calculator'!$AC39,'Debt Avalanche Calculator'!$AF39,'Debt Avalanche Calculator'!$AI39,'Debt Avalanche Calculator'!$AL39,'Debt Avalanche Calculator'!$AO39,'Debt Avalanche Calculator'!$AR39,'Debt Avalanche Calculator'!$AU39,'Debt Avalanche Calculator'!$AX39,'Debt Avalanche Calculator'!$BA39,'Debt Avalanche Calculator'!$BD39,'Debt Avalanche Calculator'!$BG39,'Debt Avalanche Calculator'!$BJ39,'Debt Avalanche Calculator'!$BM39,'Debt Avalanche Calculator'!$BP39,'Debt Avalanche Calculator'!$BS39,'Debt Avalanche Calculator'!$BV39,'Debt Avalanche Calculator'!$BY39,'Debt Avalanche Calculator'!$CB39,'Debt Avalanche Calculator'!$CE39,'Debt Avalanche Calculator'!$CH39,'Debt Avalanche Calculator'!$CK39,'Debt Avalanche Calculator'!$CN39,'Debt Avalanche Calculator'!$CQ39,'Debt Avalanche Calculator'!$CT39)","v":0},22]
[{"$nulls":8},23,{"$f":"SUM('Debt Snowball Calculator'!E40,'Debt Snowball Calculator'!H40,'Debt Snowball Calculator'!K40,'Debt Snowball Calculator'!N40,'Debt Snowball Calculator'!Q40,'Debt Snowball Calculator'!T40,'Debt Snowball Calculator'!W40,'Debt Snowball Calculator'!Z40,'Debt Snowball Calculator'!AC40,'Debt Snowball Calculator'!AF40,'Debt Snowball Calculator'!AI40,'Debt Snowball Calculator'!AL40,'Debt Snowball Calculator'!AO40,'Debt Snowball Calculator'!AR40,'Debt Snowball Calculator'!AU40,'Debt Snowball Calculator'!AX40,'Debt Snowball Calculator'!BA40,'Debt Snowball Calculator'!BD40,'Debt Snowball Calculator'!BG40,'Debt Snowball Calculator'!BJ40,'Debt Snowball Calculator'!BM40,'Debt Snowball Calculator'!BP40,'Debt Snowball Calculator'!BS40,'Debt Snowball Calculator'!BV40,'Debt Snowball Calculator'!BY40,'Debt Snowball Calculator'!CB40,'Debt Snowball Calculator'!CE40,'Debt Snowball Calculator'!CH40,'Debt Snowball Calculator'!CK40,'Debt Snowball Calculator'!CN40,'Debt Snowball Calculator'!CQ40,'Debt Snowball Calculator'!CT40)","v":0},{"$f":"SUM('Debt Avalanche Calculator'!$E40,'Debt Avalanche Calculator'!$H40,'Debt Avalanche Calculator'!$K40,'Debt Avalanche Calculator'!$N40,'Debt Avalanche Calculator'!$Q40,'Debt Avalanche Calculator'!$T40,'Debt Avalanche Calculator'!$W40,'Debt Avalanche Calculator'!$Z40,'Debt Avalanche Calculator'!$AC40,'Debt Avalanche Calculator'!$AF40,'Debt Avalanche Calculator'!$AI40,'Debt Avalanche Calculator'!$AL40,'Debt Avalanche Calculator'!$AO40,'Debt Avalanche Calculator'!$AR40,'Debt Avalanche Calculator'!$AU40,'Debt Avalanche Calculator'!$AX40,'Debt Avalanche Calculator'!$BA40,'Debt Avalanche Calculator'!$BD40,'Debt Avalanche Calculator'!$BG40,'Debt Avalanche Calculator'!$BJ40,'Debt Avalanche Calculator'!$BM40,'Debt Avalanche Calculator'!$BP40,'Debt Avalanche Calculator'!$BS40,'Debt Avalanche Calculator'!$BV40,'Debt Avalanche Calculator'!$BY40,'Debt Avalanche Calculator'!$CB40,'Debt Avalanche Calculator'!$CE40,'Debt Avalanche Calculator'!$CH40,'Debt Avalanche Calculator'!$CK40,'Debt Avalanche Calculator'!$CN40,'Debt Avalanche Calculator'!$CQ40,'Debt Avalanche Calculator'!$CT40)","v":0},23]
[{"$nulls":8},24,{"$f":"SUM('Debt Snowball Calculator'!E41,'Debt Snowball Calculator'!H41,'Debt Snowball Calculator'!K41,'Debt Snowball Calculator'!N41,'Debt Snowball Calculator'!Q41,'Debt Snowball Calculator'!T41,'Debt Snowball Calculator'!W41,'Debt Snowball Calculator'!Z41,'Debt Snowball Calculator'!AC41,'Debt Snowball Calculator'!AF41,'Debt Snowball Calculator'!AI41,'Debt Snowball Calculator'!AL41,'Debt Snowball Calculator'!AO41,'Debt Snowball Calculator'!AR41,'Debt Snowball Calculator'!AU41,'Debt Snowball Calculator'!AX41,'Debt Snowball Calculator'!BA41,'Debt Snowball Calculator'!BD41,'Debt Snowball Calculator'!BG41,'Debt Snowball Calculator'!BJ41,'Debt Snowball Calculator'!BM41,'Debt Snowball Calculator'!BP41,'Debt Snowball Calculator'!BS41,'Debt Snowball Calculator'!BV41,'Debt Snowball Calculator'!BY41,'Debt Snowball Calculator'!CB41,'Debt Snowball Calculator'!CE41,'Debt Snowball Calculator'!CH41,'Debt Snowball Calculator'!CK41,'Debt Snowball Calculator'!CN41,'Debt Snowball Calculator'!CQ41,'Debt Snowball Calculator'!CT41)","v":0},{"$f":"SUM('Debt Avalanche Calculator'!$E41,'Debt Avalanche Calculator'!$H41,'Debt Avalanche Calculator'!$K41,'Debt Avalanche Calculator'!$N41,'Debt Avalanche Calculator'!$Q41,'Debt Avalanche Calculator'!$T41,'Debt Avalanche Calculator'!$W41,'Debt Avalanche Calculator'!$Z41,'Debt Avalanche Calculator'!$AC41,'Debt Avalanche Calculator'!$AF41,'Debt Avalanche Calculator'!$AI41,'Debt Avalanche Calculator'!$AL41,'Debt Avalanche Calculator'!$AO41,'Debt Avalanche Calculator'!$AR41,'Debt Avalanche Calculator'!$AU41,'Debt Avalanche Calculator'!$AX41,'Debt Avalanche Calculator'!$BA41,'Debt Avalanche Calculator'!$BD41,'Debt Avalanche Calculator'!$BG41,'Debt Avalanche Calculator'!$BJ41,'Debt Avalanche Calculator'!$BM41,'Debt Avalanche Calculator'!$BP41,'Debt Avalanche Calculator'!$BS41,'Debt Avalanche Calculator'!$BV41,'Debt Avalanche Calculator'!$BY41,'Debt Avalanche Calculator'!$CB41,'Debt Avalanche Calculator'!$CE41,'Debt Avalanche Calculator'!$CH41,'Debt Avalanche Calculator'!$CK41,'Debt Avalanche Calculator'!$CN41,'Debt Avalanche Calculator'!$CQ41,'Debt Avalanche Calculator'!$CT41)","v":0},24]
[{"$nulls":8},25,{"$f":"SUM('Debt Snowball Calculator'!E42,'Debt Snowball Calculator'!H42,'Debt Snowball Calculator'!K42,'Debt Snowball Calculator'!N42,'Debt Snowball Calculator'!Q42,'Debt Snowball Calculator'!T42,'Debt Snowball Calculator'!W42,'Debt Snowball Calculator'!Z42,'Debt Snowball Calculator'!AC42,'Debt Snowball Calculator'!AF42,'Debt Snowball Calculator'!AI42,'Debt Snowball Calculator'!AL42,'Debt Snowball Calculator'!AO42,'Debt Snowball Calculator'!AR42,'Debt Snowball Calculator'!AU42,'Debt Snowball Calculator'!AX42,'Debt Snowball Calculator'!BA42,'Debt Snowball Calculator'!BD42,'Debt Snowball Calculator'!BG42,'Debt Snowball Calculator'!BJ42,'Debt Snowball Calculator'!BM42,'Debt Snowball Calculator'!BP42,'Debt Snowball Calculator'!BS42,'Debt Snowball Calculator'!BV42,'Debt Snowball Calculator'!BY42,'Debt Snowball Calculator'!CB42,'Debt Snowball Calculator'!CE42,'Debt Snowball Calculator'!CH42,'Debt Snowball Calculator'!CK42,'Debt Snowball Calculator'!CN42,'Debt Snowball Calculator'!CQ42,'Debt Snowball Calculator'!CT42)","v":0},{"$f":"SUM('Debt Avalanche Calculator'!$E42,'Debt Avalanche Calculator'!$H42,'Debt Avalanche Calculator'!$K42,'Debt Avalanche Calculator'!$N42,'Debt Avalanche Calculator'!$Q42,'Debt Avalanche Calculator'!$T42,'Debt Avalanche Calculator'!$W42,'Debt Avalanche Calculator'!$Z42,'Debt Avalanche Calculator'!$AC42,'Debt Avalanche Calculator'!$AF42,'Debt Avalanche Calculator'!$AI42,'Debt Avalanche Calculator'!$AL42,'Debt Avalanche Calculator'!$AO42,'Debt Avalanche Calculator'!$AR42,'Debt Avalanche Calculator'!$AU42,'Debt Avalanche Calculator'!$AX42,'Debt Avalanche Calculator'!$BA42,'Debt Avalanche Calculator'!$BD42,'Debt Avalanche Calculator'!$BG42,'Debt Avalanche Calculator'!$BJ42,'Debt Avalanche Calculator'!$BM42,'Debt Avalanche Calculator'!$BP42,'Debt Avalanche Calculator'!$BS42,'Debt Avalanche Calculator'!$BV42,'Debt Avalanche Calculator'!$BY42,'Debt Avalanche Calculator'!$CB42,'Debt Avalanche Calculator'!$CE42,'Debt Avalanche Calculator'!$CH42,'Debt Avalanche Calculator'!$CK42,'Debt Avalanche Calculator'!$CN42,'Debt Avalanche Calculator'!$CQ42,'Debt Avalanche Calculator'!$CT42)","v":0},25]
[{"$nulls":8},26,{"$f":"SUM('Debt Snowball Calculator'!E43,'Debt Snowball Calculator'!H43,'Debt Snowball Calculator'!K43,'Debt Snowball Calculator'!N43,'Debt Snowball Calculator'!Q43,'Debt Snowball Calculator'!T43,'Debt Snowball Calculator'!W43,'Debt Snowball Calculator'!Z43,'Debt Snowball Calculator'!AC43,'Debt Snowball Calculator'!AF43,'Debt Snowball Calculator'!AI43,'Debt Snowball Calculator'!AL43,'Debt Snowball Calculator'!AO43,'Debt Snowball Calculator'!AR43,'Debt Snowball Calculator'!AU43,'Debt Snowball Calculator'!AX43,'Debt Snowball Calculator'!BA43,'Debt Snowball Calculator'!BD43,'Debt Snowball Calculator'!BG43,'Debt Snowball Calculator'!BJ43,'Debt Snowball Calculator'!BM43,'Debt Snowball Calculator'!BP43,'Debt Snowball Calculator'!BS43,'Debt Snowball Calculator'!BV43,'Debt Snowball Calculator'!BY43,'Debt Snowball Calculator'!CB43,'Debt Snowball Calculator'!CE43,'Debt Snowball Calculator'!CH43,'Debt Snowball Calculator'!CK43,'Debt Snowball Calculator'!CN43,'Debt Snowball Calculator'!CQ43,'Debt Snowball Calculator'!CT43)","v":0},{"$f":"SUM('Debt Avalanche Calculator'!$E43,'Debt Avalanche Calculator'!$H43,'Debt Avalanche Calculator'!$K43,'Debt Avalanche Calculator'!$N43,'Debt Avalanche Calculator'!$Q43,'Debt Avalanche Calculator'!$T43,'Debt Avalanche Calculator'!$W43,'Debt Avalanche Calculator'!$Z43,'Debt Avalanche Calculator'!$AC43,'Debt Avalanche Calculator'!$AF43,'Debt Avalanche Calculator'!$AI43,'Debt Avalanche Calculator'!$AL43,'Debt Avalanche Calculator'!$AO43,'Debt Avalanche Calculator'!$AR43,'Debt Avalanche Calculator'!$AU43,'Debt Avalanche Calculator'!$AX43,'Debt Avalanche Calculator'!$BA43,'Debt Avalanche Calculator'!$BD43,'Debt Avalanche Calculator'!$BG43,'Debt Avalanche Calculator'!$BJ43,'Debt Avalanche Calculator'!$BM43,'Debt Avalanche Calculator'!$BP43,'Debt Avalanche Calculator'!$BS43,'Debt Avalanche Calculator'!$BV43,'Debt Avalanche Calculator'!$BY43,'Debt Avalanche Calculator'!$CB43,'Debt Avalanche Calculator'!$CE43,'Debt Avalanche Calculator'!$CH43,'Debt Avalanche Calculator'!$CK43,'Debt Avalanche Calculator'!$CN43,'Debt Avalanche Calculator'!$CQ43,'Debt Avalanche Calculator'!$CT43)","v":0},26]
[{"$nulls":8},27,{"$f":"SUM('Debt Snowball Calculator'!E44,'Debt Snowball Calculator'!H44,'Debt Snowball Calculator'!K44,'Debt Snowball Calculator'!N44,'Debt Snowball Calculator'!Q44,'Debt Snowball Calculator'!T44,'Debt Snowball Calculator'!W44,'Debt Snowball Calculator'!Z44,'Debt Snowball Calculator'!AC44,'Debt Snowball Calculator'!AF44,'Debt Snowball Calculator'!AI44,'Debt Snowball Calculator'!AL44,'Debt Snowball Calculator'!AO44,'Debt Snowball Calculator'!AR44,'Debt Snowball Calculator'!AU44,'Debt Snowball Calculator'!AX44,'Debt Snowball Calculator'!BA44,'Debt Snowball Calculator'!BD44,'Debt Snowball Calculator'!BG44,'Debt Snowball Calculator'!BJ44,'Debt Snowball Calculator'!BM44,'Debt Snowball Calculator'!BP44,'Debt Snowball Calculator'!BS44,'Debt Snowball Calculator'!BV44,'Debt Snowball Calculator'!BY44,'Debt Snowball Calculator'!CB44,'Debt Snowball Calculator'!CE44,'Debt Snowball Calculator'!CH44,'Debt Snowball Calculator'!CK44,'Debt Snowball Calculator'!CN44,'Debt Snowball Calculator'!CQ44,'Debt Snowball Calculator'!CT44)","v":0},{"$f":"SUM('Debt Avalanche Calculator'!$E44,'Debt Avalanche Calculator'!$H44,'Debt Avalanche Calculator'!$K44,'Debt Avalanche Calculator'!$N44,'Debt Avalanche Calculator'!$Q44,'Debt Avalanche Calculator'!$T44,'Debt Avalanche Calculator'!$W44,'Debt Avalanche Calculator'!$Z44,'Debt Avalanche Calculator'!$AC44,'Debt Avalanche Calculator'!$AF44,'Debt Avalanche Calculator'!$AI44,'Debt Avalanche Calculator'!$AL44,'Debt Avalanche Calculator'!$AO44,'Debt Avalanche Calculator'!$AR44,'Debt Avalanche Calculator'!$AU44,'Debt Avalanche Calculator'!$AX44,'Debt Avalanche Calculator'!$BA44,'Debt Avalanche Calculator'!$BD44,'Debt Avalanche Calculator'!$BG44,'Debt Avalanche Calculator'!$BJ44,'Debt Avalanche Calculator'!$BM44,'Debt Avalanche Calculator'!$BP44,'Debt Avalanche Calculator'!$BS44,'Debt Avalanche Calculator'!$BV44,'Debt Avalanche Calculator'!$BY44,'Debt Avalanche Calculator'!$CB44,'Debt Avalanche Calculator'!$CE44,'Debt Avalanche Calculator'!$CH44,'Debt Avalanche Calculator'!$CK44,'Debt Avalanche Calculator'!$CN44,'Debt Avalanche Calculator'!$CQ44,'Debt Avalanche Calculator'!$CT44)","v":0},27]
[{"$nulls":8},28,{"$f":"SUM('Debt Snowball Calculator'!E45,'Debt Snowball Calculator'!H45,'Debt Snowball Calculator'!K45,'Debt Snowball Calculator'!N45,'Debt Snowball Calculator'!Q45,'Debt Snowball Calculator'!T45,'Debt Snowball Calculator'!W45,'Debt Snowball Calculator'!Z45,'Debt Snowball Calculator'!AC45,'Debt Snowball Calculator'!AF45,'Debt Snowball Calculator'!AI45,'Debt Snowball Calculator'!AL45,'Debt Snowball Calculator'!AO45,'Debt Snowball Calculator'!AR45,'Debt Snowball Calculator'!AU45,'Debt Snowball Calculator'!AX45,'Debt Snowball Calculator'!BA45,'Debt Snowball Calculator'!BD45,'Debt Snowball Calculator'!BG45,'Debt Snowball Calculator'!BJ45,'Debt Snowball Calculator'!BM45,'Debt Snowball Calculator'!BP45,'Debt Snowball Calculator'!BS45,'Debt Snowball Calculator'!BV45,'Debt Snowball Calculator'!BY45,'Debt Snowball Calculator'!CB45,'Debt Snowball Calculator'!CE45,'Debt Snowball Calculator'!CH45,'Debt Snowball Calculator'!CK45,'Debt Snowball Calculator'!CN45,'Debt Snowball Calculator'!CQ45,'Debt Snowball Calculator'!CT45)","v":0},{"$f":"SUM('Debt Avalanche Calculator'!$E45,'Debt Avalanche Calculator'!$H45,'Debt Avalanche Calculator'!$K45,'Debt Avalanche Calculator'!$N45,'Debt Avalanche Calculator'!$Q45,'Debt Avalanche Calculator'!$T45,'Debt Avalanche Calculator'!$W45,'Debt Avalanche Calculator'!$Z45,'Debt Avalanche Calculator'!$AC45,'Debt Avalanche Calculator'!$AF45,'Debt Avalanche Calculator'!$AI45,'Debt Avalanche Calculator'!$AL45,'Debt Avalanche Calculator'!$AO45,'Debt Avalanche Calculator'!$AR45,'Debt Avalanche Calculator'!$AU45,'Debt Avalanche Calculator'!$AX45,'Debt Avalanche Calculator'!$BA45,'Debt Avalanche Calculator'!$BD45,'Debt Avalanche Calculator'!$BG45,'Debt Avalanche Calculator'!$BJ45,'Debt Avalanche Calculator'!$BM45,'Debt Avalanche Calculator'!$BP45,'Debt Avalanche Calculator'!$BS45,'Debt Avalanche Calculator'!$BV45,'Debt Avalanche Calculator'!$BY45,'Debt Avalanche Calculator'!$CB45,'Debt Avalanche Calculator'!$CE45,'Debt Avalanche Calculator'!$CH45,'Debt Avalanche Calculator'!$CK45,'Debt Avalanche Calculator'!$CN45,'Debt Avalanche Calculator'!$CQ45,'Debt Avalanche Calculator'!$CT45)","v":0},28]
[{"$nulls":8},29,{"$f":"SUM('Debt Snowball Calculator'!E46,'Debt Snowball Calculator'!H46,'Debt Snowball Calculator'!K46,'Debt Snowball Calculator'!N46,'Debt Snowball Calculator'!Q46,'Debt Snowball Calculator'!T46,'Debt Snowball Calculator'!W46,'Debt Snowball Calculator'!Z46,'Debt Snowball Calculator'!AC46,'Debt Snowball Calculator'!AF46,'Debt Snowball Calculator'!AI46,'Debt Snowball Calculator'!AL46,'Debt Snowball Calculator'!AO46,'Debt Snowball Calculator'!AR46,'Debt Snowball Calculator'!AU46,'Debt Snowball Calculator'!AX46,'Debt Snowball Calculator'!BA46,'Debt Snowball Calculator'!BD46,'Debt Snowball Calculator'!BG46,'Debt Snowball Calculator'!BJ46,'Debt Snowball Calculator'!BM46,'Debt Snowball Calculator'!BP46,'Debt Snowball Calculator'!BS46,'Debt Snowball Calculator'!BV46,'Debt Snowball Calculator'!BY46,'Debt Snowball Calculator'!CB46,'Debt Snowball Calculator'!CE46,'Debt Snowball Calculator'!CH46,'Debt Snowball Calculator'!CK46,'Debt Snowball Calculator'!CN46,'Debt Snowball Calculator'!CQ46,'Debt Snowball Calculator'!CT46)","v":0},{"$f":"SUM('Debt Avalanche Calculator'!$E46,'Debt Avalanche Calculator'!$H46,'Debt Avalanche Calculator'!$K46,'Debt Avalanche Calculator'!$N46,'Debt Avalanche Calculator'!$Q46,'Debt Avalanche Calculator'!$T46,'Debt Avalanche Calculator'!$W46,'Debt Avalanche Calculator'!$Z46,'Debt Avalanche Calculator'!$AC46,'Debt Avalanche Calculator'!$AF46,'Debt Avalanche Calculator'!$AI46,'Debt Avalanche Calculator'!$AL46,'Debt Avalanche Calculator'!$AO46,'Debt Avalanche Calculator'!$AR46,'Debt Avalanche Calculator'!$AU46,'Debt Avalanche Calculator'!$AX46,'Debt Avalanche Calculator'!$BA46,'Debt Avalanche Calculator'!$BD46,'Debt Avalanche Calculator'!$BG46,'Debt Avalanche Calculator'!$BJ46,'Debt Avalanche Calculator'!$BM46,'Debt Avalanche Calculator'!$BP46,'Debt Avalanche Calculator'!$BS46,'Debt Avalanche Calculator'!$BV46,'Debt Avalanche Calculator'!$BY46,'Debt Avalanche Calculator'!$CB46,'Debt Avalanche Calculator'!$CE46,'Debt Avalanche Calculator'!$CH46,'Debt Avalanche Calculator'!$CK46,'Debt Avalanche Calculator'!$CN46,'Debt Avalanche Calculator'!$CQ46,'Debt Avalanche Calculator'!$CT46)","v":0},29]
[{"$nulls":8},30,{"$f":"SUM('Debt Snowball Calculator'!E47,'Debt Snowball Calculator'!H47,'Debt Snowball Calculator'!K47,'Debt Snowball Calculator'!N47,'Debt Snowball Calculator'!Q47,'Debt Snowball Calculator'!T47,'Debt Snowball Calculator'!W47,'Debt Snowball Calculator'!Z47,'Debt Snowball Calculator'!AC47,'Debt Snowball Calculator'!AF47,'Debt Snowball Calculator'!AI47,'Debt Snowball Calculator'!AL47,'Debt Snowball Calculator'!AO47,'Debt Snowball Calculator'!AR47,'Debt Snowball Calculator'!AU47,'Debt Snowball Calculator'!AX47,'Debt Snowball Calculator'!BA47,'Debt Snowball Calculator'!BD47,'Debt Snowball Calculator'!BG47,'Debt Snowball Calculator'!BJ47,'Debt Snowball Calculator'!BM47,'Debt Snowball Calculator'!BP47,'Debt Snowball Calculator'!BS47,'Debt Snowball Calculator'!BV47,'Debt Snowball Calculator'!BY47,'Debt Snowball Calculator'!CB47,'Debt Snowball Calculator'!CE47,'Debt Snowball Calculator'!CH47,'Debt Snowball Calculator'!CK47,'Debt Snowball Calculator'!CN47,'Debt Snowball Calculator'!CQ47,'Debt Snowball Calculator'!CT47)","v":0},{"$f":"SUM('Debt Avalanche Calculator'!$E47,'Debt Avalanche Calculator'!$H47,'Debt Avalanche Calculator'!$K47,'Debt Avalanche Calculator'!$N47,'Debt Avalanche Calculator'!$Q47,'Debt Avalanche Calculator'!$T47,'Debt Avalanche Calculator'!$W47,'Debt Avalanche Calculator'!$Z47,'Debt Avalanche Calculator'!$AC47,'Debt Avalanche Calculator'!$AF47,'Debt Avalanche Calculator'!$AI47,'Debt Avalanche Calculator'!$AL47,'Debt Avalanche Calculator'!$AO47,'Debt Avalanche Calculator'!$AR47,'Debt Avalanche Calculator'!$AU47,'Debt Avalanche Calculator'!$AX47,'Debt Avalanche Calculator'!$BA47,'Debt Avalanche Calculator'!$BD47,'Debt Avalanche Calculator'!$BG47,'Debt Avalanche Calculator'!$BJ47,'Debt Avalanche Calculator'!$BM47,'Debt Avalanche Calculator'!$BP47,'Debt Avalanche Calculator'!$BS47,'Debt Avalanche Calculator'!$BV47,'Debt Avalanche Calculator'!$BY47,'Debt Avalanche Calculator'!$CB47,'Debt Avalanche Calculator'!$CE47,'Debt Avalanche Calculator'!$CH47,'Debt Avalanche Calculator'!$CK47,'Debt Avalanche Calculator'!$CN47,'Debt Avalanche Calculator'!$CQ47,'Debt Avalanche Calculator'!$CT47)","v":0},30]
[{"$nulls":8},31,{"$f":"SUM('Debt Snowball Calculator'!E48,'Debt Snowball Calculator'!H48,'Debt Snowball Calculator'!K48,'Debt Snowball Calculator'!N48,'Debt Snowball Calculator'!Q48,'Debt Snowball Calculator'!T48,'Debt Snowball Calculator'!W48,'Debt Snowball Calculator'!Z48,'Debt Snowball Calculator'!AC48,'Debt Snowball Calculator'!AF48,'Debt Snowball Calculator'!AI48,'Debt Snowball Calculator'!AL48,'Debt Snowball Calculator'!AO48,'Debt Snowball Calculator'!AR48,'Debt Snowball Calculator'!AU48,'Debt Snowball Calculator'!AX48,'Debt Snowball Calculator'!BA48,'Debt Snowball Calculator'!BD48,'Debt Snowball Calculator'!BG48,'Debt Snowball Calculator'!BJ48,'Debt Snowball Calculator'!BM48,'Debt Snowball Calculator'!BP48,'Debt Snowball Calculator'!BS48,'Debt Snowball Calculator'!BV48,'Debt Snowball Calculator'!BY48,'Debt Snowball Calculator'!CB48,'Debt Snowball Calculator'!CE48,'Debt Snowball Calculator'!CH48,'Debt Snowball Calculator'!CK48,'Debt Snowball Calculator'!CN48,'Debt Snowball Calculator'!CQ48,'Debt Snowball Calculator'!CT48)","v":0},{"$f":"SUM('Debt Avalanche Calculator'!$E48,'Debt Avalanche Calculator'!$H48,'Debt Avalanche Calculator'!$K48,'Debt Avalanche Calculator'!$N48,'Debt Avalanche Calculator'!$Q48,'Debt Avalanche Calculator'!$T48,'Debt Avalanche Calculator'!$W48,'Debt Avalanche Calculator'!$Z48,'Debt Avalanche Calculator'!$AC48,'Debt Avalanche Calculator'!$AF48,'Debt Avalanche Calculator'!$AI48,'Debt Avalanche Calculator'!$AL48,'Debt Avalanche Calculator'!$AO48,'Debt Avalanche Calculator'!$AR48,'Debt Avalanche Calculator'!$AU48,'Debt Avalanche Calculator'!$AX48,'Debt Avalanche Calculator'!$BA48,'Debt Avalanche Calculator'!$BD48,'Debt Avalanche Calculator'!$BG48,'Debt Avalanche Calculator'!$BJ48,'Debt Avalanche Calculator'!$BM48,'Debt Avalanche Calculator'!$BP48,'Debt Avalanche Calculator'!$BS48,'Debt Avalanche Calculator'!$BV48,'Debt Avalanche Calculator'!$BY48,'Debt Avalanche Calculator'!$CB48,'Debt Avalanche Calculator'!$CE48,'Debt Avalanche Calculator'!$CH48,'Debt Avalanche Calculator'!$CK48,'Debt Avalanche Calculator'!$CN48,'Debt Avalanche Calculator'!$CQ48,'Debt Avalanche Calculator'!$CT48)","v":0},31]
[{"$nulls":8},32,{"$f":"SUM('Debt Snowball Calculator'!E49,'Debt Snowball Calculator'!H49,'Debt Snowball Calculator'!K49,'Debt Snowball Calculator'!N49,'Debt Snowball Calculator'!Q49,'Debt Snowball Calculator'!T49,'Debt Snowball Calculator'!W49,'Debt Snowball Calculator'!Z49,'Debt Snowball Calculator'!AC49,'Debt Snowball Calculator'!AF49,'Debt Snowball Calculator'!AI49,'Debt Snowball Calculator'!AL49,'Debt Snowball Calculator'!AO49,'Debt Snowball Calculator'!AR49,'Debt Snowball Calculator'!AU49,'Debt Snowball Calculator'!AX49,'Debt Snowball Calculator'!BA49,'Debt Snowball Calculator'!BD49,'Debt Snowball Calculator'!BG49,'Debt Snowball Calculator'!BJ49,'Debt Snowball Calculator'!BM49,'Debt Snowball Calculator'!BP49,'Debt Snowball Calculator'!BS49,'Debt Snowball Calculator'!BV49,'Debt Snowball Calculator'!BY49,'Debt Snowball Calculator'!CB49,'Debt Snowball Calculator'!CE49,'Debt Snowball Calculator'!CH49,'Debt Snowball Calculator'!CK49,'Debt Snowball Calculator'!CN49,'Debt Snowball Calculator'!CQ49,'Debt Snowball Calculator'!CT49)","v":0},{"$f":"SUM('Debt Avalanche Calculator'!$E49,'Debt Avalanche Calculator'!$H49,'Debt Avalanche Calculator'!$K49,'Debt Avalanche Calculator'!$N49,'Debt Avalanche Calculator'!$Q49,'Debt Avalanche Calculator'!$T49,'Debt Avalanche Calculator'!$W49,'Debt Avalanche Calculator'!$Z49,'Debt Avalanche Calculator'!$AC49,'Debt Avalanche Calculator'!$AF49,'Debt Avalanche Calculator'!$AI49,'Debt Avalanche Calculator'!$AL49,'Debt Avalanche Calculator'!$AO49,'Debt Avalanche Calculator'!$AR49,'Debt Avalanche Calculator'!$AU49,'Debt Avalanche Calculator'!$AX49,'Debt Avalanche Calculator'!$BA49,'Debt Avalanche Calculator'!$BD49,'Debt Avalanche Calculator'!$BG49,'Debt Avalanche Calculator'!$BJ49,'Debt Avalanche Calculator'!$BM49,'Debt Avalanche Calculator'!$BP49,'Debt Avalanche Calculator'!$BS49,'Debt Avalanche Calculator'!$BV49,'Debt Avalanche Calculator'!$BY49,'Debt Avalanche Calculator'!$CB49,'Debt Avalanche Calculator'!$CE49,'Debt Avalanche Calculator'!$CH49,'Debt Avalanche Calculator'!$CK49,'Debt Avalanche Calculator'!$CN49,'Debt Avalanche Calculator'!$CQ49,'Debt Avalanche Calculator'!$CT49)","v":0},32]
[{"$nulls":8},33,{"$f":"SUM('Debt Snowball Calculator'!E50,'Debt Snowball Calculator'!H50,'Debt Snowball Calculator'!K50,'Debt Snowball Calculator'!N50,'Debt Snowball Calculator'!Q50,'Debt Snowball Calculator'!T50,'Debt Snowball Calculator'!W50,'Debt Snowball Calculator'!Z50,'Debt Snowball Calculator'!AC50,'Debt Snowball Calculator'!AF50,'Debt Snowball Calculator'!AI50,'Debt Snowball Calculator'!AL50,'Debt Snowball Calculator'!AO50,'Debt Snowball Calculator'!AR50,'Debt Snowball Calculator'!AU50,'Debt Snowball Calculator'!AX50,'Debt Snowball Calculator'!BA50,'Debt Snowball Calculator'!BD50,'Debt Snowball Calculator'!BG50,'Debt Snowball Calculator'!BJ50,'Debt Snowball Calculator'!BM50,'Debt Snowball Calculator'!BP50,'Debt Snowball Calculator'!BS50,'Debt Snowball Calculator'!BV50,'Debt Snowball Calculator'!BY50,'Debt Snowball Calculator'!CB50,'Debt Snowball Calculator'!CE50,'Debt Snowball Calculator'!CH50,'Debt Snowball Calculator'!CK50,'Debt Snowball Calculator'!CN50,'Debt Snowball Calculator'!CQ50,'Debt Snowball Calculator'!CT50)","v":0},{"$f":"SUM('Debt Avalanche Calculator'!$E50,'Debt Avalanche Calculator'!$H50,'Debt Avalanche Calculator'!$K50,'Debt Avalanche Calculator'!$N50,'Debt Avalanche Calculator'!$Q50,'Debt Avalanche Calculator'!$T50,'Debt Avalanche Calculator'!$W50,'Debt Avalanche Calculator'!$Z50,'Debt Avalanche Calculator'!$AC50,'Debt Avalanche Calculator'!$AF50,'Debt Avalanche Calculator'!$AI50,'Debt Avalanche Calculator'!$AL50,'Debt Avalanche Calculator'!$AO50,'Debt Avalanche Calculator'!$AR50,'Debt Avalanche Calculator'!$AU50,'Debt Avalanche Calculator'!$AX50,'Debt Avalanche Calculator'!$BA50,'Debt Avalanche Calculator'!$BD50,'Debt Avalanche Calculator'!$BG50,'Debt Avalanche Calculator'!$BJ50,'Debt Avalanche Calculator'!$BM50,'Debt Avalanche Calculator'!$BP50,'Debt Avalanche Calculator'!$BS50,'Debt Avalanche Calculator'!$BV50,'Debt Avalanche Calculator'!$BY50,'Debt Avalanche Calculator'!$CB50,'Debt Avalanche Calculator'!$CE50,'Debt Avalanche Calculator'!$CH50,'Debt Avalanche Calculator'!$CK50,'Debt Avalanche Calculator'!$CN50,'Debt Avalanche Calculator'!$CQ50,'Debt Avalanche Calculator'!$CT50)","v":0},33]
[{"$nulls":8},34,{"$f":"SUM('Debt Snowball Calculator'!E51,'Debt Snowball Calculator'!H51,'Debt Snowball Calculator'!K51,'Debt Snowball Calculator'!N51,'Debt Snowball Calculator'!Q51,'Debt Snowball Calculator'!T51,'Debt Snowball Calculator'!W51,'Debt Snowball Calculator'!Z51,'Debt Snowball Calculator'!AC51,'Debt Snowball Calculator'!AF51,'Debt Snowball Calculator'!AI51,'Debt Snowball Calculator'!AL51,'Debt Snowball Calculator'!AO51,'Debt Snowball Calculator'!AR51,'Debt Snowball Calculator'!AU51,'Debt Snowball Calculator'!AX51,'Debt Snowball Calculator'!BA51,'Debt Snowball Calculator'!BD51,'Debt Snowball Calculator'!BG51,'Debt Snowball Calculator'!BJ51,'Debt Snowball Calculator'!BM51,'Debt Snowball Calculator'!BP51,'Debt Snowball Calculator'!BS51,'Debt Snowball Calculator'!BV51,'Debt Snowball Calculator'!BY51,'Debt Snowball Calculator'!CB51,'Debt Snowball Calculator'!CE51,'Debt Snowball Calculator'!CH51,'Debt Snowball Calculator'!CK51,'Debt Snowball Calculator'!CN51,'Debt Snowball Calculator'!CQ51,'Debt Snowball Calculator'!CT51)","v":0},{"$f":"SUM('Debt Avalanche Calculator'!$E51,'Debt Avalanche Calculator'!$H51,'Debt Avalanche Calculator'!$K51,'Debt Avalanche Calculator'!$N51,'Debt Avalanche Calculator'!$Q51,'Debt Avalanche Calculator'!$T51,'Debt Avalanche Calculator'!$W51,'Debt Avalanche Calculator'!$Z51,'Debt Avalanche Calculator'!$AC51,'Debt Avalanche Calculator'!$AF51,'Debt Avalanche Calculator'!$AI51,'Debt Avalanche Calculator'!$AL51,'Debt Avalanche Calculator'!$AO51,'Debt Avalanche Calculator'!$AR51,'Debt Avalanche Calculator'!$AU51,'Debt Avalanche Calculator'!$AX51,'Debt Avalanche Calculator'!$BA51,'Debt Avalanche Calculator'!$BD51,'Debt Avalanche Calculator'!$BG51,'Debt Avalanche Calculator'!$BJ51,'Debt Avalanche Calculator'!$BM51,'Debt Avalanche Calculator'!$BP51,'Debt Avalanche Calculator'!$BS51,'Debt Avalanche Calculator'!$BV51,'Debt Avalanche Calculator'!$BY51,'Debt Avalanche Calculator'!$CB51,'Debt Avalanche Calculator'!$CE51,'Debt Avalanche Calculator'!$CH51,'Debt Avalanche Calculator'!$CK51,'Debt Avalanche Calculator'!$CN51,'Debt Avalanche Calculator'!$CQ51,'Debt Avalanche Calculator'!$CT51)","v":0},34]
[{"$nulls":8},35,{"$f":"SUM('Debt Snowball Calculator'!E52,'Debt Snowball Calculator'!H52,'Debt Snowball Calculator'!K52,'Debt Snowball Calculator'!N52,'Debt Snowball Calculator'!Q52,'Debt Snowball Calculator'!T52,'Debt Snowball Calculator'!W52,'Debt Snowball Calculator'!Z52,'Debt Snowball Calculator'!AC52,'Debt Snowball Calculator'!AF52,'Debt Snowball Calculator'!AI52,'Debt Snowball Calculator'!AL52,'Debt Snowball Calculator'!AO52,'Debt Snowball Calculator'!AR52,'Debt Snowball Calculator'!AU52,'Debt Snowball Calculator'!AX52,'Debt Snowball Calculator'!BA52,'Debt Snowball Calculator'!BD52,'Debt Snowball Calculator'!BG52,'Debt Snowball Calculator'!BJ52,'Debt Snowball Calculator'!BM52,'Debt Snowball Calculator'!BP52,'Debt Snowball Calculator'!BS52,'Debt Snowball Calculator'!BV52,'Debt Snowball Calculator'!BY52,'Debt Snowball Calculator'!CB52,'Debt Snowball Calculator'!CE52,'Debt Snowball Calculator'!CH52,'Debt Snowball Calculator'!CK52,'Debt Snowball Calculator'!CN52,'Debt Snowball Calculator'!CQ52,'Debt Snowball Calculator'!CT52)","v":0},{"$f":"SUM('Debt Avalanche Calculator'!$E52,'Debt Avalanche Calculator'!$H52,'Debt Avalanche Calculator'!$K52,'Debt Avalanche Calculator'!$N52,'Debt Avalanche Calculator'!$Q52,'Debt Avalanche Calculator'!$T52,'Debt Avalanche Calculator'!$W52,'Debt Avalanche Calculator'!$Z52,'Debt Avalanche Calculator'!$AC52,'Debt Avalanche Calculator'!$AF52,'Debt Avalanche Calculator'!$AI52,'Debt Avalanche Calculator'!$AL52,'Debt Avalanche Calculator'!$AO52,'Debt Avalanche Calculator'!$AR52,'Debt Avalanche Calculator'!$AU52,'Debt Avalanche Calculator'!$AX52,'Debt Avalanche Calculator'!$BA52,'Debt Avalanche Calculator'!$BD52,'Debt Avalanche Calculator'!$BG52,'Debt Avalanche Calculator'!$BJ52,'Debt Avalanche Calculator'!$BM52,'Debt Avalanche Calculator'!$BP52,'Debt Avalanche Calculator'!$BS52,'Debt Avalanche Calculator'!$BV52,'Debt Avalanche Calculator'!$BY52,'Debt Avalanche Calculator'!$CB52,'Debt Avalanche Calculator'!$CE52,'Debt Avalanche Calculator'!$CH52,'Debt Avalanche Calculator'!$CK52,'Debt Avalanche Calculator'!$CN52,'Debt Avalanche Calculator'!$CQ52,'Debt Avalanche Calculator'!$CT52)","v":0},35]
[{"$nulls":8},36,{"$f":"SUM('Debt Snowball Calculator'!E53,'Debt Snowball Calculator'!H53,'Debt Snowball Calculator'!K53,'Debt Snowball Calculator'!N53,'Debt Snowball Calculator'!Q53,'Debt Snowball Calculator'!T53,'Debt Snowball Calculator'!W53,'Debt Snowball Calculator'!Z53,'Debt Snowball Calculator'!AC53,'Debt Snowball Calculator'!AF53,'Debt Snowball Calculator'!AI53,'Debt Snowball Calculator'!AL53,'Debt Snowball Calculator'!AO53,'Debt Snowball Calculator'!AR53,'Debt Snowball Calculator'!AU53,'Debt Snowball Calculator'!AX53,'Debt Snowball Calculator'!BA53,'Debt Snowball Calculator'!BD53,'Debt Snowball Calculator'!BG53,'Debt Snowball Calculator'!BJ53,'Debt Snowball Calculator'!BM53,'Debt Snowball Calculator'!BP53,'Debt Snowball Calculator'!BS53,'Debt Snowball Calculator'!BV53,'Debt Snowball Calculator'!BY53,'Debt Snowball Calculator'!CB53,'Debt Snowball Calculator'!CE53,'Debt Snowball Calculator'!CH53,'Debt Snowball Calculator'!CK53,'Debt Snowball Calculator'!CN53,'Debt Snowball Calculator'!CQ53,'Debt Snowball Calculator'!CT53)","v":0},{"$f":"SUM('Debt Avalanche Calculator'!$E53,'Debt Avalanche Calculator'!$H53,'Debt Avalanche Calculator'!$K53,'Debt Avalanche Calculator'!$N53,'Debt Avalanche Calculator'!$Q53,'Debt Avalanche Calculator'!$T53,'Debt Avalanche Calculator'!$W53,'Debt Avalanche Calculator'!$Z53,'Debt Avalanche Calculator'!$AC53,'Debt Avalanche Calculator'!$AF53,'Debt Avalanche Calculator'!$AI53,'Debt Avalanche Calculator'!$AL53,'Debt Avalanche Calculator'!$AO53,'Debt Avalanche Calculator'!$AR53,'Debt Avalanche Calculator'!$AU53,'Debt Avalanche Calculator'!$AX53,'Debt Avalanche Calculator'!$BA53,'Debt Avalanche Calculator'!$BD53,'Debt Avalanche Calculator'!$BG53,'Debt Avalanche Calculator'!$BJ53,'Debt Avalanche Calculator'!$BM53,'Debt Avalanche Calculator'!$BP53,'Debt Avalanche Calculator'!$BS53,'Debt Avalanche Calculator'!$BV53,'Debt Avalanche Calculator'!$BY53,'Debt Avalanche Calculator'!$CB53,'Debt Avalanche Calculator'!$CE53,'Debt Avalanche Calculator'!$CH53,'Debt Avalanche Calculator'!$CK53,'Debt Avalanche Calculator'!$CN53,'Debt Avalanche Calculator'!$CQ53,'Debt Avalanche Calculator'!$CT53)","v":0},36]
[{"$nulls":8},37,{"$f":"SUM('Debt Snowball Calculator'!E54,'Debt Snowball Calculator'!H54,'Debt Snowball Calculator'!K54,'Debt Snowball Calculator'!N54,'Debt Snowball Calculator'!Q54,'Debt Snowball Calculator'!T54,'Debt Snowball Calculator'!W54,'Debt Snowball Calculator'!Z54,'Debt Snowball Calculator'!AC54,'Debt Snowball Calculator'!AF54,'Debt Snowball Calculator'!AI54,'Debt Snowball Calculator'!AL54,'Debt Snowball Calculator'!AO54,'Debt Snowball Calculator'!AR54,'Debt Snowball Calculator'!AU54,'Debt Snowball Calculator'!AX54,'Debt Snowball Calculator'!BA54,'Debt Snowball Calculator'!BD54,'Debt Snowball Calculator'!BG54,'Debt Snowball Calculator'!BJ54,'Debt Snowball Calculator'!BM54,'Debt Snowball Calculator'!BP54,'Debt Snowball Calculator'!BS54,'Debt Snowball Calculator'!BV54,'Debt Snowball Calculator'!BY54,'Debt Snowball Calculator'!CB54,'Debt Snowball Calculator'!CE54,'Debt Snowball Calculator'!CH54,'Debt Snowball Calculator'!CK54,'Debt Snowball Calculator'!CN54,'Debt Snowball Calculator'!CQ54,'Debt Snowball Calculator'!CT54)","v":0},{"$f":"SUM('Debt Avalanche Calculator'!$E54,'Debt Avalanche Calculator'!$H54,'Debt Avalanche Calculator'!$K54,'Debt Avalanche Calculator'!$N54,'Debt Avalanche Calculator'!$Q54,'Debt Avalanche Calculator'!$T54,'Debt Avalanche Calculator'!$W54,'Debt Avalanche Calculator'!$Z54,'Debt Avalanche Calculator'!$AC54,'Debt Avalanche Calculator'!$AF54,'Debt Avalanche Calculator'!$AI54,'Debt Avalanche Calculator'!$AL54,'Debt Avalanche Calculator'!$AO54,'Debt Avalanche Calculator'!$AR54,'Debt Avalanche Calculator'!$AU54,'Debt Avalanche Calculator'!$AX54,'Debt Avalanche Calculator'!$BA54,'Debt Avalanche Calculator'!$BD54,'Debt Avalanche Calculator'!$BG54,'Debt Avalanche Calculator'!$BJ54,'Debt Avalanche Calculator'!$BM54,'Debt Avalanche Calculator'!$BP54,'Debt Avalanche Calculator'!$BS54,'Debt Avalanche Calculator'!$BV54,'Debt Avalanche Calculator'!$BY54,'Debt Avalanche Calculator'!$CB54,'Debt Avalanche Calculator'!$CE54,'Debt Avalanche Calculator'!$CH54,'Debt Avalanche Calculator'!$CK54,'Debt Avalanche Calculator'!$CN54,'Debt Avalanche Calculator'!$CQ54,'Debt Avalanche Calculator'!$CT54)","v":0},37]
[{"$nulls":8},38,{"$f":"SUM('Debt Snowball Calculator'!E55,'Debt Snowball Calculator'!H55,'Debt Snowball Calculator'!K55,'Debt Snowball Calculator'!N55,'Debt Snowball Calculator'!Q55,'Debt Snowball Calculator'!T55,'Debt Snowball Calculator'!W55,'Debt Snowball Calculator'!Z55,'Debt Snowball Calculator'!AC55,'Debt Snowball Calculator'!AF55,'Debt Snowball Calculator'!AI55,'Debt Snowball Calculator'!AL55,'Debt Snowball Calculator'!AO55,'Debt Snowball Calculator'!AR55,'Debt Snowball Calculator'!AU55,'Debt Snowball Calculator'!AX55,'Debt Snowball Calculator'!BA55,'Debt Snowball Calculator'!BD55,'Debt Snowball Calculator'!BG55,'Debt Snowball Calculator'!BJ55,'Debt Snowball Calculator'!BM55,'Debt Snowball Calculator'!BP55,'Debt Snowball Calculator'!BS55,'Debt Snowball Calculator'!BV55,'Debt Snowball Calculator'!BY55,'Debt Snowball Calculator'!CB55,'Debt Snowball Calculator'!CE55,'Debt Snowball Calculator'!CH55,'Debt Snowball Calculator'!CK55,'Debt Snowball Calculator'!CN55,'Debt Snowball Calculator'!CQ55,'Debt Snowball Calculator'!CT55)","v":0},{"$f":"SUM('Debt Avalanche Calculator'!$E55,'Debt Avalanche Calculator'!$H55,'Debt Avalanche Calculator'!$K55,'Debt Avalanche Calculator'!$N55,'Debt Avalanche Calculator'!$Q55,'Debt Avalanche Calculator'!$T55,'Debt Avalanche Calculator'!$W55,'Debt Avalanche Calculator'!$Z55,'Debt Avalanche Calculator'!$AC55,'Debt Avalanche Calculator'!$AF55,'Debt Avalanche Calculator'!$AI55,'Debt Avalanche Calculator'!$AL55,'Debt Avalanche Calculator'!$AO55,'Debt Avalanche Calculator'!$AR55,'Debt Avalanche Calculator'!$AU55,'Debt Avalanche Calculator'!$AX55,'Debt Avalanche Calculator'!$BA55,'Debt Avalanche Calculator'!$BD55,'Debt Avalanche Calculator'!$BG55,'Debt Avalanche Calculator'!$BJ55,'Debt Avalanche Calculator'!$BM55,'Debt Avalanche Calculator'!$BP55,'Debt Avalanche Calculator'!$BS55,'Debt Avalanche Calculator'!$BV55,'Debt Avalanche Calculator'!$BY55,'Debt Avalanche Calculator'!$CB55,'Debt Avalanche Calculator'!$CE55,'Debt Avalanche Calculator'!$CH55,'Debt Avalanche Calculator'!$CK55,'Debt Avalanche Calculator'!$CN55,'Debt Avalanche Calculator'!$CQ55,'Debt Avalanche Calculator'!$CT55)","v":0},38]
[{"$nulls":8},39,{"$f":"SUM('Debt Snowball Calculator'!E56,'Debt Snowball Calculator'!H56,'Debt Snowball Calculator'!K56,'Debt Snowball Calculator'!N56,'Debt Snowball Calculator'!Q56,'Debt Snowball Calculator'!T56,'Debt Snowball Calculator'!W56,'Debt Snowball Calculator'!Z56,'Debt Snowball Calculator'!AC56,'Debt Snowball Calculator'!AF56,'Debt Snowball Calculator'!AI56,'Debt Snowball Calculator'!AL56,'Debt Snowball Calculator'!AO56,'Debt Snowball Calculator'!AR56,'Debt Snowball Calculator'!AU56,'Debt Snowball Calculator'!AX56,'Debt Snowball Calculator'!BA56,'Debt Snowball Calculator'!BD56,'Debt Snowball Calculator'!BG56,'Debt Snowball Calculator'!BJ56,'Debt Snowball Calculator'!BM56,'Debt Snowball Calculator'!BP56,'Debt Snowball Calculator'!BS56,'Debt Snowball Calculator'!BV56,'Debt Snowball Calculator'!BY56,'Debt Snowball Calculator'!CB56,'Debt Snowball Calculator'!CE56,'Debt Snowball Calculator'!CH56,'Debt Snowball Calculator'!CK56,'Debt Snowball Calculator'!CN56,'Debt Snowball Calculator'!CQ56,'Debt Snowball Calculator'!CT56)","v":0},{"$f":"SUM('Debt Avalanche Calculator'!$E56,'Debt Avalanche Calculator'!$H56,'Debt Avalanche Calculator'!$K56,'Debt Avalanche Calculator'!$N56,'Debt Avalanche Calculator'!$Q56,'Debt Avalanche Calculator'!$T56,'Debt Avalanche Calculator'!$W56,'Debt Avalanche Calculator'!$Z56,'Debt Avalanche Calculator'!$AC56,'Debt Avalanche Calculator'!$AF56,'Debt Avalanche Calculator'!$AI56,'Debt Avalanche Calculator'!$AL56,'Debt Avalanche Calculator'!$AO56,'Debt Avalanche Calculator'!$AR56,'Debt Avalanche Calculator'!$AU56,'Debt Avalanche Calculator'!$AX56,'Debt Avalanche Calculator'!$BA56,'Debt Avalanche Calculator'!$BD56,'Debt Avalanche Calculator'!$BG56,'Debt Avalanche Calculator'!$BJ56,'Debt Avalanche Calculator'!$BM56,'Debt Avalanche Calculator'!$BP56,'Debt Avalanche Calculator'!$BS56,'Debt Avalanche Calculator'!$BV56,'Debt Avalanche Calculator'!$BY56,'Debt Avalanche Calculator'!$CB56,'Debt Avalanche Calculator'!$CE56,'Debt Avalanche Calculator'!$CH56,'Debt Avalanche Calculator'!$CK56,'Debt Avalanche Calculator'!$CN56,'Debt Avalanche Calculator'!$CQ56,'Debt Avalanche Calculator'!$CT56)","v":0},39]
[{"$nulls":8},40,{"$f":"SUM('Debt Snowball Calculator'!E57,'Debt Snowball Calculator'!H57,'Debt Snowball Calculator'!K57,'Debt Snowball Calculator'!N57,'Debt Snowball Calculator'!Q57,'Debt Snowball Calculator'!T57,'Debt Snowball Calculator'!W57,'Debt Snowball Calculator'!Z57,'Debt Snowball Calculator'!AC57,'Debt Snowball Calculator'!AF57,'Debt Snowball Calculator'!AI57,'Debt Snowball Calculator'!AL57,'Debt Snowball Calculator'!AO57,'Debt Snowball Calculator'!AR57,'Debt Snowball Calculator'!AU57,'Debt Snowball Calculator'!AX57,'Debt Snowball Calculator'!BA57,'Debt Snowball Calculator'!BD57,'Debt Snowball Calculator'!BG57,'Debt Snowball Calculator'!BJ57,'Debt Snowball Calculator'!BM57,'Debt Snowball Calculator'!BP57,'Debt Snowball Calculator'!BS57,'Debt Snowball Calculator'!BV57,'Debt Snowball Calculator'!BY57,'Debt Snowball Calculator'!CB57,'Debt Snowball Calculator'!CE57,'Debt Snowball Calculator'!CH57,'Debt Snowball Calculator'!CK57,'Debt Snowball Calculator'!CN57,'Debt Snowball Calculator'!CQ57,'Debt Snowball Calculator'!CT57)","v":0},{"$f":"SUM('Debt Avalanche Calculator'!$E57,'Debt Avalanche Calculator'!$H57,'Debt Avalanche Calculator'!$K57,'Debt Avalanche Calculator'!$N57,'Debt Avalanche Calculator'!$Q57,'Debt Avalanche Calculator'!$T57,'Debt Avalanche Calculator'!$W57,'Debt Avalanche Calculator'!$Z57,'Debt Avalanche Calculator'!$AC57,'Debt Avalanche Calculator'!$AF57,'Debt Avalanche Calculator'!$AI57,'Debt Avalanche Calculator'!$AL57,'Debt Avalanche Calculator'!$AO57,'Debt Avalanche Calculator'!$AR57,'Debt Avalanche Calculator'!$AU57,'Debt Avalanche Calculator'!$AX57,'Debt Avalanche Calculator'!$BA57,'Debt Avalanche Calculator'!$BD57,'Debt Avalanche Calculator'!$BG57,'Debt Avalanche Calculator'!$BJ57,'Debt Avalanche Calculator'!$BM57,'Debt Avalanche Calculator'!$BP57,'Debt Avalanche Calculator'!$BS57,'Debt Avalanche Calculator'!$BV57,'Debt Avalanche Calculator'!$BY57,'Debt Avalanche Calculator'!$CB57,'Debt Avalanche Calculator'!$CE57,'Debt Avalanche Calculator'!$CH57,'Debt Avalanche Calculator'!$CK57,'Debt Avalanche Calculator'!$CN57,'Debt Avalanche Calculator'!$CQ57,'Debt Avalanche Calculator'!$CT57)","v":0},40]
[{"$nulls":8},41,{"$f":"SUM('Debt Snowball Calculator'!E58,'Debt Snowball Calculator'!H58,'Debt Snowball Calculator'!K58,'Debt Snowball Calculator'!N58,'Debt Snowball Calculator'!Q58,'Debt Snowball Calculator'!T58,'Debt Snowball Calculator'!W58,'Debt Snowball Calculator'!Z58,'Debt Snowball Calculator'!AC58,'Debt Snowball Calculator'!AF58,'Debt Snowball Calculator'!AI58,'Debt Snowball Calculator'!AL58,'Debt Snowball Calculator'!AO58,'Debt Snowball Calculator'!AR58,'Debt Snowball Calculator'!AU58,'Debt Snowball Calculator'!AX58,'Debt Snowball Calculator'!BA58,'Debt Snowball Calculator'!BD58,'Debt Snowball Calculator'!BG58,'Debt Snowball Calculator'!BJ58,'Debt Snowball Calculator'!BM58,'Debt Snowball Calculator'!BP58,'Debt Snowball Calculator'!BS58,'Debt Snowball Calculator'!BV58,'Debt Snowball Calculator'!BY58,'Debt Snowball Calculator'!CB58,'Debt Snowball Calculator'!CE58,'Debt Snowball Calculator'!CH58,'Debt Snowball Calculator'!CK58,'Debt Snowball Calculator'!CN58,'Debt Snowball Calculator'!CQ58,'Debt Snowball Calculator'!CT58)","v":0},{"$f":"SUM('Debt Avalanche Calculator'!$E58,'Debt Avalanche Calculator'!$H58,'Debt Avalanche Calculator'!$K58,'Debt Avalanche Calculator'!$N58,'Debt Avalanche Calculator'!$Q58,'Debt Avalanche Calculator'!$T58,'Debt Avalanche Calculator'!$W58,'Debt Avalanche Calculator'!$Z58,'Debt Avalanche Calculator'!$AC58,'Debt Avalanche Calculator'!$AF58,'Debt Avalanche Calculator'!$AI58,'Debt Avalanche Calculator'!$AL58,'Debt Avalanche Calculator'!$AO58,'Debt Avalanche Calculator'!$AR58,'Debt Avalanche Calculator'!$AU58,'Debt Avalanche Calculator'!$AX58,'Debt Avalanche Calculator'!$BA58,'Debt Avalanche Calculator'!$BD58,'Debt Avalanche Calculator'!$BG58,'Debt Avalanche Calculator'!$BJ58,'Debt Avalanche Calculator'!$BM58,'Debt Avalanche Calculator'!$BP58,'Debt Avalanche Calculator'!$BS58,'Debt Avalanche Calculator'!$BV58,'Debt Avalanche Calculator'!$BY58,'Debt Avalanche Calculator'!$CB58,'Debt Avalanche Calculator'!$CE58,'Debt Avalanche Calculator'!$CH58,'Debt Avalanche Calculator'!$CK58,'Debt Avalanche Calculator'!$CN58,'Debt Avalanche Calculator'!$CQ58,'Debt Avalanche Calculator'!$CT58)","v":0},41]
[{"$nulls":8},42,{"$f":"SUM('Debt Snowball Calculator'!E59,'Debt Snowball Calculator'!H59,'Debt Snowball Calculator'!K59,'Debt Snowball Calculator'!N59,'Debt Snowball Calculator'!Q59,'Debt Snowball Calculator'!T59,'Debt Snowball Calculator'!W59,'Debt Snowball Calculator'!Z59,'Debt Snowball Calculator'!AC59,'Debt Snowball Calculator'!AF59,'Debt Snowball Calculator'!AI59,'Debt Snowball Calculator'!AL59,'Debt Snowball Calculator'!AO59,'Debt Snowball Calculator'!AR59,'Debt Snowball Calculator'!AU59,'Debt Snowball Calculator'!AX59,'Debt Snowball Calculator'!BA59,'Debt Snowball Calculator'!BD59,'Debt Snowball Calculator'!BG59,'Debt Snowball Calculator'!BJ59,'Debt Snowball Calculator'!BM59,'Debt Snowball Calculator'!BP59,'Debt Snowball Calculator'!BS59,'Debt Snowball Calculator'!BV59,'Debt Snowball Calculator'!BY59,'Debt Snowball Calculator'!CB59,'Debt Snowball Calculator'!CE59,'Debt Snowball Calculator'!CH59,'Debt Snowball Calculator'!CK59,'Debt Snowball Calculator'!CN59,'Debt Snowball Calculator'!CQ59,'Debt Snowball Calculator'!CT59)","v":0},{"$f":"SUM('Debt Avalanche Calculator'!$E59,'Debt Avalanche Calculator'!$H59,'Debt Avalanche Calculator'!$K59,'Debt Avalanche Calculator'!$N59,'Debt Avalanche Calculator'!$Q59,'Debt Avalanche Calculator'!$T59,'Debt Avalanche Calculator'!$W59,'Debt Avalanche Calculator'!$Z59,'Debt Avalanche Calculator'!$AC59,'Debt Avalanche Calculator'!$AF59,'Debt Avalanche Calculator'!$AI59,'Debt Avalanche Calculator'!$AL59,'Debt Avalanche Calculator'!$AO59,'Debt Avalanche Calculator'!$AR59,'Debt Avalanche Calculator'!$AU59,'Debt Avalanche Calculator'!$AX59,'Debt Avalanche Calculator'!$BA59,'Debt Avalanche Calculator'!$BD59,'Debt Avalanche Calculator'!$BG59,'Debt Avalanche Calculator'!$BJ59,'Debt Avalanche Calculator'!$BM59,'Debt Avalanche Calculator'!$BP59,'Debt Avalanche Calculator'!$BS59,'Debt Avalanche Calculator'!$BV59,'Debt Avalanche Calculator'!$BY59,'Debt Avalanche Calculator'!$CB59,'Debt Avalanche Calculator'!$CE59,'Debt Avalanche Calculator'!$CH59,'Debt Avalanche Calculator'!$CK59,'Debt Avalanche Calculator'!$CN59,'Debt Avalanche Calculator'!$CQ59,'Debt Avalanche Calculator'!$CT59)","v":0},42]
[{"$nulls":8},43,{"$f":"SUM('Debt Snowball Calculator'!E60,'Debt Snowball Calculator'!H60,'Debt Snowball Calculator'!K60,'Debt Snowball Calculator'!N60,'Debt Snowball Calculator'!Q60,'Debt Snowball Calculator'!T60,'Debt Snowball Calculator'!W60,'Debt Snowball Calculator'!Z60,'Debt Snowball Calculator'!AC60,'Debt Snowball Calculator'!AF60,'Debt Snowball Calculator'!AI60,'Debt Snowball Calculator'!AL60,'Debt Snowball Calculator'!AO60,'Debt Snowball Calculator'!AR60,'Debt Snowball Calculator'!AU60,'Debt Snowball Calculator'!AX60,'Debt Snowball Calculator'!BA60,'Debt Snowball Calculator'!BD60,'Debt Snowball Calculator'!BG60,'Debt Snowball Calculator'!BJ60,'Debt Snowball Calculator'!BM60,'Debt Snowball Calculator'!BP60,'Debt Snowball Calculator'!BS60,'Debt Snowball Calculator'!BV60,'Debt Snowball Calculator'!BY60,'Debt Snowball Calculator'!CB60,'Debt Snowball Calculator'!CE60,'Debt Snowball Calculator'!CH60,'Debt Snowball Calculator'!CK60,'Debt Snowball Calculator'!CN60,'Debt Snowball Calculator'!CQ60,'Debt Snowball Calculator'!CT60)","v":0},{"$f":"SUM('Debt Avalanche Calculator'!$E60,'Debt Avalanche Calculator'!$H60,'Debt Avalanche Calculator'!$K60,'Debt Avalanche Calculator'!$N60,'Debt Avalanche Calculator'!$Q60,'Debt Avalanche Calculator'!$T60,'Debt Avalanche Calculator'!$W60,'Debt Avalanche Calculator'!$Z60,'Debt Avalanche Calculator'!$AC60,'Debt Avalanche Calculator'!$AF60,'Debt Avalanche Calculator'!$AI60,'Debt Avalanche Calculator'!$AL60,'Debt Avalanche Calculator'!$AO60,'Debt Avalanche Calculator'!$AR60,'Debt Avalanche Calculator'!$AU60,'Debt Avalanche Calculator'!$AX60,'Debt Avalanche Calculator'!$BA60,'Debt Avalanche Calculator'!$BD60,'Debt Avalanche Calculator'!$BG60,'Debt Avalanche Calculator'!$BJ60,'Debt Avalanche Calculator'!$BM60,'Debt Avalanche Calculator'!$BP60,'Debt Avalanche Calculator'!$BS60,'Debt Avalanche Calculator'!$BV60,'Debt Avalanche Calculator'!$BY60,'Debt Avalanche Calculator'!$CB60,'Debt Avalanche Calculator'!$CE60,'Debt Avalanche Calculator'!$CH60,'Debt Avalanche Calculator'!$CK60,'Debt Avalanche Calculator'!$CN60,'Debt Avalanche Calculator'!$CQ60,'Debt Avalanche Calculator'!$CT60)","v":0},43]
[{"$nulls":8},44,{"$f":"SUM('Debt Snowball Calculator'!E61,'Debt Snowball Calculator'!H61,'Debt Snowball Calculator'!K61,'Debt Snowball Calculator'!N61,'Debt Snowball Calculator'!Q61,'Debt Snowball Calculator'!T61,'Debt Snowball Calculator'!W61,'Debt Snowball Calculator'!Z61,'Debt Snowball Calculator'!AC61,'Debt Snowball Calculator'!AF61,'Debt Snowball Calculator'!AI61,'Debt Snowball Calculator'!AL61,'Debt Snowball Calculator'!AO61,'Debt Snowball Calculator'!AR61,'Debt Snowball Calculator'!AU61,'Debt Snowball Calculator'!AX61,'Debt Snowball Calculator'!BA61,'Debt Snowball Calculator'!BD61,'Debt Snowball Calculator'!BG61,'Debt Snowball Calculator'!BJ61,'Debt Snowball Calculator'!BM61,'Debt Snowball Calculator'!BP61,'Debt Snowball Calculator'!BS61,'Debt Snowball Calculator'!BV61,'Debt Snowball Calculator'!BY61,'Debt Snowball Calculator'!CB61,'Debt Snowball Calculator'!CE61,'Debt Snowball Calculator'!CH61,'Debt Snowball Calculator'!CK61,'Debt Snowball Calculator'!CN61,'Debt Snowball Calculator'!CQ61,'Debt Snowball Calculator'!CT61)","v":0},{"$f":"SUM('Debt Avalanche Calculator'!$E61,'Debt Avalanche Calculator'!$H61,'Debt Avalanche Calculator'!$K61,'Debt Avalanche Calculator'!$N61,'Debt Avalanche Calculator'!$Q61,'Debt Avalanche Calculator'!$T61,'Debt Avalanche Calculator'!$W61,'Debt Avalanche Calculator'!$Z61,'Debt Avalanche Calculator'!$AC61,'Debt Avalanche Calculator'!$AF61,'Debt Avalanche Calculator'!$AI61,'Debt Avalanche Calculator'!$AL61,'Debt Avalanche Calculator'!$AO61,'Debt Avalanche Calculator'!$AR61,'Debt Avalanche Calculator'!$AU61,'Debt Avalanche Calculator'!$AX61,'Debt Avalanche Calculator'!$BA61,'Debt Avalanche Calculator'!$BD61,'Debt Avalanche Calculator'!$BG61,'Debt Avalanche Calculator'!$BJ61,'Debt Avalanche Calculator'!$BM61,'Debt Avalanche Calculator'!$BP61,'Debt Avalanche Calculator'!$BS61,'Debt Avalanche Calculator'!$BV61,'Debt Avalanche Calculator'!$BY61,'Debt Avalanche Calculator'!$CB61,'Debt Avalanche Calculator'!$CE61,'Debt Avalanche Calculator'!$CH61,'Debt Avalanche Calculator'!$CK61,'Debt Avalanche Calculator'!$CN61,'Debt Avalanche Calculator'!$CQ61,'Debt Avalanche Calculator'!$CT61)","v":0},44]
[{"$nulls":8},45,{"$f":"SUM('Debt Snowball Calculator'!E62,'Debt Snowball Calculator'!H62,'Debt Snowball Calculator'!K62,'Debt Snowball Calculator'!N62,'Debt Snowball Calculator'!Q62,'Debt Snowball Calculator'!T62,'Debt Snowball Calculator'!W62,'Debt Snowball Calculator'!Z62,'Debt Snowball Calculator'!AC62,'Debt Snowball Calculator'!AF62,'Debt Snowball Calculator'!AI62,'Debt Snowball Calculator'!AL62,'Debt Snowball Calculator'!AO62,'Debt Snowball Calculator'!AR62,'Debt Snowball Calculator'!AU62,'Debt Snowball Calculator'!AX62,'Debt Snowball Calculator'!BA62,'Debt Snowball Calculator'!BD62,'Debt Snowball Calculator'!BG62,'Debt Snowball Calculator'!BJ62,'Debt Snowball Calculator'!BM62,'Debt Snowball Calculator'!BP62,'Debt Snowball Calculator'!BS62,'Debt Snowball Calculator'!BV62,'Debt Snowball Calculator'!BY62,'Debt Snowball Calculator'!CB62,'Debt Snowball Calculator'!CE62,'Debt Snowball Calculator'!CH62,'Debt Snowball Calculator'!CK62,'Debt Snowball Calculator'!CN62,'Debt Snowball Calculator'!CQ62,'Debt Snowball Calculator'!CT62)","v":0},{"$f":"SUM('Debt Avalanche Calculator'!$E62,'Debt Avalanche Calculator'!$H62,'Debt Avalanche Calculator'!$K62,'Debt Avalanche Calculator'!$N62,'Debt Avalanche Calculator'!$Q62,'Debt Avalanche Calculator'!$T62,'Debt Avalanche Calculator'!$W62,'Debt Avalanche Calculator'!$Z62,'Debt Avalanche Calculator'!$AC62,'Debt Avalanche Calculator'!$AF62,'Debt Avalanche Calculator'!$AI62,'Debt Avalanche Calculator'!$AL62,'Debt Avalanche Calculator'!$AO62,'Debt Avalanche Calculator'!$AR62,'Debt Avalanche Calculator'!$AU62,'Debt Avalanche Calculator'!$AX62,'Debt Avalanche Calculator'!$BA62,'Debt Avalanche Calculator'!$BD62,'Debt Avalanche Calculator'!$BG62,'Debt Avalanche Calculator'!$BJ62,'Debt Avalanche Calculator'!$BM62,'Debt Avalanche Calculator'!$BP62,'Debt Avalanche Calculator'!$BS62,'Debt Avalanche Calculator'!$BV62,'Debt Avalanche Calculator'!$BY62,'Debt Avalanche Calculator'!$CB62,'Debt Avalanche Calculator'!$CE62,'Debt Avalanche Calculator'!$CH62,'Debt Avalanche Calculator'!$CK62,'Debt Avalanche Calculator'!$CN62,'Debt Avalanche Calculator'!$CQ62,'Debt Avalanche Calculator'!$CT62)","v":0},45]
[{"$nulls":8},46,{"$f":"SUM('Debt Snowball Calculator'!E63,'Debt Snowball Calculator'!H63,'Debt Snowball Calculator'!K63,'Debt Snowball Calculator'!N63,'Debt Snowball Calculator'!Q63,'Debt Snowball Calculator'!T63,'Debt Snowball Calculator'!W63,'Debt Snowball Calculator'!Z63,'Debt Snowball Calculator'!AC63,'Debt Snowball Calculator'!AF63,'Debt Snowball Calculator'!AI63,'Debt Snowball Calculator'!AL63,'Debt Snowball Calculator'!AO63,'Debt Snowball Calculator'!AR63,'Debt Snowball Calculator'!AU63,'Debt Snowball Calculator'!AX63,'Debt Snowball Calculator'!BA63,'Debt Snowball Calculator'!BD63,'Debt Snowball Calculator'!BG63,'Debt Snowball Calculator'!BJ63,'Debt Snowball Calculator'!BM63,'Debt Snowball Calculator'!BP63,'Debt Snowball Calculator'!BS63,'Debt Snowball Calculator'!BV63,'Debt Snowball Calculator'!BY63,'Debt Snowball Calculator'!CB63,'Debt Snowball Calculator'!CE63,'Debt Snowball Calculator'!CH63,'Debt Snowball Calculator'!CK63,'Debt Snowball Calculator'!CN63,'Debt Snowball Calculator'!CQ63,'Debt Snowball Calculator'!CT63)","v":0},{"$f":"SUM('Debt Avalanche Calculator'!$E63,'Debt Avalanche Calculator'!$H63,'Debt Avalanche Calculator'!$K63,'Debt Avalanche Calculator'!$N63,'Debt Avalanche Calculator'!$Q63,'Debt Avalanche Calculator'!$T63,'Debt Avalanche Calculator'!$W63,'Debt Avalanche Calculator'!$Z63,'Debt Avalanche Calculator'!$AC63,'Debt Avalanche Calculator'!$AF63,'Debt Avalanche Calculator'!$AI63,'Debt Avalanche Calculator'!$AL63,'Debt Avalanche Calculator'!$AO63,'Debt Avalanche Calculator'!$AR63,'Debt Avalanche Calculator'!$AU63,'Debt Avalanche Calculator'!$AX63,'Debt Avalanche Calculator'!$BA63,'Debt Avalanche Calculator'!$BD63,'Debt Avalanche Calculator'!$BG63,'Debt Avalanche Calculator'!$BJ63,'Debt Avalanche Calculator'!$BM63,'Debt Avalanche Calculator'!$BP63,'Debt Avalanche Calculator'!$BS63,'Debt Avalanche Calculator'!$BV63,'Debt Avalanche Calculator'!$BY63,'Debt Avalanche Calculator'!$CB63,'Debt Avalanche Calculator'!$CE63,'Debt Avalanche Calculator'!$CH63,'Debt Avalanche Calculator'!$CK63,'Debt Avalanche Calculator'!$CN63,'Debt Avalanche Calculator'!$CQ63,'Debt Avalanche Calculator'!$CT63)","v":0},46]
[{"$nulls":8},47,{"$f":"SUM('Debt Snowball Calculator'!E64,'Debt Snowball Calculator'!H64,'Debt Snowball Calculator'!K64,'Debt Snowball Calculator'!N64,'Debt Snowball Calculator'!Q64,'Debt Snowball Calculator'!T64,'Debt Snowball Calculator'!W64,'Debt Snowball Calculator'!Z64,'Debt Snowball Calculator'!AC64,'Debt Snowball Calculator'!AF64,'Debt Snowball Calculator'!AI64,'Debt Snowball Calculator'!AL64,'Debt Snowball Calculator'!AO64,'Debt Snowball Calculator'!AR64,'Debt Snowball Calculator'!AU64,'Debt Snowball Calculator'!AX64,'Debt Snowball Calculator'!BA64,'Debt Snowball Calculator'!BD64,'Debt Snowball Calculator'!BG64,'Debt Snowball Calculator'!BJ64,'Debt Snowball Calculator'!BM64,'Debt Snowball Calculator'!BP64,'Debt Snowball Calculator'!BS64,'Debt Snowball Calculator'!BV64,'Debt Snowball Calculator'!BY64,'Debt Snowball Calculator'!CB64,'Debt Snowball Calculator'!CE64,'Debt Snowball Calculator'!CH64,'Debt Snowball Calculator'!CK64,'Debt Snowball Calculator'!CN64,'Debt Snowball Calculator'!CQ64,'Debt Snowball Calculator'!CT64)","v":0},{"$f":"SUM('Debt Avalanche Calculator'!$E64,'Debt Avalanche Calculator'!$H64,'Debt Avalanche Calculator'!$K64,'Debt Avalanche Calculator'!$N64,'Debt Avalanche Calculator'!$Q64,'Debt Avalanche Calculator'!$T64,'Debt Avalanche Calculator'!$W64,'Debt Avalanche Calculator'!$Z64,'Debt Avalanche Calculator'!$AC64,'Debt Avalanche Calculator'!$AF64,'Debt Avalanche Calculator'!$AI64,'Debt Avalanche Calculator'!$AL64,'Debt Avalanche Calculator'!$AO64,'Debt Avalanche Calculator'!$AR64,'Debt Avalanche Calculator'!$AU64,'Debt Avalanche Calculator'!$AX64,'Debt Avalanche Calculator'!$BA64,'Debt Avalanche Calculator'!$BD64,'Debt Avalanche Calculator'!$BG64,'Debt Avalanche Calculator'!$BJ64,'Debt Avalanche Calculator'!$BM64,'Debt Avalanche Calculator'!$BP64,'Debt Avalanche Calculator'!$BS64,'Debt Avalanche Calculator'!$BV64,'Debt Avalanche Calculator'!$BY64,'Debt Avalanche Calculator'!$CB64,'Debt Avalanche Calculator'!$CE64,'Debt Avalanche Calculator'!$CH64,'Debt Avalanche Calculator'!$CK64,'Debt Avalanche Calculator'!$CN64,'Debt Avalanche Calculator'!$CQ64,'Debt Avalanche Calculator'!$CT64)","v":0},47]
[{"$nulls":8},48,{"$f":"SUM('Debt Snowball Calculator'!E65,'Debt Snowball Calculator'!H65,'Debt Snowball Calculator'!K65,'Debt Snowball Calculator'!N65,'Debt Snowball Calculator'!Q65,'Debt Snowball Calculator'!T65,'Debt Snowball Calculator'!W65,'Debt Snowball Calculator'!Z65,'Debt Snowball Calculator'!AC65,'Debt Snowball Calculator'!AF65,'Debt Snowball Calculator'!AI65,'Debt Snowball Calculator'!AL65,'Debt Snowball Calculator'!AO65,'Debt Snowball Calculator'!AR65,'Debt Snowball Calculator'!AU65,'Debt Snowball Calculator'!AX65,'Debt Snowball Calculator'!BA65,'Debt Snowball Calculator'!BD65,'Debt Snowball Calculator'!BG65,'Debt Snowball Calculator'!BJ65,'Debt Snowball Calculator'!BM65,'Debt Snowball Calculator'!BP65,'Debt Snowball Calculator'!BS65,'Debt Snowball Calculator'!BV65,'Debt Snowball Calculator'!BY65,'Debt Snowball Calculator'!CB65,'Debt Snowball Calculator'!CE65,'Debt Snowball Calculator'!CH65,'Debt Snowball Calculator'!CK65,'Debt Snowball Calculator'!CN65,'Debt Snowball Calculator'!CQ65,'Debt Snowball Calculator'!CT65)","v":0},{"$f":"SUM('Debt Avalanche Calculator'!$E65,'Debt Avalanche Calculator'!$H65,'Debt Avalanche Calculator'!$K65,'Debt Avalanche Calculator'!$N65,'Debt Avalanche Calculator'!$Q65,'Debt Avalanche Calculator'!$T65,'Debt Avalanche Calculator'!$W65,'Debt Avalanche Calculator'!$Z65,'Debt Avalanche Calculator'!$AC65,'Debt Avalanche Calculator'!$AF65,'Debt Avalanche Calculator'!$AI65,'Debt Avalanche Calculator'!$AL65,'Debt Avalanche Calculator'!$AO65,'Debt Avalanche Calculator'!$AR65,'Debt Avalanche Calculator'!$AU65,'Debt Avalanche Calculator'!$AX65,'Debt Avalanche Calculator'!$BA65,'Debt Avalanche Calculator'!$BD65,'Debt Avalanche Calculator'!$BG65,'Debt Avalanche Calculator'!$BJ65,'Debt Avalanche Calculator'!$BM65,'Debt Avalanche Calculator'!$BP65,'Debt Avalanche Calculator'!$BS65,'Debt Avalanche Calculator'!$BV65,'Debt Avalanche Calculator'!$BY65,'Debt Avalanche Calculator'!$CB65,'Debt Avalanche Calculator'!$CE65,'Debt Avalanche Calculator'!$CH65,'Debt Avalanche Calculator'!$CK65,'Debt Avalanche Calculator'!$CN65,'Debt Avalanche Calculator'!$CQ65,'Debt Avalanche Calculator'!$CT65)","v":0},48]
[{"$nulls":8},49,{"$f":"SUM('Debt Snowball Calculator'!E66,'Debt Snowball Calculator'!H66,'Debt Snowball Calculator'!K66,'Debt Snowball Calculator'!N66,'Debt Snowball Calculator'!Q66,'Debt Snowball Calculator'!T66,'Debt Snowball Calculator'!W66,'Debt Snowball Calculator'!Z66,'Debt Snowball Calculator'!AC66,'Debt Snowball Calculator'!AF66,'Debt Snowball Calculator'!AI66,'Debt Snowball Calculator'!AL66,'Debt Snowball Calculator'!AO66,'Debt Snowball Calculator'!AR66,'Debt Snowball Calculator'!AU66,'Debt Snowball Calculator'!AX66,'Debt Snowball Calculator'!BA66,'Debt Snowball Calculator'!BD66,'Debt Snowball Calculator'!BG66,'Debt Snowball Calculator'!BJ66,'Debt Snowball Calculator'!BM66,'Debt Snowball Calculator'!BP66,'Debt Snowball Calculator'!BS66,'Debt Snowball Calculator'!BV66,'Debt Snowball Calculator'!BY66,'Debt Snowball Calculator'!CB66,'Debt Snowball Calculator'!CE66,'Debt Snowball Calculator'!CH66,'Debt Snowball Calculator'!CK66,'Debt Snowball Calculator'!CN66,'Debt Snowball Calculator'!CQ66,'Debt Snowball Calculator'!CT66)","v":0},{"$f":"SUM('Debt Avalanche Calculator'!$E66,'Debt Avalanche Calculator'!$H66,'Debt Avalanche Calculator'!$K66,'Debt Avalanche Calculator'!$N66,'Debt Avalanche Calculator'!$Q66,'Debt Avalanche Calculator'!$T66,'Debt Avalanche Calculator'!$W66,'Debt Avalanche Calculator'!$Z66,'Debt Avalanche Calculator'!$AC66,'Debt Avalanche Calculator'!$AF66,'Debt Avalanche Calculator'!$AI66,'Debt Avalanche Calculator'!$AL66,'Debt Avalanche Calculator'!$AO66,'Debt Avalanche Calculator'!$AR66,'Debt Avalanche Calculator'!$AU66,'Debt Avalanche Calculator'!$AX66,'Debt Avalanche Calculator'!$BA66,'Debt Avalanche Calculator'!$BD66,'Debt Avalanche Calculator'!$BG66,'Debt Avalanche Calculator'!$BJ66,'Debt Avalanche Calculator'!$BM66,'Debt Avalanche Calculator'!$BP66,'Debt Avalanche Calculator'!$BS66,'Debt Avalanche Calculator'!$BV66,'Debt Avalanche Calculator'!$BY66,'Debt Avalanche Calculator'!$CB66,'Debt Avalanche Calculator'!$CE66,'Debt Avalanche Calculator'!$CH66,'Debt Avalanche Calculator'!$CK66,'Debt Avalanche Calculator'!$CN66,'Debt Avalanche Calculator'!$CQ66,'Debt Avalanche Calculator'!$CT66)","v":0},49]
[{"$nulls":8},50,{"$f":"SUM('Debt Snowball Calculator'!E67,'Debt Snowball Calculator'!H67,'Debt Snowball Calculator'!K67,'Debt Snowball Calculator'!N67,'Debt Snowball Calculator'!Q67,'Debt Snowball Calculator'!T67,'Debt Snowball Calculator'!W67,'Debt Snowball Calculator'!Z67,'Debt Snowball Calculator'!AC67,'Debt Snowball Calculator'!AF67,'Debt Snowball Calculator'!AI67,'Debt Snowball Calculator'!AL67,'Debt Snowball Calculator'!AO67,'Debt Snowball Calculator'!AR67,'Debt Snowball Calculator'!AU67,'Debt Snowball Calculator'!AX67,'Debt Snowball Calculator'!BA67,'Debt Snowball Calculator'!BD67,'Debt Snowball Calculator'!BG67,'Debt Snowball Calculator'!BJ67,'Debt Snowball Calculator'!BM67,'Debt Snowball Calculator'!BP67,'Debt Snowball Calculator'!BS67,'Debt Snowball Calculator'!BV67,'Debt Snowball Calculator'!BY67,'Debt Snowball Calculator'!CB67,'Debt Snowball Calculator'!CE67,'Debt Snowball Calculator'!CH67,'Debt Snowball Calculator'!CK67,'Debt Snowball Calculator'!CN67,'Debt Snowball Calculator'!CQ67,'Debt Snowball Calculator'!CT67)","v":0},{"$f":"SUM('Debt Avalanche Calculator'!$E67,'Debt Avalanche Calculator'!$H67,'Debt Avalanche Calculator'!$K67,'Debt Avalanche Calculator'!$N67,'Debt Avalanche Calculator'!$Q67,'Debt Avalanche Calculator'!$T67,'Debt Avalanche Calculator'!$W67,'Debt Avalanche Calculator'!$Z67,'Debt Avalanche Calculator'!$AC67,'Debt Avalanche Calculator'!$AF67,'Debt Avalanche Calculator'!$AI67,'Debt Avalanche Calculator'!$AL67,'Debt Avalanche Calculator'!$AO67,'Debt Avalanche Calculator'!$AR67,'Debt Avalanche Calculator'!$AU67,'Debt Avalanche Calculator'!$AX67,'Debt Avalanche Calculator'!$BA67,'Debt Avalanche Calculator'!$BD67,'Debt Avalanche Calculator'!$BG67,'Debt Avalanche Calculator'!$BJ67,'Debt Avalanche Calculator'!$BM67,'Debt Avalanche Calculator'!$BP67,'Debt Avalanche Calculator'!$BS67,'Debt Avalanche Calculator'!$BV67,'Debt Avalanche Calculator'!$BY67,'Debt Avalanche Calculator'!$CB67,'Debt Avalanche Calculator'!$CE67,'Debt Avalanche Calculator'!$CH67,'Debt Avalanche Calculator'!$CK67,'Debt Avalanche Calculator'!$CN67,'Debt Avalanche Calculator'!$CQ67,'Debt Avalanche Calculator'!$CT67)","v":0},50]
[{"$nulls":8},51,{"$f":"SUM('Debt Snowball Calculator'!E68,'Debt Snowball Calculator'!H68,'Debt Snowball Calculator'!K68,'Debt Snowball Calculator'!N68,'Debt Snowball Calculator'!Q68,'Debt Snowball Calculator'!T68,'Debt Snowball Calculator'!W68,'Debt Snowball Calculator'!Z68,'Debt Snowball Calculator'!AC68,'Debt Snowball Calculator'!AF68,'Debt Snowball Calculator'!AI68,'Debt Snowball Calculator'!AL68,'Debt Snowball Calculator'!AO68,'Debt Snowball Calculator'!AR68,'Debt Snowball Calculator'!AU68,'Debt Snowball Calculator'!AX68,'Debt Snowball Calculator'!BA68,'Debt Snowball Calculator'!BD68,'Debt Snowball Calculator'!BG68,'Debt Snowball Calculator'!BJ68,'Debt Snowball Calculator'!BM68,'Debt Snowball Calculator'!BP68,'Debt Snowball Calculator'!BS68,'Debt Snowball Calculator'!BV68,'Debt Snowball Calculator'!BY68,'Debt Snowball Calculator'!CB68,'Debt Snowball Calculator'!CE68,'Debt Snowball Calculator'!CH68,'Debt Snowball Calculator'!CK68,'Debt Snowball Calculator'!CN68,'Debt Snowball Calculator'!CQ68,'Debt Snowball Calculator'!CT68)","v":0},{"$f":"SUM('Debt Avalanche Calculator'!$E68,'Debt Avalanche Calculator'!$H68,'Debt Avalanche Calculator'!$K68,'Debt Avalanche Calculator'!$N68,'Debt Avalanche Calculator'!$Q68,'Debt Avalanche Calculator'!$T68,'Debt Avalanche Calculator'!$W68,'Debt Avalanche Calculator'!$Z68,'Debt Avalanche Calculator'!$AC68,'Debt Avalanche Calculator'!$AF68,'Debt Avalanche Calculator'!$AI68,'Debt Avalanche Calculator'!$AL68,'Debt Avalanche Calculator'!$AO68,'Debt Avalanche Calculator'!$AR68,'Debt Avalanche Calculator'!$AU68,'Debt Avalanche Calculator'!$AX68,'Debt Avalanche Calculator'!$BA68,'Debt Avalanche Calculator'!$BD68,'Debt Avalanche Calculator'!$BG68,'Debt Avalanche Calculator'!$BJ68,'Debt Avalanche Calculator'!$BM68,'Debt Avalanche Calculator'!$BP68,'Debt Avalanche Calculator'!$BS68,'Debt Avalanche Calculator'!$BV68,'Debt Avalanche Calculator'!$BY68,'Debt Avalanche Calculator'!$CB68,'Debt Avalanche Calculator'!$CE68,'Debt Avalanche Calculator'!$CH68,'Debt Avalanche Calculator'!$CK68,'Debt Avalanche Calculator'!$CN68,'Debt Avalanche Calculator'!$CQ68,'Debt Avalanche Calculator'!$CT68)","v":0},51]
[{"$nulls":8},52,{"$f":"SUM('Debt Snowball Calculator'!E69,'Debt Snowball Calculator'!H69,'Debt Snowball Calculator'!K69,'Debt Snowball Calculator'!N69,'Debt Snowball Calculator'!Q69,'Debt Snowball Calculator'!T69,'Debt Snowball Calculator'!W69,'Debt Snowball Calculator'!Z69,'Debt Snowball Calculator'!AC69,'Debt Snowball Calculator'!AF69,'Debt Snowball Calculator'!AI69,'Debt Snowball Calculator'!AL69,'Debt Snowball Calculator'!AO69,'Debt Snowball Calculator'!AR69,'Debt Snowball Calculator'!AU69,'Debt Snowball Calculator'!AX69,'Debt Snowball Calculator'!BA69,'Debt Snowball Calculator'!BD69,'Debt Snowball Calculator'!BG69,'Debt Snowball Calculator'!BJ69,'Debt Snowball Calculator'!BM69,'Debt Snowball Calculator'!BP69,'Debt Snowball Calculator'!BS69,'Debt Snowball Calculator'!BV69,'Debt Snowball Calculator'!BY69,'Debt Snowball Calculator'!CB69,'Debt Snowball Calculator'!CE69,'Debt Snowball Calculator'!CH69,'Debt Snowball Calculator'!CK69,'Debt Snowball Calculator'!CN69,'Debt Snowball Calculator'!CQ69,'Debt Snowball Calculator'!CT69)","v":0},{"$f":"SUM('Debt Avalanche Calculator'!$E69,'Debt Avalanche Calculator'!$H69,'Debt Avalanche Calculator'!$K69,'Debt Avalanche Calculator'!$N69,'Debt Avalanche Calculator'!$Q69,'Debt Avalanche Calculator'!$T69,'Debt Avalanche Calculator'!$W69,'Debt Avalanche Calculator'!$Z69,'Debt Avalanche Calculator'!$AC69,'Debt Avalanche Calculator'!$AF69,'Debt Avalanche Calculator'!$AI69,'Debt Avalanche Calculator'!$AL69,'Debt Avalanche Calculator'!$AO69,'Debt Avalanche Calculator'!$AR69,'Debt Avalanche Calculator'!$AU69,'Debt Avalanche Calculator'!$AX69,'Debt Avalanche Calculator'!$BA69,'Debt Avalanche Calculator'!$BD69,'Debt Avalanche Calculator'!$BG69,'Debt Avalanche Calculator'!$BJ69,'Debt Avalanche Calculator'!$BM69,'Debt Avalanche Calculator'!$BP69,'Debt Avalanche Calculator'!$BS69,'Debt Avalanche Calculator'!$BV69,'Debt Avalanche Calculator'!$BY69,'Debt Avalanche Calculator'!$CB69,'Debt Avalanche Calculator'!$CE69,'Debt Avalanche Calculator'!$CH69,'Debt Avalanche Calculator'!$CK69,'Debt Avalanche Calculator'!$CN69,'Debt Avalanche Calculator'!$CQ69,'Debt Avalanche Calculator'!$CT69)","v":0},52]
[{"$nulls":8},53,{"$f":"SUM('Debt Snowball Calculator'!E70,'Debt Snowball Calculator'!H70,'Debt Snowball Calculator'!K70,'Debt Snowball Calculator'!N70,'Debt Snowball Calculator'!Q70,'Debt Snowball Calculator'!T70,'Debt Snowball Calculator'!W70,'Debt Snowball Calculator'!Z70,'Debt Snowball Calculator'!AC70,'Debt Snowball Calculator'!AF70,'Debt Snowball Calculator'!AI70,'Debt Snowball Calculator'!AL70,'Debt Snowball Calculator'!AO70,'Debt Snowball Calculator'!AR70,'Debt Snowball Calculator'!AU70,'Debt Snowball Calculator'!AX70,'Debt Snowball Calculator'!BA70,'Debt Snowball Calculator'!BD70,'Debt Snowball Calculator'!BG70,'Debt Snowball Calculator'!BJ70,'Debt Snowball Calculator'!BM70,'Debt Snowball Calculator'!BP70,'Debt Snowball Calculator'!BS70,'Debt Snowball Calculator'!BV70,'Debt Snowball Calculator'!BY70,'Debt Snowball Calculator'!CB70,'Debt Snowball Calculator'!CE70,'Debt Snowball Calculator'!CH70,'Debt Snowball Calculator'!CK70,'Debt Snowball Calculator'!CN70,'Debt Snowball Calculator'!CQ70,'Debt Snowball Calculator'!CT70)","v":0},{"$f":"SUM('Debt Avalanche Calculator'!$E70,'Debt Avalanche Calculator'!$H70,'Debt Avalanche Calculator'!$K70,'Debt Avalanche Calculator'!$N70,'Debt Avalanche Calculator'!$Q70,'Debt Avalanche Calculator'!$T70,'Debt Avalanche Calculator'!$W70,'Debt Avalanche Calculator'!$Z70,'Debt Avalanche Calculator'!$AC70,'Debt Avalanche Calculator'!$AF70,'Debt Avalanche Calculator'!$AI70,'Debt Avalanche Calculator'!$AL70,'Debt Avalanche Calculator'!$AO70,'Debt Avalanche Calculator'!$AR70,'Debt Avalanche Calculator'!$AU70,'Debt Avalanche Calculator'!$AX70,'Debt Avalanche Calculator'!$BA70,'Debt Avalanche Calculator'!$BD70,'Debt Avalanche Calculator'!$BG70,'Debt Avalanche Calculator'!$BJ70,'Debt Avalanche Calculator'!$BM70,'Debt Avalanche Calculator'!$BP70,'Debt Avalanche Calculator'!$BS70,'Debt Avalanche Calculator'!$BV70,'Debt Avalanche Calculator'!$BY70,'Debt Avalanche Calculator'!$CB70,'Debt Avalanche Calculator'!$CE70,'Debt Avalanche Calculator'!$CH70,'Debt Avalanche Calculator'!$CK70,'Debt Avalanche Calculator'!$CN70,'Debt Avalanche Calculator'!$CQ70,'Debt Avalanche Calculator'!$CT70)","v":0},53]
[{"$nulls":8},54,{"$f":"SUM('Debt Snowball Calculator'!E71,'Debt Snowball Calculator'!H71,'Debt Snowball Calculator'!K71,'Debt Snowball Calculator'!N71,'Debt Snowball Calculator'!Q71,'Debt Snowball Calculator'!T71,'Debt Snowball Calculator'!W71,'Debt Snowball Calculator'!Z71,'Debt Snowball Calculator'!AC71,'Debt Snowball Calculator'!AF71,'Debt Snowball Calculator'!AI71,'Debt Snowball Calculator'!AL71,'Debt Snowball Calculator'!AO71,'Debt Snowball Calculator'!AR71,'Debt Snowball Calculator'!AU71,'Debt Snowball Calculator'!AX71,'Debt Snowball Calculator'!BA71,'Debt Snowball Calculator'!BD71,'Debt Snowball Calculator'!BG71,'Debt Snowball Calculator'!BJ71,'Debt Snowball Calculator'!BM71,'Debt Snowball Calculator'!BP71,'Debt Snowball Calculator'!BS71,'Debt Snowball Calculator'!BV71,'Debt Snowball Calculator'!BY71,'Debt Snowball Calculator'!CB71,'Debt Snowball Calculator'!CE71,'Debt Snowball Calculator'!CH71,'Debt Snowball Calculator'!CK71,'Debt Snowball Calculator'!CN71,'Debt Snowball Calculator'!CQ71,'Debt Snowball Calculator'!CT71)","v":0},{"$f":"SUM('Debt Avalanche Calculator'!$E71,'Debt Avalanche Calculator'!$H71,'Debt Avalanche Calculator'!$K71,'Debt Avalanche Calculator'!$N71,'Debt Avalanche Calculator'!$Q71,'Debt Avalanche Calculator'!$T71,'Debt Avalanche Calculator'!$W71,'Debt Avalanche Calculator'!$Z71,'Debt Avalanche Calculator'!$AC71,'Debt Avalanche Calculator'!$AF71,'Debt Avalanche Calculator'!$AI71,'Debt Avalanche Calculator'!$AL71,'Debt Avalanche Calculator'!$AO71,'Debt Avalanche Calculator'!$AR71,'Debt Avalanche Calculator'!$AU71,'Debt Avalanche Calculator'!$AX71,'Debt Avalanche Calculator'!$BA71,'Debt Avalanche Calculator'!$BD71,'Debt Avalanche Calculator'!$BG71,'Debt Avalanche Calculator'!$BJ71,'Debt Avalanche Calculator'!$BM71,'Debt Avalanche Calculator'!$BP71,'Debt Avalanche Calculator'!$BS71,'Debt Avalanche Calculator'!$BV71,'Debt Avalanche Calculator'!$BY71,'Debt Avalanche Calculator'!$CB71,'Debt Avalanche Calculator'!$CE71,'Debt Avalanche Calculator'!$CH71,'Debt Avalanche Calculator'!$CK71,'Debt Avalanche Calculator'!$CN71,'Debt Avalanche Calculator'!$CQ71,'Debt Avalanche Calculator'!$CT71)","v":0},54]
[{"$nulls":8},55,{"$f":"SUM('Debt Snowball Calculator'!E72,'Debt Snowball Calculator'!H72,'Debt Snowball Calculator'!K72,'Debt Snowball Calculator'!N72,'Debt Snowball Calculator'!Q72,'Debt Snowball Calculator'!T72,'Debt Snowball Calculator'!W72,'Debt Snowball Calculator'!Z72,'Debt Snowball Calculator'!AC72,'Debt Snowball Calculator'!AF72,'Debt Snowball Calculator'!AI72,'Debt Snowball Calculator'!AL72,'Debt Snowball Calculator'!AO72,'Debt Snowball Calculator'!AR72,'Debt Snowball Calculator'!AU72,'Debt Snowball Calculator'!AX72,'Debt Snowball Calculator'!BA72,'Debt Snowball Calculator'!BD72,'Debt Snowball Calculator'!BG72,'Debt Snowball Calculator'!BJ72,'Debt Snowball Calculator'!BM72,'Debt Snowball Calculator'!BP72,'Debt Snowball Calculator'!BS72,'Debt Snowball Calculator'!BV72,'Debt Snowball Calculator'!BY72,'Debt Snowball Calculator'!CB72,'Debt Snowball Calculator'!CE72,'Debt Snowball Calculator'!CH72,'Debt Snowball Calculator'!CK72,'Debt Snowball Calculator'!CN72,'Debt Snowball Calculator'!CQ72,'Debt Snowball Calculator'!CT72)","v":0},{"$f":"SUM('Debt Avalanche Calculator'!$E72,'Debt Avalanche Calculator'!$H72,'Debt Avalanche Calculator'!$K72,'Debt Avalanche Calculator'!$N72,'Debt Avalanche Calculator'!$Q72,'Debt Avalanche Calculator'!$T72,'Debt Avalanche Calculator'!$W72,'Debt Avalanche Calculator'!$Z72,'Debt Avalanche Calculator'!$AC72,'Debt Avalanche Calculator'!$AF72,'Debt Avalanche Calculator'!$AI72,'Debt Avalanche Calculator'!$AL72,'Debt Avalanche Calculator'!$AO72,'Debt Avalanche Calculator'!$AR72,'Debt Avalanche Calculator'!$AU72,'Debt Avalanche Calculator'!$AX72,'Debt Avalanche Calculator'!$BA72,'Debt Avalanche Calculator'!$BD72,'Debt Avalanche Calculator'!$BG72,'Debt Avalanche Calculator'!$BJ72,'Debt Avalanche Calculator'!$BM72,'Debt Avalanche Calculator'!$BP72,'Debt Avalanche Calculator'!$BS72,'Debt Avalanche Calculator'!$BV72,'Debt Avalanche Calculator'!$BY72,'Debt Avalanche Calculator'!$CB72,'Debt Avalanche Calculator'!$CE72,'Debt Avalanche Calculator'!$CH72,'Debt Avalanche Calculator'!$CK72,'Debt Avalanche Calculator'!$CN72,'Debt Avalanche Calculator'!$CQ72,'Debt Avalanche Calculator'!$CT72)","v":0},55]
[{"$nulls":8},56,{"$f":"SUM('Debt Snowball Calculator'!E73,'Debt Snowball Calculator'!H73,'Debt Snowball Calculator'!K73,'Debt Snowball Calculator'!N73,'Debt Snowball Calculator'!Q73,'Debt Snowball Calculator'!T73,'Debt Snowball Calculator'!W73,'Debt Snowball Calculator'!Z73,'Debt Snowball Calculator'!AC73,'Debt Snowball Calculator'!AF73,'Debt Snowball Calculator'!AI73,'Debt Snowball Calculator'!AL73,'Debt Snowball Calculator'!AO73,'Debt Snowball Calculator'!AR73,'Debt Snowball Calculator'!AU73,'Debt Snowball Calculator'!AX73,'Debt Snowball Calculator'!BA73,'Debt Snowball Calculator'!BD73,'Debt Snowball Calculator'!BG73,'Debt Snowball Calculator'!BJ73,'Debt Snowball Calculator'!BM73,'Debt Snowball Calculator'!BP73,'Debt Snowball Calculator'!BS73,'Debt Snowball Calculator'!BV73,'Debt Snowball Calculator'!BY73,'Debt Snowball Calculator'!CB73,'Debt Snowball Calculator'!CE73,'Debt Snowball Calculator'!CH73,'Debt Snowball Calculator'!CK73,'Debt Snowball Calculator'!CN73,'Debt Snowball Calculator'!CQ73,'Debt Snowball Calculator'!CT73)","v":0},{"$f":"SUM('Debt Avalanche Calculator'!$E73,'Debt Avalanche Calculator'!$H73,'Debt Avalanche Calculator'!$K73,'Debt Avalanche Calculator'!$N73,'Debt Avalanche Calculator'!$Q73,'Debt Avalanche Calculator'!$T73,'Debt Avalanche Calculator'!$W73,'Debt Avalanche Calculator'!$Z73,'Debt Avalanche Calculator'!$AC73,'Debt Avalanche Calculator'!$AF73,'Debt Avalanche Calculator'!$AI73,'Debt Avalanche Calculator'!$AL73,'Debt Avalanche Calculator'!$AO73,'Debt Avalanche Calculator'!$AR73,'Debt Avalanche Calculator'!$AU73,'Debt Avalanche Calculator'!$AX73,'Debt Avalanche Calculator'!$BA73,'Debt Avalanche Calculator'!$BD73,'Debt Avalanche Calculator'!$BG73,'Debt Avalanche Calculator'!$BJ73,'Debt Avalanche Calculator'!$BM73,'Debt Avalanche Calculator'!$BP73,'Debt Avalanche Calculator'!$BS73,'Debt Avalanche Calculator'!$BV73,'Debt Avalanche Calculator'!$BY73,'Debt Avalanche Calculator'!$CB73,'Debt Avalanche Calculator'!$CE73,'Debt Avalanche Calculator'!$CH73,'Debt Avalanche Calculator'!$CK73,'Debt Avalanche Calculator'!$CN73,'Debt Avalanche Calculator'!$CQ73,'Debt Avalanche Calculator'!$CT73)","v":0},56]
[{"$nulls":8},57,{"$f":"SUM('Debt Snowball Calculator'!E74,'Debt Snowball Calculator'!H74,'Debt Snowball Calculator'!K74,'Debt Snowball Calculator'!N74,'Debt Snowball Calculator'!Q74,'Debt Snowball Calculator'!T74,'Debt Snowball Calculator'!W74,'Debt Snowball Calculator'!Z74,'Debt Snowball Calculator'!AC74,'Debt Snowball Calculator'!AF74,'Debt Snowball Calculator'!AI74,'Debt Snowball Calculator'!AL74,'Debt Snowball Calculator'!AO74,'Debt Snowball Calculator'!AR74,'Debt Snowball Calculator'!AU74,'Debt Snowball Calculator'!AX74,'Debt Snowball Calculator'!BA74,'Debt Snowball Calculator'!BD74,'Debt Snowball Calculator'!BG74,'Debt Snowball Calculator'!BJ74,'Debt Snowball Calculator'!BM74,'Debt Snowball Calculator'!BP74,'Debt Snowball Calculator'!BS74,'Debt Snowball Calculator'!BV74,'Debt Snowball Calculator'!BY74,'Debt Snowball Calculator'!CB74,'Debt Snowball Calculator'!CE74,'Debt Snowball Calculator'!CH74,'Debt Snowball Calculator'!CK74,'Debt Snowball Calculator'!CN74,'Debt Snowball Calculator'!CQ74,'Debt Snowball Calculator'!CT74)","v":0},{"$f":"SUM('Debt Avalanche Calculator'!$E74,'Debt Avalanche Calculator'!$H74,'Debt Avalanche Calculator'!$K74,'Debt Avalanche Calculator'!$N74,'Debt Avalanche Calculator'!$Q74,'Debt Avalanche Calculator'!$T74,'Debt Avalanche Calculator'!$W74,'Debt Avalanche Calculator'!$Z74,'Debt Avalanche Calculator'!$AC74,'Debt Avalanche Calculator'!$AF74,'Debt Avalanche Calculator'!$AI74,'Debt Avalanche Calculator'!$AL74,'Debt Avalanche Calculator'!$AO74,'Debt Avalanche Calculator'!$AR74,'Debt Avalanche Calculator'!$AU74,'Debt Avalanche Calculator'!$AX74,'Debt Avalanche Calculator'!$BA74,'Debt Avalanche Calculator'!$BD74,'Debt Avalanche Calculator'!$BG74,'Debt Avalanche Calculator'!$BJ74,'Debt Avalanche Calculator'!$BM74,'Debt Avalanche Calculator'!$BP74,'Debt Avalanche Calculator'!$BS74,'Debt Avalanche Calculator'!$BV74,'Debt Avalanche Calculator'!$BY74,'Debt Avalanche Calculator'!$CB74,'Debt Avalanche Calculator'!$CE74,'Debt Avalanche Calculator'!$CH74,'Debt Avalanche Calculator'!$CK74,'Debt Avalanche Calculator'!$CN74,'Debt Avalanche Calculator'!$CQ74,'Debt Avalanche Calculator'!$CT74)","v":0},57]
[{"$nulls":8},58,{"$f":"SUM('Debt Snowball Calculator'!E75,'Debt Snowball Calculator'!H75,'Debt Snowball Calculator'!K75,'Debt Snowball Calculator'!N75,'Debt Snowball Calculator'!Q75,'Debt Snowball Calculator'!T75,'Debt Snowball Calculator'!W75,'Debt Snowball Calculator'!Z75,'Debt Snowball Calculator'!AC75,'Debt Snowball Calculator'!AF75,'Debt Snowball Calculator'!AI75,'Debt Snowball Calculator'!AL75,'Debt Snowball Calculator'!AO75,'Debt Snowball Calculator'!AR75,'Debt Snowball Calculator'!AU75,'Debt Snowball Calculator'!AX75,'Debt Snowball Calculator'!BA75,'Debt Snowball Calculator'!BD75,'Debt Snowball Calculator'!BG75,'Debt Snowball Calculator'!BJ75,'Debt Snowball Calculator'!BM75,'Debt Snowball Calculator'!BP75,'Debt Snowball Calculator'!BS75,'Debt Snowball Calculator'!BV75,'Debt Snowball Calculator'!BY75,'Debt Snowball Calculator'!CB75,'Debt Snowball Calculator'!CE75,'Debt Snowball Calculator'!CH75,'Debt Snowball Calculator'!CK75,'Debt Snowball Calculator'!CN75,'Debt Snowball Calculator'!CQ75,'Debt Snowball Calculator'!CT75)","v":0},{"$f":"SUM('Debt Avalanche Calculator'!$E75,'Debt Avalanche Calculator'!$H75,'Debt Avalanche Calculator'!$K75,'Debt Avalanche Calculator'!$N75,'Debt Avalanche Calculator'!$Q75,'Debt Avalanche Calculator'!$T75,'Debt Avalanche Calculator'!$W75,'Debt Avalanche Calculator'!$Z75,'Debt Avalanche Calculator'!$AC75,'Debt Avalanche Calculator'!$AF75,'Debt Avalanche Calculator'!$AI75,'Debt Avalanche Calculator'!$AL75,'Debt Avalanche Calculator'!$AO75,'Debt Avalanche Calculator'!$AR75,'Debt Avalanche Calculator'!$AU75,'Debt Avalanche Calculator'!$AX75,'Debt Avalanche Calculator'!$BA75,'Debt Avalanche Calculator'!$BD75,'Debt Avalanche Calculator'!$BG75,'Debt Avalanche Calculator'!$BJ75,'Debt Avalanche Calculator'!$BM75,'Debt Avalanche Calculator'!$BP75,'Debt Avalanche Calculator'!$BS75,'Debt Avalanche Calculator'!$BV75,'Debt Avalanche Calculator'!$BY75,'Debt Avalanche Calculator'!$CB75,'Debt Avalanche Calculator'!$CE75,'Debt Avalanche Calculator'!$CH75,'Debt Avalanche Calculator'!$CK75,'Debt Avalanche Calculator'!$CN75,'Debt Avalanche Calculator'!$CQ75,'Debt Avalanche Calculator'!$CT75)","v":0},58]
[{"$nulls":8},59,{"$f":"SUM('Debt Snowball Calculator'!E76,'Debt Snowball Calculator'!H76,'Debt Snowball Calculator'!K76,'Debt Snowball Calculator'!N76,'Debt Snowball Calculator'!Q76,'Debt Snowball Calculator'!T76,'Debt Snowball Calculator'!W76,'Debt Snowball Calculator'!Z76,'Debt Snowball Calculator'!AC76,'Debt Snowball Calculator'!AF76,'Debt Snowball Calculator'!AI76,'Debt Snowball Calculator'!AL76,'Debt Snowball Calculator'!AO76,'Debt Snowball Calculator'!AR76,'Debt Snowball Calculator'!AU76,'Debt Snowball Calculator'!AX76,'Debt Snowball Calculator'!BA76,'Debt Snowball Calculator'!BD76,'Debt Snowball Calculator'!BG76,'Debt Snowball Calculator'!BJ76,'Debt Snowball Calculator'!BM76,'Debt Snowball Calculator'!BP76,'Debt Snowball Calculator'!BS76,'Debt Snowball Calculator'!BV76,'Debt Snowball Calculator'!BY76,'Debt Snowball Calculator'!CB76,'Debt Snowball Calculator'!CE76,'Debt Snowball Calculator'!CH76,'Debt Snowball Calculator'!CK76,'Debt Snowball Calculator'!CN76,'Debt Snowball Calculator'!CQ76,'Debt Snowball Calculator'!CT76)","v":0},{"$f":"SUM('Debt Avalanche Calculator'!$E76,'Debt Avalanche Calculator'!$H76,'Debt Avalanche Calculator'!$K76,'Debt Avalanche Calculator'!$N76,'Debt Avalanche Calculator'!$Q76,'Debt Avalanche Calculator'!$T76,'Debt Avalanche Calculator'!$W76,'Debt Avalanche Calculator'!$Z76,'Debt Avalanche Calculator'!$AC76,'Debt Avalanche Calculator'!$AF76,'Debt Avalanche Calculator'!$AI76,'Debt Avalanche Calculator'!$AL76,'Debt Avalanche Calculator'!$AO76,'Debt Avalanche Calculator'!$AR76,'Debt Avalanche Calculator'!$AU76,'Debt Avalanche Calculator'!$AX76,'Debt Avalanche Calculator'!$BA76,'Debt Avalanche Calculator'!$BD76,'Debt Avalanche Calculator'!$BG76,'Debt Avalanche Calculator'!$BJ76,'Debt Avalanche Calculator'!$BM76,'Debt Avalanche Calculator'!$BP76,'Debt Avalanche Calculator'!$BS76,'Debt Avalanche Calculator'!$BV76,'Debt Avalanche Calculator'!$BY76,'Debt Avalanche Calculator'!$CB76,'Debt Avalanche Calculator'!$CE76,'Debt Avalanche Calculator'!$CH76,'Debt Avalanche Calculator'!$CK76,'Debt Avalanche Calculator'!$CN76,'Debt Avalanche Calculator'!$CQ76,'Debt Avalanche Calculator'!$CT76)","v":0},59]
[{"$nulls":8},60,{"$f":"SUM('Debt Snowball Calculator'!E77,'Debt Snowball Calculator'!H77,'Debt Snowball Calculator'!K77,'Debt Snowball Calculator'!N77,'Debt Snowball Calculator'!Q77,'Debt Snowball Calculator'!T77,'Debt Snowball Calculator'!W77,'Debt Snowball Calculator'!Z77,'Debt Snowball Calculator'!AC77,'Debt Snowball Calculator'!AF77,'Debt Snowball Calculator'!AI77,'Debt Snowball Calculator'!AL77,'Debt Snowball Calculator'!AO77,'Debt Snowball Calculator'!AR77,'Debt Snowball Calculator'!AU77,'Debt Snowball Calculator'!AX77,'Debt Snowball Calculator'!BA77,'Debt Snowball Calculator'!BD77,'Debt Snowball Calculator'!BG77,'Debt Snowball Calculator'!BJ77,'Debt Snowball Calculator'!BM77,'Debt Snowball Calculator'!BP77,'Debt Snowball Calculator'!BS77,'Debt Snowball Calculator'!BV77,'Debt Snowball Calculator'!BY77,'Debt Snowball Calculator'!CB77,'Debt Snowball Calculator'!CE77,'Debt Snowball Calculator'!CH77,'Debt Snowball Calculator'!CK77,'Debt Snowball Calculator'!CN77,'Debt Snowball Calculator'!CQ77,'Debt Snowball Calculator'!CT77)","v":0},{"$f":"SUM('Debt Avalanche Calculator'!$E77,'Debt Avalanche Calculator'!$H77,'Debt Avalanche Calculator'!$K77,'Debt Avalanche Calculator'!$N77,'Debt Avalanche Calculator'!$Q77,'Debt Avalanche Calculator'!$T77,'Debt Avalanche Calculator'!$W77,'Debt Avalanche Calculator'!$Z77,'Debt Avalanche Calculator'!$AC77,'Debt Avalanche Calculator'!$AF77,'Debt Avalanche Calculator'!$AI77,'Debt Avalanche Calculator'!$AL77,'Debt Avalanche Calculator'!$AO77,'Debt Avalanche Calculator'!$AR77,'Debt Avalanche Calculator'!$AU77,'Debt Avalanche Calculator'!$AX77,'Debt Avalanche Calculator'!$BA77,'Debt Avalanche Calculator'!$BD77,'Debt Avalanche Calculator'!$BG77,'Debt Avalanche Calculator'!$BJ77,'Debt Avalanche Calculator'!$BM77,'Debt Avalanche Calculator'!$BP77,'Debt Avalanche Calculator'!$BS77,'Debt Avalanche Calculator'!$BV77,'Debt Avalanche Calculator'!$BY77,'Debt Avalanche Calculator'!$CB77,'Debt Avalanche Calculator'!$CE77,'Debt Avalanche Calculator'!$CH77,'Debt Avalanche Calculator'!$CK77,'Debt Avalanche Calculator'!$CN77,'Debt Avalanche Calculator'!$CQ77,'Debt Avalanche Calculator'!$CT77)","v":0},60]
[{"$nulls":8},61,{"$f":"SUM('Debt Snowball Calculator'!E78,'Debt Snowball Calculator'!H78,'Debt Snowball Calculator'!K78,'Debt Snowball Calculator'!N78,'Debt Snowball Calculator'!Q78,'Debt Snowball Calculator'!T78,'Debt Snowball Calculator'!W78,'Debt Snowball Calculator'!Z78,'Debt Snowball Calculator'!AC78,'Debt Snowball Calculator'!AF78,'Debt Snowball Calculator'!AI78,'Debt Snowball Calculator'!AL78,'Debt Snowball Calculator'!AO78,'Debt Snowball Calculator'!AR78,'Debt Snowball Calculator'!AU78,'Debt Snowball Calculator'!AX78,'Debt Snowball Calculator'!BA78,'Debt Snowball Calculator'!BD78,'Debt Snowball Calculator'!BG78,'Debt Snowball Calculator'!BJ78,'Debt Snowball Calculator'!BM78,'Debt Snowball Calculator'!BP78,'Debt Snowball Calculator'!BS78,'Debt Snowball Calculator'!BV78,'Debt Snowball Calculator'!BY78,'Debt Snowball Calculator'!CB78,'Debt Snowball Calculator'!CE78,'Debt Snowball Calculator'!CH78,'Debt Snowball Calculator'!CK78,'Debt Snowball Calculator'!CN78,'Debt Snowball Calculator'!CQ78,'Debt Snowball Calculator'!CT78)","v":0},{"$f":"SUM('Debt Avalanche Calculator'!$E78,'Debt Avalanche Calculator'!$H78,'Debt Avalanche Calculator'!$K78,'Debt Avalanche Calculator'!$N78,'Debt Avalanche Calculator'!$Q78,'Debt Avalanche Calculator'!$T78,'Debt Avalanche Calculator'!$W78,'Debt Avalanche Calculator'!$Z78,'Debt Avalanche Calculator'!$AC78,'Debt Avalanche Calculator'!$AF78,'Debt Avalanche Calculator'!$AI78,'Debt Avalanche Calculator'!$AL78,'Debt Avalanche Calculator'!$AO78,'Debt Avalanche Calculator'!$AR78,'Debt Avalanche Calculator'!$AU78,'Debt Avalanche Calculator'!$AX78,'Debt Avalanche Calculator'!$BA78,'Debt Avalanche Calculator'!$BD78,'Debt Avalanche Calculator'!$BG78,'Debt Avalanche Calculator'!$BJ78,'Debt Avalanche Calculator'!$BM78,'Debt Avalanche Calculator'!$BP78,'Debt Avalanche Calculator'!$BS78,'Debt Avalanche Calculator'!$BV78,'Debt Avalanche Calculator'!$BY78,'Debt Avalanche Calculator'!$CB78,'Debt Avalanche Calculator'!$CE78,'Debt Avalanche Calculator'!$CH78,'Debt Avalanche Calculator'!$CK78,'Debt Avalanche Calculator'!$CN78,'Debt Avalanche Calculator'!$CQ78,'Debt Avalanche Calculator'!$CT78)","v":0},61]
[{"$nulls":8},62,{"$f":"SUM('Debt Snowball Calculator'!E79,'Debt Snowball Calculator'!H79,'Debt Snowball Calculator'!K79,'Debt Snowball Calculator'!N79,'Debt Snowball Calculator'!Q79,'Debt Snowball Calculator'!T79,'Debt Snowball Calculator'!W79,'Debt Snowball Calculator'!Z79,'Debt Snowball Calculator'!AC79,'Debt Snowball Calculator'!AF79,'Debt Snowball Calculator'!AI79,'Debt Snowball Calculator'!AL79,'Debt Snowball Calculator'!AO79,'Debt Snowball Calculator'!AR79,'Debt Snowball Calculator'!AU79,'Debt Snowball Calculator'!AX79,'Debt Snowball Calculator'!BA79,'Debt Snowball Calculator'!BD79,'Debt Snowball Calculator'!BG79,'Debt Snowball Calculator'!BJ79,'Debt Snowball Calculator'!BM79,'Debt Snowball Calculator'!BP79,'Debt Snowball Calculator'!BS79,'Debt Snowball Calculator'!BV79,'Debt Snowball Calculator'!BY79,'Debt Snowball Calculator'!CB79,'Debt Snowball Calculator'!CE79,'Debt Snowball Calculator'!CH79,'Debt Snowball Calculator'!CK79,'Debt Snowball Calculator'!CN79,'Debt Snowball Calculator'!CQ79,'Debt Snowball Calculator'!CT79)","v":0},{"$f":"SUM('Debt Avalanche Calculator'!$E79,'Debt Avalanche Calculator'!$H79,'Debt Avalanche Calculator'!$K79,'Debt Avalanche Calculator'!$N79,'Debt Avalanche Calculator'!$Q79,'Debt Avalanche Calculator'!$T79,'Debt Avalanche Calculator'!$W79,'Debt Avalanche Calculator'!$Z79,'Debt Avalanche Calculator'!$AC79,'Debt Avalanche Calculator'!$AF79,'Debt Avalanche Calculator'!$AI79,'Debt Avalanche Calculator'!$AL79,'Debt Avalanche Calculator'!$AO79,'Debt Avalanche Calculator'!$AR79,'Debt Avalanche Calculator'!$AU79,'Debt Avalanche Calculator'!$AX79,'Debt Avalanche Calculator'!$BA79,'Debt Avalanche Calculator'!$BD79,'Debt Avalanche Calculator'!$BG79,'Debt Avalanche Calculator'!$BJ79,'Debt Avalanche Calculator'!$BM79,'Debt Avalanche Calculator'!$BP79,'Debt Avalanche Calculator'!$BS79,'Debt Avalanche Calculator'!$BV79,'Debt Avalanche Calculator'!$BY79,'Debt Avalanche Calculator'!$CB79,'Debt Avalanche Calculator'!$CE79,'Debt Avalanche Calculator'!$CH79,'Debt Avalanche Calculator'!$CK79,'Debt Avalanche Calculator'!$CN79,'Debt Avalanche Calculator'!$CQ79,'Debt Avalanche Calculator'!$CT79)","v":0},62]
[{"$nulls":8},63,{"$f":"SUM('Debt Snowball Calculator'!E80,'Debt Snowball Calculator'!H80,'Debt Snowball Calculator'!K80,'Debt Snowball Calculator'!N80,'Debt Snowball Calculator'!Q80,'Debt Snowball Calculator'!T80,'Debt Snowball Calculator'!W80,'Debt Snowball Calculator'!Z80,'Debt Snowball Calculator'!AC80,'Debt Snowball Calculator'!AF80,'Debt Snowball Calculator'!AI80,'Debt Snowball Calculator'!AL80,'Debt Snowball Calculator'!AO80,'Debt Snowball Calculator'!AR80,'Debt Snowball Calculator'!AU80,'Debt Snowball Calculator'!AX80,'Debt Snowball Calculator'!BA80,'Debt Snowball Calculator'!BD80,'Debt Snowball Calculator'!BG80,'Debt Snowball Calculator'!BJ80,'Debt Snowball Calculator'!BM80,'Debt Snowball Calculator'!BP80,'Debt Snowball Calculator'!BS80,'Debt Snowball Calculator'!BV80,'Debt Snowball Calculator'!BY80,'Debt Snowball Calculator'!CB80,'Debt Snowball Calculator'!CE80,'Debt Snowball Calculator'!CH80,'Debt Snowball Calculator'!CK80,'Debt Snowball Calculator'!CN80,'Debt Snowball Calculator'!CQ80,'Debt Snowball Calculator'!CT80)","v":0},{"$f":"SUM('Debt Avalanche Calculator'!$E80,'Debt Avalanche Calculator'!$H80,'Debt Avalanche Calculator'!$K80,'Debt Avalanche Calculator'!$N80,'Debt Avalanche Calculator'!$Q80,'Debt Avalanche Calculator'!$T80,'Debt Avalanche Calculator'!$W80,'Debt Avalanche Calculator'!$Z80,'Debt Avalanche Calculator'!$AC80,'Debt Avalanche Calculator'!$AF80,'Debt Avalanche Calculator'!$AI80,'Debt Avalanche Calculator'!$AL80,'Debt Avalanche Calculator'!$AO80,'Debt Avalanche Calculator'!$AR80,'Debt Avalanche Calculator'!$AU80,'Debt Avalanche Calculator'!$AX80,'Debt Avalanche Calculator'!$BA80,'Debt Avalanche Calculator'!$BD80,'Debt Avalanche Calculator'!$BG80,'Debt Avalanche Calculator'!$BJ80,'Debt Avalanche Calculator'!$BM80,'Debt Avalanche Calculator'!$BP80,'Debt Avalanche Calculator'!$BS80,'Debt Avalanche Calculator'!$BV80,'Debt Avalanche Calculator'!$BY80,'Debt Avalanche Calculator'!$CB80,'Debt Avalanche Calculator'!$CE80,'Debt Avalanche Calculator'!$CH80,'Debt Avalanche Calculator'!$CK80,'Debt Avalanche Calculator'!$CN80,'Debt Avalanche Calculator'!$CQ80,'Debt Avalanche Calculator'!$CT80)","v":0},63]
[{"$nulls":8},64,{"$f":"SUM('Debt Snowball Calculator'!E81,'Debt Snowball Calculator'!H81,'Debt Snowball Calculator'!K81,'Debt Snowball Calculator'!N81,'Debt Snowball Calculator'!Q81,'Debt Snowball Calculator'!T81,'Debt Snowball Calculator'!W81,'Debt Snowball Calculator'!Z81,'Debt Snowball Calculator'!AC81,'Debt Snowball Calculator'!AF81,'Debt Snowball Calculator'!AI81,'Debt Snowball Calculator'!AL81,'Debt Snowball Calculator'!AO81,'Debt Snowball Calculator'!AR81,'Debt Snowball Calculator'!AU81,'Debt Snowball Calculator'!AX81,'Debt Snowball Calculator'!BA81,'Debt Snowball Calculator'!BD81,'Debt Snowball Calculator'!BG81,'Debt Snowball Calculator'!BJ81,'Debt Snowball Calculator'!BM81,'Debt Snowball Calculator'!BP81,'Debt Snowball Calculator'!BS81,'Debt Snowball Calculator'!BV81,'Debt Snowball Calculator'!BY81,'Debt Snowball Calculator'!CB81,'Debt Snowball Calculator'!CE81,'Debt Snowball Calculator'!CH81,'Debt Snowball Calculator'!CK81,'Debt Snowball Calculator'!CN81,'Debt Snowball Calculator'!CQ81,'Debt Snowball Calculator'!CT81)","v":0},{"$f":"SUM('Debt Avalanche Calculator'!$E81,'Debt Avalanche Calculator'!$H81,'Debt Avalanche Calculator'!$K81,'Debt Avalanche Calculator'!$N81,'Debt Avalanche Calculator'!$Q81,'Debt Avalanche Calculator'!$T81,'Debt Avalanche Calculator'!$W81,'Debt Avalanche Calculator'!$Z81,'Debt Avalanche Calculator'!$AC81,'Debt Avalanche Calculator'!$AF81,'Debt Avalanche Calculator'!$AI81,'Debt Avalanche Calculator'!$AL81,'Debt Avalanche Calculator'!$AO81,'Debt Avalanche Calculator'!$AR81,'Debt Avalanche Calculator'!$AU81,'Debt Avalanche Calculator'!$AX81,'Debt Avalanche Calculator'!$BA81,'Debt Avalanche Calculator'!$BD81,'Debt Avalanche Calculator'!$BG81,'Debt Avalanche Calculator'!$BJ81,'Debt Avalanche Calculator'!$BM81,'Debt Avalanche Calculator'!$BP81,'Debt Avalanche Calculator'!$BS81,'Debt Avalanche Calculator'!$BV81,'Debt Avalanche Calculator'!$BY81,'Debt Avalanche Calculator'!$CB81,'Debt Avalanche Calculator'!$CE81,'Debt Avalanche Calculator'!$CH81,'Debt Avalanche Calculator'!$CK81,'Debt Avalanche Calculator'!$CN81,'Debt Avalanche Calculator'!$CQ81,'Debt Avalanche Calculator'!$CT81)","v":0},64]
[{"$nulls":8},65,{"$f":"SUM('Debt Snowball Calculator'!E82,'Debt Snowball Calculator'!H82,'Debt Snowball Calculator'!K82,'Debt Snowball Calculator'!N82,'Debt Snowball Calculator'!Q82,'Debt Snowball Calculator'!T82,'Debt Snowball Calculator'!W82,'Debt Snowball Calculator'!Z82,'Debt Snowball Calculator'!AC82,'Debt Snowball Calculator'!AF82,'Debt Snowball Calculator'!AI82,'Debt Snowball Calculator'!AL82,'Debt Snowball Calculator'!AO82,'Debt Snowball Calculator'!AR82,'Debt Snowball Calculator'!AU82,'Debt Snowball Calculator'!AX82,'Debt Snowball Calculator'!BA82,'Debt Snowball Calculator'!BD82,'Debt Snowball Calculator'!BG82,'Debt Snowball Calculator'!BJ82,'Debt Snowball Calculator'!BM82,'Debt Snowball Calculator'!BP82,'Debt Snowball Calculator'!BS82,'Debt Snowball Calculator'!BV82,'Debt Snowball Calculator'!BY82,'Debt Snowball Calculator'!CB82,'Debt Snowball Calculator'!CE82,'Debt Snowball Calculator'!CH82,'Debt Snowball Calculator'!CK82,'Debt Snowball Calculator'!CN82,'Debt Snowball Calculator'!CQ82,'Debt Snowball Calculator'!CT82)","v":0},{"$f":"SUM('Debt Avalanche Calculator'!$E82,'Debt Avalanche Calculator'!$H82,'Debt Avalanche Calculator'!$K82,'Debt Avalanche Calculator'!$N82,'Debt Avalanche Calculator'!$Q82,'Debt Avalanche Calculator'!$T82,'Debt Avalanche Calculator'!$W82,'Debt Avalanche Calculator'!$Z82,'Debt Avalanche Calculator'!$AC82,'Debt Avalanche Calculator'!$AF82,'Debt Avalanche Calculator'!$AI82,'Debt Avalanche Calculator'!$AL82,'Debt Avalanche Calculator'!$AO82,'Debt Avalanche Calculator'!$AR82,'Debt Avalanche Calculator'!$AU82,'Debt Avalanche Calculator'!$AX82,'Debt Avalanche Calculator'!$BA82,'Debt Avalanche Calculator'!$BD82,'Debt Avalanche Calculator'!$BG82,'Debt Avalanche Calculator'!$BJ82,'Debt Avalanche Calculator'!$BM82,'Debt Avalanche Calculator'!$BP82,'Debt Avalanche Calculator'!$BS82,'Debt Avalanche Calculator'!$BV82,'Debt Avalanche Calculator'!$BY82,'Debt Avalanche Calculator'!$CB82,'Debt Avalanche Calculator'!$CE82,'Debt Avalanche Calculator'!$CH82,'Debt Avalanche Calculator'!$CK82,'Debt Avalanche Calculator'!$CN82,'Debt Avalanche Calculator'!$CQ82,'Debt Avalanche Calculator'!$CT82)","v":0},65]
[{"$nulls":8},66,{"$f":"SUM('Debt Snowball Calculator'!E83,'Debt Snowball Calculator'!H83,'Debt Snowball Calculator'!K83,'Debt Snowball Calculator'!N83,'Debt Snowball Calculator'!Q83,'Debt Snowball Calculator'!T83,'Debt Snowball Calculator'!W83,'Debt Snowball Calculator'!Z83,'Debt Snowball Calculator'!AC83,'Debt Snowball Calculator'!AF83,'Debt Snowball Calculator'!AI83,'Debt Snowball Calculator'!AL83,'Debt Snowball Calculator'!AO83,'Debt Snowball Calculator'!AR83,'Debt Snowball Calculator'!AU83,'Debt Snowball Calculator'!AX83,'Debt Snowball Calculator'!BA83,'Debt Snowball Calculator'!BD83,'Debt Snowball Calculator'!BG83,'Debt Snowball Calculator'!BJ83,'Debt Snowball Calculator'!BM83,'Debt Snowball Calculator'!BP83,'Debt Snowball Calculator'!BS83,'Debt Snowball Calculator'!BV83,'Debt Snowball Calculator'!BY83,'Debt Snowball Calculator'!CB83,'Debt Snowball Calculator'!CE83,'Debt Snowball Calculator'!CH83,'Debt Snowball Calculator'!CK83,'Debt Snowball Calculator'!CN83,'Debt Snowball Calculator'!CQ83,'Debt Snowball Calculator'!CT83)","v":0},{"$f":"SUM('Debt Avalanche Calculator'!$E83,'Debt Avalanche Calculator'!$H83,'Debt Avalanche Calculator'!$K83,'Debt Avalanche Calculator'!$N83,'Debt Avalanche Calculator'!$Q83,'Debt Avalanche Calculator'!$T83,'Debt Avalanche Calculator'!$W83,'Debt Avalanche Calculator'!$Z83,'Debt Avalanche Calculator'!$AC83,'Debt Avalanche Calculator'!$AF83,'Debt Avalanche Calculator'!$AI83,'Debt Avalanche Calculator'!$AL83,'Debt Avalanche Calculator'!$AO83,'Debt Avalanche Calculator'!$AR83,'Debt Avalanche Calculator'!$AU83,'Debt Avalanche Calculator'!$AX83,'Debt Avalanche Calculator'!$BA83,'Debt Avalanche Calculator'!$BD83,'Debt Avalanche Calculator'!$BG83,'Debt Avalanche Calculator'!$BJ83,'Debt Avalanche Calculator'!$BM83,'Debt Avalanche Calculator'!$BP83,'Debt Avalanche Calculator'!$BS83,'Debt Avalanche Calculator'!$BV83,'Debt Avalanche Calculator'!$BY83,'Debt Avalanche Calculator'!$CB83,'Debt Avalanche Calculator'!$CE83,'Debt Avalanche Calculator'!$CH83,'Debt Avalanche Calculator'!$CK83,'Debt Avalanche Calculator'!$CN83,'Debt Avalanche Calculator'!$CQ83,'Debt Avalanche Calculator'!$CT83)","v":0},66]
[{"$nulls":8},67,{"$f":"SUM('Debt Snowball Calculator'!E84,'Debt Snowball Calculator'!H84,'Debt Snowball Calculator'!K84,'Debt Snowball Calculator'!N84,'Debt Snowball Calculator'!Q84,'Debt Snowball Calculator'!T84,'Debt Snowball Calculator'!W84,'Debt Snowball Calculator'!Z84,'Debt Snowball Calculator'!AC84,'Debt Snowball Calculator'!AF84,'Debt Snowball Calculator'!AI84,'Debt Snowball Calculator'!AL84,'Debt Snowball Calculator'!AO84,'Debt Snowball Calculator'!AR84,'Debt Snowball Calculator'!AU84,'Debt Snowball Calculator'!AX84,'Debt Snowball Calculator'!BA84,'Debt Snowball Calculator'!BD84,'Debt Snowball Calculator'!BG84,'Debt Snowball Calculator'!BJ84,'Debt Snowball Calculator'!BM84,'Debt Snowball Calculator'!BP84,'Debt Snowball Calculator'!BS84,'Debt Snowball Calculator'!BV84,'Debt Snowball Calculator'!BY84,'Debt Snowball Calculator'!CB84,'Debt Snowball Calculator'!CE84,'Debt Snowball Calculator'!CH84,'Debt Snowball Calculator'!CK84,'Debt Snowball Calculator'!CN84,'Debt Snowball Calculator'!CQ84,'Debt Snowball Calculator'!CT84)","v":0},{"$f":"SUM('Debt Avalanche Calculator'!$E84,'Debt Avalanche Calculator'!$H84,'Debt Avalanche Calculator'!$K84,'Debt Avalanche Calculator'!$N84,'Debt Avalanche Calculator'!$Q84,'Debt Avalanche Calculator'!$T84,'Debt Avalanche Calculator'!$W84,'Debt Avalanche Calculator'!$Z84,'Debt Avalanche Calculator'!$AC84,'Debt Avalanche Calculator'!$AF84,'Debt Avalanche Calculator'!$AI84,'Debt Avalanche Calculator'!$AL84,'Debt Avalanche Calculator'!$AO84,'Debt Avalanche Calculator'!$AR84,'Debt Avalanche Calculator'!$AU84,'Debt Avalanche Calculator'!$AX84,'Debt Avalanche Calculator'!$BA84,'Debt Avalanche Calculator'!$BD84,'Debt Avalanche Calculator'!$BG84,'Debt Avalanche Calculator'!$BJ84,'Debt Avalanche Calculator'!$BM84,'Debt Avalanche Calculator'!$BP84,'Debt Avalanche Calculator'!$BS84,'Debt Avalanche Calculator'!$BV84,'Debt Avalanche Calculator'!$BY84,'Debt Avalanche Calculator'!$CB84,'Debt Avalanche Calculator'!$CE84,'Debt Avalanche Calculator'!$CH84,'Debt Avalanche Calculator'!$CK84,'Debt Avalanche Calculator'!$CN84,'Debt Avalanche Calculator'!$CQ84,'Debt Avalanche Calculator'!$CT84)","v":0},67]
[{"$nulls":8},68,{"$f":"SUM('Debt Snowball Calculator'!E85,'Debt Snowball Calculator'!H85,'Debt Snowball Calculator'!K85,'Debt Snowball Calculator'!N85,'Debt Snowball Calculator'!Q85,'Debt Snowball Calculator'!T85,'Debt Snowball Calculator'!W85,'Debt Snowball Calculator'!Z85,'Debt Snowball Calculator'!AC85,'Debt Snowball Calculator'!AF85,'Debt Snowball Calculator'!AI85,'Debt Snowball Calculator'!AL85,'Debt Snowball Calculator'!AO85,'Debt Snowball Calculator'!AR85,'Debt Snowball Calculator'!AU85,'Debt Snowball Calculator'!AX85,'Debt Snowball Calculator'!BA85,'Debt Snowball Calculator'!BD85,'Debt Snowball Calculator'!BG85,'Debt Snowball Calculator'!BJ85,'Debt Snowball Calculator'!BM85,'Debt Snowball Calculator'!BP85,'Debt Snowball Calculator'!BS85,'Debt Snowball Calculator'!BV85,'Debt Snowball Calculator'!BY85,'Debt Snowball Calculator'!CB85,'Debt Snowball Calculator'!CE85,'Debt Snowball Calculator'!CH85,'Debt Snowball Calculator'!CK85,'Debt Snowball Calculator'!CN85,'Debt Snowball Calculator'!CQ85,'Debt Snowball Calculator'!CT85)","v":0},{"$f":"SUM('Debt Avalanche Calculator'!$E85,'Debt Avalanche Calculator'!$H85,'Debt Avalanche Calculator'!$K85,'Debt Avalanche Calculator'!$N85,'Debt Avalanche Calculator'!$Q85,'Debt Avalanche Calculator'!$T85,'Debt Avalanche Calculator'!$W85,'Debt Avalanche Calculator'!$Z85,'Debt Avalanche Calculator'!$AC85,'Debt Avalanche Calculator'!$AF85,'Debt Avalanche Calculator'!$AI85,'Debt Avalanche Calculator'!$AL85,'Debt Avalanche Calculator'!$AO85,'Debt Avalanche Calculator'!$AR85,'Debt Avalanche Calculator'!$AU85,'Debt Avalanche Calculator'!$AX85,'Debt Avalanche Calculator'!$BA85,'Debt Avalanche Calculator'!$BD85,'Debt Avalanche Calculator'!$BG85,'Debt Avalanche Calculator'!$BJ85,'Debt Avalanche Calculator'!$BM85,'Debt Avalanche Calculator'!$BP85,'Debt Avalanche Calculator'!$BS85,'Debt Avalanche Calculator'!$BV85,'Debt Avalanche Calculator'!$BY85,'Debt Avalanche Calculator'!$CB85,'Debt Avalanche Calculator'!$CE85,'Debt Avalanche Calculator'!$CH85,'Debt Avalanche Calculator'!$CK85,'Debt Avalanche Calculator'!$CN85,'Debt Avalanche Calculator'!$CQ85,'Debt Avalanche Calculator'!$CT85)","v":0},68]
[{"$nulls":8},69,{"$f":"SUM('Debt Snowball Calculator'!E86,'Debt Snowball Calculator'!H86,'Debt Snowball Calculator'!K86,'Debt Snowball Calculator'!N86,'Debt Snowball Calculator'!Q86,'Debt Snowball Calculator'!T86,'Debt Snowball Calculator'!W86,'Debt Snowball Calculator'!Z86,'Debt Snowball Calculator'!AC86,'Debt Snowball Calculator'!AF86,'Debt Snowball Calculator'!AI86,'Debt Snowball Calculator'!AL86,'Debt Snowball Calculator'!AO86,'Debt Snowball Calculator'!AR86,'Debt Snowball Calculator'!AU86,'Debt Snowball Calculator'!AX86,'Debt Snowball Calculator'!BA86,'Debt Snowball Calculator'!BD86,'Debt Snowball Calculator'!BG86,'Debt Snowball Calculator'!BJ86,'Debt Snowball Calculator'!BM86,'Debt Snowball Calculator'!BP86,'Debt Snowball Calculator'!BS86,'Debt Snowball Calculator'!BV86,'Debt Snowball Calculator'!BY86,'Debt Snowball Calculator'!CB86,'Debt Snowball Calculator'!CE86,'Debt Snowball Calculator'!CH86,'Debt Snowball Calculator'!CK86,'Debt Snowball Calculator'!CN86,'Debt Snowball Calculator'!CQ86,'Debt Snowball Calculator'!CT86)","v":0},{"$f":"SUM('Debt Avalanche Calculator'!$E86,'Debt Avalanche Calculator'!$H86,'Debt Avalanche Calculator'!$K86,'Debt Avalanche Calculator'!$N86,'Debt Avalanche Calculator'!$Q86,'Debt Avalanche Calculator'!$T86,'Debt Avalanche Calculator'!$W86,'Debt Avalanche Calculator'!$Z86,'Debt Avalanche Calculator'!$AC86,'Debt Avalanche Calculator'!$AF86,'Debt Avalanche Calculator'!$AI86,'Debt Avalanche Calculator'!$AL86,'Debt Avalanche Calculator'!$AO86,'Debt Avalanche Calculator'!$AR86,'Debt Avalanche Calculator'!$AU86,'Debt Avalanche Calculator'!$AX86,'Debt Avalanche Calculator'!$BA86,'Debt Avalanche Calculator'!$BD86,'Debt Avalanche Calculator'!$BG86,'Debt Avalanche Calculator'!$BJ86,'Debt Avalanche Calculator'!$BM86,'Debt Avalanche Calculator'!$BP86,'Debt Avalanche Calculator'!$BS86,'Debt Avalanche Calculator'!$BV86,'Debt Avalanche Calculator'!$BY86,'Debt Avalanche Calculator'!$CB86,'Debt Avalanche Calculator'!$CE86,'Debt Avalanche Calculator'!$CH86,'Debt Avalanche Calculator'!$CK86,'Debt Avalanche Calculator'!$CN86,'Debt Avalanche Calculator'!$CQ86,'Debt Avalanche Calculator'!$CT86)","v":0},69]
[{"$nulls":8},70,{"$f":"SUM('Debt Snowball Calculator'!E87,'Debt Snowball Calculator'!H87,'Debt Snowball Calculator'!K87,'Debt Snowball Calculator'!N87,'Debt Snowball Calculator'!Q87,'Debt Snowball Calculator'!T87,'Debt Snowball Calculator'!W87,'Debt Snowball Calculator'!Z87,'Debt Snowball Calculator'!AC87,'Debt Snowball Calculator'!AF87,'Debt Snowball Calculator'!AI87,'Debt Snowball Calculator'!AL87,'Debt Snowball Calculator'!AO87,'Debt Snowball Calculator'!AR87,'Debt Snowball Calculator'!AU87,'Debt Snowball Calculator'!AX87,'Debt Snowball Calculator'!BA87,'Debt Snowball Calculator'!BD87,'Debt Snowball Calculator'!BG87,'Debt Snowball Calculator'!BJ87,'Debt Snowball Calculator'!BM87,'Debt Snowball Calculator'!BP87,'Debt Snowball Calculator'!BS87,'Debt Snowball Calculator'!BV87,'Debt Snowball Calculator'!BY87,'Debt Snowball Calculator'!CB87,'Debt Snowball Calculator'!CE87,'Debt Snowball Calculator'!CH87,'Debt Snowball Calculator'!CK87,'Debt Snowball Calculator'!CN87,'Debt Snowball Calculator'!CQ87,'Debt Snowball Calculator'!CT87)","v":0},{"$f":"SUM('Debt Avalanche Calculator'!$E87,'Debt Avalanche Calculator'!$H87,'Debt Avalanche Calculator'!$K87,'Debt Avalanche Calculator'!$N87,'Debt Avalanche Calculator'!$Q87,'Debt Avalanche Calculator'!$T87,'Debt Avalanche Calculator'!$W87,'Debt Avalanche Calculator'!$Z87,'Debt Avalanche Calculator'!$AC87,'Debt Avalanche Calculator'!$AF87,'Debt Avalanche Calculator'!$AI87,'Debt Avalanche Calculator'!$AL87,'Debt Avalanche Calculator'!$AO87,'Debt Avalanche Calculator'!$AR87,'Debt Avalanche Calculator'!$AU87,'Debt Avalanche Calculator'!$AX87,'Debt Avalanche Calculator'!$BA87,'Debt Avalanche Calculator'!$BD87,'Debt Avalanche Calculator'!$BG87,'Debt Avalanche Calculator'!$BJ87,'Debt Avalanche Calculator'!$BM87,'Debt Avalanche Calculator'!$BP87,'Debt Avalanche Calculator'!$BS87,'Debt Avalanche Calculator'!$BV87,'Debt Avalanche Calculator'!$BY87,'Debt Avalanche Calculator'!$CB87,'Debt Avalanche Calculator'!$CE87,'Debt Avalanche Calculator'!$CH87,'Debt Avalanche Calculator'!$CK87,'Debt Avalanche Calculator'!$CN87,'Debt Avalanche Calculator'!$CQ87,'Debt Avalanche Calculator'!$CT87)","v":0},70]
[{"$nulls":8},71,{"$f":"SUM('Debt Snowball Calculator'!E88,'Debt Snowball Calculator'!H88,'Debt Snowball Calculator'!K88,'Debt Snowball Calculator'!N88,'Debt Snowball Calculator'!Q88,'Debt Snowball Calculator'!T88,'Debt Snowball Calculator'!W88,'Debt Snowball Calculator'!Z88,'Debt Snowball Calculator'!AC88,'Debt Snowball Calculator'!AF88,'Debt Snowball Calculator'!AI88,'Debt Snowball Calculator'!AL88,'Debt Snowball Calculator'!AO88,'Debt Snowball Calculator'!AR88,'Debt Snowball Calculator'!AU88,'Debt Snowball Calculator'!AX88,'Debt Snowball Calculator'!BA88,'Debt Snowball Calculator'!BD88,'Debt Snowball Calculator'!BG88,'Debt Snowball Calculator'!BJ88,'Debt Snowball Calculator'!BM88,'Debt Snowball Calculator'!BP88,'Debt Snowball Calculator'!BS88,'Debt Snowball Calculator'!BV88,'Debt Snowball Calculator'!BY88,'Debt Snowball Calculator'!CB88,'Debt Snowball Calculator'!CE88,'Debt Snowball Calculator'!CH88,'Debt Snowball Calculator'!CK88,'Debt Snowball Calculator'!CN88,'Debt Snowball Calculator'!CQ88,'Debt Snowball Calculator'!CT88)","v":0},{"$f":"SUM('Debt Avalanche Calculator'!$E88,'Debt Avalanche Calculator'!$H88,'Debt Avalanche Calculator'!$K88,'Debt Avalanche Calculator'!$N88,'Debt Avalanche Calculator'!$Q88,'Debt Avalanche Calculator'!$T88,'Debt Avalanche Calculator'!$W88,'Debt Avalanche Calculator'!$Z88,'Debt Avalanche Calculator'!$AC88,'Debt Avalanche Calculator'!$AF88,'Debt Avalanche Calculator'!$AI88,'Debt Avalanche Calculator'!$AL88,'Debt Avalanche Calculator'!$AO88,'Debt Avalanche Calculator'!$AR88,'Debt Avalanche Calculator'!$AU88,'Debt Avalanche Calculator'!$AX88,'Debt Avalanche Calculator'!$BA88,'Debt Avalanche Calculator'!$BD88,'Debt Avalanche Calculator'!$BG88,'Debt Avalanche Calculator'!$BJ88,'Debt Avalanche Calculator'!$BM88,'Debt Avalanche Calculator'!$BP88,'Debt Avalanche Calculator'!$BS88,'Debt Avalanche Calculator'!$BV88,'Debt Avalanche Calculator'!$BY88,'Debt Avalanche Calculator'!$CB88,'Debt Avalanche Calculator'!$CE88,'Debt Avalanche Calculator'!$CH88,'Debt Avalanche Calculator'!$CK88,'Debt Avalanche Calculator'!$CN88,'Debt Avalanche Calculator'!$CQ88,'Debt Avalanche Calculator'!$CT88)","v":0},71]
[{"$nulls":8},72,{"$f":"SUM('Debt Snowball Calculator'!E89,'Debt Snowball Calculator'!H89,'Debt Snowball Calculator'!K89,'Debt Snowball Calculator'!N89,'Debt Snowball Calculator'!Q89,'Debt Snowball Calculator'!T89,'Debt Snowball Calculator'!W89,'Debt Snowball Calculator'!Z89,'Debt Snowball Calculator'!AC89,'Debt Snowball Calculator'!AF89,'Debt Snowball Calculator'!AI89,'Debt Snowball Calculator'!AL89,'Debt Snowball Calculator'!AO89,'Debt Snowball Calculator'!AR89,'Debt Snowball Calculator'!AU89,'Debt Snowball Calculator'!AX89,'Debt Snowball Calculator'!BA89,'Debt Snowball Calculator'!BD89,'Debt Snowball Calculator'!BG89,'Debt Snowball Calculator'!BJ89,'Debt Snowball Calculator'!BM89,'Debt Snowball Calculator'!BP89,'Debt Snowball Calculator'!BS89,'Debt Snowball Calculator'!BV89,'Debt Snowball Calculator'!BY89,'Debt Snowball Calculator'!CB89,'Debt Snowball Calculator'!CE89,'Debt Snowball Calculator'!CH89,'Debt Snowball Calculator'!CK89,'Debt Snowball Calculator'!CN89,'Debt Snowball Calculator'!CQ89,'Debt Snowball Calculator'!CT89)","v":0},{"$f":"SUM('Debt Avalanche Calculator'!$E89,'Debt Avalanche Calculator'!$H89,'Debt Avalanche Calculator'!$K89,'Debt Avalanche Calculator'!$N89,'Debt Avalanche Calculator'!$Q89,'Debt Avalanche Calculator'!$T89,'Debt Avalanche Calculator'!$W89,'Debt Avalanche Calculator'!$Z89,'Debt Avalanche Calculator'!$AC89,'Debt Avalanche Calculator'!$AF89,'Debt Avalanche Calculator'!$AI89,'Debt Avalanche Calculator'!$AL89,'Debt Avalanche Calculator'!$AO89,'Debt Avalanche Calculator'!$AR89,'Debt Avalanche Calculator'!$AU89,'Debt Avalanche Calculator'!$AX89,'Debt Avalanche Calculator'!$BA89,'Debt Avalanche Calculator'!$BD89,'Debt Avalanche Calculator'!$BG89,'Debt Avalanche Calculator'!$BJ89,'Debt Avalanche Calculator'!$BM89,'Debt Avalanche Calculator'!$BP89,'Debt Avalanche Calculator'!$BS89,'Debt Avalanche Calculator'!$BV89,'Debt Avalanche Calculator'!$BY89,'Debt Avalanche Calculator'!$CB89,'Debt Avalanche Calculator'!$CE89,'Debt Avalanche Calculator'!$CH89,'Debt Avalanche Calculator'!$CK89,'Debt Avalanche Calculator'!$CN89,'Debt Avalanche Calculator'!$CQ89,'Debt Avalanche Calculator'!$CT89)","v":0},72]
[{"$nulls":8},73,{"$f":"SUM('Debt Snowball Calculator'!E90,'Debt Snowball Calculator'!H90,'Debt Snowball Calculator'!K90,'Debt Snowball Calculator'!N90,'Debt Snowball Calculator'!Q90,'Debt Snowball Calculator'!T90,'Debt Snowball Calculator'!W90,'Debt Snowball Calculator'!Z90,'Debt Snowball Calculator'!AC90,'Debt Snowball Calculator'!AF90,'Debt Snowball Calculator'!AI90,'Debt Snowball Calculator'!AL90,'Debt Snowball Calculator'!AO90,'Debt Snowball Calculator'!AR90,'Debt Snowball Calculator'!AU90,'Debt Snowball Calculator'!AX90,'Debt Snowball Calculator'!BA90,'Debt Snowball Calculator'!BD90,'Debt Snowball Calculator'!BG90,'Debt Snowball Calculator'!BJ90,'Debt Snowball Calculator'!BM90,'Debt Snowball Calculator'!BP90,'Debt Snowball Calculator'!BS90,'Debt Snowball Calculator'!BV90,'Debt Snowball Calculator'!BY90,'Debt Snowball Calculator'!CB90,'Debt Snowball Calculator'!CE90,'Debt Snowball Calculator'!CH90,'Debt Snowball Calculator'!CK90,'Debt Snowball Calculator'!CN90,'Debt Snowball Calculator'!CQ90,'Debt Snowball Calculator'!CT90)","v":0},{"$f":"SUM('Debt Avalanche Calculator'!$E90,'Debt Avalanche Calculator'!$H90,'Debt Avalanche Calculator'!$K90,'Debt Avalanche Calculator'!$N90,'Debt Avalanche Calculator'!$Q90,'Debt Avalanche Calculator'!$T90,'Debt Avalanche Calculator'!$W90,'Debt Avalanche Calculator'!$Z90,'Debt Avalanche Calculator'!$AC90,'Debt Avalanche Calculator'!$AF90,'Debt Avalanche Calculator'!$AI90,'Debt Avalanche Calculator'!$AL90,'Debt Avalanche Calculator'!$AO90,'Debt Avalanche Calculator'!$AR90,'Debt Avalanche Calculator'!$AU90,'Debt Avalanche Calculator'!$AX90,'Debt Avalanche Calculator'!$BA90,'Debt Avalanche Calculator'!$BD90,'Debt Avalanche Calculator'!$BG90,'Debt Avalanche Calculator'!$BJ90,'Debt Avalanche Calculator'!$BM90,'Debt Avalanche Calculator'!$BP90,'Debt Avalanche Calculator'!$BS90,'Debt Avalanche Calculator'!$BV90,'Debt Avalanche Calculator'!$BY90,'Debt Avalanche Calculator'!$CB90,'Debt Avalanche Calculator'!$CE90,'Debt Avalanche Calculator'!$CH90,'Debt Avalanche Calculator'!$CK90,'Debt Avalanche Calculator'!$CN90,'Debt Avalanche Calculator'!$CQ90,'Debt Avalanche Calculator'!$CT90)","v":0},73]
[{"$nulls":8},74,{"$f":"SUM('Debt Snowball Calculator'!E91,'Debt Snowball Calculator'!H91,'Debt Snowball Calculator'!K91,'Debt Snowball Calculator'!N91,'Debt Snowball Calculator'!Q91,'Debt Snowball Calculator'!T91,'Debt Snowball Calculator'!W91,'Debt Snowball Calculator'!Z91,'Debt Snowball Calculator'!AC91,'Debt Snowball Calculator'!AF91,'Debt Snowball Calculator'!AI91,'Debt Snowball Calculator'!AL91,'Debt Snowball Calculator'!AO91,'Debt Snowball Calculator'!AR91,'Debt Snowball Calculator'!AU91,'Debt Snowball Calculator'!AX91,'Debt Snowball Calculator'!BA91,'Debt Snowball Calculator'!BD91,'Debt Snowball Calculator'!BG91,'Debt Snowball Calculator'!BJ91,'Debt Snowball Calculator'!BM91,'Debt Snowball Calculator'!BP91,'Debt Snowball Calculator'!BS91,'Debt Snowball Calculator'!BV91,'Debt Snowball Calculator'!BY91,'Debt Snowball Calculator'!CB91,'Debt Snowball Calculator'!CE91,'Debt Snowball Calculator'!CH91,'Debt Snowball Calculator'!CK91,'Debt Snowball Calculator'!CN91,'Debt Snowball Calculator'!CQ91,'Debt Snowball Calculator'!CT91)","v":0},{"$f":"SUM('Debt Avalanche Calculator'!$E91,'Debt Avalanche Calculator'!$H91,'Debt Avalanche Calculator'!$K91,'Debt Avalanche Calculator'!$N91,'Debt Avalanche Calculator'!$Q91,'Debt Avalanche Calculator'!$T91,'Debt Avalanche Calculator'!$W91,'Debt Avalanche Calculator'!$Z91,'Debt Avalanche Calculator'!$AC91,'Debt Avalanche Calculator'!$AF91,'Debt Avalanche Calculator'!$AI91,'Debt Avalanche Calculator'!$AL91,'Debt Avalanche Calculator'!$AO91,'Debt Avalanche Calculator'!$AR91,'Debt Avalanche Calculator'!$AU91,'Debt Avalanche Calculator'!$AX91,'Debt Avalanche Calculator'!$BA91,'Debt Avalanche Calculator'!$BD91,'Debt Avalanche Calculator'!$BG91,'Debt Avalanche Calculator'!$BJ91,'Debt Avalanche Calculator'!$BM91,'Debt Avalanche Calculator'!$BP91,'Debt Avalanche Calculator'!$BS91,'Debt Avalanche Calculator'!$BV91,'Debt Avalanche Calculator'!$BY91,'Debt Avalanche Calculator'!$CB91,'Debt Avalanche Calculator'!$CE91,'Debt Avalanche Calculator'!$CH91,'Debt Avalanche Calculator'!$CK91,'Debt Avalanche Calculator'!$CN91,'Debt Avalanche Calculator'!$CQ91,'Debt Avalanche Calculator'!$CT91)","v":0},74]
[{"$nulls":8},75,{"$f":"SUM('Debt Snowball Calculator'!E92,'Debt Snowball Calculator'!H92,'Debt Snowball Calculator'!K92,'Debt Snowball Calculator'!N92,'Debt Snowball Calculator'!Q92,'Debt Snowball Calculator'!T92,'Debt Snowball Calculator'!W92,'Debt Snowball Calculator'!Z92,'Debt Snowball Calculator'!AC92,'Debt Snowball Calculator'!AF92,'Debt Snowball Calculator'!AI92,'Debt Snowball Calculator'!AL92,'Debt Snowball Calculator'!AO92,'Debt Snowball Calculator'!AR92,'Debt Snowball Calculator'!AU92,'Debt Snowball Calculator'!AX92,'Debt Snowball Calculator'!BA92,'Debt Snowball Calculator'!BD92,'Debt Snowball Calculator'!BG92,'Debt Snowball Calculator'!BJ92,'Debt Snowball Calculator'!BM92,'Debt Snowball Calculator'!BP92,'Debt Snowball Calculator'!BS92,'Debt Snowball Calculator'!BV92,'Debt Snowball Calculator'!BY92,'Debt Snowball Calculator'!CB92,'Debt Snowball Calculator'!CE92,'Debt Snowball Calculator'!CH92,'Debt Snowball Calculator'!CK92,'Debt Snowball Calculator'!CN92,'Debt Snowball Calculator'!CQ92,'Debt Snowball Calculator'!CT92)","v":0},{"$f":"SUM('Debt Avalanche Calculator'!$E92,'Debt Avalanche Calculator'!$H92,'Debt Avalanche Calculator'!$K92,'Debt Avalanche Calculator'!$N92,'Debt Avalanche Calculator'!$Q92,'Debt Avalanche Calculator'!$T92,'Debt Avalanche Calculator'!$W92,'Debt Avalanche Calculator'!$Z92,'Debt Avalanche Calculator'!$AC92,'Debt Avalanche Calculator'!$AF92,'Debt Avalanche Calculator'!$AI92,'Debt Avalanche Calculator'!$AL92,'Debt Avalanche Calculator'!$AO92,'Debt Avalanche Calculator'!$AR92,'Debt Avalanche Calculator'!$AU92,'Debt Avalanche Calculator'!$AX92,'Debt Avalanche Calculator'!$BA92,'Debt Avalanche Calculator'!$BD92,'Debt Avalanche Calculator'!$BG92,'Debt Avalanche Calculator'!$BJ92,'Debt Avalanche Calculator'!$BM92,'Debt Avalanche Calculator'!$BP92,'Debt Avalanche Calculator'!$BS92,'Debt Avalanche Calculator'!$BV92,'Debt Avalanche Calculator'!$BY92,'Debt Avalanche Calculator'!$CB92,'Debt Avalanche Calculator'!$CE92,'Debt Avalanche Calculator'!$CH92,'Debt Avalanche Calculator'!$CK92,'Debt Avalanche Calculator'!$CN92,'Debt Avalanche Calculator'!$CQ92,'Debt Avalanche Calculator'!$CT92)","v":0},75]
[{"$nulls":8},76,{"$f":"SUM('Debt Snowball Calculator'!E93,'Debt Snowball Calculator'!H93,'Debt Snowball Calculator'!K93,'Debt Snowball Calculator'!N93,'Debt Snowball Calculator'!Q93,'Debt Snowball Calculator'!T93,'Debt Snowball Calculator'!W93,'Debt Snowball Calculator'!Z93,'Debt Snowball Calculator'!AC93,'Debt Snowball Calculator'!AF93,'Debt Snowball Calculator'!AI93,'Debt Snowball Calculator'!AL93,'Debt Snowball Calculator'!AO93,'Debt Snowball Calculator'!AR93,'Debt Snowball Calculator'!AU93,'Debt Snowball Calculator'!AX93,'Debt Snowball Calculator'!BA93,'Debt Snowball Calculator'!BD93,'Debt Snowball Calculator'!BG93,'Debt Snowball Calculator'!BJ93,'Debt Snowball Calculator'!BM93,'Debt Snowball Calculator'!BP93,'Debt Snowball Calculator'!BS93,'Debt Snowball Calculator'!BV93,'Debt Snowball Calculator'!BY93,'Debt Snowball Calculator'!CB93,'Debt Snowball Calculator'!CE93,'Debt Snowball Calculator'!CH93,'Debt Snowball Calculator'!CK93,'Debt Snowball Calculator'!CN93,'Debt Snowball Calculator'!CQ93,'Debt Snowball Calculator'!CT93)","v":0},{"$f":"SUM('Debt Avalanche Calculator'!$E93,'Debt Avalanche Calculator'!$H93,'Debt Avalanche Calculator'!$K93,'Debt Avalanche Calculator'!$N93,'Debt Avalanche Calculator'!$Q93,'Debt Avalanche Calculator'!$T93,'Debt Avalanche Calculator'!$W93,'Debt Avalanche Calculator'!$Z93,'Debt Avalanche Calculator'!$AC93,'Debt Avalanche Calculator'!$AF93,'Debt Avalanche Calculator'!$AI93,'Debt Avalanche Calculator'!$AL93,'Debt Avalanche Calculator'!$AO93,'Debt Avalanche Calculator'!$AR93,'Debt Avalanche Calculator'!$AU93,'Debt Avalanche Calculator'!$AX93,'Debt Avalanche Calculator'!$BA93,'Debt Avalanche Calculator'!$BD93,'Debt Avalanche Calculator'!$BG93,'Debt Avalanche Calculator'!$BJ93,'Debt Avalanche Calculator'!$BM93,'Debt Avalanche Calculator'!$BP93,'Debt Avalanche Calculator'!$BS93,'Debt Avalanche Calculator'!$BV93,'Debt Avalanche Calculator'!$BY93,'Debt Avalanche Calculator'!$CB93,'Debt Avalanche Calculator'!$CE93,'Debt Avalanche Calculator'!$CH93,'Debt Avalanche Calculator'!$CK93,'Debt Avalanche Calculator'!$CN93,'Debt Avalanche Calculator'!$CQ93,'Debt Avalanche Calculator'!$CT93)","v":0},76]
[{"$nulls":8},77,{"$f":"SUM('Debt Snowball Calculator'!E94,'Debt Snowball Calculator'!H94,'Debt Snowball Calculator'!K94,'Debt Snowball Calculator'!N94,'Debt Snowball Calculator'!Q94,'Debt Snowball Calculator'!T94,'Debt Snowball Calculator'!W94,'Debt Snowball Calculator'!Z94,'Debt Snowball Calculator'!AC94,'Debt Snowball Calculator'!AF94,'Debt Snowball Calculator'!AI94,'Debt Snowball Calculator'!AL94,'Debt Snowball Calculator'!AO94,'Debt Snowball Calculator'!AR94,'Debt Snowball Calculator'!AU94,'Debt Snowball Calculator'!AX94,'Debt Snowball Calculator'!BA94,'Debt Snowball Calculator'!BD94,'Debt Snowball Calculator'!BG94,'Debt Snowball Calculator'!BJ94,'Debt Snowball Calculator'!BM94,'Debt Snowball Calculator'!BP94,'Debt Snowball Calculator'!BS94,'Debt Snowball Calculator'!BV94,'Debt Snowball Calculator'!BY94,'Debt Snowball Calculator'!CB94,'Debt Snowball Calculator'!CE94,'Debt Snowball Calculator'!CH94,'Debt Snowball Calculator'!CK94,'Debt Snowball Calculator'!CN94,'Debt Snowball Calculator'!CQ94,'Debt Snowball Calculator'!CT94)","v":0},{"$f":"SUM('Debt Avalanche Calculator'!$E94,'Debt Avalanche Calculator'!$H94,'Debt Avalanche Calculator'!$K94,'Debt Avalanche Calculator'!$N94,'Debt Avalanche Calculator'!$Q94,'Debt Avalanche Calculator'!$T94,'Debt Avalanche Calculator'!$W94,'Debt Avalanche Calculator'!$Z94,'Debt Avalanche Calculator'!$AC94,'Debt Avalanche Calculator'!$AF94,'Debt Avalanche Calculator'!$AI94,'Debt Avalanche Calculator'!$AL94,'Debt Avalanche Calculator'!$AO94,'Debt Avalanche Calculator'!$AR94,'Debt Avalanche Calculator'!$AU94,'Debt Avalanche Calculator'!$AX94,'Debt Avalanche Calculator'!$BA94,'Debt Avalanche Calculator'!$BD94,'Debt Avalanche Calculator'!$BG94,'Debt Avalanche Calculator'!$BJ94,'Debt Avalanche Calculator'!$BM94,'Debt Avalanche Calculator'!$BP94,'Debt Avalanche Calculator'!$BS94,'Debt Avalanche Calculator'!$BV94,'Debt Avalanche Calculator'!$BY94,'Debt Avalanche Calculator'!$CB94,'Debt Avalanche Calculator'!$CE94,'Debt Avalanche Calculator'!$CH94,'Debt Avalanche Calculator'!$CK94,'Debt Avalanche Calculator'!$CN94,'Debt Avalanche Calculator'!$CQ94,'Debt Avalanche Calculator'!$CT94)","v":0},77]
[{"$nulls":8},78,{"$f":"SUM('Debt Snowball Calculator'!E95,'Debt Snowball Calculator'!H95,'Debt Snowball Calculator'!K95,'Debt Snowball Calculator'!N95,'Debt Snowball Calculator'!Q95,'Debt Snowball Calculator'!T95,'Debt Snowball Calculator'!W95,'Debt Snowball Calculator'!Z95,'Debt Snowball Calculator'!AC95,'Debt Snowball Calculator'!AF95,'Debt Snowball Calculator'!AI95,'Debt Snowball Calculator'!AL95,'Debt Snowball Calculator'!AO95,'Debt Snowball Calculator'!AR95,'Debt Snowball Calculator'!AU95,'Debt Snowball Calculator'!AX95,'Debt Snowball Calculator'!BA95,'Debt Snowball Calculator'!BD95,'Debt Snowball Calculator'!BG95,'Debt Snowball Calculator'!BJ95,'Debt Snowball Calculator'!BM95,'Debt Snowball Calculator'!BP95,'Debt Snowball Calculator'!BS95,'Debt Snowball Calculator'!BV95,'Debt Snowball Calculator'!BY95,'Debt Snowball Calculator'!CB95,'Debt Snowball Calculator'!CE95,'Debt Snowball Calculator'!CH95,'Debt Snowball Calculator'!CK95,'Debt Snowball Calculator'!CN95,'Debt Snowball Calculator'!CQ95,'Debt Snowball Calculator'!CT95)","v":0},{"$f":"SUM('Debt Avalanche Calculator'!$E95,'Debt Avalanche Calculator'!$H95,'Debt Avalanche Calculator'!$K95,'Debt Avalanche Calculator'!$N95,'Debt Avalanche Calculator'!$Q95,'Debt Avalanche Calculator'!$T95,'Debt Avalanche Calculator'!$W95,'Debt Avalanche Calculator'!$Z95,'Debt Avalanche Calculator'!$AC95,'Debt Avalanche Calculator'!$AF95,'Debt Avalanche Calculator'!$AI95,'Debt Avalanche Calculator'!$AL95,'Debt Avalanche Calculator'!$AO95,'Debt Avalanche Calculator'!$AR95,'Debt Avalanche Calculator'!$AU95,'Debt Avalanche Calculator'!$AX95,'Debt Avalanche Calculator'!$BA95,'Debt Avalanche Calculator'!$BD95,'Debt Avalanche Calculator'!$BG95,'Debt Avalanche Calculator'!$BJ95,'Debt Avalanche Calculator'!$BM95,'Debt Avalanche Calculator'!$BP95,'Debt Avalanche Calculator'!$BS95,'Debt Avalanche Calculator'!$BV95,'Debt Avalanche Calculator'!$BY95,'Debt Avalanche Calculator'!$CB95,'Debt Avalanche Calculator'!$CE95,'Debt Avalanche Calculator'!$CH95,'Debt Avalanche Calculator'!$CK95,'Debt Avalanche Calculator'!$CN95,'Debt Avalanche Calculator'!$CQ95,'Debt Avalanche Calculator'!$CT95)","v":0},78]
[{"$nulls":8},79,{"$f":"SUM('Debt Snowball Calculator'!E96,'Debt Snowball Calculator'!H96,'Debt Snowball Calculator'!K96,'Debt Snowball Calculator'!N96,'Debt Snowball Calculator'!Q96,'Debt Snowball Calculator'!T96,'Debt Snowball Calculator'!W96,'Debt Snowball Calculator'!Z96,'Debt Snowball Calculator'!AC96,'Debt Snowball Calculator'!AF96,'Debt Snowball Calculator'!AI96,'Debt Snowball Calculator'!AL96,'Debt Snowball Calculator'!AO96,'Debt Snowball Calculator'!AR96,'Debt Snowball Calculator'!AU96,'Debt Snowball Calculator'!AX96,'Debt Snowball Calculator'!BA96,'Debt Snowball Calculator'!BD96,'Debt Snowball Calculator'!BG96,'Debt Snowball Calculator'!BJ96,'Debt Snowball Calculator'!BM96,'Debt Snowball Calculator'!BP96,'Debt Snowball Calculator'!BS96,'Debt Snowball Calculator'!BV96,'Debt Snowball Calculator'!BY96,'Debt Snowball Calculator'!CB96,'Debt Snowball Calculator'!CE96,'Debt Snowball Calculator'!CH96,'Debt Snowball Calculator'!CK96,'Debt Snowball Calculator'!CN96,'Debt Snowball Calculator'!CQ96,'Debt Snowball Calculator'!CT96)","v":0},{"$f":"SUM('Debt Avalanche Calculator'!$E96,'Debt Avalanche Calculator'!$H96,'Debt Avalanche Calculator'!$K96,'Debt Avalanche Calculator'!$N96,'Debt Avalanche Calculator'!$Q96,'Debt Avalanche Calculator'!$T96,'Debt Avalanche Calculator'!$W96,'Debt Avalanche Calculator'!$Z96,'Debt Avalanche Calculator'!$AC96,'Debt Avalanche Calculator'!$AF96,'Debt Avalanche Calculator'!$AI96,'Debt Avalanche Calculator'!$AL96,'Debt Avalanche Calculator'!$AO96,'Debt Avalanche Calculator'!$AR96,'Debt Avalanche Calculator'!$AU96,'Debt Avalanche Calculator'!$AX96,'Debt Avalanche Calculator'!$BA96,'Debt Avalanche Calculator'!$BD96,'Debt Avalanche Calculator'!$BG96,'Debt Avalanche Calculator'!$BJ96,'Debt Avalanche Calculator'!$BM96,'Debt Avalanche Calculator'!$BP96,'Debt Avalanche Calculator'!$BS96,'Debt Avalanche Calculator'!$BV96,'Debt Avalanche Calculator'!$BY96,'Debt Avalanche Calculator'!$CB96,'Debt Avalanche Calculator'!$CE96,'Debt Avalanche Calculator'!$CH96,'Debt Avalanche Calculator'!$CK96,'Debt Avalanche Calculator'!$CN96,'Debt Avalanche Calculator'!$CQ96,'Debt Avalanche Calculator'!$CT96)","v":0},79]
[{"$nulls":8},80,{"$f":"SUM('Debt Snowball Calculator'!E97,'Debt Snowball Calculator'!H97,'Debt Snowball Calculator'!K97,'Debt Snowball Calculator'!N97,'Debt Snowball Calculator'!Q97,'Debt Snowball Calculator'!T97,'Debt Snowball Calculator'!W97,'Debt Snowball Calculator'!Z97,'Debt Snowball Calculator'!AC97,'Debt Snowball Calculator'!AF97,'Debt Snowball Calculator'!AI97,'Debt Snowball Calculator'!AL97,'Debt Snowball Calculator'!AO97,'Debt Snowball Calculator'!AR97,'Debt Snowball Calculator'!AU97,'Debt Snowball Calculator'!AX97,'Debt Snowball Calculator'!BA97,'Debt Snowball Calculator'!BD97,'Debt Snowball Calculator'!BG97,'Debt Snowball Calculator'!BJ97,'Debt Snowball Calculator'!BM97,'Debt Snowball Calculator'!BP97,'Debt Snowball Calculator'!BS97,'Debt Snowball Calculator'!BV97,'Debt Snowball Calculator'!BY97,'Debt Snowball Calculator'!CB97,'Debt Snowball Calculator'!CE97,'Debt Snowball Calculator'!CH97,'Debt Snowball Calculator'!CK97,'Debt Snowball Calculator'!CN97,'Debt Snowball Calculator'!CQ97,'Debt Snowball Calculator'!CT97)","v":0},{"$f":"SUM('Debt Avalanche Calculator'!$E97,'Debt Avalanche Calculator'!$H97,'Debt Avalanche Calculator'!$K97,'Debt Avalanche Calculator'!$N97,'Debt Avalanche Calculator'!$Q97,'Debt Avalanche Calculator'!$T97,'Debt Avalanche Calculator'!$W97,'Debt Avalanche Calculator'!$Z97,'Debt Avalanche Calculator'!$AC97,'Debt Avalanche Calculator'!$AF97,'Debt Avalanche Calculator'!$AI97,'Debt Avalanche Calculator'!$AL97,'Debt Avalanche Calculator'!$AO97,'Debt Avalanche Calculator'!$AR97,'Debt Avalanche Calculator'!$AU97,'Debt Avalanche Calculator'!$AX97,'Debt Avalanche Calculator'!$BA97,'Debt Avalanche Calculator'!$BD97,'Debt Avalanche Calculator'!$BG97,'Debt Avalanche Calculator'!$BJ97,'Debt Avalanche Calculator'!$BM97,'Debt Avalanche Calculator'!$BP97,'Debt Avalanche Calculator'!$BS97,'Debt Avalanche Calculator'!$BV97,'Debt Avalanche Calculator'!$BY97,'Debt Avalanche Calculator'!$CB97,'Debt Avalanche Calculator'!$CE97,'Debt Avalanche Calculator'!$CH97,'Debt Avalanche Calculator'!$CK97,'Debt Avalanche Calculator'!$CN97,'Debt Avalanche Calculator'!$CQ97,'Debt Avalanche Calculator'!$CT97)","v":0},80]
[{"$nulls":8},81,{"$f":"SUM('Debt Snowball Calculator'!E98,'Debt Snowball Calculator'!H98,'Debt Snowball Calculator'!K98,'Debt Snowball Calculator'!N98,'Debt Snowball Calculator'!Q98,'Debt Snowball Calculator'!T98,'Debt Snowball Calculator'!W98,'Debt Snowball Calculator'!Z98,'Debt Snowball Calculator'!AC98,'Debt Snowball Calculator'!AF98,'Debt Snowball Calculator'!AI98,'Debt Snowball Calculator'!AL98,'Debt Snowball Calculator'!AO98,'Debt Snowball Calculator'!AR98,'Debt Snowball Calculator'!AU98,'Debt Snowball Calculator'!AX98,'Debt Snowball Calculator'!BA98,'Debt Snowball Calculator'!BD98,'Debt Snowball Calculator'!BG98,'Debt Snowball Calculator'!BJ98,'Debt Snowball Calculator'!BM98,'Debt Snowball Calculator'!BP98,'Debt Snowball Calculator'!BS98,'Debt Snowball Calculator'!BV98,'Debt Snowball Calculator'!BY98,'Debt Snowball Calculator'!CB98,'Debt Snowball Calculator'!CE98,'Debt Snowball Calculator'!CH98,'Debt Snowball Calculator'!CK98,'Debt Snowball Calculator'!CN98,'Debt Snowball Calculator'!CQ98,'Debt Snowball Calculator'!CT98)","v":0},{"$f":"SUM('Debt Avalanche Calculator'!$E98,'Debt Avalanche Calculator'!$H98,'Debt Avalanche Calculator'!$K98,'Debt Avalanche Calculator'!$N98,'Debt Avalanche Calculator'!$Q98,'Debt Avalanche Calculator'!$T98,'Debt Avalanche Calculator'!$W98,'Debt Avalanche Calculator'!$Z98,'Debt Avalanche Calculator'!$AC98,'Debt Avalanche Calculator'!$AF98,'Debt Avalanche Calculator'!$AI98,'Debt Avalanche Calculator'!$AL98,'Debt Avalanche Calculator'!$AO98,'Debt Avalanche Calculator'!$AR98,'Debt Avalanche Calculator'!$AU98,'Debt Avalanche Calculator'!$AX98,'Debt Avalanche Calculator'!$BA98,'Debt Avalanche Calculator'!$BD98,'Debt Avalanche Calculator'!$BG98,'Debt Avalanche Calculator'!$BJ98,'Debt Avalanche Calculator'!$BM98,'Debt Avalanche Calculator'!$BP98,'Debt Avalanche Calculator'!$BS98,'Debt Avalanche Calculator'!$BV98,'Debt Avalanche Calculator'!$BY98,'Debt Avalanche Calculator'!$CB98,'Debt Avalanche Calculator'!$CE98,'Debt Avalanche Calculator'!$CH98,'Debt Avalanche Calculator'!$CK98,'Debt Avalanche Calculator'!$CN98,'Debt Avalanche Calculator'!$CQ98,'Debt Avalanche Calculator'!$CT98)","v":0},81]
[{"$nulls":8},82,{"$f":"SUM('Debt Snowball Calculator'!E99,'Debt Snowball Calculator'!H99,'Debt Snowball Calculator'!K99,'Debt Snowball Calculator'!N99,'Debt Snowball Calculator'!Q99,'Debt Snowball Calculator'!T99,'Debt Snowball Calculator'!W99,'Debt Snowball Calculator'!Z99,'Debt Snowball Calculator'!AC99,'Debt Snowball Calculator'!AF99,'Debt Snowball Calculator'!AI99,'Debt Snowball Calculator'!AL99,'Debt Snowball Calculator'!AO99,'Debt Snowball Calculator'!AR99,'Debt Snowball Calculator'!AU99,'Debt Snowball Calculator'!AX99,'Debt Snowball Calculator'!BA99,'Debt Snowball Calculator'!BD99,'Debt Snowball Calculator'!BG99,'Debt Snowball Calculator'!BJ99,'Debt Snowball Calculator'!BM99,'Debt Snowball Calculator'!BP99,'Debt Snowball Calculator'!BS99,'Debt Snowball Calculator'!BV99,'Debt Snowball Calculator'!BY99,'Debt Snowball Calculator'!CB99,'Debt Snowball Calculator'!CE99,'Debt Snowball Calculator'!CH99,'Debt Snowball Calculator'!CK99,'Debt Snowball Calculator'!CN99,'Debt Snowball Calculator'!CQ99,'Debt Snowball Calculator'!CT99)","v":0},{"$f":"SUM('Debt Avalanche Calculator'!$E99,'Debt Avalanche Calculator'!$H99,'Debt Avalanche Calculator'!$K99,'Debt Avalanche Calculator'!$N99,'Debt Avalanche Calculator'!$Q99,'Debt Avalanche Calculator'!$T99,'Debt Avalanche Calculator'!$W99,'Debt Avalanche Calculator'!$Z99,'Debt Avalanche Calculator'!$AC99,'Debt Avalanche Calculator'!$AF99,'Debt Avalanche Calculator'!$AI99,'Debt Avalanche Calculator'!$AL99,'Debt Avalanche Calculator'!$AO99,'Debt Avalanche Calculator'!$AR99,'Debt Avalanche Calculator'!$AU99,'Debt Avalanche Calculator'!$AX99,'Debt Avalanche Calculator'!$BA99,'Debt Avalanche Calculator'!$BD99,'Debt Avalanche Calculator'!$BG99,'Debt Avalanche Calculator'!$BJ99,'Debt Avalanche Calculator'!$BM99,'Debt Avalanche Calculator'!$BP99,'Debt Avalanche Calculator'!$BS99,'Debt Avalanche Calculator'!$BV99,'Debt Avalanche Calculator'!$BY99,'Debt Avalanche Calculator'!$CB99,'Debt Avalanche Calculator'!$CE99,'Debt Avalanche Calculator'!$CH99,'Debt Avalanche Calculator'!$CK99,'Debt Avalanche Calculator'!$CN99,'Debt Avalanche Calculator'!$CQ99,'Debt Avalanche Calculator'!$CT99)","v":0},82]
[{"$nulls":8},83,{"$f":"SUM('Debt Snowball Calculator'!E100,'Debt Snowball Calculator'!H100,'Debt Snowball Calculator'!K100,'Debt Snowball Calculator'!N100,'Debt Snowball Calculator'!Q100,'Debt Snowball Calculator'!T100,'Debt Snowball Calculator'!W100,'Debt Snowball Calculator'!Z100,'Debt Snowball Calculator'!AC100,'Debt Snowball Calculator'!AF100,'Debt Snowball Calculator'!AI100,'Debt Snowball Calculator'!AL100,'Debt Snowball Calculator'!AO100,'Debt Snowball Calculator'!AR100,'Debt Snowball Calculator'!AU100,'Debt Snowball Calculator'!AX100,'Debt Snowball Calculator'!BA100,'Debt Snowball Calculator'!BD100,'Debt Snowball Calculator'!BG100,'Debt Snowball Calculator'!BJ100,'Debt Snowball Calculator'!BM100,'Debt Snowball Calculator'!BP100,'Debt Snowball Calculator'!BS100,'Debt Snowball Calculator'!BV100,'Debt Snowball Calculator'!BY100,'Debt Snowball Calculator'!CB100,'Debt Snowball Calculator'!CE100,'Debt Snowball Calculator'!CH100,'Debt Snowball Calculator'!CK100,'Debt Snowball Calculator'!CN100,'Debt Snowball Calculator'!CQ100,'Debt Snowball Calculator'!CT100)","v":0},{"$f":"SUM('Debt Avalanche Calculator'!$E100,'Debt Avalanche Calculator'!$H100,'Debt Avalanche Calculator'!$K100,'Debt Avalanche Calculator'!$N100,'Debt Avalanche Calculator'!$Q100,'Debt Avalanche Calculator'!$T100,'Debt Avalanche Calculator'!$W100,'Debt Avalanche Calculator'!$Z100,'Debt Avalanche Calculator'!$AC100,'Debt Avalanche Calculator'!$AF100,'Debt Avalanche Calculator'!$AI100,'Debt Avalanche Calculator'!$AL100,'Debt Avalanche Calculator'!$AO100,'Debt Avalanche Calculator'!$AR100,'Debt Avalanche Calculator'!$AU100,'Debt Avalanche Calculator'!$AX100,'Debt Avalanche Calculator'!$BA100,'Debt Avalanche Calculator'!$BD100,'Debt Avalanche Calculator'!$BG100,'Debt Avalanche Calculator'!$BJ100,'Debt Avalanche Calculator'!$BM100,'Debt Avalanche Calculator'!$BP100,'Debt Avalanche Calculator'!$BS100,'Debt Avalanche Calculator'!$BV100,'Debt Avalanche Calculator'!$BY100,'Debt Avalanche Calculator'!$CB100,'Debt Avalanche Calculator'!$CE100,'Debt Avalanche Calculator'!$CH100,'Debt Avalanche Calculator'!$CK100,'Debt Avalanche Calculator'!$CN100,'Debt Avalanche Calculator'!$CQ100,'Debt Avalanche Calculator'!$CT100)","v":0},83]
[{"$nulls":8},84,{"$f":"SUM('Debt Snowball Calculator'!E101,'Debt Snowball Calculator'!H101,'Debt Snowball Calculator'!K101,'Debt Snowball Calculator'!N101,'Debt Snowball Calculator'!Q101,'Debt Snowball Calculator'!T101,'Debt Snowball Calculator'!W101,'Debt Snowball Calculator'!Z101,'Debt Snowball Calculator'!AC101,'Debt Snowball Calculator'!AF101,'Debt Snowball Calculator'!AI101,'Debt Snowball Calculator'!AL101,'Debt Snowball Calculator'!AO101,'Debt Snowball Calculator'!AR101,'Debt Snowball Calculator'!AU101,'Debt Snowball Calculator'!AX101,'Debt Snowball Calculator'!BA101,'Debt Snowball Calculator'!BD101,'Debt Snowball Calculator'!BG101,'Debt Snowball Calculator'!BJ101,'Debt Snowball Calculator'!BM101,'Debt Snowball Calculator'!BP101,'Debt Snowball Calculator'!BS101,'Debt Snowball Calculator'!BV101,'Debt Snowball Calculator'!BY101,'Debt Snowball Calculator'!CB101,'Debt Snowball Calculator'!CE101,'Debt Snowball Calculator'!CH101,'Debt Snowball Calculator'!CK101,'Debt Snowball Calculator'!CN101,'Debt Snowball Calculator'!CQ101,'Debt Snowball Calculator'!CT101)","v":0},{"$f":"SUM('Debt Avalanche Calculator'!$E101,'Debt Avalanche Calculator'!$H101,'Debt Avalanche Calculator'!$K101,'Debt Avalanche Calculator'!$N101,'Debt Avalanche Calculator'!$Q101,'Debt Avalanche Calculator'!$T101,'Debt Avalanche Calculator'!$W101,'Debt Avalanche Calculator'!$Z101,'Debt Avalanche Calculator'!$AC101,'Debt Avalanche Calculator'!$AF101,'Debt Avalanche Calculator'!$AI101,'Debt Avalanche Calculator'!$AL101,'Debt Avalanche Calculator'!$AO101,'Debt Avalanche Calculator'!$AR101,'Debt Avalanche Calculator'!$AU101,'Debt Avalanche Calculator'!$AX101,'Debt Avalanche Calculator'!$BA101,'Debt Avalanche Calculator'!$BD101,'Debt Avalanche Calculator'!$BG101,'Debt Avalanche Calculator'!$BJ101,'Debt Avalanche Calculator'!$BM101,'Debt Avalanche Calculator'!$BP101,'Debt Avalanche Calculator'!$BS101,'Debt Avalanche Calculator'!$BV101,'Debt Avalanche Calculator'!$BY101,'Debt Avalanche Calculator'!$CB101,'Debt Avalanche Calculator'!$CE101,'Debt Avalanche Calculator'!$CH101,'Debt Avalanche Calculator'!$CK101,'Debt Avalanche Calculator'!$CN101,'Debt Avalanche Calculator'!$CQ101,'Debt Avalanche Calculator'!$CT101)","v":0},84]
[{"$nulls":8},85,{"$f":"SUM('Debt Snowball Calculator'!E102,'Debt Snowball Calculator'!H102,'Debt Snowball Calculator'!K102,'Debt Snowball Calculator'!N102,'Debt Snowball Calculator'!Q102,'Debt Snowball Calculator'!T102,'Debt Snowball Calculator'!W102,'Debt Snowball Calculator'!Z102,'Debt Snowball Calculator'!AC102,'Debt Snowball Calculator'!AF102,'Debt Snowball Calculator'!AI102,'Debt Snowball Calculator'!AL102,'Debt Snowball Calculator'!AO102,'Debt Snowball Calculator'!AR102,'Debt Snowball Calculator'!AU102,'Debt Snowball Calculator'!AX102,'Debt Snowball Calculator'!BA102,'Debt Snowball Calculator'!BD102,'Debt Snowball Calculator'!BG102,'Debt Snowball Calculator'!BJ102,'Debt Snowball Calculator'!BM102,'Debt Snowball Calculator'!BP102,'Debt Snowball Calculator'!BS102,'Debt Snowball Calculator'!BV102,'Debt Snowball Calculator'!BY102,'Debt Snowball Calculator'!CB102,'Debt Snowball Calculator'!CE102,'Debt Snowball Calculator'!CH102,'Debt Snowball Calculator'!CK102,'Debt Snowball Calculator'!CN102,'Debt Snowball Calculator'!CQ102,'Debt Snowball Calculator'!CT102)","v":0},{"$f":"SUM('Debt Avalanche Calculator'!$E102,'Debt Avalanche Calculator'!$H102,'Debt Avalanche Calculator'!$K102,'Debt Avalanche Calculator'!$N102,'Debt Avalanche Calculator'!$Q102,'Debt Avalanche Calculator'!$T102,'Debt Avalanche Calculator'!$W102,'Debt Avalanche Calculator'!$Z102,'Debt Avalanche Calculator'!$AC102,'Debt Avalanche Calculator'!$AF102,'Debt Avalanche Calculator'!$AI102,'Debt Avalanche Calculator'!$AL102,'Debt Avalanche Calculator'!$AO102,'Debt Avalanche Calculator'!$AR102,'Debt Avalanche Calculator'!$AU102,'Debt Avalanche Calculator'!$AX102,'Debt Avalanche Calculator'!$BA102,'Debt Avalanche Calculator'!$BD102,'Debt Avalanche Calculator'!$BG102,'Debt Avalanche Calculator'!$BJ102,'Debt Avalanche Calculator'!$BM102,'Debt Avalanche Calculator'!$BP102,'Debt Avalanche Calculator'!$BS102,'Debt Avalanche Calculator'!$BV102,'Debt Avalanche Calculator'!$BY102,'Debt Avalanche Calculator'!$CB102,'Debt Avalanche Calculator'!$CE102,'Debt Avalanche Calculator'!$CH102,'Debt Avalanche Calculator'!$CK102,'Debt Avalanche Calculator'!$CN102,'Debt Avalanche Calculator'!$CQ102,'Debt Avalanche Calculator'!$CT102)","v":0},85]
[{"$nulls":8},86,{"$f":"SUM('Debt Snowball Calculator'!E103,'Debt Snowball Calculator'!H103,'Debt Snowball Calculator'!K103,'Debt Snowball Calculator'!N103,'Debt Snowball Calculator'!Q103,'Debt Snowball Calculator'!T103,'Debt Snowball Calculator'!W103,'Debt Snowball Calculator'!Z103,'Debt Snowball Calculator'!AC103,'Debt Snowball Calculator'!AF103,'Debt Snowball Calculator'!AI103,'Debt Snowball Calculator'!AL103,'Debt Snowball Calculator'!AO103,'Debt Snowball Calculator'!AR103,'Debt Snowball Calculator'!AU103,'Debt Snowball Calculator'!AX103,'Debt Snowball Calculator'!BA103,'Debt Snowball Calculator'!BD103,'Debt Snowball Calculator'!BG103,'Debt Snowball Calculator'!BJ103,'Debt Snowball Calculator'!BM103,'Debt Snowball Calculator'!BP103,'Debt Snowball Calculator'!BS103,'Debt Snowball Calculator'!BV103,'Debt Snowball Calculator'!BY103,'Debt Snowball Calculator'!CB103,'Debt Snowball Calculator'!CE103,'Debt Snowball Calculator'!CH103,'Debt Snowball Calculator'!CK103,'Debt Snowball Calculator'!CN103,'Debt Snowball Calculator'!CQ103,'Debt Snowball Calculator'!CT103)","v":0},{"$f":"SUM('Debt Avalanche Calculator'!$E103,'Debt Avalanche Calculator'!$H103,'Debt Avalanche Calculator'!$K103,'Debt Avalanche Calculator'!$N103,'Debt Avalanche Calculator'!$Q103,'Debt Avalanche Calculator'!$T103,'Debt Avalanche Calculator'!$W103,'Debt Avalanche Calculator'!$Z103,'Debt Avalanche Calculator'!$AC103,'Debt Avalanche Calculator'!$AF103,'Debt Avalanche Calculator'!$AI103,'Debt Avalanche Calculator'!$AL103,'Debt Avalanche Calculator'!$AO103,'Debt Avalanche Calculator'!$AR103,'Debt Avalanche Calculator'!$AU103,'Debt Avalanche Calculator'!$AX103,'Debt Avalanche Calculator'!$BA103,'Debt Avalanche Calculator'!$BD103,'Debt Avalanche Calculator'!$BG103,'Debt Avalanche Calculator'!$BJ103,'Debt Avalanche Calculator'!$BM103,'Debt Avalanche Calculator'!$BP103,'Debt Avalanche Calculator'!$BS103,'Debt Avalanche Calculator'!$BV103,'Debt Avalanche Calculator'!$BY103,'Debt Avalanche Calculator'!$CB103,'Debt Avalanche Calculator'!$CE103,'Debt Avalanche Calculator'!$CH103,'Debt Avalanche Calculator'!$CK103,'Debt Avalanche Calculator'!$CN103,'Debt Avalanche Calculator'!$CQ103,'Debt Avalanche Calculator'!$CT103)","v":0},86]
[{"$nulls":8},87,{"$f":"SUM('Debt Snowball Calculator'!E104,'Debt Snowball Calculator'!H104,'Debt Snowball Calculator'!K104,'Debt Snowball Calculator'!N104,'Debt Snowball Calculator'!Q104,'Debt Snowball Calculator'!T104,'Debt Snowball Calculator'!W104,'Debt Snowball Calculator'!Z104,'Debt Snowball Calculator'!AC104,'Debt Snowball Calculator'!AF104,'Debt Snowball Calculator'!AI104,'Debt Snowball Calculator'!AL104,'Debt Snowball Calculator'!AO104,'Debt Snowball Calculator'!AR104,'Debt Snowball Calculator'!AU104,'Debt Snowball Calculator'!AX104,'Debt Snowball Calculator'!BA104,'Debt Snowball Calculator'!BD104,'Debt Snowball Calculator'!BG104,'Debt Snowball Calculator'!BJ104,'Debt Snowball Calculator'!BM104,'Debt Snowball Calculator'!BP104,'Debt Snowball Calculator'!BS104,'Debt Snowball Calculator'!BV104,'Debt Snowball Calculator'!BY104,'Debt Snowball Calculator'!CB104,'Debt Snowball Calculator'!CE104,'Debt Snowball Calculator'!CH104,'Debt Snowball Calculator'!CK104,'Debt Snowball Calculator'!CN104,'Debt Snowball Calculator'!CQ104,'Debt Snowball Calculator'!CT104)","v":0},{"$f":"SUM('Debt Avalanche Calculator'!$E104,'Debt Avalanche Calculator'!$H104,'Debt Avalanche Calculator'!$K104,'Debt Avalanche Calculator'!$N104,'Debt Avalanche Calculator'!$Q104,'Debt Avalanche Calculator'!$T104,'Debt Avalanche Calculator'!$W104,'Debt Avalanche Calculator'!$Z104,'Debt Avalanche Calculator'!$AC104,'Debt Avalanche Calculator'!$AF104,'Debt Avalanche Calculator'!$AI104,'Debt Avalanche Calculator'!$AL104,'Debt Avalanche Calculator'!$AO104,'Debt Avalanche Calculator'!$AR104,'Debt Avalanche Calculator'!$AU104,'Debt Avalanche Calculator'!$AX104,'Debt Avalanche Calculator'!$BA104,'Debt Avalanche Calculator'!$BD104,'Debt Avalanche Calculator'!$BG104,'Debt Avalanche Calculator'!$BJ104,'Debt Avalanche Calculator'!$BM104,'Debt Avalanche Calculator'!$BP104,'Debt Avalanche Calculator'!$BS104,'Debt Avalanche Calculator'!$BV104,'Debt Avalanche Calculator'!$BY104,'Debt Avalanche Calculator'!$CB104,'Debt Avalanche Calculator'!$CE104,'Debt Avalanche Calculator'!$CH104,'Debt Avalanche Calculator'!$CK104,'Debt Avalanche Calculator'!$CN104,'Debt Avalanche Calculator'!$CQ104,'Debt Avalanche Calculator'!$CT104)","v":0},87]
[{"$nulls":8},88,{"$f":"SUM('Debt Snowball Calculator'!E105,'Debt Snowball Calculator'!H105,'Debt Snowball Calculator'!K105,'Debt Snowball Calculator'!N105,'Debt Snowball Calculator'!Q105,'Debt Snowball Calculator'!T105,'Debt Snowball Calculator'!W105,'Debt Snowball Calculator'!Z105,'Debt Snowball Calculator'!AC105,'Debt Snowball Calculator'!AF105,'Debt Snowball Calculator'!AI105,'Debt Snowball Calculator'!AL105,'Debt Snowball Calculator'!AO105,'Debt Snowball Calculator'!AR105,'Debt Snowball Calculator'!AU105,'Debt Snowball Calculator'!AX105,'Debt Snowball Calculator'!BA105,'Debt Snowball Calculator'!BD105,'Debt Snowball Calculator'!BG105,'Debt Snowball Calculator'!BJ105,'Debt Snowball Calculator'!BM105,'Debt Snowball Calculator'!BP105,'Debt Snowball Calculator'!BS105,'Debt Snowball Calculator'!BV105,'Debt Snowball Calculator'!BY105,'Debt Snowball Calculator'!CB105,'Debt Snowball Calculator'!CE105,'Debt Snowball Calculator'!CH105,'Debt Snowball Calculator'!CK105,'Debt Snowball Calculator'!CN105,'Debt Snowball Calculator'!CQ105,'Debt Snowball Calculator'!CT105)","v":0},{"$f":"SUM('Debt Avalanche Calculator'!$E105,'Debt Avalanche Calculator'!$H105,'Debt Avalanche Calculator'!$K105,'Debt Avalanche Calculator'!$N105,'Debt Avalanche Calculator'!$Q105,'Debt Avalanche Calculator'!$T105,'Debt Avalanche Calculator'!$W105,'Debt Avalanche Calculator'!$Z105,'Debt Avalanche Calculator'!$AC105,'Debt Avalanche Calculator'!$AF105,'Debt Avalanche Calculator'!$AI105,'Debt Avalanche Calculator'!$AL105,'Debt Avalanche Calculator'!$AO105,'Debt Avalanche Calculator'!$AR105,'Debt Avalanche Calculator'!$AU105,'Debt Avalanche Calculator'!$AX105,'Debt Avalanche Calculator'!$BA105,'Debt Avalanche Calculator'!$BD105,'Debt Avalanche Calculator'!$BG105,'Debt Avalanche Calculator'!$BJ105,'Debt Avalanche Calculator'!$BM105,'Debt Avalanche Calculator'!$BP105,'Debt Avalanche Calculator'!$BS105,'Debt Avalanche Calculator'!$BV105,'Debt Avalanche Calculator'!$BY105,'Debt Avalanche Calculator'!$CB105,'Debt Avalanche Calculator'!$CE105,'Debt Avalanche Calculator'!$CH105,'Debt Avalanche Calculator'!$CK105,'Debt Avalanche Calculator'!$CN105,'Debt Avalanche Calculator'!$CQ105,'Debt Avalanche Calculator'!$CT105)","v":0},88]
[{"$nulls":8},89,{"$f":"SUM('Debt Snowball Calculator'!E106,'Debt Snowball Calculator'!H106,'Debt Snowball Calculator'!K106,'Debt Snowball Calculator'!N106,'Debt Snowball Calculator'!Q106,'Debt Snowball Calculator'!T106,'Debt Snowball Calculator'!W106,'Debt Snowball Calculator'!Z106,'Debt Snowball Calculator'!AC106,'Debt Snowball Calculator'!AF106,'Debt Snowball Calculator'!AI106,'Debt Snowball Calculator'!AL106,'Debt Snowball Calculator'!AO106,'Debt Snowball Calculator'!AR106,'Debt Snowball Calculator'!AU106,'Debt Snowball Calculator'!AX106,'Debt Snowball Calculator'!BA106,'Debt Snowball Calculator'!BD106,'Debt Snowball Calculator'!BG106,'Debt Snowball Calculator'!BJ106,'Debt Snowball Calculator'!BM106,'Debt Snowball Calculator'!BP106,'Debt Snowball Calculator'!BS106,'Debt Snowball Calculator'!BV106,'Debt Snowball Calculator'!BY106,'Debt Snowball Calculator'!CB106,'Debt Snowball Calculator'!CE106,'Debt Snowball Calculator'!CH106,'Debt Snowball Calculator'!CK106,'Debt Snowball Calculator'!CN106,'Debt Snowball Calculator'!CQ106,'Debt Snowball Calculator'!CT106)","v":0},{"$f":"SUM('Debt Avalanche Calculator'!$E106,'Debt Avalanche Calculator'!$H106,'Debt Avalanche Calculator'!$K106,'Debt Avalanche Calculator'!$N106,'Debt Avalanche Calculator'!$Q106,'Debt Avalanche Calculator'!$T106,'Debt Avalanche Calculator'!$W106,'Debt Avalanche Calculator'!$Z106,'Debt Avalanche Calculator'!$AC106,'Debt Avalanche Calculator'!$AF106,'Debt Avalanche Calculator'!$AI106,'Debt Avalanche Calculator'!$AL106,'Debt Avalanche Calculator'!$AO106,'Debt Avalanche Calculator'!$AR106,'Debt Avalanche Calculator'!$AU106,'Debt Avalanche Calculator'!$AX106,'Debt Avalanche Calculator'!$BA106,'Debt Avalanche Calculator'!$BD106,'Debt Avalanche Calculator'!$BG106,'Debt Avalanche Calculator'!$BJ106,'Debt Avalanche Calculator'!$BM106,'Debt Avalanche Calculator'!$BP106,'Debt Avalanche Calculator'!$BS106,'Debt Avalanche Calculator'!$BV106,'Debt Avalanche Calculator'!$BY106,'Debt Avalanche Calculator'!$CB106,'Debt Avalanche Calculator'!$CE106,'Debt Avalanche Calculator'!$CH106,'Debt Avalanche Calculator'!$CK106,'Debt Avalanche Calculator'!$CN106,'Debt Avalanche Calculator'!$CQ106,'Debt Avalanche Calculator'!$CT106)","v":0},89]
[{"$nulls":8},90,{"$f":"SUM('Debt Snowball Calculator'!E107,'Debt Snowball Calculator'!H107,'Debt Snowball Calculator'!K107,'Debt Snowball Calculator'!N107,'Debt Snowball Calculator'!Q107,'Debt Snowball Calculator'!T107,'Debt Snowball Calculator'!W107,'Debt Snowball Calculator'!Z107,'Debt Snowball Calculator'!AC107,'Debt Snowball Calculator'!AF107,'Debt Snowball Calculator'!AI107,'Debt Snowball Calculator'!AL107,'Debt Snowball Calculator'!AO107,'Debt Snowball Calculator'!AR107,'Debt Snowball Calculator'!AU107,'Debt Snowball Calculator'!AX107,'Debt Snowball Calculator'!BA107,'Debt Snowball Calculator'!BD107,'Debt Snowball Calculator'!BG107,'Debt Snowball Calculator'!BJ107,'Debt Snowball Calculator'!BM107,'Debt Snowball Calculator'!BP107,'Debt Snowball Calculator'!BS107,'Debt Snowball Calculator'!BV107,'Debt Snowball Calculator'!BY107,'Debt Snowball Calculator'!CB107,'Debt Snowball Calculator'!CE107,'Debt Snowball Calculator'!CH107,'Debt Snowball Calculator'!CK107,'Debt Snowball Calculator'!CN107,'Debt Snowball Calculator'!CQ107,'Debt Snowball Calculator'!CT107)","v":0},{"$f":"SUM('Debt Avalanche Calculator'!$E107,'Debt Avalanche Calculator'!$H107,'Debt Avalanche Calculator'!$K107,'Debt Avalanche Calculator'!$N107,'Debt Avalanche Calculator'!$Q107,'Debt Avalanche Calculator'!$T107,'Debt Avalanche Calculator'!$W107,'Debt Avalanche Calculator'!$Z107,'Debt Avalanche Calculator'!$AC107,'Debt Avalanche Calculator'!$AF107,'Debt Avalanche Calculator'!$AI107,'Debt Avalanche Calculator'!$AL107,'Debt Avalanche Calculator'!$AO107,'Debt Avalanche Calculator'!$AR107,'Debt Avalanche Calculator'!$AU107,'Debt Avalanche Calculator'!$AX107,'Debt Avalanche Calculator'!$BA107,'Debt Avalanche Calculator'!$BD107,'Debt Avalanche Calculator'!$BG107,'Debt Avalanche Calculator'!$BJ107,'Debt Avalanche Calculator'!$BM107,'Debt Avalanche Calculator'!$BP107,'Debt Avalanche Calculator'!$BS107,'Debt Avalanche Calculator'!$BV107,'Debt Avalanche Calculator'!$BY107,'Debt Avalanche Calculator'!$CB107,'Debt Avalanche Calculator'!$CE107,'Debt Avalanche Calculator'!$CH107,'Debt Avalanche Calculator'!$CK107,'Debt Avalanche Calculator'!$CN107,'Debt Avalanche Calculator'!$CQ107,'Debt Avalanche Calculator'!$CT107)","v":0},90]
[{"$nulls":8},91,{"$f":"SUM('Debt Snowball Calculator'!E108,'Debt Snowball Calculator'!H108,'Debt Snowball Calculator'!K108,'Debt Snowball Calculator'!N108,'Debt Snowball Calculator'!Q108,'Debt Snowball Calculator'!T108,'Debt Snowball Calculator'!W108,'Debt Snowball Calculator'!Z108,'Debt Snowball Calculator'!AC108,'Debt Snowball Calculator'!AF108,'Debt Snowball Calculator'!AI108,'Debt Snowball Calculator'!AL108,'Debt Snowball Calculator'!AO108,'Debt Snowball Calculator'!AR108,'Debt Snowball Calculator'!AU108,'Debt Snowball Calculator'!AX108,'Debt Snowball Calculator'!BA108,'Debt Snowball Calculator'!BD108,'Debt Snowball Calculator'!BG108,'Debt Snowball Calculator'!BJ108,'Debt Snowball Calculator'!BM108,'Debt Snowball Calculator'!BP108,'Debt Snowball Calculator'!BS108,'Debt Snowball Calculator'!BV108,'Debt Snowball Calculator'!BY108,'Debt Snowball Calculator'!CB108,'Debt Snowball Calculator'!CE108,'Debt Snowball Calculator'!CH108,'Debt Snowball Calculator'!CK108,'Debt Snowball Calculator'!CN108,'Debt Snowball Calculator'!CQ108,'Debt Snowball Calculator'!CT108)","v":0},{"$f":"SUM('Debt Avalanche Calculator'!$E108,'Debt Avalanche Calculator'!$H108,'Debt Avalanche Calculator'!$K108,'Debt Avalanche Calculator'!$N108,'Debt Avalanche Calculator'!$Q108,'Debt Avalanche Calculator'!$T108,'Debt Avalanche Calculator'!$W108,'Debt Avalanche Calculator'!$Z108,'Debt Avalanche Calculator'!$AC108,'Debt Avalanche Calculator'!$AF108,'Debt Avalanche Calculator'!$AI108,'Debt Avalanche Calculator'!$AL108,'Debt Avalanche Calculator'!$AO108,'Debt Avalanche Calculator'!$AR108,'Debt Avalanche Calculator'!$AU108,'Debt Avalanche Calculator'!$AX108,'Debt Avalanche Calculator'!$BA108,'Debt Avalanche Calculator'!$BD108,'Debt Avalanche Calculator'!$BG108,'Debt Avalanche Calculator'!$BJ108,'Debt Avalanche Calculator'!$BM108,'Debt Avalanche Calculator'!$BP108,'Debt Avalanche Calculator'!$BS108,'Debt Avalanche Calculator'!$BV108,'Debt Avalanche Calculator'!$BY108,'Debt Avalanche Calculator'!$CB108,'Debt Avalanche Calculator'!$CE108,'Debt Avalanche Calculator'!$CH108,'Debt Avalanche Calculator'!$CK108,'Debt Avalanche Calculator'!$CN108,'Debt Avalanche Calculator'!$CQ108,'Debt Avalanche Calculator'!$CT108)","v":0},91]
[{"$nulls":8},92,{"$f":"SUM('Debt Snowball Calculator'!E109,'Debt Snowball Calculator'!H109,'Debt Snowball Calculator'!K109,'Debt Snowball Calculator'!N109,'Debt Snowball Calculator'!Q109,'Debt Snowball Calculator'!T109,'Debt Snowball Calculator'!W109,'Debt Snowball Calculator'!Z109,'Debt Snowball Calculator'!AC109,'Debt Snowball Calculator'!AF109,'Debt Snowball Calculator'!AI109,'Debt Snowball Calculator'!AL109,'Debt Snowball Calculator'!AO109,'Debt Snowball Calculator'!AR109,'Debt Snowball Calculator'!AU109,'Debt Snowball Calculator'!AX109,'Debt Snowball Calculator'!BA109,'Debt Snowball Calculator'!BD109,'Debt Snowball Calculator'!BG109,'Debt Snowball Calculator'!BJ109,'Debt Snowball Calculator'!BM109,'Debt Snowball Calculator'!BP109,'Debt Snowball Calculator'!BS109,'Debt Snowball Calculator'!BV109,'Debt Snowball Calculator'!BY109,'Debt Snowball Calculator'!CB109,'Debt Snowball Calculator'!CE109,'Debt Snowball Calculator'!CH109,'Debt Snowball Calculator'!CK109,'Debt Snowball Calculator'!CN109,'Debt Snowball Calculator'!CQ109,'Debt Snowball Calculator'!CT109)","v":0},{"$f":"SUM('Debt Avalanche Calculator'!$E109,'Debt Avalanche Calculator'!$H109,'Debt Avalanche Calculator'!$K109,'Debt Avalanche Calculator'!$N109,'Debt Avalanche Calculator'!$Q109,'Debt Avalanche Calculator'!$T109,'Debt Avalanche Calculator'!$W109,'Debt Avalanche Calculator'!$Z109,'Debt Avalanche Calculator'!$AC109,'Debt Avalanche Calculator'!$AF109,'Debt Avalanche Calculator'!$AI109,'Debt Avalanche Calculator'!$AL109,'Debt Avalanche Calculator'!$AO109,'Debt Avalanche Calculator'!$AR109,'Debt Avalanche Calculator'!$AU109,'Debt Avalanche Calculator'!$AX109,'Debt Avalanche Calculator'!$BA109,'Debt Avalanche Calculator'!$BD109,'Debt Avalanche Calculator'!$BG109,'Debt Avalanche Calculator'!$BJ109,'Debt Avalanche Calculator'!$BM109,'Debt Avalanche Calculator'!$BP109,'Debt Avalanche Calculator'!$BS109,'Debt Avalanche Calculator'!$BV109,'Debt Avalanche Calculator'!$BY109,'Debt Avalanche Calculator'!$CB109,'Debt Avalanche Calculator'!$CE109,'Debt Avalanche Calculator'!$CH109,'Debt Avalanche Calculator'!$CK109,'Debt Avalanche Calculator'!$CN109,'Debt Avalanche Calculator'!$CQ109,'Debt Avalanche Calculator'!$CT109)","v":0},92]
[{"$nulls":8},93,{"$f":"SUM('Debt Snowball Calculator'!E110,'Debt Snowball Calculator'!H110,'Debt Snowball Calculator'!K110,'Debt Snowball Calculator'!N110,'Debt Snowball Calculator'!Q110,'Debt Snowball Calculator'!T110,'Debt Snowball Calculator'!W110,'Debt Snowball Calculator'!Z110,'Debt Snowball Calculator'!AC110,'Debt Snowball Calculator'!AF110,'Debt Snowball Calculator'!AI110,'Debt Snowball Calculator'!AL110,'Debt Snowball Calculator'!AO110,'Debt Snowball Calculator'!AR110,'Debt Snowball Calculator'!AU110,'Debt Snowball Calculator'!AX110,'Debt Snowball Calculator'!BA110,'Debt Snowball Calculator'!BD110,'Debt Snowball Calculator'!BG110,'Debt Snowball Calculator'!BJ110,'Debt Snowball Calculator'!BM110,'Debt Snowball Calculator'!BP110,'Debt Snowball Calculator'!BS110,'Debt Snowball Calculator'!BV110,'Debt Snowball Calculator'!BY110,'Debt Snowball Calculator'!CB110,'Debt Snowball Calculator'!CE110,'Debt Snowball Calculator'!CH110,'Debt Snowball Calculator'!CK110,'Debt Snowball Calculator'!CN110,'Debt Snowball Calculator'!CQ110,'Debt Snowball Calculator'!CT110)","v":0},{"$f":"SUM('Debt Avalanche Calculator'!$E110,'Debt Avalanche Calculator'!$H110,'Debt Avalanche Calculator'!$K110,'Debt Avalanche Calculator'!$N110,'Debt Avalanche Calculator'!$Q110,'Debt Avalanche Calculator'!$T110,'Debt Avalanche Calculator'!$W110,'Debt Avalanche Calculator'!$Z110,'Debt Avalanche Calculator'!$AC110,'Debt Avalanche Calculator'!$AF110,'Debt Avalanche Calculator'!$AI110,'Debt Avalanche Calculator'!$AL110,'Debt Avalanche Calculator'!$AO110,'Debt Avalanche Calculator'!$AR110,'Debt Avalanche Calculator'!$AU110,'Debt Avalanche Calculator'!$AX110,'Debt Avalanche Calculator'!$BA110,'Debt Avalanche Calculator'!$BD110,'Debt Avalanche Calculator'!$BG110,'Debt Avalanche Calculator'!$BJ110,'Debt Avalanche Calculator'!$BM110,'Debt Avalanche Calculator'!$BP110,'Debt Avalanche Calculator'!$BS110,'Debt Avalanche Calculator'!$BV110,'Debt Avalanche Calculator'!$BY110,'Debt Avalanche Calculator'!$CB110,'Debt Avalanche Calculator'!$CE110,'Debt Avalanche Calculator'!$CH110,'Debt Avalanche Calculator'!$CK110,'Debt Avalanche Calculator'!$CN110,'Debt Avalanche Calculator'!$CQ110,'Debt Avalanche Calculator'!$CT110)","v":0},93]
[{"$nulls":8},94,{"$f":"SUM('Debt Snowball Calculator'!E111,'Debt Snowball Calculator'!H111,'Debt Snowball Calculator'!K111,'Debt Snowball Calculator'!N111,'Debt Snowball Calculator'!Q111,'Debt Snowball Calculator'!T111,'Debt Snowball Calculator'!W111,'Debt Snowball Calculator'!Z111,'Debt Snowball Calculator'!AC111,'Debt Snowball Calculator'!AF111,'Debt Snowball Calculator'!AI111,'Debt Snowball Calculator'!AL111,'Debt Snowball Calculator'!AO111,'Debt Snowball Calculator'!AR111,'Debt Snowball Calculator'!AU111,'Debt Snowball Calculator'!AX111,'Debt Snowball Calculator'!BA111,'Debt Snowball Calculator'!BD111,'Debt Snowball Calculator'!BG111,'Debt Snowball Calculator'!BJ111,'Debt Snowball Calculator'!BM111,'Debt Snowball Calculator'!BP111,'Debt Snowball Calculator'!BS111,'Debt Snowball Calculator'!BV111,'Debt Snowball Calculator'!BY111,'Debt Snowball Calculator'!CB111,'Debt Snowball Calculator'!CE111,'Debt Snowball Calculator'!CH111,'Debt Snowball Calculator'!CK111,'Debt Snowball Calculator'!CN111,'Debt Snowball Calculator'!CQ111,'Debt Snowball Calculator'!CT111)","v":0},{"$f":"SUM('Debt Avalanche Calculator'!$E111,'Debt Avalanche Calculator'!$H111,'Debt Avalanche Calculator'!$K111,'Debt Avalanche Calculator'!$N111,'Debt Avalanche Calculator'!$Q111,'Debt Avalanche Calculator'!$T111,'Debt Avalanche Calculator'!$W111,'Debt Avalanche Calculator'!$Z111,'Debt Avalanche Calculator'!$AC111,'Debt Avalanche Calculator'!$AF111,'Debt Avalanche Calculator'!$AI111,'Debt Avalanche Calculator'!$AL111,'Debt Avalanche Calculator'!$AO111,'Debt Avalanche Calculator'!$AR111,'Debt Avalanche Calculator'!$AU111,'Debt Avalanche Calculator'!$AX111,'Debt Avalanche Calculator'!$BA111,'Debt Avalanche Calculator'!$BD111,'Debt Avalanche Calculator'!$BG111,'Debt Avalanche Calculator'!$BJ111,'Debt Avalanche Calculator'!$BM111,'Debt Avalanche Calculator'!$BP111,'Debt Avalanche Calculator'!$BS111,'Debt Avalanche Calculator'!$BV111,'Debt Avalanche Calculator'!$BY111,'Debt Avalanche Calculator'!$CB111,'Debt Avalanche Calculator'!$CE111,'Debt Avalanche Calculator'!$CH111,'Debt Avalanche Calculator'!$CK111,'Debt Avalanche Calculator'!$CN111,'Debt Avalanche Calculator'!$CQ111,'Debt Avalanche Calculator'!$CT111)","v":0},94]
[{"$nulls":8},95,{"$f":"SUM('Debt Snowball Calculator'!E112,'Debt Snowball Calculator'!H112,'Debt Snowball Calculator'!K112,'Debt Snowball Calculator'!N112,'Debt Snowball Calculator'!Q112,'Debt Snowball Calculator'!T112,'Debt Snowball Calculator'!W112,'Debt Snowball Calculator'!Z112,'Debt Snowball Calculator'!AC112,'Debt Snowball Calculator'!AF112,'Debt Snowball Calculator'!AI112,'Debt Snowball Calculator'!AL112,'Debt Snowball Calculator'!AO112,'Debt Snowball Calculator'!AR112,'Debt Snowball Calculator'!AU112,'Debt Snowball Calculator'!AX112,'Debt Snowball Calculator'!BA112,'Debt Snowball Calculator'!BD112,'Debt Snowball Calculator'!BG112,'Debt Snowball Calculator'!BJ112,'Debt Snowball Calculator'!BM112,'Debt Snowball Calculator'!BP112,'Debt Snowball Calculator'!BS112,'Debt Snowball Calculator'!BV112,'Debt Snowball Calculator'!BY112,'Debt Snowball Calculator'!CB112,'Debt Snowball Calculator'!CE112,'Debt Snowball Calculator'!CH112,'Debt Snowball Calculator'!CK112,'Debt Snowball Calculator'!CN112,'Debt Snowball Calculator'!CQ112,'Debt Snowball Calculator'!CT112)","v":0},{"$f":"SUM('Debt Avalanche Calculator'!$E112,'Debt Avalanche Calculator'!$H112,'Debt Avalanche Calculator'!$K112,'Debt Avalanche Calculator'!$N112,'Debt Avalanche Calculator'!$Q112,'Debt Avalanche Calculator'!$T112,'Debt Avalanche Calculator'!$W112,'Debt Avalanche Calculator'!$Z112,'Debt Avalanche Calculator'!$AC112,'Debt Avalanche Calculator'!$AF112,'Debt Avalanche Calculator'!$AI112,'Debt Avalanche Calculator'!$AL112,'Debt Avalanche Calculator'!$AO112,'Debt Avalanche Calculator'!$AR112,'Debt Avalanche Calculator'!$AU112,'Debt Avalanche Calculator'!$AX112,'Debt Avalanche Calculator'!$BA112,'Debt Avalanche Calculator'!$BD112,'Debt Avalanche Calculator'!$BG112,'Debt Avalanche Calculator'!$BJ112,'Debt Avalanche Calculator'!$BM112,'Debt Avalanche Calculator'!$BP112,'Debt Avalanche Calculator'!$BS112,'Debt Avalanche Calculator'!$BV112,'Debt Avalanche Calculator'!$BY112,'Debt Avalanche Calculator'!$CB112,'Debt Avalanche Calculator'!$CE112,'Debt Avalanche Calculator'!$CH112,'Debt Avalanche Calculator'!$CK112,'Debt Avalanche Calculator'!$CN112,'Debt Avalanche Calculator'!$CQ112,'Debt Avalanche Calculator'!$CT112)","v":0},95]
[{"$nulls":8},96,{"$f":"SUM('Debt Snowball Calculator'!E113,'Debt Snowball Calculator'!H113,'Debt Snowball Calculator'!K113,'Debt Snowball Calculator'!N113,'Debt Snowball Calculator'!Q113,'Debt Snowball Calculator'!T113,'Debt Snowball Calculator'!W113,'Debt Snowball Calculator'!Z113,'Debt Snowball Calculator'!AC113,'Debt Snowball Calculator'!AF113,'Debt Snowball Calculator'!AI113,'Debt Snowball Calculator'!AL113,'Debt Snowball Calculator'!AO113,'Debt Snowball Calculator'!AR113,'Debt Snowball Calculator'!AU113,'Debt Snowball Calculator'!AX113,'Debt Snowball Calculator'!BA113,'Debt Snowball Calculator'!BD113,'Debt Snowball Calculator'!BG113,'Debt Snowball Calculator'!BJ113,'Debt Snowball Calculator'!BM113,'Debt Snowball Calculator'!BP113,'Debt Snowball Calculator'!BS113,'Debt Snowball Calculator'!BV113,'Debt Snowball Calculator'!BY113,'Debt Snowball Calculator'!CB113,'Debt Snowball Calculator'!CE113,'Debt Snowball Calculator'!CH113,'Debt Snowball Calculator'!CK113,'Debt Snowball Calculator'!CN113,'Debt Snowball Calculator'!CQ113,'Debt Snowball Calculator'!CT113)","v":0},{"$f":"SUM('Debt Avalanche Calculator'!$E113,'Debt Avalanche Calculator'!$H113,'Debt Avalanche Calculator'!$K113,'Debt Avalanche Calculator'!$N113,'Debt Avalanche Calculator'!$Q113,'Debt Avalanche Calculator'!$T113,'Debt Avalanche Calculator'!$W113,'Debt Avalanche Calculator'!$Z113,'Debt Avalanche Calculator'!$AC113,'Debt Avalanche Calculator'!$AF113,'Debt Avalanche Calculator'!$AI113,'Debt Avalanche Calculator'!$AL113,'Debt Avalanche Calculator'!$AO113,'Debt Avalanche Calculator'!$AR113,'Debt Avalanche Calculator'!$AU113,'Debt Avalanche Calculator'!$AX113,'Debt Avalanche Calculator'!$BA113,'Debt Avalanche Calculator'!$BD113,'Debt Avalanche Calculator'!$BG113,'Debt Avalanche Calculator'!$BJ113,'Debt Avalanche Calculator'!$BM113,'Debt Avalanche Calculator'!$BP113,'Debt Avalanche Calculator'!$BS113,'Debt Avalanche Calculator'!$BV113,'Debt Avalanche Calculator'!$BY113,'Debt Avalanche Calculator'!$CB113,'Debt Avalanche Calculator'!$CE113,'Debt Avalanche Calculator'!$CH113,'Debt Avalanche Calculator'!$CK113,'Debt Avalanche Calculator'!$CN113,'Debt Avalanche Calculator'!$CQ113,'Debt Avalanche Calculator'!$CT113)","v":0},96]
[{"$nulls":8},97,{"$f":"SUM('Debt Snowball Calculator'!E114,'Debt Snowball Calculator'!H114,'Debt Snowball Calculator'!K114,'Debt Snowball Calculator'!N114,'Debt Snowball Calculator'!Q114,'Debt Snowball Calculator'!T114,'Debt Snowball Calculator'!W114,'Debt Snowball Calculator'!Z114,'Debt Snowball Calculator'!AC114,'Debt Snowball Calculator'!AF114,'Debt Snowball Calculator'!AI114,'Debt Snowball Calculator'!AL114,'Debt Snowball Calculator'!AO114,'Debt Snowball Calculator'!AR114,'Debt Snowball Calculator'!AU114,'Debt Snowball Calculator'!AX114,'Debt Snowball Calculator'!BA114,'Debt Snowball Calculator'!BD114,'Debt Snowball Calculator'!BG114,'Debt Snowball Calculator'!BJ114,'Debt Snowball Calculator'!BM114,'Debt Snowball Calculator'!BP114,'Debt Snowball Calculator'!BS114,'Debt Snowball Calculator'!BV114,'Debt Snowball Calculator'!BY114,'Debt Snowball Calculator'!CB114,'Debt Snowball Calculator'!CE114,'Debt Snowball Calculator'!CH114,'Debt Snowball Calculator'!CK114,'Debt Snowball Calculator'!CN114,'Debt Snowball Calculator'!CQ114,'Debt Snowball Calculator'!CT114)","v":0},{"$f":"SUM('Debt Avalanche Calculator'!$E114,'Debt Avalanche Calculator'!$H114,'Debt Avalanche Calculator'!$K114,'Debt Avalanche Calculator'!$N114,'Debt Avalanche Calculator'!$Q114,'Debt Avalanche Calculator'!$T114,'Debt Avalanche Calculator'!$W114,'Debt Avalanche Calculator'!$Z114,'Debt Avalanche Calculator'!$AC114,'Debt Avalanche Calculator'!$AF114,'Debt Avalanche Calculator'!$AI114,'Debt Avalanche Calculator'!$AL114,'Debt Avalanche Calculator'!$AO114,'Debt Avalanche Calculator'!$AR114,'Debt Avalanche Calculator'!$AU114,'Debt Avalanche Calculator'!$AX114,'Debt Avalanche Calculator'!$BA114,'Debt Avalanche Calculator'!$BD114,'Debt Avalanche Calculator'!$BG114,'Debt Avalanche Calculator'!$BJ114,'Debt Avalanche Calculator'!$BM114,'Debt Avalanche Calculator'!$BP114,'Debt Avalanche Calculator'!$BS114,'Debt Avalanche Calculator'!$BV114,'Debt Avalanche Calculator'!$BY114,'Debt Avalanche Calculator'!$CB114,'Debt Avalanche Calculator'!$CE114,'Debt Avalanche Calculator'!$CH114,'Debt Avalanche Calculator'!$CK114,'Debt Avalanche Calculator'!$CN114,'Debt Avalanche Calculator'!$CQ114,'Debt Avalanche Calculator'!$CT114)","v":0},97]
[{"$nulls":8},98,{"$f":"SUM('Debt Snowball Calculator'!E115,'Debt Snowball Calculator'!H115,'Debt Snowball Calculator'!K115,'Debt Snowball Calculator'!N115,'Debt Snowball Calculator'!Q115,'Debt Snowball Calculator'!T115,'Debt Snowball Calculator'!W115,'Debt Snowball Calculator'!Z115,'Debt Snowball Calculator'!AC115,'Debt Snowball Calculator'!AF115,'Debt Snowball Calculator'!AI115,'Debt Snowball Calculator'!AL115,'Debt Snowball Calculator'!AO115,'Debt Snowball Calculator'!AR115,'Debt Snowball Calculator'!AU115,'Debt Snowball Calculator'!AX115,'Debt Snowball Calculator'!BA115,'Debt Snowball Calculator'!BD115,'Debt Snowball Calculator'!BG115,'Debt Snowball Calculator'!BJ115,'Debt Snowball Calculator'!BM115,'Debt Snowball Calculator'!BP115,'Debt Snowball Calculator'!BS115,'Debt Snowball Calculator'!BV115,'Debt Snowball Calculator'!BY115,'Debt Snowball Calculator'!CB115,'Debt Snowball Calculator'!CE115,'Debt Snowball Calculator'!CH115,'Debt Snowball Calculator'!CK115,'Debt Snowball Calculator'!CN115,'Debt Snowball Calculator'!CQ115,'Debt Snowball Calculator'!CT115)","v":0},{"$f":"SUM('Debt Avalanche Calculator'!$E115,'Debt Avalanche Calculator'!$H115,'Debt Avalanche Calculator'!$K115,'Debt Avalanche Calculator'!$N115,'Debt Avalanche Calculator'!$Q115,'Debt Avalanche Calculator'!$T115,'Debt Avalanche Calculator'!$W115,'Debt Avalanche Calculator'!$Z115,'Debt Avalanche Calculator'!$AC115,'Debt Avalanche Calculator'!$AF115,'Debt Avalanche Calculator'!$AI115,'Debt Avalanche Calculator'!$AL115,'Debt Avalanche Calculator'!$AO115,'Debt Avalanche Calculator'!$AR115,'Debt Avalanche Calculator'!$AU115,'Debt Avalanche Calculator'!$AX115,'Debt Avalanche Calculator'!$BA115,'Debt Avalanche Calculator'!$BD115,'Debt Avalanche Calculator'!$BG115,'Debt Avalanche Calculator'!$BJ115,'Debt Avalanche Calculator'!$BM115,'Debt Avalanche Calculator'!$BP115,'Debt Avalanche Calculator'!$BS115,'Debt Avalanche Calculator'!$BV115,'Debt Avalanche Calculator'!$BY115,'Debt Avalanche Calculator'!$CB115,'Debt Avalanche Calculator'!$CE115,'Debt Avalanche Calculator'!$CH115,'Debt Avalanche Calculator'!$CK115,'Debt Avalanche Calculator'!$CN115,'Debt Avalanche Calculator'!$CQ115,'Debt Avalanche Calculator'!$CT115)","v":0},98]
[{"$nulls":8},99,{"$f":"SUM('Debt Snowball Calculator'!E116,'Debt Snowball Calculator'!H116,'Debt Snowball Calculator'!K116,'Debt Snowball Calculator'!N116,'Debt Snowball Calculator'!Q116,'Debt Snowball Calculator'!T116,'Debt Snowball Calculator'!W116,'Debt Snowball Calculator'!Z116,'Debt Snowball Calculator'!AC116,'Debt Snowball Calculator'!AF116,'Debt Snowball Calculator'!AI116,'Debt Snowball Calculator'!AL116,'Debt Snowball Calculator'!AO116,'Debt Snowball Calculator'!AR116,'Debt Snowball Calculator'!AU116,'Debt Snowball Calculator'!AX116,'Debt Snowball Calculator'!BA116,'Debt Snowball Calculator'!BD116,'Debt Snowball Calculator'!BG116,'Debt Snowball Calculator'!BJ116,'Debt Snowball Calculator'!BM116,'Debt Snowball Calculator'!BP116,'Debt Snowball Calculator'!BS116,'Debt Snowball Calculator'!BV116,'Debt Snowball Calculator'!BY116,'Debt Snowball Calculator'!CB116,'Debt Snowball Calculator'!CE116,'Debt Snowball Calculator'!CH116,'Debt Snowball Calculator'!CK116,'Debt Snowball Calculator'!CN116,'Debt Snowball Calculator'!CQ116,'Debt Snowball Calculator'!CT116)","v":0},{"$f":"SUM('Debt Avalanche Calculator'!$E116,'Debt Avalanche Calculator'!$H116,'Debt Avalanche Calculator'!$K116,'Debt Avalanche Calculator'!$N116,'Debt Avalanche Calculator'!$Q116,'Debt Avalanche Calculator'!$T116,'Debt Avalanche Calculator'!$W116,'Debt Avalanche Calculator'!$Z116,'Debt Avalanche Calculator'!$AC116,'Debt Avalanche Calculator'!$AF116,'Debt Avalanche Calculator'!$AI116,'Debt Avalanche Calculator'!$AL116,'Debt Avalanche Calculator'!$AO116,'Debt Avalanche Calculator'!$AR116,'Debt Avalanche Calculator'!$AU116,'Debt Avalanche Calculator'!$AX116,'Debt Avalanche Calculator'!$BA116,'Debt Avalanche Calculator'!$BD116,'Debt Avalanche Calculator'!$BG116,'Debt Avalanche Calculator'!$BJ116,'Debt Avalanche Calculator'!$BM116,'Debt Avalanche Calculator'!$BP116,'Debt Avalanche Calculator'!$BS116,'Debt Avalanche Calculator'!$BV116,'Debt Avalanche Calculator'!$BY116,'Debt Avalanche Calculator'!$CB116,'Debt Avalanche Calculator'!$CE116,'Debt Avalanche Calculator'!$CH116,'Debt Avalanche Calculator'!$CK116,'Debt Avalanche Calculator'!$CN116,'Debt Avalanche Calculator'!$CQ116,'Debt Avalanche Calculator'!$CT116)","v":0},99]
[{"$nulls":8},100,{"$f":"SUM('Debt Snowball Calculator'!E117,'Debt Snowball Calculator'!H117,'Debt Snowball Calculator'!K117,'Debt Snowball Calculator'!N117,'Debt Snowball Calculator'!Q117,'Debt Snowball Calculator'!T117,'Debt Snowball Calculator'!W117,'Debt Snowball Calculator'!Z117,'Debt Snowball Calculator'!AC117,'Debt Snowball Calculator'!AF117,'Debt Snowball Calculator'!AI117,'Debt Snowball Calculator'!AL117,'Debt Snowball Calculator'!AO117,'Debt Snowball Calculator'!AR117,'Debt Snowball Calculator'!AU117,'Debt Snowball Calculator'!AX117,'Debt Snowball Calculator'!BA117,'Debt Snowball Calculator'!BD117,'Debt Snowball Calculator'!BG117,'Debt Snowball Calculator'!BJ117,'Debt Snowball Calculator'!BM117,'Debt Snowball Calculator'!BP117,'Debt Snowball Calculator'!BS117,'Debt Snowball Calculator'!BV117,'Debt Snowball Calculator'!BY117,'Debt Snowball Calculator'!CB117,'Debt Snowball Calculator'!CE117,'Debt Snowball Calculator'!CH117,'Debt Snowball Calculator'!CK117,'Debt Snowball Calculator'!CN117,'Debt Snowball Calculator'!CQ117,'Debt Snowball Calculator'!CT117)","v":0},{"$f":"SUM('Debt Avalanche Calculator'!$E117,'Debt Avalanche Calculator'!$H117,'Debt Avalanche Calculator'!$K117,'Debt Avalanche Calculator'!$N117,'Debt Avalanche Calculator'!$Q117,'Debt Avalanche Calculator'!$T117,'Debt Avalanche Calculator'!$W117,'Debt Avalanche Calculator'!$Z117,'Debt Avalanche Calculator'!$AC117,'Debt Avalanche Calculator'!$AF117,'Debt Avalanche Calculator'!$AI117,'Debt Avalanche Calculator'!$AL117,'Debt Avalanche Calculator'!$AO117,'Debt Avalanche Calculator'!$AR117,'Debt Avalanche Calculator'!$AU117,'Debt Avalanche Calculator'!$AX117,'Debt Avalanche Calculator'!$BA117,'Debt Avalanche Calculator'!$BD117,'Debt Avalanche Calculator'!$BG117,'Debt Avalanche Calculator'!$BJ117,'Debt Avalanche Calculator'!$BM117,'Debt Avalanche Calculator'!$BP117,'Debt Avalanche Calculator'!$BS117,'Debt Avalanche Calculator'!$BV117,'Debt Avalanche Calculator'!$BY117,'Debt Avalanche Calculator'!$CB117,'Debt Avalanche Calculator'!$CE117,'Debt Avalanche Calculator'!$CH117,'Debt Avalanche Calculator'!$CK117,'Debt Avalanche Calculator'!$CN117,'Debt Avalanche Calculator'!$CQ117,'Debt Avalanche Calculator'!$CT117)","v":0},100]
[{"$nulls":8},101,{"$f":"SUM('Debt Snowball Calculator'!E118,'Debt Snowball Calculator'!H118,'Debt Snowball Calculator'!K118,'Debt Snowball Calculator'!N118,'Debt Snowball Calculator'!Q118,'Debt Snowball Calculator'!T118,'Debt Snowball Calculator'!W118,'Debt Snowball Calculator'!Z118,'Debt Snowball Calculator'!AC118,'Debt Snowball Calculator'!AF118,'Debt Snowball Calculator'!AI118,'Debt Snowball Calculator'!AL118,'Debt Snowball Calculator'!AO118,'Debt Snowball Calculator'!AR118,'Debt Snowball Calculator'!AU118,'Debt Snowball Calculator'!AX118,'Debt Snowball Calculator'!BA118,'Debt Snowball Calculator'!BD118,'Debt Snowball Calculator'!BG118,'Debt Snowball Calculator'!BJ118,'Debt Snowball Calculator'!BM118,'Debt Snowball Calculator'!BP118,'Debt Snowball Calculator'!BS118,'Debt Snowball Calculator'!BV118,'Debt Snowball Calculator'!BY118,'Debt Snowball Calculator'!CB118,'Debt Snowball Calculator'!CE118,'Debt Snowball Calculator'!CH118,'Debt Snowball Calculator'!CK118,'Debt Snowball Calculator'!CN118,'Debt Snowball Calculator'!CQ118,'Debt Snowball Calculator'!CT118)","v":0},{"$f":"SUM('Debt Avalanche Calculator'!$E118,'Debt Avalanche Calculator'!$H118,'Debt Avalanche Calculator'!$K118,'Debt Avalanche Calculator'!$N118,'Debt Avalanche Calculator'!$Q118,'Debt Avalanche Calculator'!$T118,'Debt Avalanche Calculator'!$W118,'Debt Avalanche Calculator'!$Z118,'Debt Avalanche Calculator'!$AC118,'Debt Avalanche Calculator'!$AF118,'Debt Avalanche Calculator'!$AI118,'Debt Avalanche Calculator'!$AL118,'Debt Avalanche Calculator'!$AO118,'Debt Avalanche Calculator'!$AR118,'Debt Avalanche Calculator'!$AU118,'Debt Avalanche Calculator'!$AX118,'Debt Avalanche Calculator'!$BA118,'Debt Avalanche Calculator'!$BD118,'Debt Avalanche Calculator'!$BG118,'Debt Avalanche Calculator'!$BJ118,'Debt Avalanche Calculator'!$BM118,'Debt Avalanche Calculator'!$BP118,'Debt Avalanche Calculator'!$BS118,'Debt Avalanche Calculator'!$BV118,'Debt Avalanche Calculator'!$BY118,'Debt Avalanche Calculator'!$CB118,'Debt Avalanche Calculator'!$CE118,'Debt Avalanche Calculator'!$CH118,'Debt Avalanche Calculator'!$CK118,'Debt Avalanche Calculator'!$CN118,'Debt Avalanche Calculator'!$CQ118,'Debt Avalanche Calculator'!$CT118)","v":0},101]
[{"$nulls":8},102,{"$f":"SUM('Debt Snowball Calculator'!E119,'Debt Snowball Calculator'!H119,'Debt Snowball Calculator'!K119,'Debt Snowball Calculator'!N119,'Debt Snowball Calculator'!Q119,'Debt Snowball Calculator'!T119,'Debt Snowball Calculator'!W119,'Debt Snowball Calculator'!Z119,'Debt Snowball Calculator'!AC119,'Debt Snowball Calculator'!AF119,'Debt Snowball Calculator'!AI119,'Debt Snowball Calculator'!AL119,'Debt Snowball Calculator'!AO119,'Debt Snowball Calculator'!AR119,'Debt Snowball Calculator'!AU119,'Debt Snowball Calculator'!AX119,'Debt Snowball Calculator'!BA119,'Debt Snowball Calculator'!BD119,'Debt Snowball Calculator'!BG119,'Debt Snowball Calculator'!BJ119,'Debt Snowball Calculator'!BM119,'Debt Snowball Calculator'!BP119,'Debt Snowball Calculator'!BS119,'Debt Snowball Calculator'!BV119,'Debt Snowball Calculator'!BY119,'Debt Snowball Calculator'!CB119,'Debt Snowball Calculator'!CE119,'Debt Snowball Calculator'!CH119,'Debt Snowball Calculator'!CK119,'Debt Snowball Calculator'!CN119,'Debt Snowball Calculator'!CQ119,'Debt Snowball Calculator'!CT119)","v":0},{"$f":"SUM('Debt Avalanche Calculator'!$E119,'Debt Avalanche Calculator'!$H119,'Debt Avalanche Calculator'!$K119,'Debt Avalanche Calculator'!$N119,'Debt Avalanche Calculator'!$Q119,'Debt Avalanche Calculator'!$T119,'Debt Avalanche Calculator'!$W119,'Debt Avalanche Calculator'!$Z119,'Debt Avalanche Calculator'!$AC119,'Debt Avalanche Calculator'!$AF119,'Debt Avalanche Calculator'!$AI119,'Debt Avalanche Calculator'!$AL119,'Debt Avalanche Calculator'!$AO119,'Debt Avalanche Calculator'!$AR119,'Debt Avalanche Calculator'!$AU119,'Debt Avalanche Calculator'!$AX119,'Debt Avalanche Calculator'!$BA119,'Debt Avalanche Calculator'!$BD119,'Debt Avalanche Calculator'!$BG119,'Debt Avalanche Calculator'!$BJ119,'Debt Avalanche Calculator'!$BM119,'Debt Avalanche Calculator'!$BP119,'Debt Avalanche Calculator'!$BS119,'Debt Avalanche Calculator'!$BV119,'Debt Avalanche Calculator'!$BY119,'Debt Avalanche Calculator'!$CB119,'Debt Avalanche Calculator'!$CE119,'Debt Avalanche Calculator'!$CH119,'Debt Avalanche Calculator'!$CK119,'Debt Avalanche Calculator'!$CN119,'Debt Avalanche Calculator'!$CQ119,'Debt Avalanche Calculator'!$CT119)","v":0},102]
[{"$nulls":8},103,{"$f":"SUM('Debt Snowball Calculator'!E120,'Debt Snowball Calculator'!H120,'Debt Snowball Calculator'!K120,'Debt Snowball Calculator'!N120,'Debt Snowball Calculator'!Q120,'Debt Snowball Calculator'!T120,'Debt Snowball Calculator'!W120,'Debt Snowball Calculator'!Z120,'Debt Snowball Calculator'!AC120,'Debt Snowball Calculator'!AF120,'Debt Snowball Calculator'!AI120,'Debt Snowball Calculator'!AL120,'Debt Snowball Calculator'!AO120,'Debt Snowball Calculator'!AR120,'Debt Snowball Calculator'!AU120,'Debt Snowball Calculator'!AX120,'Debt Snowball Calculator'!BA120,'Debt Snowball Calculator'!BD120,'Debt Snowball Calculator'!BG120,'Debt Snowball Calculator'!BJ120,'Debt Snowball Calculator'!BM120,'Debt Snowball Calculator'!BP120,'Debt Snowball Calculator'!BS120,'Debt Snowball Calculator'!BV120,'Debt Snowball Calculator'!BY120,'Debt Snowball Calculator'!CB120,'Debt Snowball Calculator'!CE120,'Debt Snowball Calculator'!CH120,'Debt Snowball Calculator'!CK120,'Debt Snowball Calculator'!CN120,'Debt Snowball Calculator'!CQ120,'Debt Snowball Calculator'!CT120)","v":0},{"$f":"SUM('Debt Avalanche Calculator'!$E120,'Debt Avalanche Calculator'!$H120,'Debt Avalanche Calculator'!$K120,'Debt Avalanche Calculator'!$N120,'Debt Avalanche Calculator'!$Q120,'Debt Avalanche Calculator'!$T120,'Debt Avalanche Calculator'!$W120,'Debt Avalanche Calculator'!$Z120,'Debt Avalanche Calculator'!$AC120,'Debt Avalanche Calculator'!$AF120,'Debt Avalanche Calculator'!$AI120,'Debt Avalanche Calculator'!$AL120,'Debt Avalanche Calculator'!$AO120,'Debt Avalanche Calculator'!$AR120,'Debt Avalanche Calculator'!$AU120,'Debt Avalanche Calculator'!$AX120,'Debt Avalanche Calculator'!$BA120,'Debt Avalanche Calculator'!$BD120,'Debt Avalanche Calculator'!$BG120,'Debt Avalanche Calculator'!$BJ120,'Debt Avalanche Calculator'!$BM120,'Debt Avalanche Calculator'!$BP120,'Debt Avalanche Calculator'!$BS120,'Debt Avalanche Calculator'!$BV120,'Debt Avalanche Calculator'!$BY120,'Debt Avalanche Calculator'!$CB120,'Debt Avalanche Calculator'!$CE120,'Debt Avalanche Calculator'!$CH120,'Debt Avalanche Calculator'!$CK120,'Debt Avalanche Calculator'!$CN120,'Debt Avalanche Calculator'!$CQ120,'Debt Avalanche Calculator'!$CT120)","v":0},103]
[{"$nulls":8},104,{"$f":"SUM('Debt Snowball Calculator'!E121,'Debt Snowball Calculator'!H121,'Debt Snowball Calculator'!K121,'Debt Snowball Calculator'!N121,'Debt Snowball Calculator'!Q121,'Debt Snowball Calculator'!T121,'Debt Snowball Calculator'!W121,'Debt Snowball Calculator'!Z121,'Debt Snowball Calculator'!AC121,'Debt Snowball Calculator'!AF121,'Debt Snowball Calculator'!AI121,'Debt Snowball Calculator'!AL121,'Debt Snowball Calculator'!AO121,'Debt Snowball Calculator'!AR121,'Debt Snowball Calculator'!AU121,'Debt Snowball Calculator'!AX121,'Debt Snowball Calculator'!BA121,'Debt Snowball Calculator'!BD121,'Debt Snowball Calculator'!BG121,'Debt Snowball Calculator'!BJ121,'Debt Snowball Calculator'!BM121,'Debt Snowball Calculator'!BP121,'Debt Snowball Calculator'!BS121,'Debt Snowball Calculator'!BV121,'Debt Snowball Calculator'!BY121,'Debt Snowball Calculator'!CB121,'Debt Snowball Calculator'!CE121,'Debt Snowball Calculator'!CH121,'Debt Snowball Calculator'!CK121,'Debt Snowball Calculator'!CN121,'Debt Snowball Calculator'!CQ121,'Debt Snowball Calculator'!CT121)","v":0},{"$f":"SUM('Debt Avalanche Calculator'!$E121,'Debt Avalanche Calculator'!$H121,'Debt Avalanche Calculator'!$K121,'Debt Avalanche Calculator'!$N121,'Debt Avalanche Calculator'!$Q121,'Debt Avalanche Calculator'!$T121,'Debt Avalanche Calculator'!$W121,'Debt Avalanche Calculator'!$Z121,'Debt Avalanche Calculator'!$AC121,'Debt Avalanche Calculator'!$AF121,'Debt Avalanche Calculator'!$AI121,'Debt Avalanche Calculator'!$AL121,'Debt Avalanche Calculator'!$AO121,'Debt Avalanche Calculator'!$AR121,'Debt Avalanche Calculator'!$AU121,'Debt Avalanche Calculator'!$AX121,'Debt Avalanche Calculator'!$BA121,'Debt Avalanche Calculator'!$BD121,'Debt Avalanche Calculator'!$BG121,'Debt Avalanche Calculator'!$BJ121,'Debt Avalanche Calculator'!$BM121,'Debt Avalanche Calculator'!$BP121,'Debt Avalanche Calculator'!$BS121,'Debt Avalanche Calculator'!$BV121,'Debt Avalanche Calculator'!$BY121,'Debt Avalanche Calculator'!$CB121,'Debt Avalanche Calculator'!$CE121,'Debt Avalanche Calculator'!$CH121,'Debt Avalanche Calculator'!$CK121,'Debt Avalanche Calculator'!$CN121,'Debt Avalanche Calculator'!$CQ121,'Debt Avalanche Calculator'!$CT121)","v":0},104]
[{"$nulls":8},105,{"$f":"SUM('Debt Snowball Calculator'!E122,'Debt Snowball Calculator'!H122,'Debt Snowball Calculator'!K122,'Debt Snowball Calculator'!N122,'Debt Snowball Calculator'!Q122,'Debt Snowball Calculator'!T122,'Debt Snowball Calculator'!W122,'Debt Snowball Calculator'!Z122,'Debt Snowball Calculator'!AC122,'Debt Snowball Calculator'!AF122,'Debt Snowball Calculator'!AI122,'Debt Snowball Calculator'!AL122,'Debt Snowball Calculator'!AO122,'Debt Snowball Calculator'!AR122,'Debt Snowball Calculator'!AU122,'Debt Snowball Calculator'!AX122,'Debt Snowball Calculator'!BA122,'Debt Snowball Calculator'!BD122,'Debt Snowball Calculator'!BG122,'Debt Snowball Calculator'!BJ122,'Debt Snowball Calculator'!BM122,'Debt Snowball Calculator'!BP122,'Debt Snowball Calculator'!BS122,'Debt Snowball Calculator'!BV122,'Debt Snowball Calculator'!BY122,'Debt Snowball Calculator'!CB122,'Debt Snowball Calculator'!CE122,'Debt Snowball Calculator'!CH122,'Debt Snowball Calculator'!CK122,'Debt Snowball Calculator'!CN122,'Debt Snowball Calculator'!CQ122,'Debt Snowball Calculator'!CT122)","v":0},{"$f":"SUM('Debt Avalanche Calculator'!$E122,'Debt Avalanche Calculator'!$H122,'Debt Avalanche Calculator'!$K122,'Debt Avalanche Calculator'!$N122,'Debt Avalanche Calculator'!$Q122,'Debt Avalanche Calculator'!$T122,'Debt Avalanche Calculator'!$W122,'Debt Avalanche Calculator'!$Z122,'Debt Avalanche Calculator'!$AC122,'Debt Avalanche Calculator'!$AF122,'Debt Avalanche Calculator'!$AI122,'Debt Avalanche Calculator'!$AL122,'Debt Avalanche Calculator'!$AO122,'Debt Avalanche Calculator'!$AR122,'Debt Avalanche Calculator'!$AU122,'Debt Avalanche Calculator'!$AX122,'Debt Avalanche Calculator'!$BA122,'Debt Avalanche Calculator'!$BD122,'Debt Avalanche Calculator'!$BG122,'Debt Avalanche Calculator'!$BJ122,'Debt Avalanche Calculator'!$BM122,'Debt Avalanche Calculator'!$BP122,'Debt Avalanche Calculator'!$BS122,'Debt Avalanche Calculator'!$BV122,'Debt Avalanche Calculator'!$BY122,'Debt Avalanche Calculator'!$CB122,'Debt Avalanche Calculator'!$CE122,'Debt Avalanche Calculator'!$CH122,'Debt Avalanche Calculator'!$CK122,'Debt Avalanche Calculator'!$CN122,'Debt Avalanche Calculator'!$CQ122,'Debt Avalanche Calculator'!$CT122)","v":0},105]
[{"$nulls":8},106,{"$f":"SUM('Debt Snowball Calculator'!E123,'Debt Snowball Calculator'!H123,'Debt Snowball Calculator'!K123,'Debt Snowball Calculator'!N123,'Debt Snowball Calculator'!Q123,'Debt Snowball Calculator'!T123,'Debt Snowball Calculator'!W123,'Debt Snowball Calculator'!Z123,'Debt Snowball Calculator'!AC123,'Debt Snowball Calculator'!AF123,'Debt Snowball Calculator'!AI123,'Debt Snowball Calculator'!AL123,'Debt Snowball Calculator'!AO123,'Debt Snowball Calculator'!AR123,'Debt Snowball Calculator'!AU123,'Debt Snowball Calculator'!AX123,'Debt Snowball Calculator'!BA123,'Debt Snowball Calculator'!BD123,'Debt Snowball Calculator'!BG123,'Debt Snowball Calculator'!BJ123,'Debt Snowball Calculator'!BM123,'Debt Snowball Calculator'!BP123,'Debt Snowball Calculator'!BS123,'Debt Snowball Calculator'!BV123,'Debt Snowball Calculator'!BY123,'Debt Snowball Calculator'!CB123,'Debt Snowball Calculator'!CE123,'Debt Snowball Calculator'!CH123,'Debt Snowball Calculator'!CK123,'Debt Snowball Calculator'!CN123,'Debt Snowball Calculator'!CQ123,'Debt Snowball Calculator'!CT123)","v":0},{"$f":"SUM('Debt Avalanche Calculator'!$E123,'Debt Avalanche Calculator'!$H123,'Debt Avalanche Calculator'!$K123,'Debt Avalanche Calculator'!$N123,'Debt Avalanche Calculator'!$Q123,'Debt Avalanche Calculator'!$T123,'Debt Avalanche Calculator'!$W123,'Debt Avalanche Calculator'!$Z123,'Debt Avalanche Calculator'!$AC123,'Debt Avalanche Calculator'!$AF123,'Debt Avalanche Calculator'!$AI123,'Debt Avalanche Calculator'!$AL123,'Debt Avalanche Calculator'!$AO123,'Debt Avalanche Calculator'!$AR123,'Debt Avalanche Calculator'!$AU123,'Debt Avalanche Calculator'!$AX123,'Debt Avalanche Calculator'!$BA123,'Debt Avalanche Calculator'!$BD123,'Debt Avalanche Calculator'!$BG123,'Debt Avalanche Calculator'!$BJ123,'Debt Avalanche Calculator'!$BM123,'Debt Avalanche Calculator'!$BP123,'Debt Avalanche Calculator'!$BS123,'Debt Avalanche Calculator'!$BV123,'Debt Avalanche Calculator'!$BY123,'Debt Avalanche Calculator'!$CB123,'Debt Avalanche Calculator'!$CE123,'Debt Avalanche Calculator'!$CH123,'Debt Avalanche Calculator'!$CK123,'Debt Avalanche Calculator'!$CN123,'Debt Avalanche Calculator'!$CQ123,'Debt Avalanche Calculator'!$CT123)","v":0},106]
[{"$nulls":8},107,{"$f":"SUM('Debt Snowball Calculator'!E124,'Debt Snowball Calculator'!H124,'Debt Snowball Calculator'!K124,'Debt Snowball Calculator'!N124,'Debt Snowball Calculator'!Q124,'Debt Snowball Calculator'!T124,'Debt Snowball Calculator'!W124,'Debt Snowball Calculator'!Z124,'Debt Snowball Calculator'!AC124,'Debt Snowball Calculator'!AF124,'Debt Snowball Calculator'!AI124,'Debt Snowball Calculator'!AL124,'Debt Snowball Calculator'!AO124,'Debt Snowball Calculator'!AR124,'Debt Snowball Calculator'!AU124,'Debt Snowball Calculator'!AX124,'Debt Snowball Calculator'!BA124,'Debt Snowball Calculator'!BD124,'Debt Snowball Calculator'!BG124,'Debt Snowball Calculator'!BJ124,'Debt Snowball Calculator'!BM124,'Debt Snowball Calculator'!BP124,'Debt Snowball Calculator'!BS124,'Debt Snowball Calculator'!BV124,'Debt Snowball Calculator'!BY124,'Debt Snowball Calculator'!CB124,'Debt Snowball Calculator'!CE124,'Debt Snowball Calculator'!CH124,'Debt Snowball Calculator'!CK124,'Debt Snowball Calculator'!CN124,'Debt Snowball Calculator'!CQ124,'Debt Snowball Calculator'!CT124)","v":0},{"$f":"SUM('Debt Avalanche Calculator'!$E124,'Debt Avalanche Calculator'!$H124,'Debt Avalanche Calculator'!$K124,'Debt Avalanche Calculator'!$N124,'Debt Avalanche Calculator'!$Q124,'Debt Avalanche Calculator'!$T124,'Debt Avalanche Calculator'!$W124,'Debt Avalanche Calculator'!$Z124,'Debt Avalanche Calculator'!$AC124,'Debt Avalanche Calculator'!$AF124,'Debt Avalanche Calculator'!$AI124,'Debt Avalanche Calculator'!$AL124,'Debt Avalanche Calculator'!$AO124,'Debt Avalanche Calculator'!$AR124,'Debt Avalanche Calculator'!$AU124,'Debt Avalanche Calculator'!$AX124,'Debt Avalanche Calculator'!$BA124,'Debt Avalanche Calculator'!$BD124,'Debt Avalanche Calculator'!$BG124,'Debt Avalanche Calculator'!$BJ124,'Debt Avalanche Calculator'!$BM124,'Debt Avalanche Calculator'!$BP124,'Debt Avalanche Calculator'!$BS124,'Debt Avalanche Calculator'!$BV124,'Debt Avalanche Calculator'!$BY124,'Debt Avalanche Calculator'!$CB124,'Debt Avalanche Calculator'!$CE124,'Debt Avalanche Calculator'!$CH124,'Debt Avalanche Calculator'!$CK124,'Debt Avalanche Calculator'!$CN124,'Debt Avalanche Calculator'!$CQ124,'Debt Avalanche Calculator'!$CT124)","v":0},107]
[{"$nulls":8},108,{"$f":"SUM('Debt Snowball Calculator'!E125,'Debt Snowball Calculator'!H125,'Debt Snowball Calculator'!K125,'Debt Snowball Calculator'!N125,'Debt Snowball Calculator'!Q125,'Debt Snowball Calculator'!T125,'Debt Snowball Calculator'!W125,'Debt Snowball Calculator'!Z125,'Debt Snowball Calculator'!AC125,'Debt Snowball Calculator'!AF125,'Debt Snowball Calculator'!AI125,'Debt Snowball Calculator'!AL125,'Debt Snowball Calculator'!AO125,'Debt Snowball Calculator'!AR125,'Debt Snowball Calculator'!AU125,'Debt Snowball Calculator'!AX125,'Debt Snowball Calculator'!BA125,'Debt Snowball Calculator'!BD125,'Debt Snowball Calculator'!BG125,'Debt Snowball Calculator'!BJ125,'Debt Snowball Calculator'!BM125,'Debt Snowball Calculator'!BP125,'Debt Snowball Calculator'!BS125,'Debt Snowball Calculator'!BV125,'Debt Snowball Calculator'!BY125,'Debt Snowball Calculator'!CB125,'Debt Snowball Calculator'!CE125,'Debt Snowball Calculator'!CH125,'Debt Snowball Calculator'!CK125,'Debt Snowball Calculator'!CN125,'Debt Snowball Calculator'!CQ125,'Debt Snowball Calculator'!CT125)","v":0},{"$f":"SUM('Debt Avalanche Calculator'!$E125,'Debt Avalanche Calculator'!$H125,'Debt Avalanche Calculator'!$K125,'Debt Avalanche Calculator'!$N125,'Debt Avalanche Calculator'!$Q125,'Debt Avalanche Calculator'!$T125,'Debt Avalanche Calculator'!$W125,'Debt Avalanche Calculator'!$Z125,'Debt Avalanche Calculator'!$AC125,'Debt Avalanche Calculator'!$AF125,'Debt Avalanche Calculator'!$AI125,'Debt Avalanche Calculator'!$AL125,'Debt Avalanche Calculator'!$AO125,'Debt Avalanche Calculator'!$AR125,'Debt Avalanche Calculator'!$AU125,'Debt Avalanche Calculator'!$AX125,'Debt Avalanche Calculator'!$BA125,'Debt Avalanche Calculator'!$BD125,'Debt Avalanche Calculator'!$BG125,'Debt Avalanche Calculator'!$BJ125,'Debt Avalanche Calculator'!$BM125,'Debt Avalanche Calculator'!$BP125,'Debt Avalanche Calculator'!$BS125,'Debt Avalanche Calculator'!$BV125,'Debt Avalanche Calculator'!$BY125,'Debt Avalanche Calculator'!$CB125,'Debt Avalanche Calculator'!$CE125,'Debt Avalanche Calculator'!$CH125,'Debt Avalanche Calculator'!$CK125,'Debt Avalanche Calculator'!$CN125,'Debt Avalanche Calculator'!$CQ125,'Debt Avalanche Calculator'!$CT125)","v":0},108]
[{"$nulls":8},109,{"$f":"SUM('Debt Snowball Calculator'!E126,'Debt Snowball Calculator'!H126,'Debt Snowball Calculator'!K126,'Debt Snowball Calculator'!N126,'Debt Snowball Calculator'!Q126,'Debt Snowball Calculator'!T126,'Debt Snowball Calculator'!W126,'Debt Snowball Calculator'!Z126,'Debt Snowball Calculator'!AC126,'Debt Snowball Calculator'!AF126,'Debt Snowball Calculator'!AI126,'Debt Snowball Calculator'!AL126,'Debt Snowball Calculator'!AO126,'Debt Snowball Calculator'!AR126,'Debt Snowball Calculator'!AU126,'Debt Snowball Calculator'!AX126,'Debt Snowball Calculator'!BA126,'Debt Snowball Calculator'!BD126,'Debt Snowball Calculator'!BG126,'Debt Snowball Calculator'!BJ126,'Debt Snowball Calculator'!BM126,'Debt Snowball Calculator'!BP126,'Debt Snowball Calculator'!BS126,'Debt Snowball Calculator'!BV126,'Debt Snowball Calculator'!BY126,'Debt Snowball Calculator'!CB126,'Debt Snowball Calculator'!CE126,'Debt Snowball Calculator'!CH126,'Debt Snowball Calculator'!CK126,'Debt Snowball Calculator'!CN126,'Debt Snowball Calculator'!CQ126,'Debt Snowball Calculator'!CT126)","v":0},{"$f":"SUM('Debt Avalanche Calculator'!$E126,'Debt Avalanche Calculator'!$H126,'Debt Avalanche Calculator'!$K126,'Debt Avalanche Calculator'!$N126,'Debt Avalanche Calculator'!$Q126,'Debt Avalanche Calculator'!$T126,'Debt Avalanche Calculator'!$W126,'Debt Avalanche Calculator'!$Z126,'Debt Avalanche Calculator'!$AC126,'Debt Avalanche Calculator'!$AF126,'Debt Avalanche Calculator'!$AI126,'Debt Avalanche Calculator'!$AL126,'Debt Avalanche Calculator'!$AO126,'Debt Avalanche Calculator'!$AR126,'Debt Avalanche Calculator'!$AU126,'Debt Avalanche Calculator'!$AX126,'Debt Avalanche Calculator'!$BA126,'Debt Avalanche Calculator'!$BD126,'Debt Avalanche Calculator'!$BG126,'Debt Avalanche Calculator'!$BJ126,'Debt Avalanche Calculator'!$BM126,'Debt Avalanche Calculator'!$BP126,'Debt Avalanche Calculator'!$BS126,'Debt Avalanche Calculator'!$BV126,'Debt Avalanche Calculator'!$BY126,'Debt Avalanche Calculator'!$CB126,'Debt Avalanche Calculator'!$CE126,'Debt Avalanche Calculator'!$CH126,'Debt Avalanche Calculator'!$CK126,'Debt Avalanche Calculator'!$CN126,'Debt Avalanche Calculator'!$CQ126,'Debt Avalanche Calculator'!$CT126)","v":0},109]
[{"$nulls":8},110,{"$f":"SUM('Debt Snowball Calculator'!E127,'Debt Snowball Calculator'!H127,'Debt Snowball Calculator'!K127,'Debt Snowball Calculator'!N127,'Debt Snowball Calculator'!Q127,'Debt Snowball Calculator'!T127,'Debt Snowball Calculator'!W127,'Debt Snowball Calculator'!Z127,'Debt Snowball Calculator'!AC127,'Debt Snowball Calculator'!AF127,'Debt Snowball Calculator'!AI127,'Debt Snowball Calculator'!AL127,'Debt Snowball Calculator'!AO127,'Debt Snowball Calculator'!AR127,'Debt Snowball Calculator'!AU127,'Debt Snowball Calculator'!AX127,'Debt Snowball Calculator'!BA127,'Debt Snowball Calculator'!BD127,'Debt Snowball Calculator'!BG127,'Debt Snowball Calculator'!BJ127,'Debt Snowball Calculator'!BM127,'Debt Snowball Calculator'!BP127,'Debt Snowball Calculator'!BS127,'Debt Snowball Calculator'!BV127,'Debt Snowball Calculator'!BY127,'Debt Snowball Calculator'!CB127,'Debt Snowball Calculator'!CE127,'Debt Snowball Calculator'!CH127,'Debt Snowball Calculator'!CK127,'Debt Snowball Calculator'!CN127,'Debt Snowball Calculator'!CQ127,'Debt Snowball Calculator'!CT127)","v":0},{"$f":"SUM('Debt Avalanche Calculator'!$E127,'Debt Avalanche Calculator'!$H127,'Debt Avalanche Calculator'!$K127,'Debt Avalanche Calculator'!$N127,'Debt Avalanche Calculator'!$Q127,'Debt Avalanche Calculator'!$T127,'Debt Avalanche Calculator'!$W127,'Debt Avalanche Calculator'!$Z127,'Debt Avalanche Calculator'!$AC127,'Debt Avalanche Calculator'!$AF127,'Debt Avalanche Calculator'!$AI127,'Debt Avalanche Calculator'!$AL127,'Debt Avalanche Calculator'!$AO127,'Debt Avalanche Calculator'!$AR127,'Debt Avalanche Calculator'!$AU127,'Debt Avalanche Calculator'!$AX127,'Debt Avalanche Calculator'!$BA127,'Debt Avalanche Calculator'!$BD127,'Debt Avalanche Calculator'!$BG127,'Debt Avalanche Calculator'!$BJ127,'Debt Avalanche Calculator'!$BM127,'Debt Avalanche Calculator'!$BP127,'Debt Avalanche Calculator'!$BS127,'Debt Avalanche Calculator'!$BV127,'Debt Avalanche Calculator'!$BY127,'Debt Avalanche Calculator'!$CB127,'Debt Avalanche Calculator'!$CE127,'Debt Avalanche Calculator'!$CH127,'Debt Avalanche Calculator'!$CK127,'Debt Avalanche Calculator'!$CN127,'Debt Avalanche Calculator'!$CQ127,'Debt Avalanche Calculator'!$CT127)","v":0},110]
[{"$nulls":8},111,{"$f":"SUM('Debt Snowball Calculator'!E128,'Debt Snowball Calculator'!H128,'Debt Snowball Calculator'!K128,'Debt Snowball Calculator'!N128,'Debt Snowball Calculator'!Q128,'Debt Snowball Calculator'!T128,'Debt Snowball Calculator'!W128,'Debt Snowball Calculator'!Z128,'Debt Snowball Calculator'!AC128,'Debt Snowball Calculator'!AF128,'Debt Snowball Calculator'!AI128,'Debt Snowball Calculator'!AL128,'Debt Snowball Calculator'!AO128,'Debt Snowball Calculator'!AR128,'Debt Snowball Calculator'!AU128,'Debt Snowball Calculator'!AX128,'Debt Snowball Calculator'!BA128,'Debt Snowball Calculator'!BD128,'Debt Snowball Calculator'!BG128,'Debt Snowball Calculator'!BJ128,'Debt Snowball Calculator'!BM128,'Debt Snowball Calculator'!BP128,'Debt Snowball Calculator'!BS128,'Debt Snowball Calculator'!BV128,'Debt Snowball Calculator'!BY128,'Debt Snowball Calculator'!CB128,'Debt Snowball Calculator'!CE128,'Debt Snowball Calculator'!CH128,'Debt Snowball Calculator'!CK128,'Debt Snowball Calculator'!CN128,'Debt Snowball Calculator'!CQ128,'Debt Snowball Calculator'!CT128)","v":0},{"$f":"SUM('Debt Avalanche Calculator'!$E128,'Debt Avalanche Calculator'!$H128,'Debt Avalanche Calculator'!$K128,'Debt Avalanche Calculator'!$N128,'Debt Avalanche Calculator'!$Q128,'Debt Avalanche Calculator'!$T128,'Debt Avalanche Calculator'!$W128,'Debt Avalanche Calculator'!$Z128,'Debt Avalanche Calculator'!$AC128,'Debt Avalanche Calculator'!$AF128,'Debt Avalanche Calculator'!$AI128,'Debt Avalanche Calculator'!$AL128,'Debt Avalanche Calculator'!$AO128,'Debt Avalanche Calculator'!$AR128,'Debt Avalanche Calculator'!$AU128,'Debt Avalanche Calculator'!$AX128,'Debt Avalanche Calculator'!$BA128,'Debt Avalanche Calculator'!$BD128,'Debt Avalanche Calculator'!$BG128,'Debt Avalanche Calculator'!$BJ128,'Debt Avalanche Calculator'!$BM128,'Debt Avalanche Calculator'!$BP128,'Debt Avalanche Calculator'!$BS128,'Debt Avalanche Calculator'!$BV128,'Debt Avalanche Calculator'!$BY128,'Debt Avalanche Calculator'!$CB128,'Debt Avalanche Calculator'!$CE128,'Debt Avalanche Calculator'!$CH128,'Debt Avalanche Calculator'!$CK128,'Debt Avalanche Calculator'!$CN128,'Debt Avalanche Calculator'!$CQ128,'Debt Avalanche Calculator'!$CT128)","v":0},111]
[{"$nulls":8},112,{"$f":"SUM('Debt Snowball Calculator'!E129,'Debt Snowball Calculator'!H129,'Debt Snowball Calculator'!K129,'Debt Snowball Calculator'!N129,'Debt Snowball Calculator'!Q129,'Debt Snowball Calculator'!T129,'Debt Snowball Calculator'!W129,'Debt Snowball Calculator'!Z129,'Debt Snowball Calculator'!AC129,'Debt Snowball Calculator'!AF129,'Debt Snowball Calculator'!AI129,'Debt Snowball Calculator'!AL129,'Debt Snowball Calculator'!AO129,'Debt Snowball Calculator'!AR129,'Debt Snowball Calculator'!AU129,'Debt Snowball Calculator'!AX129,'Debt Snowball Calculator'!BA129,'Debt Snowball Calculator'!BD129,'Debt Snowball Calculator'!BG129,'Debt Snowball Calculator'!BJ129,'Debt Snowball Calculator'!BM129,'Debt Snowball Calculator'!BP129,'Debt Snowball Calculator'!BS129,'Debt Snowball Calculator'!BV129,'Debt Snowball Calculator'!BY129,'Debt Snowball Calculator'!CB129,'Debt Snowball Calculator'!CE129,'Debt Snowball Calculator'!CH129,'Debt Snowball Calculator'!CK129,'Debt Snowball Calculator'!CN129,'Debt Snowball Calculator'!CQ129,'Debt Snowball Calculator'!CT129)","v":0},{"$f":"SUM('Debt Avalanche Calculator'!$E129,'Debt Avalanche Calculator'!$H129,'Debt Avalanche Calculator'!$K129,'Debt Avalanche Calculator'!$N129,'Debt Avalanche Calculator'!$Q129,'Debt Avalanche Calculator'!$T129,'Debt Avalanche Calculator'!$W129,'Debt Avalanche Calculator'!$Z129,'Debt Avalanche Calculator'!$AC129,'Debt Avalanche Calculator'!$AF129,'Debt Avalanche Calculator'!$AI129,'Debt Avalanche Calculator'!$AL129,'Debt Avalanche Calculator'!$AO129,'Debt Avalanche Calculator'!$AR129,'Debt Avalanche Calculator'!$AU129,'Debt Avalanche Calculator'!$AX129,'Debt Avalanche Calculator'!$BA129,'Debt Avalanche Calculator'!$BD129,'Debt Avalanche Calculator'!$BG129,'Debt Avalanche Calculator'!$BJ129,'Debt Avalanche Calculator'!$BM129,'Debt Avalanche Calculator'!$BP129,'Debt Avalanche Calculator'!$BS129,'Debt Avalanche Calculator'!$BV129,'Debt Avalanche Calculator'!$BY129,'Debt Avalanche Calculator'!$CB129,'Debt Avalanche Calculator'!$CE129,'Debt Avalanche Calculator'!$CH129,'Debt Avalanche Calculator'!$CK129,'Debt Avalanche Calculator'!$CN129,'Debt Avalanche Calculator'!$CQ129,'Debt Avalanche Calculator'!$CT129)","v":0},112]
[{"$nulls":8},113,{"$f":"SUM('Debt Snowball Calculator'!E130,'Debt Snowball Calculator'!H130,'Debt Snowball Calculator'!K130,'Debt Snowball Calculator'!N130,'Debt Snowball Calculator'!Q130,'Debt Snowball Calculator'!T130,'Debt Snowball Calculator'!W130,'Debt Snowball Calculator'!Z130,'Debt Snowball Calculator'!AC130,'Debt Snowball Calculator'!AF130,'Debt Snowball Calculator'!AI130,'Debt Snowball Calculator'!AL130,'Debt Snowball Calculator'!AO130,'Debt Snowball Calculator'!AR130,'Debt Snowball Calculator'!AU130,'Debt Snowball Calculator'!AX130,'Debt Snowball Calculator'!BA130,'Debt Snowball Calculator'!BD130,'Debt Snowball Calculator'!BG130,'Debt Snowball Calculator'!BJ130,'Debt Snowball Calculator'!BM130,'Debt Snowball Calculator'!BP130,'Debt Snowball Calculator'!BS130,'Debt Snowball Calculator'!BV130,'Debt Snowball Calculator'!BY130,'Debt Snowball Calculator'!CB130,'Debt Snowball Calculator'!CE130,'Debt Snowball Calculator'!CH130,'Debt Snowball Calculator'!CK130,'Debt Snowball Calculator'!CN130,'Debt Snowball Calculator'!CQ130,'Debt Snowball Calculator'!CT130)","v":0},{"$f":"SUM('Debt Avalanche Calculator'!$E130,'Debt Avalanche Calculator'!$H130,'Debt Avalanche Calculator'!$K130,'Debt Avalanche Calculator'!$N130,'Debt Avalanche Calculator'!$Q130,'Debt Avalanche Calculator'!$T130,'Debt Avalanche Calculator'!$W130,'Debt Avalanche Calculator'!$Z130,'Debt Avalanche Calculator'!$AC130,'Debt Avalanche Calculator'!$AF130,'Debt Avalanche Calculator'!$AI130,'Debt Avalanche Calculator'!$AL130,'Debt Avalanche Calculator'!$AO130,'Debt Avalanche Calculator'!$AR130,'Debt Avalanche Calculator'!$AU130,'Debt Avalanche Calculator'!$AX130,'Debt Avalanche Calculator'!$BA130,'Debt Avalanche Calculator'!$BD130,'Debt Avalanche Calculator'!$BG130,'Debt Avalanche Calculator'!$BJ130,'Debt Avalanche Calculator'!$BM130,'Debt Avalanche Calculator'!$BP130,'Debt Avalanche Calculator'!$BS130,'Debt Avalanche Calculator'!$BV130,'Debt Avalanche Calculator'!$BY130,'Debt Avalanche Calculator'!$CB130,'Debt Avalanche Calculator'!$CE130,'Debt Avalanche Calculator'!$CH130,'Debt Avalanche Calculator'!$CK130,'Debt Avalanche Calculator'!$CN130,'Debt Avalanche Calculator'!$CQ130,'Debt Avalanche Calculator'!$CT130)","v":0},113]
[{"$nulls":8},114,{"$f":"SUM('Debt Snowball Calculator'!E131,'Debt Snowball Calculator'!H131,'Debt Snowball Calculator'!K131,'Debt Snowball Calculator'!N131,'Debt Snowball Calculator'!Q131,'Debt Snowball Calculator'!T131,'Debt Snowball Calculator'!W131,'Debt Snowball Calculator'!Z131,'Debt Snowball Calculator'!AC131,'Debt Snowball Calculator'!AF131,'Debt Snowball Calculator'!AI131,'Debt Snowball Calculator'!AL131,'Debt Snowball Calculator'!AO131,'Debt Snowball Calculator'!AR131,'Debt Snowball Calculator'!AU131,'Debt Snowball Calculator'!AX131,'Debt Snowball Calculator'!BA131,'Debt Snowball Calculator'!BD131,'Debt Snowball Calculator'!BG131,'Debt Snowball Calculator'!BJ131,'Debt Snowball Calculator'!BM131,'Debt Snowball Calculator'!BP131,'Debt Snowball Calculator'!BS131,'Debt Snowball Calculator'!BV131,'Debt Snowball Calculator'!BY131,'Debt Snowball Calculator'!CB131,'Debt Snowball Calculator'!CE131,'Debt Snowball Calculator'!CH131,'Debt Snowball Calculator'!CK131,'Debt Snowball Calculator'!CN131,'Debt Snowball Calculator'!CQ131,'Debt Snowball Calculator'!CT131)","v":0},{"$f":"SUM('Debt Avalanche Calculator'!$E131,'Debt Avalanche Calculator'!$H131,'Debt Avalanche Calculator'!$K131,'Debt Avalanche Calculator'!$N131,'Debt Avalanche Calculator'!$Q131,'Debt Avalanche Calculator'!$T131,'Debt Avalanche Calculator'!$W131,'Debt Avalanche Calculator'!$Z131,'Debt Avalanche Calculator'!$AC131,'Debt Avalanche Calculator'!$AF131,'Debt Avalanche Calculator'!$AI131,'Debt Avalanche Calculator'!$AL131,'Debt Avalanche Calculator'!$AO131,'Debt Avalanche Calculator'!$AR131,'Debt Avalanche Calculator'!$AU131,'Debt Avalanche Calculator'!$AX131,'Debt Avalanche Calculator'!$BA131,'Debt Avalanche Calculator'!$BD131,'Debt Avalanche Calculator'!$BG131,'Debt Avalanche Calculator'!$BJ131,'Debt Avalanche Calculator'!$BM131,'Debt Avalanche Calculator'!$BP131,'Debt Avalanche Calculator'!$BS131,'Debt Avalanche Calculator'!$BV131,'Debt Avalanche Calculator'!$BY131,'Debt Avalanche Calculator'!$CB131,'Debt Avalanche Calculator'!$CE131,'Debt Avalanche Calculator'!$CH131,'Debt Avalanche Calculator'!$CK131,'Debt Avalanche Calculator'!$CN131,'Debt Avalanche Calculator'!$CQ131,'Debt Avalanche Calculator'!$CT131)","v":0},114]
[{"$nulls":8},115,{"$f":"SUM('Debt Snowball Calculator'!E132,'Debt Snowball Calculator'!H132,'Debt Snowball Calculator'!K132,'Debt Snowball Calculator'!N132,'Debt Snowball Calculator'!Q132,'Debt Snowball Calculator'!T132,'Debt Snowball Calculator'!W132,'Debt Snowball Calculator'!Z132,'Debt Snowball Calculator'!AC132,'Debt Snowball Calculator'!AF132,'Debt Snowball Calculator'!AI132,'Debt Snowball Calculator'!AL132,'Debt Snowball Calculator'!AO132,'Debt Snowball Calculator'!AR132,'Debt Snowball Calculator'!AU132,'Debt Snowball Calculator'!AX132,'Debt Snowball Calculator'!BA132,'Debt Snowball Calculator'!BD132,'Debt Snowball Calculator'!BG132,'Debt Snowball Calculator'!BJ132,'Debt Snowball Calculator'!BM132,'Debt Snowball Calculator'!BP132,'Debt Snowball Calculator'!BS132,'Debt Snowball Calculator'!BV132,'Debt Snowball Calculator'!BY132,'Debt Snowball Calculator'!CB132,'Debt Snowball Calculator'!CE132,'Debt Snowball Calculator'!CH132,'Debt Snowball Calculator'!CK132,'Debt Snowball Calculator'!CN132,'Debt Snowball Calculator'!CQ132,'Debt Snowball Calculator'!CT132)","v":0},{"$f":"SUM('Debt Avalanche Calculator'!$E132,'Debt Avalanche Calculator'!$H132,'Debt Avalanche Calculator'!$K132,'Debt Avalanche Calculator'!$N132,'Debt Avalanche Calculator'!$Q132,'Debt Avalanche Calculator'!$T132,'Debt Avalanche Calculator'!$W132,'Debt Avalanche Calculator'!$Z132,'Debt Avalanche Calculator'!$AC132,'Debt Avalanche Calculator'!$AF132,'Debt Avalanche Calculator'!$AI132,'Debt Avalanche Calculator'!$AL132,'Debt Avalanche Calculator'!$AO132,'Debt Avalanche Calculator'!$AR132,'Debt Avalanche Calculator'!$AU132,'Debt Avalanche Calculator'!$AX132,'Debt Avalanche Calculator'!$BA132,'Debt Avalanche Calculator'!$BD132,'Debt Avalanche Calculator'!$BG132,'Debt Avalanche Calculator'!$BJ132,'Debt Avalanche Calculator'!$BM132,'Debt Avalanche Calculator'!$BP132,'Debt Avalanche Calculator'!$BS132,'Debt Avalanche Calculator'!$BV132,'Debt Avalanche Calculator'!$BY132,'Debt Avalanche Calculator'!$CB132,'Debt Avalanche Calculator'!$CE132,'Debt Avalanche Calculator'!$CH132,'Debt Avalanche Calculator'!$CK132,'Debt Avalanche Calculator'!$CN132,'Debt Avalanche Calculator'!$CQ132,'Debt Avalanche Calculator'!$CT132)","v":0},115]
[{"$nulls":8},116,{"$f":"SUM('Debt Snowball Calculator'!E133,'Debt Snowball Calculator'!H133,'Debt Snowball Calculator'!K133,'Debt Snowball Calculator'!N133,'Debt Snowball Calculator'!Q133,'Debt Snowball Calculator'!T133,'Debt Snowball Calculator'!W133,'Debt Snowball Calculator'!Z133,'Debt Snowball Calculator'!AC133,'Debt Snowball Calculator'!AF133,'Debt Snowball Calculator'!AI133,'Debt Snowball Calculator'!AL133,'Debt Snowball Calculator'!AO133,'Debt Snowball Calculator'!AR133,'Debt Snowball Calculator'!AU133,'Debt Snowball Calculator'!AX133,'Debt Snowball Calculator'!BA133,'Debt Snowball Calculator'!BD133,'Debt Snowball Calculator'!BG133,'Debt Snowball Calculator'!BJ133,'Debt Snowball Calculator'!BM133,'Debt Snowball Calculator'!BP133,'Debt Snowball Calculator'!BS133,'Debt Snowball Calculator'!BV133,'Debt Snowball Calculator'!BY133,'Debt Snowball Calculator'!CB133,'Debt Snowball Calculator'!CE133,'Debt Snowball Calculator'!CH133,'Debt Snowball Calculator'!CK133,'Debt Snowball Calculator'!CN133,'Debt Snowball Calculator'!CQ133,'Debt Snowball Calculator'!CT133)","v":0},{"$f":"SUM('Debt Avalanche Calculator'!$E133,'Debt Avalanche Calculator'!$H133,'Debt Avalanche Calculator'!$K133,'Debt Avalanche Calculator'!$N133,'Debt Avalanche Calculator'!$Q133,'Debt Avalanche Calculator'!$T133,'Debt Avalanche Calculator'!$W133,'Debt Avalanche Calculator'!$Z133,'Debt Avalanche Calculator'!$AC133,'Debt Avalanche Calculator'!$AF133,'Debt Avalanche Calculator'!$AI133,'Debt Avalanche Calculator'!$AL133,'Debt Avalanche Calculator'!$AO133,'Debt Avalanche Calculator'!$AR133,'Debt Avalanche Calculator'!$AU133,'Debt Avalanche Calculator'!$AX133,'Debt Avalanche Calculator'!$BA133,'Debt Avalanche Calculator'!$BD133,'Debt Avalanche Calculator'!$BG133,'Debt Avalanche Calculator'!$BJ133,'Debt Avalanche Calculator'!$BM133,'Debt Avalanche Calculator'!$BP133,'Debt Avalanche Calculator'!$BS133,'Debt Avalanche Calculator'!$BV133,'Debt Avalanche Calculator'!$BY133,'Debt Avalanche Calculator'!$CB133,'Debt Avalanche Calculator'!$CE133,'Debt Avalanche Calculator'!$CH133,'Debt Avalanche Calculator'!$CK133,'Debt Avalanche Calculator'!$CN133,'Debt Avalanche Calculator'!$CQ133,'Debt Avalanche Calculator'!$CT133)","v":0},116]
[{"$nulls":8},117,{"$f":"SUM('Debt Snowball Calculator'!E134,'Debt Snowball Calculator'!H134,'Debt Snowball Calculator'!K134,'Debt Snowball Calculator'!N134,'Debt Snowball Calculator'!Q134,'Debt Snowball Calculator'!T134,'Debt Snowball Calculator'!W134,'Debt Snowball Calculator'!Z134,'Debt Snowball Calculator'!AC134,'Debt Snowball Calculator'!AF134,'Debt Snowball Calculator'!AI134,'Debt Snowball Calculator'!AL134,'Debt Snowball Calculator'!AO134,'Debt Snowball Calculator'!AR134,'Debt Snowball Calculator'!AU134,'Debt Snowball Calculator'!AX134,'Debt Snowball Calculator'!BA134,'Debt Snowball Calculator'!BD134,'Debt Snowball Calculator'!BG134,'Debt Snowball Calculator'!BJ134,'Debt Snowball Calculator'!BM134,'Debt Snowball Calculator'!BP134,'Debt Snowball Calculator'!BS134,'Debt Snowball Calculator'!BV134,'Debt Snowball Calculator'!BY134,'Debt Snowball Calculator'!CB134,'Debt Snowball Calculator'!CE134,'Debt Snowball Calculator'!CH134,'Debt Snowball Calculator'!CK134,'Debt Snowball Calculator'!CN134,'Debt Snowball Calculator'!CQ134,'Debt Snowball Calculator'!CT134)","v":0},{"$f":"SUM('Debt Avalanche Calculator'!$E134,'Debt Avalanche Calculator'!$H134,'Debt Avalanche Calculator'!$K134,'Debt Avalanche Calculator'!$N134,'Debt Avalanche Calculator'!$Q134,'Debt Avalanche Calculator'!$T134,'Debt Avalanche Calculator'!$W134,'Debt Avalanche Calculator'!$Z134,'Debt Avalanche Calculator'!$AC134,'Debt Avalanche Calculator'!$AF134,'Debt Avalanche Calculator'!$AI134,'Debt Avalanche Calculator'!$AL134,'Debt Avalanche Calculator'!$AO134,'Debt Avalanche Calculator'!$AR134,'Debt Avalanche Calculator'!$AU134,'Debt Avalanche Calculator'!$AX134,'Debt Avalanche Calculator'!$BA134,'Debt Avalanche Calculator'!$BD134,'Debt Avalanche Calculator'!$BG134,'Debt Avalanche Calculator'!$BJ134,'Debt Avalanche Calculator'!$BM134,'Debt Avalanche Calculator'!$BP134,'Debt Avalanche Calculator'!$BS134,'Debt Avalanche Calculator'!$BV134,'Debt Avalanche Calculator'!$BY134,'Debt Avalanche Calculator'!$CB134,'Debt Avalanche Calculator'!$CE134,'Debt Avalanche Calculator'!$CH134,'Debt Avalanche Calculator'!$CK134,'Debt Avalanche Calculator'!$CN134,'Debt Avalanche Calculator'!$CQ134,'Debt Avalanche Calculator'!$CT134)","v":0},117]
[{"$nulls":8},118,{"$f":"SUM('Debt Snowball Calculator'!E135,'Debt Snowball Calculator'!H135,'Debt Snowball Calculator'!K135,'Debt Snowball Calculator'!N135,'Debt Snowball Calculator'!Q135,'Debt Snowball Calculator'!T135,'Debt Snowball Calculator'!W135,'Debt Snowball Calculator'!Z135,'Debt Snowball Calculator'!AC135,'Debt Snowball Calculator'!AF135,'Debt Snowball Calculator'!AI135,'Debt Snowball Calculator'!AL135,'Debt Snowball Calculator'!AO135,'Debt Snowball Calculator'!AR135,'Debt Snowball Calculator'!AU135,'Debt Snowball Calculator'!AX135,'Debt Snowball Calculator'!BA135,'Debt Snowball Calculator'!BD135,'Debt Snowball Calculator'!BG135,'Debt Snowball Calculator'!BJ135,'Debt Snowball Calculator'!BM135,'Debt Snowball Calculator'!BP135,'Debt Snowball Calculator'!BS135,'Debt Snowball Calculator'!BV135,'Debt Snowball Calculator'!BY135,'Debt Snowball Calculator'!CB135,'Debt Snowball Calculator'!CE135,'Debt Snowball Calculator'!CH135,'Debt Snowball Calculator'!CK135,'Debt Snowball Calculator'!CN135,'Debt Snowball Calculator'!CQ135,'Debt Snowball Calculator'!CT135)","v":0},{"$f":"SUM('Debt Avalanche Calculator'!$E135,'Debt Avalanche Calculator'!$H135,'Debt Avalanche Calculator'!$K135,'Debt Avalanche Calculator'!$N135,'Debt Avalanche Calculator'!$Q135,'Debt Avalanche Calculator'!$T135,'Debt Avalanche Calculator'!$W135,'Debt Avalanche Calculator'!$Z135,'Debt Avalanche Calculator'!$AC135,'Debt Avalanche Calculator'!$AF135,'Debt Avalanche Calculator'!$AI135,'Debt Avalanche Calculator'!$AL135,'Debt Avalanche Calculator'!$AO135,'Debt Avalanche Calculator'!$AR135,'Debt Avalanche Calculator'!$AU135,'Debt Avalanche Calculator'!$AX135,'Debt Avalanche Calculator'!$BA135,'Debt Avalanche Calculator'!$BD135,'Debt Avalanche Calculator'!$BG135,'Debt Avalanche Calculator'!$BJ135,'Debt Avalanche Calculator'!$BM135,'Debt Avalanche Calculator'!$BP135,'Debt Avalanche Calculator'!$BS135,'Debt Avalanche Calculator'!$BV135,'Debt Avalanche Calculator'!$BY135,'Debt Avalanche Calculator'!$CB135,'Debt Avalanche Calculator'!$CE135,'Debt Avalanche Calculator'!$CH135,'Debt Avalanche Calculator'!$CK135,'Debt Avalanche Calculator'!$CN135,'Debt Avalanche Calculator'!$CQ135,'Debt Avalanche Calculator'!$CT135)","v":0},118]
[{"$nulls":8},119,{"$f":"SUM('Debt Snowball Calculator'!E136,'Debt Snowball Calculator'!H136,'Debt Snowball Calculator'!K136,'Debt Snowball Calculator'!N136,'Debt Snowball Calculator'!Q136,'Debt Snowball Calculator'!T136,'Debt Snowball Calculator'!W136,'Debt Snowball Calculator'!Z136,'Debt Snowball Calculator'!AC136,'Debt Snowball Calculator'!AF136,'Debt Snowball Calculator'!AI136,'Debt Snowball Calculator'!AL136,'Debt Snowball Calculator'!AO136,'Debt Snowball Calculator'!AR136,'Debt Snowball Calculator'!AU136,'Debt Snowball Calculator'!AX136,'Debt Snowball Calculator'!BA136,'Debt Snowball Calculator'!BD136,'Debt Snowball Calculator'!BG136,'Debt Snowball Calculator'!BJ136,'Debt Snowball Calculator'!BM136,'Debt Snowball Calculator'!BP136,'Debt Snowball Calculator'!BS136,'Debt Snowball Calculator'!BV136,'Debt Snowball Calculator'!BY136,'Debt Snowball Calculator'!CB136,'Debt Snowball Calculator'!CE136,'Debt Snowball Calculator'!CH136,'Debt Snowball Calculator'!CK136,'Debt Snowball Calculator'!CN136,'Debt Snowball Calculator'!CQ136,'Debt Snowball Calculator'!CT136)","v":0},{"$f":"SUM('Debt Avalanche Calculator'!$E136,'Debt Avalanche Calculator'!$H136,'Debt Avalanche Calculator'!$K136,'Debt Avalanche Calculator'!$N136,'Debt Avalanche Calculator'!$Q136,'Debt Avalanche Calculator'!$T136,'Debt Avalanche Calculator'!$W136,'Debt Avalanche Calculator'!$Z136,'Debt Avalanche Calculator'!$AC136,'Debt Avalanche Calculator'!$AF136,'Debt Avalanche Calculator'!$AI136,'Debt Avalanche Calculator'!$AL136,'Debt Avalanche Calculator'!$AO136,'Debt Avalanche Calculator'!$AR136,'Debt Avalanche Calculator'!$AU136,'Debt Avalanche Calculator'!$AX136,'Debt Avalanche Calculator'!$BA136,'Debt Avalanche Calculator'!$BD136,'Debt Avalanche Calculator'!$BG136,'Debt Avalanche Calculator'!$BJ136,'Debt Avalanche Calculator'!$BM136,'Debt Avalanche Calculator'!$BP136,'Debt Avalanche Calculator'!$BS136,'Debt Avalanche Calculator'!$BV136,'Debt Avalanche Calculator'!$BY136,'Debt Avalanche Calculator'!$CB136,'Debt Avalanche Calculator'!$CE136,'Debt Avalanche Calculator'!$CH136,'Debt Avalanche Calculator'!$CK136,'Debt Avalanche Calculator'!$CN136,'Debt Avalanche Calculator'!$CQ136,'Debt Avalanche Calculator'!$CT136)","v":0},119]
[{"$nulls":8},120,{"$f":"SUM('Debt Snowball Calculator'!E137,'Debt Snowball Calculator'!H137,'Debt Snowball Calculator'!K137,'Debt Snowball Calculator'!N137,'Debt Snowball Calculator'!Q137,'Debt Snowball Calculator'!T137,'Debt Snowball Calculator'!W137,'Debt Snowball Calculator'!Z137,'Debt Snowball Calculator'!AC137,'Debt Snowball Calculator'!AF137,'Debt Snowball Calculator'!AI137,'Debt Snowball Calculator'!AL137,'Debt Snowball Calculator'!AO137,'Debt Snowball Calculator'!AR137,'Debt Snowball Calculator'!AU137,'Debt Snowball Calculator'!AX137,'Debt Snowball Calculator'!BA137,'Debt Snowball Calculator'!BD137,'Debt Snowball Calculator'!BG137,'Debt Snowball Calculator'!BJ137,'Debt Snowball Calculator'!BM137,'Debt Snowball Calculator'!BP137,'Debt Snowball Calculator'!BS137,'Debt Snowball Calculator'!BV137,'Debt Snowball Calculator'!BY137,'Debt Snowball Calculator'!CB137,'Debt Snowball Calculator'!CE137,'Debt Snowball Calculator'!CH137,'Debt Snowball Calculator'!CK137,'Debt Snowball Calculator'!CN137,'Debt Snowball Calculator'!CQ137,'Debt Snowball Calculator'!CT137)","v":0},{"$f":"SUM('Debt Avalanche Calculator'!$E137,'Debt Avalanche Calculator'!$H137,'Debt Avalanche Calculator'!$K137,'Debt Avalanche Calculator'!$N137,'Debt Avalanche Calculator'!$Q137,'Debt Avalanche Calculator'!$T137,'Debt Avalanche Calculator'!$W137,'Debt Avalanche Calculator'!$Z137,'Debt Avalanche Calculator'!$AC137,'Debt Avalanche Calculator'!$AF137,'Debt Avalanche Calculator'!$AI137,'Debt Avalanche Calculator'!$AL137,'Debt Avalanche Calculator'!$AO137,'Debt Avalanche Calculator'!$AR137,'Debt Avalanche Calculator'!$AU137,'Debt Avalanche Calculator'!$AX137,'Debt Avalanche Calculator'!$BA137,'Debt Avalanche Calculator'!$BD137,'Debt Avalanche Calculator'!$BG137,'Debt Avalanche Calculator'!$BJ137,'Debt Avalanche Calculator'!$BM137,'Debt Avalanche Calculator'!$BP137,'Debt Avalanche Calculator'!$BS137,'Debt Avalanche Calculator'!$BV137,'Debt Avalanche Calculator'!$BY137,'Debt Avalanche Calculator'!$CB137,'Debt Avalanche Calculator'!$CE137,'Debt Avalanche Calculator'!$CH137,'Debt Avalanche Calculator'!$CK137,'Debt Avalanche Calculator'!$CN137,'Debt Avalanche Calculator'!$CQ137,'Debt Avalanche Calculator'!$CT137)","v":0},120]

{"sheet":"Debt Snowball Calculator","index":2,"n_rows":137,"n_cols":196,"rows_kept":137,"merged":[[2,3,3,9],[5,10,6,16]]}
[]
[{"$nulls":19},"Instructions:"]
[{"$nulls":3},"Debt Snowball Calculator",{"$nulls":8},"Extra Monthly Payment ",{"$f":"'Snowball vs Avalanche'!H4","v":{"v":200,"d":"$200.00"}},null,"(beyond minimum debt payments)",{"$nulls":3}," - Note: All these cells are auto-filled in from the 'Snowball vs Avalanche' tab."]
[{"$nulls":12},"One-Time Start-up Payment ",{"$f":"'Snowball vs Avalanche'!H5","v":0},null,"(from cash you have in savings)",{"$nulls":3},"They are here just for your reference if you would like to see the detail"]
[{"$nulls":3},"(FREE 8-Debt Version)"]
[{"$nulls":3},"Provided by: LifeAndMyFinances.com",{"$nulls":6},"Like this sheet? Need a bigger version of the Debt Snowball?        We sell one on Etsy for just $3.99. Click here to check it out! "]
[{"$nulls":3},"Copyright 2022"]
[]
[]
[{"$nulls":3},"Smallest Debts",{"$nulls":21},"Largest Debts"]
[]
[{"$nulls":3},"Debt 1",null,null,"Debt 2",null,null,"Debt 3",null,null,"Debt 4",null,null,"Debt 5",null,null,"Debt 6",null,null,"Debt 7",null,null,"Debt 8",null,null,"Debt 9",null,null,"Debt 10",null,null,"Debt 11",null,null,"Debt 12",null,null,"Debt 13",null,null,"Debt 14",null,null,"Debt 15",null,null,"Debt 16",null,null,"Debt 17",null,null,"Debt 18",null,null,"Debt 19",null,null,"Debt 20",null,null,"Debt 21",null,null,"Debt 22",null,null,"Debt 23",null,null,"Debt 24",null,null,"Debt 25",null,null,"Debt 26",null,null,"Debt 27",null,null,"Debt 28",null,null,"Debt 29",null,null,"Debt 30",null,null,"Debt 31",null,null,"Debt 32"]
[{"$nulls":3},"Balance",{"$f":"'Snowball vs Avalanche'!C16","v":{"v":1000,"d":"$1,000.00"}},null,"Balance",{"$f":"'Snowball vs Avalanche'!C17","v":{"v":2000,"d":"$2,000.00"}},null,"Balance",{"$f":"'Snowball vs Avalanche'!$C$18","v":{"v":3000,"d":"$3,000.00"}},null,"Balance",{"$f":"'Snowball vs Avalanche'!$C$19","v":0},null,"Balance",{"$f":"'Snowball vs Avalanche'!$C$20","v":0},null,"Balance",{"$f":"'Snowball vs Avalanche'!$C$21","v":0},null,"Balance",{"$f":"'Snowball vs Avalanche'!$C$22","v":0},null,"Balance",{"$f":"'Snowball vs Avalanche'!$C$23","v":0},null,"Balance",{"$f":"'Snowball vs Avalanche'!$C$24","v":0},null,"Balance",{"$f":"'Snowball vs Avalanche'!$C$25","v":0},null,"Balance",{"$f":"'Snowball vs Avalanche'!$C$26","v":0},null,"Balance",{"$f":"'Snowball vs Avalanche'!$C$27","v":0},null,"Balance",{"$f":"'Snowball vs Avalanche'!$C$28","v":0},null,"Balance",{"$f":"'Snowball vs Avalanche'!$C$29","v":0},null,"Balance",{"$f":"'Snowball vs Avalanche'!$C$30","v":0},null,"Balance",{"$f":"'Snowball vs Avalanche'!$C$31","v":0},null,"Balance",{"$f":"'Snowball vs Avalanche'!$C$32","v":0},null,"Balance",{"$f":"'Snowball vs Avalanche'!$C$33","v":0},null,"Balance",{"$f":"'Snowball vs Avalanche'!$C$34","v":0},null,"Balance",{"$f":"'Snowball vs Avalanche'!$C$35","v":0},null,"Balance",{"$f":"'Snowball vs Avalanche'!$C$36","v":0},null,"Balance",{"$f":"'Snowball vs Avalanche'!$C$37","v":0},null,"Balance",{"$f":"'Snowball vs Avalanche'!$C$38","v":0},null,"Balance",{"$f":"'Snowball vs Avalanche'!$C$39","v":0},null,"Balance",{"$f":"'Snowball vs Avalanche'!$C$40","v":0},null,"Balance",{"$f":"'Snowball vs Avalanche'!$C$41","v":0},null,"Balance",{"$f":"'Snowball vs Avalanche'!$C$42","v":0},null,"Balance",{"$f":"'Snowball vs Avalanche'!$C$43","v":0},null,"Balance",{"$f":"'Snowball vs Avalanche'!$C$44","v":0},null,"Balance",{"$f":"'Snowball vs Avalanche'!$C$45","v":0},null,"Balance",{"$f":"'Snowball vs Avalanche'!$C$46","v":0},null,"Balance",{"$f":"'Snowball vs Avalanche'!$C$47","v":0}]
[{"$nulls":3},"Minimum Payment",{"$f":"'Snowball vs Avalanche'!D16","v":{"v":25,"d":"$25.00"}},null,"Minimum Payment",{"$f":"'Snowball vs Avalanche'!D17","v":{"v":40,"d":"$40.00"}},null,"Minimum Payment",{"$f":"'Snowball vs Avalanche'!$D$18","v":{"v":60,"d":"$60.00"}},null,"Minimum Payment",{"$f":"'Snowball vs Avalanche'!$D$19","v":0},null,"Minimum Payment",{"$f":"'Snowball vs Avalanche'!$D$20","v":0},null,"Minimum Payment",{"$f":"'Snowball vs Avalanche'!$D$21","v":0},null,"Minimum Payment",{"$f":"'Snowball vs Avalanche'!$D$22","v":0},null,"Minimum Payment",{"$f":"'Snowball vs Avalanche'!$D$23","v":0},null,"Minimum Payment",{"$f":"'Snowball vs Avalanche'!$D$24","v":0},null,"Minimum Payment",{"$f":"'Snowball vs Avalanche'!$D$25","v":0},null,"Minimum Payment",{"$f":"'Snowball vs Avalanche'!$D$26","v":0},null,"Minimum Payment",{"$f":"'Snowball vs Avalanche'!$D$27","v":0},null,"Minimum Payment",{"$f":"'Snowball vs Avalanche'!$D$28","v":0},null,"Minimum Payment",{"$f":"'Snowball vs Avalanche'!$D$29","v":0},null,"Minimum Payment",{"$f":"'Snowball vs Avalanche'!$D$30","v":0},null,"Minimum Payment",{"$f":"'Snowball vs Avalanche'!$D$31","v":0},null,"Minimum Payment",{"$f":"'Snowball vs Avalanche'!$D$32","v":0},null,"Minimum Payment",{"$f":"'Snowball vs Avalanche'!$D$33","v":0},null,"Minimum Payment",{"$f":"'Snowball vs Avalanche'!$D$34","v":0},null,"Minimum Payment",{"$f":"'Snowball vs Avalanche'!$D$35","v":0},null,"Minimum Payment",{"$f":"'Snowball vs Avalanche'!$D$36","v":0},null,"Minimum Payment",{"$f":"'Snowball vs Avalanche'!$D$37","v":0},null,"Minimum Payment",{"$f":"'Snowball vs Avalanche'!$D$38","v":0},null,"Minimum Payment",{"$f":"'Snowball vs Avalanche'!$D$39","v":0},null,"Minimum Payment",{"$f":"'Snowball vs Avalanche'!$D$40","v":0},null,"Minimum Payment",{"$f":"'Snowball vs Avalanche'!$D$41","v":0},null,"Minimum Payment",{"$f":"'Snowball vs Avalanche'!$D$42","v":0},null,"Minimum Payment",{"$f":"'Snowball vs Avalanche'!$D$43","v":0},null,"Minimum Payment",{"$f":"'Snowball vs Avalanche'!$D$44","v":0},null,"Minimum Payment",{"$f":"'Snowball vs Avalanche'!$D$45","v":0},null,"Minimum Payment",{"$f":"'Snowball vs Avalanche'!$D$46","v":0},null,"Minimum Payment",{"$f":"'Snowball vs Avalanche'!$D$47","v":0}]
[{"$nulls":3},"Interest Rate",{"$f":"'Snowball vs Avalanche'!E16","v":{"v":0.08,"d":"8.0%"}},null,"Interest Rate",{"$f":"'Snowball vs Avalanche'!E17","v":{"v":0.12,"d":"12.0%"}},null,"Interest Rate",{"$f":"'Snowball vs Avalanche'!$E$18","v":{"v":0.26,"d":"26.0%"}},null,"Interest Rate",{"$f":"'Snowball vs Avalanche'!$E$19","v":{"v":0,"d":"0.0%"}},null,"Interest Rate",{"$f":"'Snowball vs Avalanche'!$E$20","v":{"v":0,"d":"0.0%"}},null,"Interest Rate",{"$f":"'Snowball vs Avalanche'!$E$21","v":{"v":0,"d":"0.0%"}},null,"Interest Rate",{"$f":"'Snowball vs Avalanche'!$E$22","v":{"v":0,"d":"0.0%"}},null,"Interest Rate",{"$f":"'Snowball vs Avalanche'!$E$23","v":{"v":0,"d":"0.0%"}},null,"Interest Rate",{"$f":"'Snowball vs Avalanche'!$E$24","v":{"v":0,"d":"0.0%"}},null,"Interest Rate",{"$f":"'Snowball vs Avalanche'!$E$25","v":{"v":0,"d":"0.0%"}},null,"Interest Rate",{"$f":"'Snowball vs Avalanche'!$E$26","v":{"v":0,"d":"0.0%"}},null,"Interest Rate",{"$f":"'Snowball vs Avalanche'!$E$27","v":{"v":0,"d":"0.0%"}},null,"Interest Rate",{"$f":"'Snowball vs Avalanche'!$E$28","v":{"v":0,"d":"0.0%"}},null,"Interest Rate",{"$f":"'Snowball vs Avalanche'!$E$29","v":{"v":0,"d":"0.0%"}},null,"Interest Rate",{"$f":"'Snowball vs Avalanche'!$E$30","v":{"v":0,"d":"0.0%"}},null,"Interest Rate",{"$f":"'Snowball vs Avalanche'!$E$31","v":{"v":0,"d":"0.0%"}},null,"Interest Rate",{"$f":"'Snowball vs Avalanche'!$E$32","v":{"v":0,"d":"0.0%"}},null,"Interest Rate",{"$f":"'Snowball vs Avalanche'!$E$33","v":{"v":0,"d":"0.0%"}},null,"Interest Rate",{"$f":"'Snowball vs Avalanche'!$E$34","v":{"v":0,"d":"0.0%"}},null,"Interest Rate",{"$f":"'Snowball vs Avalanche'!$E$35","v":{"v":0,"d":"0.0%"}},null,"Interest Rate",{"$f":"'Snowball vs Avalanche'!$E$36","v":{"v":0,"d":"0.0%"}},null,"Interest Rate",{"$f":"'Snowball vs Avalanche'!$E$37","v":{"v":0,"d":"0.0%"}},null,"Interest Rate",{"$f":"'Snowball vs Avalanche'!$E$38","v":{"v":0,"d":"0.0%"}},null,"Interest Rate",{"$f":"'Snowball vs Avalanche'!$E$39","v":{"v":0,"d":"0.0%"}},null,"Interest Rate",{"$f":"'Snowball vs Avalanche'!$E$40","v":{"v":0,"d":"0.0%"}},null,"Interest Rate",{"$f":"'Snowball vs Avalanche'!$E$41","v":{"v":0,"d":"0.0%"}},null,"Interest Rate",{"$f":"'Snowball vs Avalanche'!$E$42","v":{"v":0,"d":"0.0%"}},null,"Interest Rate",{"$f":"'Snowball vs Avalanche'!$E$43","v":{"v":0,"d":"0.0%"}},null,"Interest Rate",{"$f":"'Snowball vs Avalanche'!$E$44","v":{"v":0,"d":"0.0%"}},null,"Interest Rate",{"$f":"'Snowball vs Avalanche'!$E$45","v":{"v":0,"d":"0.0%"}},null,"Interest Rate",{"$f":"'Snowball vs Avalanche'!$E$46","v":{"v":0,"d":"0.0%"}},null,"Interest Rate",{"$f":"'Snowball vs Avalanche'!$E$47","v":{"v":0,"d":"0.0%"}}]
[]
[null,null,"Month","Payment","Balance",null,"Payment","Balance","Min Pmnt Available","Payment","Balance","Min Pmnt Available","Payment","Balance","Min Pmnt Available","Payment","Balance","Min Pmnt Available","Payment","Balance","Min Pmnt Available","Payment","Balance","Min Pmnt Available","Payment","Balance","Min Pmnt Available","Payment","Balance","Min Pmnt Available","Payment","Balance","Min Pmnt Available","Payment","Balance","Min Pmnt Available","Payment","Balance","Min Pmnt Available","Payment","Balance","Min Pmnt Available","Payment","Balance","Min Pmnt Available","Payment","Balance","Min Pmnt Available","Payment","Balance","Min Pmnt Available","Payment","Balance","Min Pmnt Available","Payment","Balance","Min Pmnt Available","Payment","Balance","Min Pmnt Available","Payment","Balance","Min Pmnt Available","Payment","Balance","Min Pmnt Available","Payment","Balance","Min Pmnt Available","Payment","Balance","Min Pmnt Available","Payment","Balance","Min Pmnt Available","Payment","Balance","Min Pmnt Available","Payment","Balance","Min Pmnt Available","Payment","Balance","Min Pmnt Available","Payment","Balance","Min Pmnt Available","Payment","Balance","Min Pmnt Available","Payment","Balance","Min Pmnt Available","Payment","Balance","Min Pmnt Available","Payment","Balance","Min Pmnt Available",null,null,"Debt 1","Month Paid Off",null,"Debt 2","Month Paid Off",null,"Debt 3","Month Paid Off",null,"Debt 4","Month Paid Off",null,"Debt 5","Month Paid Off",null,"Debt 6","Month Paid Off",null,"Debt 7","Month Paid Off",null,"Debt 8","Month Paid Off",null,"Debt 9","Month Paid Off",null,"Debt 10","Month Paid Off",null,"Debt 11","Month Paid Off",null,"Debt 12","Month Paid Off",null,"Debt 13","Month Paid Off",null,"Debt 14","Month Paid Off",null,"Debt 15","Month Paid Off",null,"Debt 16","Month Paid Off",null,"Debt 17","Month Paid Off",null,"Debt 18","Month Paid Off",null,"Debt 19","Month Paid Off",null,"Debt 20","Month Paid Off",null,"Debt 21","Month Paid Off",null,"Debt 22","Month Paid Off",null,"Debt 23","Month Paid Off",null,"Debt 24","Month Paid Off",null,"Debt 25","Month Paid Off",null,"Debt 26","Month Paid Off",null,"Debt 27","Month Paid Off",null,"Debt 28","Month Paid Off",null,"Debt 29","Month Paid Off",null,"Debt 30","Month Paid Off",null,"Debt 31","Month Paid Off",null,"Debt 32","Month Paid Off"]
[{"$f":"SUM(D18:E18,G18:H18,J18:K18,M18:N18,P18:Q18,S18:T18,V18:W18,Y18:Z18,AB18:AC18,AE18:AF18,AH18:AI18,AK18:AL18,AN18:AO18,AQ18:AR18,AT18:AU18,AW18:AX18,AZ18:BA18,BC18:BD18,BF18:BG18,BI18:BJ18,BL18:BM18,BO18:BP18,BR18:BS18,BU18:BV18,BX18:BY18,CA18:CB18,CD18:CE18,CG18:CH18,CJ18:CK18,CM18:CN18,CP18:CQ18,CS18:CT18)","v":{"v":6000,"d":"$6,000.00"}},{"$f":"SUM(D18,G18,J18,M18,P18,S18,V18,Y18,AB18,AE18,AH18,AK18,AN18,AQ18,AT18,AW18,AZ18,BC18,BF18,BI18,BL18,BO18,BR18,BU18,BX18,CA18,CD18,CG18,CJ18,CM18,CP18,CS18)","v":{"v":325,"d":"$325.00"}},1,{"$f":"IF((N4+N3)>=E13,E13,(N3+N4+E14))","v":{"v":225,"d":"$225.00"}},{"$f":"IF(E13-D18<=0,0,(E13-D18))","v":{"v":775,"d":"$775.00"}},null,{"$f":"IF((N3+N4)>=(E13+H13),H13,IF(AND(D18=E13,D18<>0),(N3+N4-E13+H14),H14))","v":{"v":40,"d":"$40.00"}},{"$f":"IF(H13-G18<=0,0,(H13-G18))","v":{"v":1960,"d":"$1,960.00"}},0,{"$f":"IF((N3+N4)>=(H13+K13+E13),K13,IF(AND(G18=H13, G18<>0),(N3+N4-H13-E13+K14),K14))","v":{"v":60,"d":"$60.00"}},{"$f":"IF(K13-J18<=0,0,(K13-J18))","v":{"v":2940,"d":"$2,940.00"}},0,{"$f":"IF((N3+N4)>=(K13+N13+H13+E13),N13,IF(AND(J18=K13, J18<>0),(N3+N4-K13-H13-E13+N14),N14))","v":0},{"$f":"IF(N13-M18<=0,0,(N13-M18))","v":0},0,{"$f":"IF((N3+N4)>=(N13+Q13+K13+H13+E13),Q13,IF(AND(M18=N13,M18<>0),(N3+N4-N13-K13-H13-E13+Q14),Q14))","v":0},{"$f":"IF(Q13-P18<=0,0,(Q13-P18))","v":0},0,{"$f":"IF((N3+N4)>=(Q13+T13+N13+K13+H13+E13),T13,IF(AND(P18=Q13,P18<>0),(N3+N4-Q13-N13-K13-H13-E13+T14),T14))","v":0},{"$f":"IF(T13-S18<=0,0,(T13-S18))","v":0},0,{"$f":"IF(($N$3+$N$4)>=(T13+W13+Q13+N13+K13+H13+E13),W13,IF(AND(S18=T$13,S18<>0),($N$3+$N$4-T13-Q13-N13-K13-H13-E13+W14),W14))","v":0},{"$f":"IF(W13-V18<=0,0,(W13-V18))","v":0},0,{"$f":"IF(($N$3+$N$4)>=(W13+Z13+T13+Q13+N13+K13+H13+E13),Z13,IF(AND(V18=W$13,V18<>0),($N$3+$N$4-W13-T13-Q13-N13-K13-H13-E13+Z14),Z14))","v":0},{"$f":"IF(Z13-Y18<=0,0,(Z13-Y18))","v":0},0,{"$f":"IF(($N$3+$N$4+E14+H14+K14+N14+Q14+T14+W14+Z14+AC14)>=(Z13+AC13+W13+T13+Q13+N13+K13+H13+E13),AC13,IF(AND(Y18=Z$13,Y18<>0),($N$3+$N$4-Z13-W13-T13-Q13-N13-K13-H13-E13+E14+H14+K14+N14+Q14+T14+W14+Z14+AC14),AC14))","v":0},{"$f":"IF(AC13-AB18<=0,0,(AC13-AB18))","v":0},0,{"$f":"IF(($N$3+$N$4+E14+H14+K14+N14+Q14+T14+W14+Z14+AC14+AF14)>=(AC13+AF13+Z13+W13+T13+Q13+N13+K13+H13+E13),AF13,IF(AND(AB18=AC$13,AB18<>0),($N$3+$N$4-AC13-Z13-W13-T13-Q13-N13-K13-H13-E13+E14+H14+K14+N14+Q14+T14+W14+Z14+AC14+AF14),AF14))","v":0},{"$f":"IF(AF13-AE18<=0,0,(AF13-AE18))","v":0},0,{"$f":"IF(($N$3+$N$4+E14+H14+K14+N14+Q14+T14+W14+Z14+AC14+AF14+AI14)>=(AF13+AI13+AC13+Z13+W13+T13+Q13+N13+K13+H13+E13),AI13,IF(AND(AE18=AF$13,AE18<>0),($N$3+$N$4-AF13-AC13-Z13-W13-T13-Q13-N13-K13-H13-E13+E14+H14+K14+N14+Q14+T14+W14+Z14+AC14+AF14+AI14),AI14))","v":0},{"$f":"IF(AI13-AH18<=0,0,(AI13-AH18))","v":0},0,{"$f":"IF(($N$3+$N$4+E14+H14+K14+N14+Q14+T14+W14+Z14+AC14+AF14+AI14+AL14)>=(AI13+AL13+AF13+AC13+Z13+W13+T13+Q13+N13+K13+H13+E13),AL13,IF(AND(AH18=AI$13,AH18<>0),($N$3+$N$4-AI13-AF13-AC13-Z13-W13-T13-Q13-N13-K13-H13-E13+E14+H14+K14+N14+Q14+T14+W14+Z14+AC14+AF14+AI14+AL14),AL14))","v":0},{"$f":"IF(AL13-AK18<=0,0,(AL13-AK18))","v":0},0,{"$f":"IF(($N$3+$N$4+E14+H14+K14+N14+Q14+T14+W14+Z14+AC14+AF14+AI14+AL14+AO14)>=(AL13+AO13+AI13+AF13+AC13+Z13+W13+T13+Q13+N13+K13+H13+E13),AO13,IF(AND(AK18=AL$13,AK18<>0),($N$3+$N$4-AL13-AI13-AF13-AC13-Z13-W13-T13-Q13-N13-K13-H13-E13+E14+H14+K14+N14+Q14+T14+W14+Z14+AC14+AF14+AI14+AL14+AO14),AO14))","v":0},{"$f":"IF(AO13-AN18<=0,0,(AO13-AN18))","v":0},0,{"$f":"IF(($N$3+$N$4+E14+H14+K14+N14+Q14+T14+W14+Z14+AC14+AF14+AI14+AL14+AO14+AR14)>=(AO13+AR13+AL13+AI13+AF13+AC13+Z13+W13+T13+Q13+N13+K13+H13+E13),AR13,IF(AND(AN18=AO$13,AN18<>0),($N$3+$N$4-AO13-AL13-AI13-AF13-AC13-Z13-W13-T13-Q13-N13-K13-H13-E13+E14+H14+K14+N14+Q14+T14+W14+Z14+AC14+AF14+AI14+AL14+AO14+AR14),AR14))","v":0},{"$f":"IF(AR13-AQ18<=0,0,(AR13-AQ18))","v":0},0,{"$f":"IF(($N$3+$N$4+E14+H14+K14+N14+Q14+T14+W14+Z14+AC14+AF14+AI14+AL14+AO14+AR14+AU14)>=(AR13+AU13+AO13+AL13+AI13+AF13+AC13+Z13+W13+T13+Q13+N13+K13+H13+E13),AU13,IF(AND(AQ18=AR$13,AQ18<>0),($N$3+$N$4-AR13-AO13-AL13-AI13-AF13-AC13-Z13-W13-T13-Q13-N13-K13-H13-E13+E14+H14+K14+N14+Q14+T14+W14+Z14+AC14+AF14+AI14+AL14+AO14+AR14+AU14),AU14))","v":0},{"$f":"IF(AU13-AT18<=0,0,(AU13-AT18))","v":0},0,{"$f":"IF(($N$3+$N$4+E14+H14+K14+N14+Q14+T14+W14+Z14+AC14+AF14+AI14+AL14+AO14+AR14+AU14+AX14)>=(AU13+AX13+AR13+AO13+AL13+AI13+AF13+AC13+Z13+W13+T13+Q13+N13+K13+H13+E13),AX13,IF(AND(AT18=AU$13,AT18<>0),($N$3+$N$4-AU13-AR13-AO13-AL13-AI13-AF13-AC13-Z13-W13-T13-Q13-N13-K13-H13-E13+E14+H14+K14+N14+Q14+T14+W14+Z14+AC14+AF14+AI14+AL14+AO14+AR14+AU14+AX14),AX14))","v":0},{"$f":"IF(AX13-AW18<=0,0,(AX13-AW18))","v":0},0,{"$f":"IF(($N$3+$N$4+E14+H14+K14+N14+Q14+T14+W14+Z14+AC14+AF14+AI14+AL14+AO14+AR14+AU14+AX14+BA14)>=(AX13+BA13+AU13+AR13+AO13+AL13+AI13+AF13+AC13+Z13+W13+T13+Q13+N13+K13+H13+E13),BA13,IF(AND(AW18=AX$13,AW18<>0),($N$3+$N$4-AX13-AU13-AR13-AO13-AL13-AI13-AF13-AC13-Z13-W13-T13-Q13-N13-K13-H13-E13+E14+H14+K14+N14+Q14+T14+W14+Z14+AC14+AF14+AI14+AL14+AO14+AR14+AU14+AX14+BA14),BA14))","v":0},{"$f":"IF(BA13-AZ18<=0,0,(BA13-AZ18))","v":0},0,{"$f":"IF(($N$3+$N$4+E14+H14+K14+N14+Q14+T14+W14+Z14+AC14+AF14+AI14+AL14+AO14+AR14+AU14+AX14+BA14+BD14)>=(BA13+BD13+AX13+AU13+AR13+AO13+AL13+AI13+AF13+AC13+Z13+W13+T13+Q13+N13+K13+H13+E13),BD13,IF(AND(AZ18=BA$13,AZ18<>0),($N$3+$N$4-BA13-AX13-AU13-AR13-AO13-AL13-AI13-AF13-AC13-Z13-W13-T13-Q13-N13-K13-H13-E13+E14+H14+K14+N14+Q14+T14+W14+Z14+AC14+AF14+AI14+AL14+AO14+AR14+AU14+AX14+BA14+BD14),BD14))","v":0},{"$f":"IF(BD13-BC18<=0,0,(BD13-BC18))","v":0},0,{"$f":"IF(($N$3+$N$4+E14+H14+K14+N14+Q14+T14+W14+Z14+AC14+AF14+AI14+AL14+AO14+AR14+AU14+AX14+BA14+BD14+BG14)>=(BD13+BG13+BA13+AX13+AU13+AR13+AO13+AL13+AI13+AF13+AC13+Z13+W13+T13+Q13+N13+K13+H13+E13),BG13,IF(AND(BC18=BD$13,BC18<>0),($N$3+$N$4-BD13-BA13-AX13-AU13-AR13-AO13-AL13-AI13-AF13-AC13-Z13-W13-T13-Q13-N13-K13-H13-E13+E14+H14+K14+N14+Q14+T14+W14+Z14+AC14+AF14+AI14+AL14+AO14+AR14+AU14+AX14+BA14+BD14+BG14),BG14))","v":0},{"$f":"IF(BG13-BF18<=0,0,(BG13-BF18))","v":0},0,{"$f":"IF(($N$3+$N$4+E14+H14+K14+N14+Q14+T14+W14+Z14+AC14+AF14+AI14+AL14+AO14+AR14+AU14+AX14+BA14+BD14+BG14+BJ14)>=(BG13+BJ13+BD13+BA13+AX13+AU13+AR13+AO13+AL13+AI13+AF13+AC13+Z13+W13+T13+Q13+N13+K13+H13+E13),BJ13,IF(AND(BF18=BG$13,BF18<>0),($N$3+$N$4-BG13-BD13-BA13-AX13-AU13-AR13-AO13-AL13-AI13-AF13-AC13-Z13-W13-T13-Q13-N13-K13-H13-E13+E14+H14+K14+N14+Q14+T14+W14+Z14+AC14+AF14+AI14+AL14+AO14+AR14+AU14+AX14+BA14+BD14+BG14+BJ14),BJ14))","v":0},{"$f":"IF(BJ13-BI18<=0,0,(BJ13-BI18))","v":0},0,{"$f":"IF(($N$3+$N$4+E14+H14+K14+N14+Q14+T14+W14+Z14+AC14+AF14+AI14+AL14+AO14+AR14+AU14+AX14+BA14+BD14+BG14+BJ14+BM14)>=(BJ13+BM13+BG13+BD13+BA13+AX13+AU13+AR13+AO13+AL13+AI13+AF13+AC13+Z13+W13+T13+Q13+N13+K13+H13+E13),BM13,IF(AND(BI18=BJ$13,BI18<>0),($N$3+$N$4-BJ13-BG13-BD13-BA13-AX13-AU13-AR13-AO13-AL13-AI13-AF13-AC13-Z13-W13-T13-Q13-N13-K13-H13-E13+E14+H14+K14+N14+Q14+T14+W14+Z14+AC14+AF14+AI14+AL14+AO14+AR14+AU14+AX14+BA14+BD14+BG14+BJ14+BM14),BM14))","v":0},{"$f":"IF(BM13-BL18<=0,0,(BM13-BL18))","v":0},0,{"$f":"IF(($N$3+$N$4+E14+H14+K14+N14+Q14+T14+W14+Z14+AC14+AF14+AI14+AL14+AO14+AR14+AU14+AX14+BA14+BD14+BG14+BJ14+BM14+BP14)>=(BM13+BP13+BJ13+BG13+BD13+BA13+AX13+AU13+AR13+AO13+AL13+AI13+AF13+AC13+Z13+W13+T13+Q13+N13+K13+H13+E13),BP13,IF(AND(BL18=BM$13,BL18<>0),($N$3+$N$4-BM13-BJ13-BG13-BD13-BA13-AX13-AU13-AR13-AO13-AL13-AI13-AF13-AC13-Z13-W13-T13-Q13-N13-K13-H13-E13+E14+H14+K14+N14+Q14+T14+W14+Z14+AC14+AF14+AI14+AL14+AO14+AR14+AU14+AX14+BA14+BD14+BG14+BJ14+BM14+BP14),BP14))","v":0},{"$f":"IF(BP13-BO18<=0,0,(BP13-BO18))","v":0},0,{"$f":"IF(($N$3+$N$4+E14+H14+K14+N14+Q14+T14+W14+Z14+AC14+AF14+AI14+AL14+AO14+AR14+AU14+AX14+BA14+BD14+BG14+BJ14+BM14+BP14+BS14)>=(BP13+BS13+BM13+BJ13+BG13+BD13+BA13+AX13+AU13+AR13+AO13+AL13+AI13+AF13+AC13+Z13+W13+T13+Q13+N13+K13+H13+E13),BS13,IF(AND(BO18=BP$13,BO18<>0),($N$3+$N$4-BP13-BM13-BJ13-BG13-BD13-BA13-AX13-AU13-AR13-AO13-AL13-AI13-AF13-AC13-Z13-W13-T13-Q13-N13-K13-H13-E13+E14+H14+K14+N14+Q14+T14+W14+Z14+AC14+AF14+AI14+AL14+AO14+AR14+AU14+AX14+BA14+BD14+BG14+BJ14+BM14+BP14+BS14),BS14))","v":0},{"$f":"IF(BS13-BR18<=0,0,(BS13-BR18))","v":0},0,{"$f":"IF(($N$3+$N$4+E14+H14+K14+N14+Q14+T14+W14+Z14+AC14+AF14+AI14+AL14+AO14+AR14+AU14+AX14+BA14+BD14+BG14+BJ14+BM14+BP14+BS14+BV14)>=(BS13+BV13+BP13+BM13+BJ13+BG13+BD13+BA13+AX13+AU13+AR13+AO13+AL13+AI13+AF13+AC13+Z13+W13+T13+Q13+N13+K13+H13+E13),BV13,IF(AND(BR18=BS$13,BR18<>0),($N$3+$N$4-BS13-BP13-BM13-BJ13-BG13-BD13-BA13-AX13-AU13-AR13-AO13-AL13-AI13-AF13-AC13-Z13-W13-T13-Q13-N13-K13-H13-E13+E14+H14+K14+N14+Q14+T14+W14+Z14+AC14+AF14+AI14+AL14+AO14+AR14+AU14+AX14+BA14+BD14+BG14+BJ14+BM14+BP14+BS14+BV14),BV14))","v":0},{"$f":"IF(BV13-BU18<=0,0,(BV13-BU18))","v":0},0,{"$f":"IF(($N$3+$N$4+E14+H14+K14+N14+Q14+T14+W14+Z14+AC14+AF14+AI14+AL14+AO14+AR14+AU14+AX14+BA14+BD14+BG14+BJ14+BM14+BP14+BS14+BV14+BY14)>=(BV13+BY13+BS13+BP13+BM13+BJ13+BG13+BD13+BA13+AX13+AU13+AR13+AO13+AL13+AI13+AF13+AC13+Z13+W13+T13+Q13+N13+K13+H13+E13),BY13,IF(AND(BU18=BV$13,BU18<>0),($N$3+$N$4-BV13-BS13-BP13-BM13-BJ13-BG13-BD13-BA13-AX13-AU13-AR13-AO13-AL13-AI13-AF13-AC13-Z13-W13-T13-Q13-N13-K13-H13-E13+E14+H14+K14+N14+Q14+T14+W14+Z14+AC14+AF14+AI14+AL14+AO14+AR14+AU14+AX14+BA14+BD14+BG14+BJ14+BM14+BP14+BS14+BV14+BY14),BY14))","v":0},{"$f":"IF(BY13-BX18<=0,0,(BY13-BX18))","v":0},0,{"$f":"IF(($N$3+$N$4+E14+H14+K14+N14+Q14+T14+W14+Z14+AC14+AF14+AI14+AL14+AO14+AR14+AU14+AX14+BA14+BD14+BG14+BJ14+BM14+BP14+BS14+BV14+BY14+CB14)>=(BY13+CB13+BV13+BS13+BP13+BM13+BJ13+BG13+BD13+BA13+AX13+AU13+AR13+AO13+AL13+AI13+AF13+AC13+Z13+W13+T13+Q13+N13+K13+H13+E13),CB13,IF(AND(BX18=BY$13,BX18<>0),($N$3+$N$4-BY13-BV13-BS13-BP13-BM13-BJ13-BG13-BD13-BA13-AX13-AU13-AR13-AO13-AL13-AI13-AF13-AC13-Z13-W13-T13-Q13-N13-K13-H13-E13+E14+H14+K14+N14+Q14+T14+W14+Z14+AC14+AF14+AI14+AL14+AO14+AR14+AU14+AX14+BA14+BD14+BG14+BJ14+BM14+BP14+BS14+BV14+BY14+CB14),CB14))","v":0},{"$f":"IF(CB13-CA18<=0,0,(CB13-CA18))","v":0},0,{"$f":"IF(($N$3+$N$4+E14+H14+K14+N14+Q14+T14+W14+Z14+AC14+AF14+AI14+AL14+AO14+AR14+AU14+AX14+BA14+BD14+BG14+BJ14+BM14+BP14+BS14+BV14+BY14+CB14+CE14)>=(CB13+CE13+BY13+BV13+BS13+BP13+BM13+BJ13+BG13+BD13+BA13+AX13+AU13+AR13+AO13+AL13+AI13+AF13+AC13+Z13+W13+T13+Q13+N13+K13+H13+E13),CE13,IF(AND(CA18=CB$13,CA18<>0),($N$3+$N$4-CB13-BY13-BV13-BS13-BP13-BM13-BJ13-BG13-BD13-BA13-AX13-AU13-AR13-AO13-AL13-AI13-AF13-AC13-Z13-W13-T13-Q13-N13-K13-H13-E13+E14+H14+K14+N14+Q14+T14+W14+Z14+AC14+AF14+AI14+AL14+AO14+AR14+AU14+AX14+BA14+BD14+BG14+BJ14+BM14+BP14+BS14+BV14+BY14+CB14+CE14),CE14))","v":0},{"$f":"IF(CE13-CD18<=0,0,(CE13-CD18))","v":0},0,{"$f":"IF(($N$3+$N$4+E14+H14+K14+N14+Q14+T14+W14+Z14+AC14+AF14+AI14+AL14+AO14+AR14+AU14+AX14+BA14+BD14+BG14+BJ14+BM14+BP14+BS14+BV14+BY14+CB14+CE14+CH14)>=(CE13+CH13+CB13+BY13+BV13+BS13+BP13+BM13+BJ13+BG13+BD13+BA13+AX13+AU13+AR13+AO13+AL13+AI13+AF13+AC13+Z13+W13+T13+Q13+N13+K13+H13+E13),CH13,IF(AND(CD18=CE$13,CD18<>0),($N$3+$N$4-CE13-CB13-BY13-BV13-BS13-BP13-BM13-BJ13-BG13-BD13-BA13-AX13-AU13-AR13-AO13-AL13-AI13-AF13-AC13-Z13-W13-T13-Q13-N13-K13-H13-E13+E14+H14+K14+N14+Q14+T14+W14+Z14+AC14+AF14+AI14+AL14+AO14+AR14+AU14+AX14+BA14+BD14+BG14+BJ14+BM14+BP14+BS14+BV14+BY14+CB14+CE14+CH14),CH14))","v":0},{"$f":"IF(CH13-CG18<=0,0,(CH13-CG18))","v":0},0,{"$f":"IF(($N$3+$N$4+E14+H14+K14+N14+Q14+T14+W14+Z14+AC14+AF14+AI14+AL14+AO14+AR14+AU14+AX14+BA14+BD14+BG14+BJ14+BM14+BP14+BS14+BV14+BY14+CB14+CE14+CH14+CK14)>=(CH13+CK13+CE13+CB13+BY13+BV13+BS13+BP13+BM13+BJ13+BG13+BD13+BA13+AX13+AU13+AR13+AO13+AL13+AI13+AF13+AC13+Z13+W13+T13+Q13+N13+K13+H13+E13),CK13,IF(AND(CG18=CH$13,CG18<>0),($N$3+$N$4-CH13-CE13-CB13-BY13-BV13-BS13-BP13-BM13-BJ13-BG13-BD13-BA13-AX13-AU13-AR13-AO13-AL13-AI13-AF13-AC13-Z13-W13-T13-Q13-N13-K13-H13-E13+E14+H14+K14+N14+Q14+T14+W14+Z14+AC14+AF14+AI14+AL14+AO14+AR14+AU14+AX14+BA14+BD14+BG14+BJ14+BM14+BP14+BS14+BV14+BY14+CB14+CE14+CH14+CK14),CK14))","v":0},{"$f":"IF(CK13-CJ18<=0,0,(CK13-CJ18))","v":0},0,{"$f":"IF(($N$3+$N$4+E14+H14+K14+N14+Q14+T14+W14+Z14+AC14+AF14+AI14+AL14+AO14+AR14+AU14+AX14+BA14+BD14+BG14+BJ14+BM14+BP14+BS14+BV14+BY14+CB14+CE14+CH14+CK14+CN14)>=(CK13+CN13+CH13+CE13+CB13+BY13+BV13+BS13+BP13+BM13+BJ13+BG13+BD13+BA13+AX13+AU13+AR13+AO13+AL13+AI13+AF13+AC13+Z13+W13+T13+Q13+N13+K13+H13+E13),CN13,IF(AND(CJ18=CK$13,CJ18<>0),($N$3+$N$4-CK13-CH13-CE13-CB13-BY13-BV13-BS13-BP13-BM13-BJ13-BG13-BD13-BA13-AX13-AU13-AR13-AO13-AL13-AI13-AF13-AC13-Z13-W13-T13-Q13-N13-K13-H13-E13+E14+H14+K14+N14+Q14+T14+W14+Z14+AC14+AF14+AI14+AL14+AO14+AR14+AU14+AX14+BA14+BD14+BG14+BJ14+BM14+BP14+BS14+BV14+BY14+CB14+CE14+CH14+CK14+CN14),CN14))","v":0},{"$f":"IF(CN13-CM18<=0,0,(CN13-CM18))","v":0},0,{"$f":"IF(($N$3+$N$4+E14+H14+K14+N14+Q14+T14+W14+Z14+AC14+AF14+AI14+AL14+AO14+AR14+AU14+AX14+BA14+BD14+BG14+BJ14+BM14+BP14+BS14+BV14+BY14+CB14+CE14+CH14+CK14+CN14+CQ14)>=(CN13+CQ13+CK13+CH13+CE13+CB13+BY13+BV13+BS13+BP13+BM13+BJ13+BG13+BD13+BA13+AX13+AU13+AR13+AO13+AL13+AI13+AF13+AC13+Z13+W13+T13+Q13+N13+K13+H13+E13),CQ13,IF(AND(CM18=CN$13,CM18<>0),($N$3+$N$4-CN13-CK13-CH13-CE13-CB13-BY13-BV13-BS13-BP13-BM13-BJ13-BG13-BD13-BA13-AX13-AU13-AR13-AO13-AL13-AI13-AF13-AC13-Z13-W13-T13-Q13-N13-K13-H13-E13+E14+H14+K14+N14+Q14+T14+W14+Z14+AC14+AF14+AI14+AL14+AO14+AR14+AU14+AX14+BA14+BD14+BG14+BJ14+BM14+BP14+BS14+BV14+BY14+CB14+CE14+CH14+CK14+CN14+CQ14),CQ14))","v":0},{"$f":"IF(CQ13-CP18<=0,0,(CQ13-CP18))","v":0},0,{"$f":"IF(($N$3+$N$4+E14+H14+K14+N14+Q14+T14+W14+Z14+AC14+AF14+AI14+AL14+AO14+AR14+AU14+AX14+BA14+BD14+BG14+BJ14+BM14+BP14+BS14+BV14+BY14+CB14+CE14+CH14+CK14+CN14+CQ14+CT14)>=(CQ13+CT13+CN13+CK13+CH13+CE13+CB13+BY13+BV13+BS13+BP13+BM13+BJ13+BG13+BD13+BA13+AX13+AU13+AR13+AO13+AL13+AI13+AF13+AC13+Z13+W13+T13+Q13+N13+K13+H13+E13),CT13,IF(AND(CP18=CQ$13,CP18<>0),($N$3+$N$4-CQ13-CN13-CK13-CH13-CE13-CB13-BY13-BV13-BS13-BP13-BM13-BJ13-BG13-BD13-BA13-AX13-AU13-AR13-AO13-AL13-AI13-AF13-AC13-Z13-W13-T13-Q13-N13-K13-H13-E13+E14+H14+K14+N14+Q14+T14+W14+Z14+AC14+AF14+AI14+AL14+AO14+AR14+AU14+AX14+BA14+BD14+BG14+BJ14+BM14+BP14+BS14+BV14+BY14+CB14+CE14+CH14+CK14+CN14+CQ14+CT14),CT14))","v":0},{"$f":"IF(CT13-CS18<=0,0,(CT13-CS18))","v":0},0,null,null,{"$f":"E18","v":{"v":775,"d":"$775.00"}},1,null,{"$f":"H18","v":{"v":1960,"d":"$1,960.00"}},1,null,{"$f":"K18","v":{"v":2940,"d":"$2,940.00"}},1,null,{"$f":"N18","v":0},1,null,{"$f":"Q18","v":0},1,null,{"$f":"T18","v":0},1,null,{"$f":"W18","v":0},1,null,{"$f":"Z18","v":0},1,null,{"$f":"AC18","v":0},1,null,{"$f":"AF18","v":0},1,null,{"$f":"AI18","v":0},1,null,{"$f":"AL18","v":0},1,null,{"$f":"AO18","v":0},1,null,{"$f":"AR18","v":0},1,null,{"$f":"AU18","v":0},1,null,{"$f":"AX18","v":0},1,null,{"$f":"BA18","v":0},1,null,{"$f":"BD18","v":0},1,null,{"$f":"BG18","v":0},1,null,{"$f":"BJ18","v":0},1,null,{"$f":"BM18","v":0},1,null,{"$f":"BP18","v":0},1,null,{"$f":"BS18","v":0},1,null,{"$f":"BV18","v":0},1,null,{"$f":"BY18","v":0},1,null,{"$f":"CB18","v":0},1,null,{"$f":"CE18","v":0},1,null,{"$f":"CH18","v":0},1,null,{"$f":"CK18","v":0},1,null,{"$f":"CN18","v":0},1,null,{"$f":"CQ18","v":0},1,null,{"$f":"CT18","v":0},1]
[{"$f":"SUM(D19:E19,G19:H19,J19:K19,M19:N19,P19:Q19,S19:T19,V19:W19,Y19:Z19,AB19:AC19,AE19:AF19,AH19:AI19,AK19:AL19,AN19:AO19,AQ19:AR19,AT19:AU19,AW19:AX19,AZ19:BA19,BC19:BD19,BF19:BG19,BI19:BJ19,BL19:BM19,BO19:BP19,BR19:BS19,BU19:BV19,BX19:BY19,CA19:CB19,CD19:CE19,CG19:CH19,CJ19:CK19,CM19:CN19,CP19:CQ19,CS19:CT19)","v":{"v":5760.266666666666,"d":"$5,760.27"}},{"$f":"SUM(D19,G19,J19,M19,P19,S19,V19,Y19,AB19,AE19,AH19,AK19,AN19,AQ19,AT19,AW19,AZ19,BC19,BF19,BI19,BL19,BO19,BR19,BU19,BX19,CA19,CD19,CG19,CJ19,CM19,CP19,CS19)","v":{"v":325,"d":"$325.00"}},2,{"$f":"IF((E18-$N$3-$E$14-SUM(I19,L19,O19,R19,U19,X19,AA19))<=0,($N$3+(E18-$N$3)),($N$3+$E$14+SUM(I19,L19,O19,R19,U19,X19,AA19)))","v":{"v":225,"d":"$225.00"}},{"$f":"IF((E18-D19)<=0.0001,0,(E18-D19)*(1+(E$15/12)))","v":{"v":553.6666666666666,"d":"$553.67"}},null,{"$f":"IF(AND(((H18-$N$3+D19-H$14-E$14-SUM(L19,O19,R19,U19,X19,AA19))<=0),E19=0),H18,IF(E19=0,$N$3-D19+H$14+E$14+SUM(L19,O19,R19,U19,X19,AA19),H$14))","v":{"v":40,"d":"$40.00"}},{"$f":"IF((H18-G19)<=0.0001,0,(H18-G19)*(1+(H$15/12)))","v":{"v":1939.2,"d":"$1,939.20"}},{"$f":"IF(H18=0,H$14,0)","v":0},{"$f":"IF(AND(((K18-$N$3+G19+D19-K$14-H$14-E$14-SUM(O19,R19,U19,X19,AA19))<=0),H19+E19=0),K18,IF(K$14>=K18,K18,IF(AND(H19=0,E19=0),$N$3-G19-D19+K$14+H$14+E$14+SUM(O19,R19,U19,X19,AA19),K$14)))","v":{"v":60,"d":"$60.00"}},{"$f":"IF((K18-J19)<=0.0001,0,(K18-J19)*(1+(K$15/12)))","v":{"v":2942.4,"d":"$2,942.40"}},{"$f":"IF(K18=0,K$14,0)","v":0},{"$f":"IF(AND(((N18-$N$3+J19+G19+D19-N$14-K$14-H$14-E$14-SUM(R19,U19,X19,AA19))<=0),K19+H19+E19=0),N18,IF(N$14>=N18,N18, IF(AND(K19=0,H19=0,E19=0),$N$3-J19-G19-D19+N$14+K$14+H$14+E$14+SUM(R19,U19,X19,AA19),N$14)))","v":0},{"$f":"IF((N18-M19)<=0.0001,0,(N18-M19)*(1+(N$15/12)))","v":0},{"$f":"IF(N18=0,N$14,0)","v":0},{"$f":"IF(AND(((Q18-$N$3+M19+J19+G19+D19-Q$14-N$14-K$14-H$14-E$14-SUM(U19,X19,AA19))<=0),N19+K19+H19+E19=0),Q18,IF(Q$14>=Q18,Q18,IF(AND(N19=0,K19=0,H19=0,E19=0),$N$3-M19-J19-G19-D19+Q$14+N$14+K$14+H$14+E$14+SUM(U19,X19,AA19),Q$14)))","v":0},{"$f":"IF((Q18-P19)<=0.0001,0,(Q18-P19)*(1+(Q$15/12)))","v":0},{"$f":"IF(Q18=0,Q$14,0)","v":0},{"$f":"IF(AND(((T18-$N$3+P19+M19+J19+G19+D19-T$14-Q$14-N$14-K$14-H$14-E$14-SUM(X19,AA19))<=0),Q19+N19+K19+H19+E19=0),T18,IF(T$14>=T18,T18,IF(AND(Q19=0,N19=0,K19=0,H19=0),$N$3-P19-M19-J19-G19-D19+T$14+Q$14+N$14+K$14+H$14+E$14+SUM(X19,AA19),T$14)))","v":0},{"$f":"IF((T18-S19)<=0.0001,0,(T18-S19)*(1+(T$15/12)))","v":0},{"$f":"IF(T18=0,T$14,0)","v":0},{"$f":"IF(AND(((W18-$N$3+S19+P19+M19+J19+G19+D19-W$14-T$14-Q$14-N$14-K$14-H$14-E$14-SUM(AA19))<=0),T19+Q19+N19+K19+H19+E19=0),W18,IF(W$14>=W18,W18,IF(AND(T19=0,Q19=0,N19=0,K19=0,H19=0,E19=0),$N$3-S19-P19-M19-J19-G19-D19+W$14+T$14+Q$14+N$14+K$14+H$14+E$14+SUM(AA19),W$14)))","v":0},{"$f":"IF((W18-V19)<=0.0001,0,(W18-V19)*(1+(W$15/12)))","v":0},{"$f":"IF(W18=0,W$14,0)","v":0},{"$f":"IF(AND(((Z18-$N$3+V19+S19+P19+M19+J19+G19+D19-Z$14-W$14-T$14-Q$14-N$14-K$14-H$14-E$14)<=0),W19+T19+Q19+N19+K19+H19+E19=0),Z18,IF(Z$14>=Z18,Z18,IF(AND(W19=0,T19=0,Q19=0,N19=0,K19=0,H19=0,E19=0),$N$3-V19-S19-P19-M19-J19-G19-D19+Z$14+W$14+T$14+Q$14+N$14+K$14+H$14+E$14,Z$14)))","v":0},{"$f":"IF((Z18-Y19)<=0.0001,0,(Z18-Y19)*(1+(Z$15/12)))","v":0},{"$f":"IF(Z18=0,Z$14,0)","v":0},{"$f":"IF(AND(((AC18-$N$3+Y19+V19+S19+P19+M19+J19+G19+D19-AC$14-Z$14-W$14-T$14-Q$14-N$14-K$14-H$14-E$14-SUM(AG19,AJ19,AM19,AP19,AS19,AV19,AY19,BB19,BE19,BH19,BK19,BN19,BQ19,BT19,BW19,BZ19,CC19,CF19,CI19,CL19,CO19,CR19,CU19))<=0),Z19+W19+T19+Q19+N19+K19+H19+E19=0),AC18,IF(AC$14>=AC18,AC18,IF(AND(Z19=0,W19=0,T19=0,Q19=0,N19=0,K19=0,H19=0,E19=0),$N$3-Y19-V19-S19-P19-M19-J19-G19-D19+AC$14+Z$14+W$14+T$14+Q$14+N$14+K$14+H$14+E$14+SUM(AG19,AJ19,AM19,AP19,AS19,AV19,AY19,BB19,BE19,BH19,BK19,BN19,BQ19,BT19,BW19,BZ19,CC19,CF19,CI19,CL19,CO19,CR19,CU19),AC$14)))","v":0},{"$f":"IF((AC18-AB19)<=0.0001,0,(AC18-AB19)*(1+(AC$15/12)))","v":0},{"$f":"IF(AC18=0,AC$14,0)","v":0},{"$f":"IF(AND(((AF18-$N$3+AB19+Y19+V19+S19+P19+M19+J19+G19+D19-AF$14-AC$14-Z$14-W$14-T$14-Q$14-N$14-K$14-H$14-E$14-SUM(AJ19,AM19,AP19,AS19,AV19,AY19,BB19,BE19,BH19,BK19,BN19,BQ19,BT19,BW19,BZ19,CC19,CF19,CI19,CL19,CO19,CR19,CU19))<=0),AC19+Z19+W19+T19+Q19+N19+K19+H19+E19=0),AF18,IF(AF$14>=AF18,AF18,IF(AND(AC19=0,Z19=0,W19=0,T19=0,Q19=0,N19=0,K19=0,H19=0,E19=0),$N$3-AB19-Y19-V19-S19-P19-M19-J19-G19-D19+AF$14+AC$14+Z$14+W$14+T$14+Q$14+N$14+K$14+H$14+E$14+SUM(AJ19,AM19,AP19,AS19,AV19,AY19,BB19,BE19,BH19,BK19,BN19,BQ19,BT19,BW19,BZ19,CC19,CF19,CI19,CL19,CO19,CR19,CU19),AF$14)))","v":0},{"$f":"IF((AF18-AE19)<=0.0001,0,(AF18-AE19)*(1+(AF$15/12)))","v":0},{"$f":"IF(AF18=0,AF$14,0)","v":0},{"$f":"IF(AND(((AI18-$N$3+AE19+AB19+Y19+V19+S19+P19+M19+J19+G19+D19-AI$14-AF$14-AC$14-Z$14-W$14-T$14-Q$14-N$14-K$14-H$14-E$14-SUM(AM19,AP19,AS19,AV19,AY19,BB19,BE19,BH19,BK19,BN19,BQ19,BT19,BW19,BZ19,CC19,CF19,CI19,CL19,CO19,CR19,CU19))<=0),AF19+AC19+Z19+W19+T19+Q19+N19+K19+H19+E19=0),AI18,IF(AI$14>=AI18,AI18,IF(AND(AF19=0,AC19=0,Z19=0,W19=0,T19=0,Q19=0,N19=0,K19=0,H19=0,E19=0),$N$3-AE19-AB19-Y19-V19-S19-P19-M19-J19-G19-D19+AI$14+AF$14+AC$14+Z$14+W$14+T$14+Q$14+N$14+K$14+H$14+E$14+SUM(AM19,AP19,AS19,AV19,AY19,BB19,BE19,BH19,BK19,BN19,BQ19,BT19,BW19,BZ19,CC19,CF19,CI19,CL19,CO19,CR19,CU19),AI$14)))","v":0},{"$f":"IF((AI18-AH19)<=0.0001,0,(AI18-AH19)*(1+(AI$15/12)))","v":0},{"$f":"IF(AI18=0,AI$14,0)","v":0},{"$f":"IF(AND(((AL18-$N$3+AH19+AE19+AB19+Y19+V19+S19+P19+M19+J19+G19+D19-AL$14-AI$14-AF$14-AC$14-Z$14-W$14-T$14-Q$14-N$14-K$14-H$14-E$14-SUM(AP19,AS19,AV19,AY19,BB19,BE19,BH19,BK19,BN19,BQ19,BT19,BW19,BZ19,CC19,CF19,CI19,CL19,CO19,CR19,CU19))<=0),AI19+AF19+AC19+Z19+W19+T19+Q19+N19+K19+H19+E19=0),AL18,IF(AL$14>=AL18,AL18,IF(AND(AI19=0,AF19=0,AC19=0,Z19=0,W19=0,T19=0,Q19=0,N19=0,K19=0,H19=0,E19=0),$N$3-AH19-AE19-AB19-Y19-V19-S19-P19-M19-J19-G19-D19+AL$14+AI$14+AF$14+AC$14+Z$14+W$14+T$14+Q$14+N$14+K$14+H$14+E$14+SUM(AP19,AS19,AV19,AY19,BB19,BE19,BH19,BK19,BN19,BQ19,BT19,BW19,BZ19,CC19,CF19,CI19,CL19,CO19,CR19,CU19),AL$14)))","v":0},{"$f":"IF((AL18-AK19)<=0.0001,0,(AL18-AK19)*(1+(AL$15/12)))","v":0},{"$f":"IF(AL18=0,AL$14,0)","v":0},{"$f":"IF(AND(((AO18-$N$3+AK19+AH19+AE19+AB19+Y19+V19+S19+P19+M19+J19+G19+D19-AO$14-AL$14-AI$14-AF$14-AC$14-Z$14-W$14-T$14-Q$14-N$14-K$14-H$14-E$14-SUM(AS19,AV19,AY19,BB19,BE19,BH19,BK19,BN19,BQ19,BT19,BW19,BZ19,CC19,CF19,CI19,CL19,CO19,CR19,CU19))<=0),AL19+AI19+AF19+AC19+Z19+W19+T19+Q19+N19+K19+H19+E19=0),AO18,IF(AO$14>=AO18,AO18,IF(AND(AL19=0,AI19=0,AF19=0,AC19=0,Z19=0,W19=0,T19=0,Q19=0,N19=0,K19=0,H19=0,E19=0),$N$3-AK19-AH19-AE19-AB19-Y19-V19-S19-P19-M19-J19-G19-D19+AO$14+AL$14+AI$14+AF$14+AC$14+Z$14+W$14+T$14+Q$14+N$14+K$14+H$14+E$14+SUM(AS19,AV19,AY19,BB19,BE19,BH19,BK19,BN19,BQ19,BT19,BW19,BZ19,CC19,CF19,CI19,CL19,CO19,CR19,CU19),AO$14)))","v":0},{"$f":"IF((AO18-AN19)<=0.0001,0,(AO18-AN19)*(1+(AO$15/12)))","v":0},{"$f":"IF(AO18=0,AO$14,0)","v":0},{"$f":"IF(AND(((AR18-$N$3+AN19+AK19+AH19+AE19+AB19+Y19+V19+S19+P19+M19+J19+G19+D19-AR$14-AO$14-AL$14-AI$14-AF$14-AC$14-Z$14-W$14-T$14-Q$14-N$14-K$14-H$14-E$14-SUM(AV19,AY19,BB19,BE19,BH19,BK19,BN19,BQ19,BT19,BW19,BZ19,CC19,CF19,CI19,CL19,CO19,CR19,CU19))<=0),AO19+AL19+AI19+AF19+AC19+Z19+W19+T19+Q19+N19+K19+H19+E19=0),AR18,IF(AR$14>=AR18,AR18,IF(AND(AO19=0,AL19=0,AI19=0,AF19=0,AC19=0,Z19=0,W19=0,T19=0,Q19=0,N19=0,K19=0,H19=0,E19=0),$N$3-AN19-AK19-AH19-AE19-AB19-Y19-V19-S19-P19-M19-J19-G19-D19+AR$14+AO$14+AL$14+AI$14+AF$14+AC$14+Z$14+W$14+T$14+Q$14+N$14+K$14+H$14+E$14+SUM(AV19,AY19,BB19,BE19,BH19,BK19,BN19,BQ19,BT19,BW19,BZ19,CC19,CF19,CI19,CL19,CO19,CR19,CU19),AR$14)))","v":0},{"$f":"IF((AR18-AQ19)<=0.0001,0,(AR18-AQ19)*(1+(AR$15/12)))","v":0},{"$f":"IF(AR18=0,AR$14,0)","v":0},{"$f":"IF(AND(((AU18-$N$3+AQ19+AN19+AK19+AH19+AE19+AB19+Y19+V19+S19+P19+M19+J19+G19+D19-AU$14-AR$14-AO$14-AL$14-AI$14-AF$14-AC$14-Z$14-W$14-T$14-Q$14-N$14-K$14-H$14-E$14-SUM(AY19,BB19,BE19,BH19,BK19,BN19,BQ19,BT19,BW19,BZ19,CC19,CF19,CI19,CL19,CO19,CR19,CU19))<=0),AR19+AO19+AL19+AI19+AF19+AC19+Z19+W19+T19+Q19+N19+K19+H19+E19=0),AU18,IF(AU$14>=AU18,AU18,IF(AND(AR19=0,AO19=0,AL19=0,AI19=0,AF19=0,AC19=0,Z19=0,W19=0,T19=0,Q19=0,N19=0,K19=0,H19=0,E19=0),$N$3-AQ19-AN19-AK19-AH19-AE19-AB19-Y19-V19-S19-P19-M19-J19-G19-D19+AU$14+AR$14+AO$14+AL$14+AI$14+AF$14+AC$14+Z$14+W$14+T$14+Q$14+N$14+K$14+H$14+E$14+SUM(AY19,BB19,BE19,BH19,BK19,BN19,BQ19,BT19,BW19,BZ19,CC19,CF19,CI19,CL19,CO19,CR19,CU19),AU$14)))","v":0},{"$f":"IF((AU18-AT19)<=0.0001,0,(AU18-AT19)*(1+(AU$15/12)))","v":0},{"$f":"IF(AU18=0,AU$14,0)","v":0},{"$f":"IF(AND(((AX18-$N$3+AT19+AQ19+AN19+AK19+AH19+AE19+AB19+Y19+V19+S19+P19+M19+J19+G19+D19-AX$14-AU$14-AR$14-AO$14-AL$14-AI$14-AF$14-AC$14-Z$14-W$14-T$14-Q$14-N$14-K$14-H$14-E$14-SUM(BB19,BE19,BH19,BK19,BN19,BQ19,BT19,BW19,BZ19,CC19,CF19,CI19,CL19,CO19,CR19,CU19))<=0),AU19+AR19+AO19+AL19+AI19+AF19+AC19+Z19+W19+T19+Q19+N19+K19+H19+E19=0),AX18,IF(AX$14>=AX18,AX18,IF(AND(AU19=0,AR19=0,AO19=0,AL19=0,AI19=0,AF19=0,AC19=0,Z19=0,W19=0,T19=0,Q19=0,N19=0,K19=0,H19=0,E19=0),$N$3-AT19-AQ19-AN19-AK19-AH19-AE19-AB19-Y19-V19-S19-P19-M19-J19-G19-D19+AX$14+AU$14+AR$14+AO$14+AL$14+AI$14+AF$14+AC$14+Z$14+W$14+T$14+Q$14+N$14+K$14+H$14+E$14+SUM(BB19,BE19,BH19,BK19,BN19,BQ19,BT19,BW19,BZ19,CC19,CF19,CI19,CL19,CO19,CR19,CU19),AX$14)))","v":0},{"$f":"IF((AX18-AW19)<=0.0001,0,(AX18-AW19)*(1+(AX$15/12)))","v":0},{"$f":"IF(AX18=0,AX$14,0)","v":0},{"$f":"IF(AND(((BA18-$N$3+AW19+AT19+AQ19+AN19+AK19+AH19+AE19+AB19+Y19+V19+S19+P19+M19+J19+G19+D19-BA$14-AX$14-AU$14-AR$14-AO$14-AL$14-AI$14-AF$14-AC$14-Z$14-W$14-T$14-Q$14-N$14-K$14-H$14-E$14-SUM(BE19,BH19,BK19,BN19,BQ19,BT19,BW19,BZ19,CC19,CF19,CI19,CL19,CO19,CR19,CU19))<=0),AX19+AU19+AR19+AO19+AL19+AI19+AF19+AC19+Z19+W19+T19+Q19+N19+K19+H19+E19=0),BA18,IF(BA$14>=BA18,BA18,IF(AND(AX19=0,AU19=0,AR19=0,AO19=0,AL19=0,AI19=0,AF19=0,AC19=0,Z19=0,W19=0,T19=0,Q19=0,N19=0,K19=0,H19=0,E19=0),$N$3-AW19-AT19-AQ19-AN19-AK19-AH19-AE19-AB19-Y19-V19-S19-P19-M19-J19-G19-D19+BA$14+AX$14+AU$14+AR$14+AO$14+AL$14+AI$14+AF$14+AC$14+Z$14+W$14+T$14+Q$14+N$14+K$14+H$14+E$14+SUM(BE19,BH19,BK19,BN19,BQ19,BT19,BW19,BZ19,CC19,CF19,CI19,CL19,CO19,CR19,CU19),BA$14)))","v":0},{"$f":"IF((BA18-AZ19)<=0.0001,0,(BA18-AZ19)*(1+(BA$15/12)))","v":0},{"$f":"IF(BA18=0,BA$14,0)","v":0},{"$f":"IF(AND(((BD18-$N$3+AZ19+AW19+AT19+AQ19+AN19+AK19+AH19+AE19+AB19+Y19+V19+S19+P19+M19+J19+G19+D19-BD$14-BA$14-AX$14-AU$14-AR$14-AO$14-AL$14-AI$14-AF$14-AC$14-Z$14-W$14-T$14-Q$14-N$14-K$14-H$14-E$14-SUM(BH19,BK19,BN19,BQ19,BT19,BW19,BZ19,CC19,CF19,CI19,CL19,CO19,CR19,CU19))<=0),BA19+AX19+AU19+AR19+AO19+AL19+AI19+AF19+AC19+Z19+W19+T19+Q19+N19+K19+H19+E19=0),BD18,IF(BD$14>=BD18,BD18,IF(AND(BA19=0,AX19=0,AU19=0,AR19=0,AO19=0,AL19=0,AI19=0,AF19=0,AC19=0,Z19=0,W19=0,T19=0,Q19=0,N19=0,K19=0,H19=0,E19=0),$N$3-AZ19-AW19-AT19-AQ19-AN19-AK19-AH19-AE19-AB19-Y19-V19-S19-P19-M19-J19-G19-D19+BD$14+BA$14+AX$14+AU$14+AR$14+AO$14+AL$14+AI$14+AF$14+AC$14+Z$14+W$14+T$14+Q$14+N$14+K$14+H$14+E$14+SUM(BH19,BK19,BN19,BQ19,BT19,BW19,BZ19,CC19,CF19,CI19,CL19,CO19,CR19,CU19),BD$14)))","v":0},{"$f":"IF((BD18-BC19)<=0.0001,0,(BD18-BC19)*(1+(BD$15/12)))","v":0},{"$f":"IF(BD18=0,BD$14,0)","v":0},{"$f":"IF(AND(((BG18-$N$3+BC19+AZ19+AW19+AT19+AQ19+AN19+AK19+AH19+AE19+AB19+Y19+V19+S19+P19+M19+J19+G19+D19-BG$14-BD$14-BA$14-AX$14-AU$14-AR$14-AO$14-AL$14-AI$14-AF$14-AC$14-Z$14-W$14-T$14-Q$14-N$14-K$14-H$14-E$14-SUM(BK19,BN19,BQ19,BT19,BW19,BZ19,CC19,CF19,CI19,CL19,CO19,CR19,CU19))<=0),BD19+BA19+AX19+AU19+AR19+AO19+AL19+AI19+AF19+AC19+Z19+W19+T19+Q19+N19+K19+H19+E19=0),BG18,IF(BG$14>=BG18,BG18,IF(AND(BD19=0,BA19=0,AX19=0,AU19=0,AR19=0,AO19=0,AL19=0,AI19=0,AF19=0,AC19=0,Z19=0,W19=0,T19=0,Q19=0,N19=0,K19=0,H19=0,E19=0),$N$3-BC19-AZ19-AW19-AT19-AQ19-AN19-AK19-AH19-AE19-AB19-Y19-V19-S19-P19-M19-J19-G19-D19+BG$14+BD$14+BA$14+AX$14+AU$14+AR$14+AO$14+AL$14+AI$14+AF$14+AC$14+Z$14+W$14+T$14+Q$14+N$14+K$14+H$14+E$14+SUM(BK19,BN19,BQ19,BT19,BW19,BZ19,CC19,CF19,CI19,CL19,CO19,CR19,CU19),BG$14)))","v":0},{"$f":"IF((BG18-BF19)<=0.0001,0,(BG18-BF19)*(1+(BG$15/12)))","v":0},{"$f":"IF(BG18=0,BG$14,0)","v":0},{"$f":"IF(AND(((BJ18-$N$3+BF19+BC19+AZ19+AW19+AT19+AQ19+AN19+AK19+AH19+AE19+AB19+Y19+V19+S19+P19+M19+J19+G19+D19-BJ$14-BG$14-BD$14-BA$14-AX$14-AU$14-AR$14-AO$14-AL$14-AI$14-AF$14-AC$14-Z$14-W$14-T$14-Q$14-N$14-K$14-H$14-E$14-SUM(BN19,BQ19,BT19,BW19,BZ19,CC19,CF19,CI19,CL19,CO19,CR19,CU19))<=0),BG19+BD19+BA19+AX19+AU19+AR19+AO19+AL19+AI19+AF19+AC19+Z19+W19+T19+Q19+N19+K19+H19+E19=0),BJ18,IF(BJ$14>=BJ18,BJ18,IF(AND(BG19=0,BD19=0,BA19=0,AX19=0,AU19=0,AR19=0,AO19=0,AL19=0,AI19=0,AF19=0,AC19=0,Z19=0,W19=0,T19=0,Q19=0,N19=0,K19=0,H19=0,E19=0),$N$3-BF19-BC19-AZ19-AW19-AT19-AQ19-AN19-AK19-AH19-AE19-AB19-Y19-V19-S19-P19-M19-J19-G19-D19+BJ$14+BG$14+BD$14+BA$14+AX$14+AU$14+AR$14+AO$14+AL$14+AI$14+AF$14+AC$14+Z$14+W$14+T$14+Q$14+N$14+K$14+H$14+E$14+SUM(BN19,BQ19,BT19,BW19,BZ19,CC19,CF19,CI19,CL19,CO19,CR19,CU19),BJ$14)))","v":0},{"$f":"IF((BJ18-BI19)<=0.0001,0,(BJ18-BI19)*(1+(BJ$15/12)))","v":0},{"$f":"IF(BJ18=0,BJ$14,0)","v":0},{"$f":"IF(AND(((BM18-$N$3+BI19+BF19+BC19+AZ19+AW19+AT19+AQ19+AN19+AK19+AH19+AE19+AB19+Y19+V19+S19+P19+M19+J19+G19+D19-BM$14-BJ$14-BG$14-BD$14-BA$14-AX$14-AU$14-AR$14-AO$14-AL$14-AI$14-AF$14-AC$14-Z$14-W$14-T$14-Q$14-N$14-K$14-H$14-E$14-SUM(BQ19,BT19,BW19,BZ19,CC19,CF19,CI19,CL19,CO19,CR19,CU19))<=0),BJ19+BG19+BD19+BA19+AX19+AU19+AR19+AO19+AL19+AI19+AF19+AC19+Z19+W19+T19+Q19+N19+K19+H19+E19=0),BM18,IF(BM$14>=BM18,BM18,IF(AND(BJ19=0,BG19=0,BD19=0,BA19=0,AX19=0,AU19=0,AR19=0,AO19=0,AL19=0,AI19=0,AF19=0,AC19=0,Z19=0,W19=0,T19=0,Q19=0,N19=0,K19=0,H19=0,E19=0),$N$3-BI19-BF19-BC19-AZ19-AW19-AT19-AQ19-AN19-AK19-AH19-AE19-AB19-Y19-V19-S19-P19-M19-J19-G19-D19+BM$14+BJ$14+BG$14+BD$14+BA$14+AX$14+AU$14+AR$14+AO$14+AL$14+AI$14+AF$14+AC$14+Z$14+W$14+T$14+Q$14+N$14+K$14+H$14+E$14+SUM(BQ19,BT19,BW19,BZ19,CC19,CF19,CI19,CL19,CO19,CR19,CU19),BM$14)))","v":0},{"$f":"IF((BM18-BL19)<=0.0001,0,(BM18-BL19)*(1+(BM$15/12)))","v":0},{"$f":"IF(BM18=0,BM$14,0)","v":0},{"$f":"IF(AND(((BP18-$N$3+BL19+BI19+BF19+BC19+AZ19+AW19+AT19+AQ19+AN19+AK19+AH19+AE19+AB19+Y19+V19+S19+P19+M19+J19+G19+D19-BP$14-BM$14-BJ$14-BG$14-BD$14-BA$14-AX$14-AU$14-AR$14-AO$14-AL$14-AI$14-AF$14-AC$14-Z$14-W$14-T$14-Q$14-N$14-K$14-H$14-E$14-SUM(BT19,BW19,BZ19,CC19,CF19,CI19,CL19,CO19,CR19,CU19))<=0),BM19+BJ19+BG19+BD19+BA19+AX19+AU19+AR19+AO19+AL19+AI19+AF19+AC19+Z19+W19+T19+Q19+N19+K19+H19+E19=0),BP18,IF(BP$14>=BP18,BP18,IF(AND(BM19=0,BJ19=0,BG19=0,BD19=0,BA19=0,AX19=0,AU19=0,AR19=0,AO19=0,AL19=0,AI19=0,AF19=0,AC19=0,Z19=0,W19=0,T19=0,Q19=0,N19=0,K19=0,H19=0,E19=0),$N$3-BL19-BI19-BF19-BC19-AZ19-AW19-AT19-AQ19-AN19-AK19-AH19-AE19-AB19-Y19-V19-S19-P19-M19-J19-G19-D19+BP$14+BM$14+BJ$14+BG$14+BD$14+BA$14+AX$14+AU$14+AR$14+AO$14+AL$14+AI$14+AF$14+AC$14+Z$14+W$14+T$14+Q$14+N$14+K$14+H$14+E$14+SUM(BT19,BW19,BZ19,CC19,CF19,CI19,CL19,CO19,CR19,CU19),BP$14)))","v":0},{"$f":"IF((BP18-BO19)<=0.0001,0,(BP18-BO19)*(1+(BP$15/12)))","v":0},{"$f":"IF(BP18=0,BP$14,0)","v":0},{"$f":"IF(AND(((BS18-$N$3+BO19+BL19+BI19+BF19+BC19+AZ19+AW19+AT19+AQ19+AN19+AK19+AH19+AE19+AB19+Y19+V19+S19+P19+M19+J19+G19+D19-BS$14-BP$14-BM$14-BJ$14-BG$14-BD$14-BA$14-AX$14-AU$14-AR$14-AO$14-AL$14-AI$14-AF$14-AC$14-Z$14-W$14-T$14-Q$14-N$14-K$14-H$14-E$14-SUM(BW19,BZ19,CC19,CF19,CI19,CL19,CO19,CR19,CU19))<=0),BP19+BM19+BJ19+BG19+BD19+BA19+AX19+AU19+AR19+AO19+AL19+AI19+AF19+AC19+Z19+W19+T19+Q19+N19+K19+H19+E19=0),BS18,IF(BS$14>=BS18,BS18,IF(AND(BP19=0,BM19=0,BJ19=0,BG19=0,BD19=0,BA19=0,AX19=0,AU19=0,AR19=0,AO19=0,AL19=0,AI19=0,AF19=0,AC19=0,Z19=0,W19=0,T19=0,Q19=0,N19=0,K19=0,H19=0,E19=0),$N$3-BO19-BL19-BI19-BF19-BC19-AZ19-AW19-AT19-AQ19-AN19-AK19-AH19-AE19-AB19-Y19-V19-S19-P19-M19-J19-G19-D19+BS$14+BP$14+BM$14+BJ$14+BG$14+BD$14+BA$14+AX$14+AU$14+AR$14+AO$14+AL$14+AI$14+AF$14+AC$14+Z$14+W$14+T$14+Q$14+N$14+K$14+H$14+E$14+SUM(BW19,BZ19,CC19,CF19,CI19,CL19,CO19,CR19,CU19),BS$14)))","v":0},{"$f":"IF((BS18-BR19)<=0.0001,0,(BS18-BR19)*(1+(BS$15/12)))","v":0},{"$f":"IF(BS18=0,BS$14,0)","v":0},{"$f":"IF(AND(((BV18-$N$3+BR19+BO19+BL19+BI19+BF19+BC19+AZ19+AW19+AT19+AQ19+AN19+AK19+AH19+AE19+AB19+Y19+V19+S19+P19+M19+J19+G19+D19-BV$14-BS$14-BP$14-BM$14-BJ$14-BG$14-BD$14-BA$14-AX$14-AU$14-AR$14-AO$14-AL$14-AI$14-AF$14-AC$14-Z$14-W$14-T$14-Q$14-N$14-K$14-H$14-E$14-SUM(BZ19,CC19,CF19,CI19,CL19,CO19,CR19,CU19))<=0),BS19+BP19+BM19+BJ19+BG19+BD19+BA19+AX19+AU19+AR19+AO19+AL19+AI19+AF19+AC19+Z19+W19+T19+Q19+N19+K19+H19+E19=0),BV18,IF(BV$14>=BV18,BV18,IF(AND(BS19=0,BP19=0,BM19=0,BJ19=0,BG19=0,BD19=0,BA19=0,AX19=0,AU19=0,AR19=0,AO19=0,AL19=0,AI19=0,AF19=0,AC19=0,Z19=0,W19=0,T19=0,Q19=0,N19=0,K19=0,H19=0,E19=0),$N$3-BR19-BO19-BL19-BI19-BF19-BC19-AZ19-AW19-AT19-AQ19-AN19-AK19-AH19-AE19-AB19-Y19-V19-S19-P19-M19-J19-G19-D19+BV$14+BS$14+BP$14+BM$14+BJ$14+BG$14+BD$14+BA$14+AX$14+AU$14+AR$14+AO$14+AL$14+AI$14+AF$14+AC$14+Z$14+W$14+T$14+Q$14+N$14+K$14+H$14+E$14+SUM(BZ19,CC19,CF19,CI19,CL19,CO19,CR19,CU19),BV$14)))","v":0},{"$f":"IF((BV18-BU19)<=0.0001,0,(BV18-BU19)*(1+(BV$15/12)))","v":0},{"$f":"IF(BV18=0,BV$14,0)","v":0},{"$f":"IF(AND(((BY18-$N$3+BU19+BR19+BO19+BL19+BI19+BF19+BC19+AZ19+AW19+AT19+AQ19+AN19+AK19+AH19+AE19+AB19+Y19+V19+S19+P19+M19+J19+G19+D19-BY$14-BV$14-BS$14-BP$14-BM$14-BJ$14-BG$14-BD$14-BA$14-AX$14-AU$14-AR$14-AO$14-AL$14-AI$14-AF$14-AC$14-Z$14-W$14-T$14-Q$14-N$14-K$14-H$14-E$14-SUM(CC19,CF19,CI19,CL19,CO19,CR19,CU19))<=0),BV19+BS19+BP19+BM19+BJ19+BG19+BD19+BA19+AX19+AU19+AR19+AO19+AL19+AI19+AF19+AC19+Z19+W19+T19+Q19+N19+K19+H19+E19=0),BY18,IF(BY$14>=BY18,BY18,IF(AND(BV19=0,BS19=0,BP19=0,BM19=0,BJ19=0,BG19=0,BD19=0,BA19=0,AX19=0,AU19=0,AR19=0,AO19=0,AL19=0,AI19=0,AF19=0,AC19=0,Z19=0,W19=0,T19=0,Q19=0,N19=0,K19=0,H19=0,E19=0),$N$3-BU19-BR19-BO19-BL19-BI19-BF19-BC19-AZ19-AW19-AT19-AQ19-AN19-AK19-AH19-AE19-AB19-Y19-V19-S19-P19-M19-J19-G19-D19+BY$14+BV$14+BS$14+BP$14+BM$14+BJ$14+BG$14+BD$14+BA$14+AX$14+AU$14+AR$14+AO$14+AL$14+AI$14+AF$14+AC$14+Z$14+W$14+T$14+Q$14+N$14+K$14+H$14+E$14+SUM(CC19,CF19,CI19,CL19,CO19,CR19,CU19),BY$14)))","v":0},{"$f":"IF((BY18-BX19)<=0.0001,0,(BY18-BX19)*(1+(BY$15/12)))","v":0},{"$f":"IF(BY18=0,BY$14,0)","v":0},{"$f":"IF(AND(((CB18-$N$3+BX19+BU19+BR19+BO19+BL19+BI19+BF19+BC19+AZ19+AW19+AT19+AQ19+AN19+AK19+AH19+AE19+AB19+Y19+V19+S19+P19+M19+J19+G19+D19-CB$14-BY$14-BV$14-BS$14-BP$14-BM$14-BJ$14-BG$14-BD$14-BA$14-AX$14-AU$14-AR$14-AO$14-AL$14-AI$14-AF$14-AC$14-Z$14-W$14-T$14-Q$14-N$14-K$14-H$14-E$14-SUM(CF19,CI19,CL19,CO19,CR19,CU19))<=0),BY19+BV19+BS19+BP19+BM19+BJ19+BG19+BD19+BA19+AX19+AU19+AR19+AO19+AL19+AI19+AF19+AC19+Z19+W19+T19+Q19+N19+K19+H19+E19=0),CB18,IF(CB$14>=CB18,CB18,IF(AND(BY19=0,BV19=0,BS19=0,BP19=0,BM19=0,BJ19=0,BG19=0,BD19=0,BA19=0,AX19=0,AU19=0,AR19=0,AO19=0,AL19=0,AI19=0,AF19=0,AC19=0,Z19=0,W19=0,T19=0,Q19=0,N19=0,K19=0,H19=0,E19=0),$N$3-BX19-BU19-BR19-BO19-BL19-BI19-BF19-BC19-AZ19-AW19-AT19-AQ19-AN19-AK19-AH19-AE19-AB19-Y19-V19-S19-P19-M19-J19-G19-D19+CB$14+BY$14+BV$14+BS$14+BP$14+BM$14+BJ$14+BG$14+BD$14+BA$14+AX$14+AU$14+AR$14+AO$14+AL$14+AI$14+AF$14+AC$14+Z$14+W$14+T$14+Q$14+N$14+K$14+H$14+E$14+SUM(CF19,CI19,CL19,CO19,CR19,CU19),CB$14)))","v":0},{"$f":"IF((CB18-CA19)<=0.0001,0,(CB18-CA19)*(1+(CB$15/12)))","v":0},{"$f":"IF(CB18=0,CB$14,0)","v":0},{"$f":"IF(AND(((CE18-$N$3+CA19+BX19+BU19+BR19+BO19+BL19+BI19+BF19+BC19+AZ19+AW19+AT19+AQ19+AN19+AK19+AH19+AE19+AB19+Y19+V19+S19+P19+M19+J19+G19+D19-CE$14-CB$14-BY$14-BV$14-BS$14-BP$14-BM$14-BJ$14-BG$14-BD$14-BA$14-AX$14-AU$14-AR$14-AO$14-AL$14-AI$14-AF$14-AC$14-Z$14-W$14-T$14-Q$14-N$14-K$14-H$14-E$14-SUM(CI19,CL19,CO19,CR19,CU19))<=0),CB19+BY19+BV19+BS19+BP19+BM19+BJ19+BG19+BD19+BA19+AX19+AU19+AR19+AO19+AL19+AI19+AF19+AC19+Z19+W19+T19+Q19+N19+K19+H19+E19=0),CE18,IF(CE$14>=CE18,CE18,IF(AND(CB19=0,BY19=0,BV19=0,BS19=0,BP19=0,BM19=0,BJ19=0,BG19=0,BD19=0,BA19=0,AX19=0,AU19=0,AR19=0,AO19=0,AL19=0,AI19=0,AF19=0,AC19=0,Z19=0,W19=0,T19=0,Q19=0,N19=0,K19=0,H19=0,E19=0),$N$3-CA19-BX19-BU19-BR19-BO19-BL19-BI19-BF19-BC19-AZ19-AW19-AT19-AQ19-AN19-AK19-AH19-AE19-AB19-Y19-V19-S19-P19-M19-J19-G19-D19+CE$14+CB$14+BY$14+BV$14+BS$14+BP$14+BM$14+BJ$14+BG$14+BD$14+BA$14+AX$14+AU$14+AR$14+AO$14+AL$14+AI$14+AF$14+AC$14+Z$14+W$14+T$14+Q$14+N$14+K$14+H$14+E$14+SUM(CI19,CL19,CO19,CR19,CU19),CE$14)))","v":0},{"$f":"IF((CE18-CD19)<=0.0001,0,(CE18-CD19)*(1+(CE$15/12)))","v":0},{"$f":"IF(CE18=0,CE$14,0)","v":0},{"$f":"IF(AND(((CH18-$N$3+CD19+CA19+BX19+BU19+BR19+BO19+BL19+BI19+BF19+BC19+AZ19+AW19+AT19+AQ19+AN19+AK19+AH19+AE19+AB19+Y19+V19+S19+P19+M19+J19+G19+D19-CH$14-CE$14-CB$14-BY$14-BV$14-BS$14-BP$14-BM$14-BJ$14-BG$14-BD$14-BA$14-AX$14-AU$14-AR$14-AO$14-AL$14-AI$14-AF$14-AC$14-Z$14-W$14-T$14-Q$14-N$14-K$14-H$14-E$14-SUM(CL19,CO19,CR19,CU19))<=0),CE19+CB19+BY19+BV19+BS19+BP19+BM19+BJ19+BG19+BD19+BA19+AX19+AU19+AR19+AO19+AL19+AI19+AF19+AC19+Z19+W19+T19+Q19+N19+K19+H19+E19=0),CH18,IF(CH$14>=CH18,CH18,IF(AND(CE19=0,CB19=0,BY19=0,BV19=0,BS19=0,BP19=0,BM19=0,BJ19=0,BG19=0,BD19=0,BA19=0,AX19=0,AU19=0,AR19=0,AO19=0,AL19=0,AI19=0,AF19=0,AC19=0,Z19=0,W19=0,T19=0,Q19=0,N19=0,K19=0,H19=0,E19=0),$N$3-CD19-CA19-BX19-BU19-BR19-BO19-BL19-BI19-BF19-BC19-AZ19-AW19-AT19-AQ19-AN19-AK19-AH19-AE19-AB19-Y19-V19-S19-P19-M19-J19-G19-D19+CH$14+CE$14+CB$14+BY$14+BV$14+BS$14+BP$14+BM$14+BJ$14+BG$14+BD$14+BA$14+AX$14+AU$14+AR$14+AO$14+AL$14+AI$14+AF$14+AC$14+Z$14+W$14+T$14+Q$14+N$14+K$14+H$14+E$14+SUM(CL19,CO19,CR19,CU19),CH$14)))","v":0},{"$f":"IF((CH18-CG19)<=0.0001,0,(CH18-CG19)*(1+(CH$15/12)))","v":0},{"$f":"IF(CH18=0,CH$14,0)","v":0},{"$f":"IF(AND(((CK18-$N$3+CG19+CD19+CA19+BX19+BU19+BR19+BO19+BL19+BI19+BF19+BC19+AZ19+AW19+AT19+AQ19+AN19+AK19+AH19+AE19+AB19+Y19+V19+S19+P19+M19+J19+G19+D19-CK$14-CH$14-CE$14-CB$14-BY$14-BV$14-BS$14-BP$14-BM$14-BJ$14-BG$14-BD$14-BA$14-AX$14-AU$14-AR$14-AO$14-AL$14-AI$14-AF$14-AC$14-Z$14-W$14-T$14-Q$14-N$14-K$14-H$14-E$14-SUM(CO19,CR19,CU19))<=0),CH19+CE19+CB19+BY19+BV19+BS19+BP19+BM19+BJ19+BG19+BD19+BA19+AX19+AU19+AR19+AO19+AL19+AI19+AF19+AC19+Z19+W19+T19+Q19+N19+K19+H19+E19=0),CK18,IF(CK$14>=CK18,CK18,IF(AND(CH19=0,CE19=0,CB19=0,BY19=0,BV19=0,BS19=0,BP19=0,BM19=0,BJ19=0,BG19=0,BD19=0,BA19=0,AX19=0,AU19=0,AR19=0,AO19=0,AL19=0,AI19=0,AF19=0,AC19=0,Z19=0,W19=0,T19=0,Q19=0,N19=0,K19=0,H19=0,E19=0),$N$3-CG19-CD19-CA19-BX19-BU19-BR19-BO19-BL19-BI19-BF19-BC19-AZ19-AW19-AT19-AQ19-AN19-AK19-AH19-AE19-AB19-Y19-V19-S19-P19-M19-J19-G19-D19+CK$14+CH$14+CE$14+CB$14+BY$14+BV$14+BS$14+BP$14+BM$14+BJ$14+BG$14+BD$14+BA$14+AX$14+AU$14+AR$14+AO$14+AL$14+AI$14+AF$14+AC$14+Z$14+W$14+T$14+Q$14+N$14+K$14+H$14+E$14+SUM(CO19,CR19,CU19),CK$14)))","v":0},{"$f":"IF((CK18-CJ19)<=0.0001,0,(CK18-CJ19)*(1+(CK$15/12)))","v":0},{"$f":"IF(CK18=0,CK$14,0)","v":0},{"$f":"IF(AND(((CN18-$N$3+CJ19+CG19+CD19+CA19+BX19+BU19+BR19+BO19+BL19+BI19+BF19+BC19+AZ19+AW19+AT19+AQ19+AN19+AK19+AH19+AE19+AB19+Y19+V19+S19+P19+M19+J19+G19+D19-CN$14-CK$14-CH$14-CE$14-CB$14-BY$14-BV$14-BS$14-BP$14-BM$14-BJ$14-BG$14-BD$14-BA$14-AX$14-AU$14-AR$14-AO$14-AL$14-AI$14-AF$14-AC$14-Z$14-W$14-T$14-Q$14-N$14-K$14-H$14-E$14-SUM(CR19,CU19))<=0),CK19+CH19+CE19+CB19+BY19+BV19+BS19+BP19+BM19+BJ19+BG19+BD19+BA19+AX19+AU19+AR19+AO19+AL19+AI19+AF19+AC19+Z19+W19+T19+Q19+N19+K19+H19+E19=0),CN18,IF(CN$14>=CN18,CN18,IF(AND(CK19=0,CH19=0,CE19=0,CB19=0,BY19=0,BV19=0,BS19=0,BP19=0,BM19=0,BJ19=0,BG19=0,BD19=0,BA19=0,AX19=0,AU19=0,AR19=0,AO19=0,AL19=0,AI19=0,AF19=0,AC19=0,Z19=0,W19=0,T19=0,Q19=0,N19=0,K19=0,H19=0,E19=0),$N$3-CJ19-CG19-CD19-CA19-BX19-BU19-BR19-BO19-BL19-BI19-BF19-BC19-AZ19-AW19-AT19-AQ19-AN19-AK19-AH19-AE19-AB19-Y19-V19-S19-P19-M19-J19-G19-D19+CN$14+CK$14+CH$14+CE$14+CB$14+BY$14+BV$14+BS$14+BP$14+BM$14+BJ$14+BG$14+BD$14+BA$14+AX$14+AU$14+AR$14+AO$14+AL$14+AI$14+AF$14+AC$14+Z$14+W$14+T$14+Q$14+N$14+K$14+H$14+E$14+SUM(CR19,CU19),CN$14)))","v":0},{"$f":"IF((CN18-CM19)<=0.0001,0,(CN18-CM19)*(1+(CN$15/12)))","v":0},{"$f":"IF(CN18=0,CN$14,0)","v":0},{"$f":"IF(AND(((CQ18-$N$3+CM19+CJ19+CG19+CD19+CA19+BX19+BU19+BR19+BO19+BL19+BI19+BF19+BC19+AZ19+AW19+AT19+AQ19+AN19+AK19+AH19+AE19+AB19+Y19+V19+S19+P19+M19+J19+G19+D19-CQ$14-CN$14-CK$14-CH$14-CE$14-CB$14-BY$14-BV$14-BS$14-BP$14-BM$14-BJ$14-BG$14-BD$14-BA$14-AX$14-AU$14-AR$14-AO$14-AL$14-AI$14-AF$14-AC$14-Z$14-W$14-T$14-Q$14-N$14-K$14-H$14-E$14-SUM(CU19))<=0),CN19+CK19+CH19+CE19+CB19+BY19+BV19+BS19+BP19+BM19+BJ19+BG19+BD19+BA19+AX19+AU19+AR19+AO19+AL19+AI19+AF19+AC19+Z19+W19+T19+Q19+N19+K19+H19+E19=0),CQ18,IF(CQ$14>=CQ18,CQ18,IF(AND(CN19=0,CK19=0,CH19=0,CE19=0,CB19=0,BY19=0,BV19=0,BS19=0,BP19=0,BM19=0,BJ19=0,BG19=0,BD19=0,BA19=0,AX19=0,AU19=0,AR19=0,AO19=0,AL19=0,AI19=0,AF19=0,AC19=0,Z19=0,W19=0,T19=0,Q19=0,N19=0,K19=0,H19=0,E19=0),$N$3-CM19-CJ19-CG19-CD19-CA19-BX19-BU19-BR19-BO19-BL19-BI19-BF19-BC19-AZ19-AW19-AT19-AQ19-AN19-AK19-AH19-AE19-AB19-Y19-V19-S19-P19-M19-J19-G19-D19+CQ$14+CN$14+CK$14+CH$14+CE$14+CB$14+BY$14+BV$14+BS$14+BP$14+BM$14+BJ$14+BG$14+BD$14+BA$14+AX$14+AU$14+AR$14+AO$14+AL$14+AI$14+AF$14+AC$14+Z$14+W$14+T$14+Q$14+N$14+K$14+H$14+E$14+SUM(CU19),CQ$14)))","v":0},{"$f":"IF((CQ18-CP19)<=0.0001,0,(CQ18-CP19)*(1+(CQ$15/12)))","v":0},{"$f":"IF(CQ18=0,CQ$14,0)","v":0},{"$f":"IF(AND(((CT18-$N$3+CP19+CM19+CJ19+CG19+CD19+CA19+BX19+BU19+BR19+BO19+BL19+BI19+BF19+BC19+AZ19+AW19+AT19+AQ19+AN19+AK19+AH19+AE19+AB19+Y19+V19+S19+P19+M19+J19+G19+D19-CT$14-CQ$14-CN$14-CK$14-CH$14-CE$14-CB$14-BY$14-BV$14-BS$14-BP$14-BM$14-BJ$14-BG$14-BD$14-BA$14-AX$14-AU$14-AR$14-AO$14-AL$14-AI$14-AF$14-AC$14-Z$14-W$14-T$14-Q$14-N$14-K$14-H$14-E$14)<=0),CQ19+CN19+CK19+CH19+CE19+CB19+BY19+BV19+BS19+BP19+BM19+BJ19+BG19+BD19+BA19+AX19+AU19+AR19+AO19+AL19+AI19+AF19+AC19+Z19+W19+T19+Q19+N19+K19+H19+E19=0),CT18,IF(CT$14>=CT18,CT18,IF(AND(CQ19=0,CN19=0,CK19=0,CH19=0,CE19=0,CB19=0,BY19=0,BV19=0,BS19=0,BP19=0,BM19=0,BJ19=0,BG19=0,BD19=0,BA19=0,AX19=0,AU19=0,AR19=0,AO19=0,AL19=0,AI19=0,AF19=0,AC19=0,Z19=0,W19=0,T19=0,Q19=0,N19=0,K19=0,H19=0,E19=0),$N$3-CP19-CM19-CJ19-CG19-CD19-CA19-BX19-BU19-BR19-BO19-BL19-BI19-BF19-BC19-AZ19-AW19-AT19-AQ19-AN19-AK19-AH19-AE19-AB19-Y19-V19-S19-P19-M19-J19-G19-D19+CT$14+CQ$14+CN$14+CK$14+CH$14+CE$14+CB$14+BY$14+BV$14+BS$14+BP$14+BM$14+BJ$14+BG$14+BD$14+BA$14+AX$14+AU$14+AR$14+AO$14+AL$14+AI$14+AF$14+AC$14+Z$14+W$14+T$14+Q$14+N$14+K$14+H$14+E$14,CT$14)))","v":0},{"$f":"IF((CT18-CS19)<=0.0001,0,(CT18-CS19)*(1+(CT$15/12)))","v":0},{"$f":"IF(CT18=0,CT$14,0)","v":0},null,null,{"v":553.6666666666666,"d":"$553.67"},2,null,{"v":1939.2,"d":"$1,939.20"},2,null,{"v":2942.4,"d":"$2,942.40"},2,null,0,2,null,0,2,null,0,2,null,0,2,null,0,2,null,0,2,null,0,2,null,0,2,null,0,2,null,0,2,null,0,2,null,0,2,null,0,2,null,0,2,null,0,2,null,0,2,null,0,2,null,0,2,null,0,2,null,0,2,null,0,2,null,0,2,null,0,2,null,0,2,null,0,2,null,0,2,null,0,2,null,0,2,null,0,2]
[{"v":5518.901777777778,"d":"$5,518.90"},{"v":325,"d":"$325.00"},3,{"$f":"IF((E19-$N$3-$E$14-SUM(I20,L20,O20,R20,U20,X20,AA20))<=0,($N$3+(E19-$N$3)),($N$3+$E$14+SUM(I20,L20,O20,R20,U20,X20,AA20)))","v":{"v":225,"d":"$225.00"}},{"$f":"IF((E19-D20)<=0.0001,0,(E19-D20)*(1+(E$15/12)))","v":{"v":330.8577777777777,"d":"$330.86"}},null,{"$f":"IF(AND(((H19-$N$3+D20-H$14-E$14-SUM(L20,O20,R20,U20,X20,AA20))<=0),E20=0),H19,IF(E20=0,$N$3-D20+H$14+E$14+SUM(L20,O20,R20,U20,X20,AA20),H$14))","v":{"v":40,"d":"$40.00"}},{"v":1918.192,"d":"$1,918.19"},{"$f":"IF(H19=0,H$14,0)","v":0},{"$f":"IF(AND(((K19-$N$3+G20+D20-K$14-H$14-E$14-SUM(O20,R20,U20,X20,AA20))<=0),H20+E20=0),K19,IF(K$14>=K19,K19,IF(AND(H20=0,E20=0),$N$3-G20-D20+K$14+H$14+E$14+SUM(O20,R20,U20,X20,AA20),K$14)))","v":{"v":60,"d":"$60.00"}},{"$f":"IF((K19-J20)<=0.0001,0,(K19-J20)*(1+(K$15/12)))","v":{"v":2944.8520000000003,"d":"$2,944.85"}},{"$f":"IF(K19=0,K$14,0)","v":0},{"$f":"IF(AND(((N19-$N$3+J20+G20+D20-N$14-K$14-H$14-E$14-SUM(R20,U20,X20,AA20))<=0),K20+H20+E20=0),N19,IF(N$14>=N19,N19, IF(AND(K20=0,H20=0,E20=0),$N$3-J20-G20-D20+N$14+K$14+H$14+E$14+SUM(R20,U20,X20,AA20),N$14)))","v":0},{"$f":"IF((N19-M20)<=0.0001,0,(N19-M20)*(1+(N$15/12)))","v":0},{"$f":"IF(N19=0,N$14,0)","v":0},{"$f":"IF(AND(((Q19-$N$3+M20+J20+G20+D20-Q$14-N$14-K$14-H$14-E$14-SUM(U20,X20,AA20))<=0),N20+K20+H20+E20=0),Q19,IF(Q$14>=Q19,Q19,IF(AND(N20=0,K20=0,H20=0,E20=0),$N$3-M20-J20-G20-D20+Q$14+N$14+K$14+H$14+E$14+SUM(U20,X20,AA20),Q$14)))","v":0},{"$f":"IF((Q19-P20)<=0.0001,0,(Q19-P20)*(1+(Q$15/12)))","v":0},{"$f":"IF(Q19=0,Q$14,0)","v":0},{"$f":"IF(AND(((T19-$N$3+P20+M20+J20+G20+D20-T$14-Q$14-N$14-K$14-H$14-E$14-SUM(X20,AA20))<=0),Q20+N20+K20+H20+E20=0),T19,IF(T$14>=T19,T19,IF(AND(Q20=0,N20=0,K20=0,H20=0),$N$3-P20-M20-J20-G20-D20+T$14+Q$14+N$14+K$14+H$14+E$14+SUM(X20,AA20),T$14)))","v":0},{"$f":"IF((T19-S20)<=0.0001,0,(T19-S20)*(1+(T$15/12)))","v":0},{"$f":"IF(T19=0,T$14,0)","v":0},{"$f":"IF(AND(((W19-$N$3+S20+P20+M20+J20+G20+D20-W$14-T$14-Q$14-N$14-K$14-H$14-E$14-SUM(AA20))<=0),T20+Q20+N20+K20+H20+E20=0),W19,IF(W$14>=W19,W19,IF(AND(T20=0,Q20=0,N20=0,K20=0,H20=0,E20=0),$N$3-S20-P20-M20-J20-G20-D20+W$14+T$14+Q$14+N$14+K$14+H$14+E$14+SUM(AA20),W$14)))","v":0},{"$f":"IF((W19-V20)<=0.0001,0,(W19-V20)*(1+(W$15/12)))","v":0},{"$f":"IF(W19=0,W$14,0)","v":0},{"$f":"IF(AND(((Z19-$N$3+V20+S20+P20+M20+J20+G20+D20-Z$14-W$14-T$14-Q$14-N$14-K$14-H$14-E$14)<=0),W20+T20+Q20+N20+K20+H20+E20=0),Z19,IF(Z$14>=Z19,Z19,IF(AND(W20=0,T20=0,Q20=0,N20=0,K20=0,H20=0,E20=0),$N$3-V20-S20-P20-M20-J20-G20-D20+Z$14+W$14+T$14+Q$14+N$14+K$14+H$14+E$14,Z$14)))","v":0},{"$f":"IF((Z19-Y20)<=0.0001,0,(Z19-Y20)*(1+(Z$15/12)))","v":0},{"$f":"IF(Z19=0,Z$14,0)","v":0},{"$f":"IF(AND(((AC19-$N$3+Y20+V20+S20+P20+M20+J20+G20+D20-AC$14-Z$14-W$14-T$14-Q$14-N$14-K$14-H$14-E$14-SUM(AG20,AJ20,AM20,AP20,AS20,AV20,AY20,BB20,BE20,BH20,BK20,BN20,BQ20,BT20,BW20,BZ20,CC20,CF20,CI20,CL20,CO20,CR20,CU20))<=0),Z20+W20+T20+Q20+N20+K20+H20+E20=0),AC19,IF(AC$14>=AC19,AC19,IF(AND(Z20=0,W20=0,T20=0,Q20=0,N20=0,K20=0,H20=0,E20=0),$N$3-Y20-V20-S20-P20-M20-J20-G20-D20+AC$14+Z$14+W$14+T$14+Q$14+N$14+K$14+H$14+E$14+SUM(AG20,AJ20,AM20,AP20,AS20,AV20,AY20,BB20,BE20,BH20,BK20,BN20,BQ20,BT20,BW20,BZ20,CC20,CF20,CI20,CL20,CO20,CR20,CU20),AC$14)))","v":0},{"$f":"IF((AC19-AB20)<=0.0001,0,(AC19-AB20)*(1+(AC$15/12)))","v":0},{"$f":"IF(AC19=0,AC$14,0)","v":0},{"$f":"IF(AND(((AF19-$N$3+AB20+Y20+V20+S20+P20+M20+J20+G20+D20-AF$14-AC$14-Z$14-W$14-T$14-Q$14-N$14-K$14-H$14-E$14-SUM(AJ20,AM20,AP20,AS20,AV20,AY20,BB20,BE20,BH20,BK20,BN20,BQ20,BT20,BW20,BZ20,CC20,CF20,CI20,CL20,CO20,CR20,CU20))<=0),AC20+Z20+W20+T20+Q20+N20+K20+H20+E20=0),AF19,IF(AF$14>=AF19,AF19,IF(AND(AC20=0,Z20=0,W20=0,T20=0,Q20=0,N20=0,K20=0,H20=0,E20=0),$N$3-AB20-Y20-V20-S20-P20-M20-J20-G20-D20+AF$14+AC$14+Z$14+W$14+T$14+Q$14+N$14+K$14+H$14+E$14+SUM(AJ20,AM20,AP20,AS20,AV20,AY20,BB20,BE20,BH20,BK20,BN20,BQ20,BT20,BW20,BZ20,CC20,CF20,CI20,CL20,CO20,CR20,CU20),AF$14)))","v":0},{"$f":"IF((AF19-AE20)<=0.0001,0,(AF19-AE20)*(1+(AF$15/12)))","v":0},{"$f":"IF(AF19=0,AF$14,0)","v":0},{"$f":"IF(AND(((AI19-$N$3+AE20+AB20+Y20+V20+S20+P20+M20+J20+G20+D20-AI$14-AF$14-AC$14-Z$14-W$14-T$14-Q$14-N$14-K$14-H$14-E$14-SUM(AM20,AP20,AS20,AV20,AY20,BB20,BE20,BH20,BK20,BN20,BQ20,BT20,BW20,BZ20,CC20,CF20,CI20,CL20,CO20,CR20,CU20))<=0),AF20+AC20+Z20+W20+T20+Q20+N20+K20+H20+E20=0),AI19,IF(AI$14>=AI19,AI19,IF(AND(AF20=0,AC20=0,Z20=0,W20=0,T20=0,Q20=0,N20=0,K20=0,H20=0,E20=0),$N$3-AE20-AB20-Y20-V20-S20-P20-M20-J20-G20-D20+AI$14+AF$14+AC$14+Z$14+W$14+T$14+Q$14+N$14+K$14+H$14+E$14+SUM(AM20,AP20,AS20,AV20,AY20,BB20,BE20,BH20,BK20,BN20,BQ20,BT20,BW20,BZ20,CC20,CF20,CI20,CL20,CO20,CR20,CU20),AI$14)))","v":0},{"$f":"IF((AI19-AH20)<=0.0001,0,(AI19-AH20)*(1+(AI$15/12)))","v":0},{"$f":"IF(AI19=0,AI$14,0)","v":0},{"$f":"IF(AND(((AL19-$N$3+AH20+AE20+AB20+Y20+V20+S20+P20+M20+J20+G20+D20-AL$14-AI$14-AF$14-AC$14-Z$14-W$14-T$14-Q$14-N$14-K$14-H$14-E$14-SUM(AP20,AS20,AV20,AY20,BB20,BE20,BH20,BK20,BN20,BQ20,BT20,BW20,BZ20,CC20,CF20,CI20,CL20,CO20,CR20,CU20))<=0),AI20+AF20+AC20+Z20+W20+T20+Q20+N20+K20+H20+E20=0),AL19,IF(AL$14>=AL19,AL19,IF(AND(AI20=0,AF20=0,AC20=0,Z20=0,W20=0,T20=0,Q20=0,N20=0,K20=0,H20=0,E20=0),$N$3-AH20-AE20-AB20-Y20-V20-S20-P20-M20-J20-G20-D20+AL$14+AI$14+AF$14+AC$14+Z$14+W$14+T$14+Q$14+N$14+K$14+H$14+E$14+SUM(AP20,AS20,AV20,AY20,BB20,BE20,BH20,BK20,BN20,BQ20,BT20,BW20,BZ20,CC20,CF20,CI20,CL20,CO20,CR20,CU20),AL$14)))","v":0},{"$f":"IF((AL19-AK20)<=0.0001,0,(AL19-AK20)*(1+(AL$15/12)))","v":0},{"$f":"IF(AL19=0,AL$14,0)","v":0},{"$f":"IF(AND(((AO19-$N$3+AK20+AH20+AE20+AB20+Y20+V20+S20+P20+M20+J20+G20+D20-AO$14-AL$14-AI$14-AF$14-AC$14-Z$14-W$14-T$14-Q$14-N$14-K$14-H$14-E$14-SUM(AS20,AV20,AY20,BB20,BE20,BH20,BK20,BN20,BQ20,BT20,BW20,BZ20,CC20,CF20,CI20,CL20,CO20,CR20,CU20))<=0),AL20+AI20+AF20+AC20+Z20+W20+T20+Q20+N20+K20+H20+E20=0),AO19,IF(AO$14>=AO19,AO19,IF(AND(AL20=0,AI20=0,AF20=0,AC20=0,Z20=0,W20=0,T20=0,Q20=0,N20=0,K20=0,H20=0,E20=0),$N$3-AK20-AH20-AE20-AB20-Y20-V20-S20-P20-M20-J20-G20-D20+AO$14+AL$14+AI$14+AF$14+AC$14+Z$14+W$14+T$14+Q$14+N$14+K$14+H$14+E$14+SUM(AS20,AV20,AY20,BB20,BE20,BH20,BK20,BN20,BQ20,BT20,BW20,BZ20,CC20,CF20,CI20,CL20,CO20,CR20,CU20),AO$14)))","v":0},{"$f":"IF((AO19-AN20)<=0.0001,0,(AO19-AN20)*(1+(AO$15/12)))","v":0},{"$f":"IF(AO19=0,AO$14,0)","v":0},{"$f":"IF(AND(((AR19-$N$3+AN20+AK20+AH20+AE20+AB20+Y20+V20+S20+P20+M20+J20+G20+D20-AR$14-AO$14-AL$14-AI$14-AF$14-AC$14-Z$14-W$14-T$14-Q$14-N$14-K$14-H$14-E$14-SUM(AV20,AY20,BB20,BE20,BH20,BK20,BN20,BQ20,BT20,BW20,BZ20,CC20,CF20,CI20,CL20,CO20,CR20,CU20))<=0),AO20+AL20+AI20+AF20+AC20+Z20+W20+T20+Q20+N20+K20+H20+E20=0),AR19,IF(AR$14>=AR19,AR19,IF(AND(AO20=0,AL20=0,AI20=0,AF20=0,AC20=0,Z20=0,W20=0,T20=0,Q20=0,N20=0,K20=0,H20=0,E20=0),$N$3-AN20-AK20-AH20-AE20-AB20-Y20-V20-S20-P20-M20-J20-G20-D20+AR$14+AO$14+AL$14+AI$14+AF$14+AC$14+Z$14+W$14+T$14+Q$14+N$14+K$14+H$14+E$14+SUM(AV20,AY20,BB20,BE20,BH20,BK20,BN20,BQ20,BT20,BW20,BZ20,CC20,CF20,CI20,CL20,CO20,CR20,CU20),AR$14)))","v":0},{"$f":"IF((AR19-AQ20)<=0.0001,0,(AR19-AQ20)*(1+(AR$15/12)))","v":0},{"$f":"IF(AR19=0,AR$14,0)","v":0},{"$f":"IF(AND(((AU19-$N$3+AQ20+AN20+AK20+AH20+AE20+AB20+Y20+V20+S20+P20+M20+J20+G20+D20-AU$14-AR$14-AO$14-AL$14-AI$14-AF$14-AC$14-Z$14-W$14-T$14-Q$14-N$14-K$14-H$14-E$14-SUM(AY20,BB20,BE20,BH20,BK20,BN20,BQ20,BT20,BW20,BZ20,CC20,CF20,CI20,CL20,CO20,CR20,CU20))<=0),AR20+AO20+AL20+AI20+AF20+AC20+Z20+W20+T20+Q20+N20+K20+H20+E20=0),AU19,IF(AU$14>=AU19,AU19,IF(AND(AR20=0,AO20=0,AL20=0,AI20=0,AF20=0,AC20=0,Z20=0,W20=0,T20=0,Q20=0,N20=0,K20=0,H20=0,E20=0),$N$3-AQ20-AN20-AK20-AH20-AE20-AB20-Y20-V20-S20-P20-M20-J20-G20-D20+AU$14+AR$14+AO$14+AL$14+AI$14+AF$14+AC$14+Z$14+W$14+T$14+Q$14+N$14+K$14+H$14+E$14+SUM(AY20,BB20,BE20,BH20,BK20,BN20,BQ20,BT20,BW20,BZ20,CC20,CF20,CI20,CL20,CO20,CR20,CU20),AU$14)))","v":0},{"$f":"IF((AU19-AT20)<=0.0001,0,(AU19-AT20)*(1+(AU$15/12)))","v":0},{"$f":"IF(AU19=0,AU$14,0)","v":0},{"$f":"IF(AND(((AX19-$N$3+AT20+AQ20+AN20+AK20+AH20+AE20+AB20+Y20+V20+S20+P20+M20+J20+G20+D20-AX$14-AU$14-AR$14-AO$14-AL$14-AI$14-AF$14-AC$14-Z$14-W$14-T$14-Q$14-N$14-K$14-H$14-E$14-SUM(BB20,BE20,BH20,BK20,BN20,BQ20,BT20,BW20,BZ20,CC20,CF20,CI20,CL20,CO20,CR20,CU20))<=0),AU20+AR20+AO20+AL20+AI20+AF20+AC20+Z20+W20+T20+Q20+N20+K20+H20+E20=0),AX19,IF(AX$14>=AX19,AX19,IF(AND(AU20=0,AR20=0,AO20=0,AL20=0,AI20=0,AF20=0,AC20=0,Z20=0,W20=0,T20=0,Q20=0,N20=0,K20=0,H20=0,E20=0),$N$3-AT20-AQ20-AN20-AK20-AH20-AE20-AB20-Y20-V20-S20-P20-M20-J20-G20-D20+AX$14+AU$14+AR$14+AO$14+AL$14+AI$14+AF$14+AC$14+Z$14+W$14+T$14+Q$14+N$14+K$14+H$14+E$14+SUM(BB20,BE20,BH20,BK20,BN20,BQ20,BT20,BW20,BZ20,CC20,CF20,CI20,CL20,CO20,CR20,CU20),AX$14)))","v":0},{"$f":"IF((AX19-AW20)<=0.0001,0,(AX19-AW20)*(1+(AX$15/12)))","v":0},{"$f":"IF(AX19=0,AX$14,0)","v":0},{"$f":"IF(AND(((BA19-$N$3+AW20+AT20+AQ20+AN20+AK20+AH20+AE20+AB20+Y20+V20+S20+P20+M20+J20+G20+D20-BA$14-AX$14-AU$14-AR$14-AO$14-AL$14-AI$14-AF$14-AC$14-Z$14-W$14-T$14-Q$14-N$14-K$14-H$14-E$14-SUM(BE20,BH20,BK20,BN20,BQ20,BT20,BW20,BZ20,CC20,CF20,CI20,CL20,CO20,CR20,CU20))<=0),AX20+AU20+AR20+AO20+AL20+AI20+AF20+AC20+Z20+W20+T20+Q20+N20+K20+H20+E20=0),BA19,IF(BA$14>=BA19,BA19,IF(AND(AX20=0,AU20=0,AR20=0,AO20=0,AL20=0,AI20=0,AF20=0,AC20=0,Z20=0,W20=0,T20=0,Q20=0,N20=0,K20=0,H20=0,E20=0),$N$3-AW20-AT20-AQ20-AN20-AK20-AH20-AE20-AB20-Y20-V20-S20-P20-M20-J20-G20-D20+BA$14+AX$14+AU$14+AR$14+AO$14+AL$14+AI$14+AF$14+AC$14+Z$14+W$14+T$14+Q$14+N$14+K$14+H$14+E$14+SUM(BE20,BH20,BK20,BN20,BQ20,BT20,BW20,BZ20,CC20,CF20,CI20,CL20,CO20,CR20,CU20),BA$14)))","v":0},{"$f":"IF((BA19-AZ20)<=0.0001,0,(BA19-AZ20)*(1+(BA$15/12)))","v":0},{"$f":"IF(BA19=0,BA$14,0)","v":0},{"$f":"IF(AND(((BD19-$N$3+AZ20+AW20+AT20+AQ20+AN20+AK20+AH20+AE20+AB20+Y20+V20+S20+P20+M20+J20+G20+D20-BD$14-BA$14-AX$14-AU$14-AR$14-AO$14-AL$14-AI$14-AF$14-AC$14-Z$14-W$14-T$14-Q$14-N$14-K$14-H$14-E$14-SUM(BH20,BK20,BN20,BQ20,BT20,BW20,BZ20,CC20,CF20,CI20,CL20,CO20,CR20,CU20))<=0),BA20+AX20+AU20+AR20+AO20+AL20+AI20+AF20+AC20+Z20+W20+T20+Q20+N20+K20+H20+E20=0),BD19,IF(BD$14>=BD19,BD19,IF(AND(BA20=0,AX20=0,AU20=0,AR20=0,AO20=0,AL20=0,AI20=0,AF20=0,AC20=0,Z20=0,W20=0,T20=0,Q20=0,N20=0,K20=0,H20=0,E20=0),$N$3-AZ20-AW20-AT20-AQ20-AN20-AK20-AH20-AE20-AB20-Y20-V20-S20-P20-M20-J20-G20-D20+BD$14+BA$14+AX$14+AU$14+AR$14+AO$14+AL$14+AI$14+AF$14+AC$14+Z$14+W$14+T$14+Q$14+N$14+K$14+H$14+E$14+SUM(BH20,BK20,BN20,BQ20,BT20,BW20,BZ20,CC20,CF20,CI20,CL20,CO20,CR20,CU20),BD$14)))","v":0},{"$f":"IF((BD19-BC20)<=0.0001,0,(BD19-BC20)*(1+(BD$15/12)))","v":0},{"$f":"IF(BD19=0,BD$14,0)","v":0},{"$f":"IF(AND(((BG19-$N$3+BC20+AZ20+AW20+AT20+AQ20+AN20+AK20+AH20+AE20+AB20+Y20+V20+S20+P20+M20+J20+G20+D20-BG$14-BD$14-BA$14-AX$14-AU$14-AR$14-AO$14-AL$14-AI$14-AF$14-AC$14-Z$14-W$14-T$14-Q$14-N$14-K$14-H$14-E$14-SUM(BK20,BN20,BQ20,BT20,BW20,BZ20,CC20,CF20,CI20,CL20,CO20,CR20,CU20))<=0),BD20+BA20+AX20+AU20+AR20+AO20+AL20+AI20+AF20+AC20+Z20+W20+T20+Q20+N20+K20+H20+E20=0),BG19,IF(BG$14>=BG19,BG19,IF(AND(BD20=0,BA20=0,AX20=0,AU20=0,AR20=0,AO20=0,AL20=0,AI20=0,AF20=0,AC20=0,Z20=0,W20=0,T20=0,Q20=0,N20=0,K20=0,H20=0,E20=0),$N$3-BC20-AZ20-AW20-AT20-AQ20-AN20-AK20-AH20-AE20-AB20-Y20-V20-S20-P20-M20-J20-G20-D20+BG$14+BD$14+BA$14+AX$14+AU$14+AR$14+AO$14+AL$14+AI$14+AF$14+AC$14+Z$14+W$14+T$14+Q$14+N$14+K$14+H$14+E$14+SUM(BK20,BN20,BQ20,BT20,BW20,BZ20,CC20,CF20,CI20,CL20,CO20,CR20,CU20),BG$14)))","v":0},{"$f":"IF((BG19-BF20)<=0.0001,0,(BG19-BF20)*(1+(BG$15/12)))","v":0},{"$f":"IF(BG19=0,BG$14,0)","v":0},{"$f":"IF(AND(((BJ19-$N$3+BF20+BC20+AZ20+AW20+AT20+AQ20+AN20+AK20+AH20+AE20+AB20+Y20+V20+S20+P20+M20+J20+G20+D20-BJ$14-BG$14-BD$14-BA$14-AX$14-AU$14-AR$14-AO$14-AL$14-AI$14-AF$14-AC$14-Z$14-W$14-T$14-Q$14-N$14-K$14-H$14-E$14-SUM(BN20,BQ20,BT20,BW20,BZ20,CC20,CF20,CI20,CL20,CO20,CR20,CU20))<=0),BG20+BD20+BA20+AX20+AU20+AR20+AO20+AL20+AI20+AF20+AC20+Z20+W20+T20+Q20+N20+K20+H20+E20=0),BJ19,IF(BJ$14>=BJ19,BJ19,IF(AND(BG20=0,BD20=0,BA20=0,AX20=0,AU20=0,AR20=0,AO20=0,AL20=0,AI20=0,AF20=0,AC20=0,Z20=0,W20=0,T20=0,Q20=0,N20=0,K20=0,H20=0,E20=0),$N$3-BF20-BC20-AZ20-AW20-AT20-AQ20-AN20-AK20-AH20-AE20-AB20-Y20-V20-S20-P20-M20-J20-G20-D20+BJ$14+BG$14+BD$14+BA$14+AX$14+AU$14+AR$14+AO$14+AL$14+AI$14+AF$14+AC$14+Z$14+W$14+T$14+Q$14+N$14+K$14+H$14+E$14+SUM(BN20,BQ20,BT20,BW20,BZ20,CC20,CF20,CI20,CL20,CO20,CR20,CU20),BJ$14)))","v":0},{"$f":"IF((BJ19-BI20)<=0.0001,0,(BJ19-BI20)*(1+(BJ$15/12)))","v":0},{"$f":"IF(BJ19=0,BJ$14,0)","v":0},{"$f":"IF(AND(((BM19-$N$3+BI20+BF20+BC20+AZ20+AW20+AT20+AQ20+AN20+AK20+AH20+AE20+AB20+Y20+V20+S20+P20+M20+J20+G20+D20-BM$14-BJ$14-BG$14-BD$14-BA$14-AX$14-AU$14-AR$14-AO$14-AL$14-AI$14-AF$14-AC$14-Z$14-W$14-T$14-Q$14-N$14-K$14-H$14-E$14-SUM(BQ20,BT20,BW20,BZ20,CC20,CF20,CI20,CL20,CO20,CR20,CU20))<=0),BJ20+BG20+BD20+BA20+AX20+AU20+AR20+AO20+AL20+AI20+AF20+AC20+Z20+W20+T20+Q20+N20+K20+H20+E20=0),BM19,IF(BM$14>=BM19,BM19,IF(AND(BJ20=0,BG20=0,BD20=0,BA20=0,AX20=0,AU20=0,AR20=0,AO20=0,AL20=0,AI20=0,AF20=0,AC20=0,Z20=0,W20=0,T20=0,Q20=0,N20=0,K20=0,H20=0,E20=0),$N$3-BI20-BF20-BC20-AZ20-AW20-AT20-AQ20-AN20-AK20-AH20-AE20-AB20-Y20-V20-S20-P20-M20-J20-G20-D20+BM$14+BJ$14+BG$14+BD$14+BA$14+AX$14+AU$14+AR$14+AO$14+AL$14+AI$14+AF$14+AC$14+Z$14+W$14+T$14+Q$14+N$14+K$14+H$14+E$14+SUM(BQ20,BT20,BW20,BZ20,CC20,CF20,CI20,CL20,CO20,CR20,CU20),BM$14)))","v":0},{"$f":"IF((BM19-BL20)<=0.0001,0,(BM19-BL20)*(1+(BM$15/12)))","v":0},{"$f":"IF(BM19=0,BM$14,0)","v":0},{"$f":"IF(AND(((BP19-$N$3+BL20+BI20+BF20+BC20+AZ20+AW20+AT20+AQ20+AN20+AK20+AH20+AE20+AB20+Y20+V20+S20+P20+M20+J20+G20+D20-BP$14-BM$14-BJ$14-BG$14-BD$14-BA$14-AX$14-AU$14-AR$14-AO$14-AL$14-AI$14-AF$14-AC$14-Z$14-W$14-T$14-Q$14-N$14-K$14-H$14-E$14-SUM(BT20,BW20,BZ20,CC20,CF20,CI20,CL20,CO20,CR20,CU20))<=0),BM20+BJ20+BG20+BD20+BA20+AX20+AU20+AR20+AO20+AL20+AI20+AF20+AC20+Z20+W20+T20+Q20+N20+K20+H20+E20=0),BP19,IF(BP$14>=BP19,BP19,IF(AND(BM20=0,BJ20=0,BG20=0,BD20=0,BA20=0,AX20=0,AU20=0,AR20=0,AO20=0,AL20=0,AI20=0,AF20=0,AC20=0,Z20=0,W20=0,T20=0,Q20=0,N20=0,K20=0,H20=0,E20=0),$N$3-BL20-BI20-BF20-BC20-AZ20-AW20-AT20-AQ20-AN20-AK20-AH20-AE20-AB20-Y20-V20-S20-P20-M20-J20-G20-D20+BP$14+BM$14+BJ$14+BG$14+BD$14+BA$14+AX$14+AU$14+AR$14+AO$14+AL$14+AI$14+AF$14+AC$14+Z$14+W$14+T$14+Q$14+N$14+K$14+H$14+E$14+SUM(BT20,BW20,BZ20,CC20,CF20,CI20,CL20,CO20,CR20,CU20),BP$14)))","v":0},{"$f":"IF((BP19-BO20)<=0.0001,0,(BP19-BO20)*(1+(BP$15/12)))","v":0},{"$f":"IF(BP19=0,BP$14,0)","v":0},{"$f":"IF(AND(((BS19-$N$3+BO20+BL20+BI20+BF20+BC20+AZ20+AW20+AT20+AQ20+AN20+AK20+AH20+AE20+AB20+Y20+V20+S20+P20+M20+J20+G20+D20-BS$14-BP$14-BM$14-BJ$14-BG$14-BD$14-BA$14-AX$14-AU$14-AR$14-AO$14-AL$14-AI$14-AF$14-AC$14-Z$14-W$14-T$14-Q$14-N$14-K$14-H$14-E$14-SUM(BW20,BZ20,CC20,CF20,CI20,CL20,CO20,CR20,CU20))<=0),BP20+BM20+BJ20+BG20+BD20+BA20+AX20+AU20+AR20+AO20+AL20+AI20+AF20+AC20+Z20+W20+T20+Q20+N20+K20+H20+E20=0),BS19,IF(BS$14>=BS19,BS19,IF(AND(BP20=0,BM20=0,BJ20=0,BG20=0,BD20=0,BA20=0,AX20=0,AU20=0,AR20=0,AO20=0,AL20=0,AI20=0,AF20=0,AC20=0,Z20=0,W20=0,T20=0,Q20=0,N20=0,K20=0,H20=0,E20=0),$N$3-BO20-BL20-BI20-BF20-BC20-AZ20-AW20-AT20-AQ20-AN20-AK20-AH20-AE20-AB20-Y20-V20-S20-P20-M20-J20-G20-D20+BS$14+BP$14+BM$14+BJ$14+BG$14+BD$14+BA$14+AX$14+AU$14+AR$14+AO$14+AL$14+AI$14+AF$14+AC$14+Z$14+W$14+T$14+Q$14+N$14+K$14+H$14+E$14+SUM(BW20,BZ20,CC20,CF20,CI20,CL20,CO20,CR20,CU20),BS$14)))","v":0},{"$f":"IF((BS19-BR20)<=0.0001,0,(BS19-BR20)*(1+(BS$15/12)))","v":0},{"$f":"IF(BS19=0,BS$14,0)","v":0},{"$f":"IF(AND(((BV19-$N$3+BR20+BO20+BL20+BI20+BF20+BC20+AZ20+AW20+AT20+AQ20+AN20+AK20+AH20+AE20+AB20+Y20+V20+S20+P20+M20+J20+G20+D20-BV$14-BS$14-BP$14-BM$14-BJ$14-BG$14-BD$14-BA$14-AX$14-AU$14-AR$14-AO$14-AL$14-AI$14-AF$14-AC$14-Z$14-W$14-T$14-Q$14-N$14-K$14-H$14-E$14-SUM(BZ20,CC20,CF20,CI20,CL20,CO20,CR20,CU20))<=0),BS20+BP20+BM20+BJ20+BG20+BD20+BA20+AX20+AU20+AR20+AO20+AL20+AI20+AF20+AC20+Z20+W20+T20+Q20+N20+K20+H20+E20=0),BV19,IF(BV$14>=BV19,BV19,IF(AND(BS20=0,BP20=0,BM20=0,BJ20=0,BG20=0,BD20=0,BA20=0,AX20=0,AU20=0,AR20=0,AO20=0,AL20=0,AI20=0,AF20=0,AC20=0,Z20=0,W20=0,T20=0,Q20=0,N20=0,K20=0,H20=0,E20=0),$N$3-BR20-BO20-BL20-BI20-BF20-BC20-AZ20-AW20-AT20-AQ20-AN20-AK20-AH20-AE20-AB20-Y20-V20-S20-P20-M20-J20-G20-D20+BV$14+BS$14+BP$14+BM$14+BJ$14+BG$14+BD$14+BA$14+AX$14+AU$14+AR$14+AO$14+AL$14+AI$14+AF$14+AC$14+Z$14+W$14+T$14+Q$14+N$14+K$14+H$14+E$14+SUM(BZ20,CC20,CF20,CI20,CL20,CO20,CR20,CU20),BV$14)))","v":0},{"$f":"IF((BV19-BU20)<=0.0001,0,(BV19-BU20)*(1+(BV$15/12)))","v":0},{"$f":"IF(BV19=0,BV$14,0)","v":0},{"$f":"IF(AND(((BY19-$N$3+BU20+BR20+BO20+BL20+BI20+BF20+BC20+AZ20+AW20+AT20+AQ20+AN20+AK20+AH20+AE20+AB20+Y20+V20+S20+P20+M20+J20+G20+D20-BY$14-BV$14-BS$14-BP$14-BM$14-BJ$14-BG$14-BD$14-BA$14-AX$14-AU$14-AR$14-AO$14-AL$14-AI$14-AF$14-AC$14-Z$14-W$14-T$14-Q$14-N$14-K$14-H$14-E$14-SUM(CC20,CF20,CI20,CL20,CO20,CR20,CU20))<=0),BV20+BS20+BP20+BM20+BJ20+BG20+BD20+BA20+AX20+AU20+AR20+AO20+AL20+AI20+AF20+AC20+Z20+W20+T20+Q20+N20+K20+H20+E20=0),BY19,IF(BY$14>=BY19,BY19,IF(AND(BV20=0,BS20=0,BP20=0,BM20=0,BJ20=0,BG20=0,BD20=0,BA20=0,AX20=0,AU20=0,AR20=0,AO20=0,AL20=0,AI20=0,AF20=0,AC20=0,Z20=0,W20=0,T20=0,Q20=0,N20=0,K20=0,H20=0,E20=0),$N$3-BU20-BR20-BO20-BL20-BI20-BF20-BC20-AZ20-AW20-AT20-AQ20-AN20-AK20-AH20-AE20-AB20-Y20-V20-S20-P20-M20-J20-G20-D20+BY$14+BV$14+BS$14+BP$14+BM$14+BJ$14+BG$14+BD$14+BA$14+AX$14+AU$14+AR$14+AO$14+AL$14+AI$14+AF$14+AC$14+Z$14+W$14+T$14+Q$14+N$14+K$14+H$14+E$14+SUM(CC20,CF20,CI20,CL20,CO20,CR20,CU20),BY$14)))","v":0},{"$f":"IF((BY19-BX20)<=0.0001,0,(BY19-BX20)*(1+(BY$15/12)))","v":0},{"$f":"IF(BY19=0,BY$14,0)","v":0},{"$f":"IF(AND(((CB19-$N$3+BX20+BU20+BR20+BO20+BL20+BI20+BF20+BC20+AZ20+AW20+AT20+AQ20+AN20+AK20+AH20+AE20+AB20+Y20+V20+S20+P20+M20+J20+G20+D20-CB$14-BY$14-BV$14-BS$14-BP$14-BM$14-BJ$14-BG$14-BD$14-BA$14-AX$14-AU$14-AR$14-AO$14-AL$14-AI$14-AF$14-AC$14-Z$14-W$14-T$14-Q$14-N$14-K$14-H$14-E$14-SUM(CF20,CI20,CL20,CO20,CR20,CU20))<=0),BY20+BV20+BS20+BP20+BM20+BJ20+BG20+BD20+BA20+AX20+AU20+AR20+AO20+AL20+AI20+AF20+AC20+Z20+W20+T20+Q20+N20+K20+H20+E20=0),CB19,IF(CB$14>=CB19,CB19,IF(AND(BY20=0,BV20=0,BS20=0,BP20=0,BM20=0,BJ20=0,BG20=0,BD20=0,BA20=0,AX20=0,AU20=0,AR20=0,AO20=0,AL20=0,AI20=0,AF20=0,AC20=0,Z20=0,W20=0,T20=0,Q20=0,N20=0,K20=0,H20=0,E20=0),$N$3-BX20-BU20-BR20-BO20-BL20-BI20-BF20-BC20-AZ20-AW20-AT20-AQ20-AN20-AK20-AH20-AE20-AB20-Y20-V20-S20-P20-M20-J20-G20-D20+CB$14+BY$14+BV$14+BS$14+BP$14+BM$14+BJ$14+BG$14+BD$14+BA$14+AX$14+AU$14+AR$14+AO$14+AL$14+AI$14+AF$14+AC$14+Z$14+W$14+T$14+Q$14+N$14+K$14+H$14+E$14+SUM(CF20,CI20,CL20,CO20,CR20,CU20),CB$14)))","v":0},{"$f":"IF((CB19-CA20)<=0.0001,0,(CB19-CA20)*(1+(CB$15/12)))","v":0},{"$f":"IF(CB19=0,CB$14,0)","v":0},{"$f":"IF(AND(((CE19-$N$3+CA20+BX20+BU20+BR20+BO20+BL20+BI20+BF20+BC20+AZ20+AW20+AT20+AQ20+AN20+AK20+AH20+AE20+AB20+Y20+V20+S20+P20+M20+J20+G20+D20-CE$14-CB$14-BY$14-BV$14-BS$14-BP$14-BM$14-BJ$14-BG$14-BD$14-BA$14-AX$14-AU$14-AR$14-AO$14-AL$14-AI$14-AF$14-AC$14-Z$14-W$14-T$14-Q$14-N$14-K$14-H$14-E$14-SUM(CI20,CL20,CO20,CR20,CU20))<=0),CB20+BY20+BV20+BS20+BP20+BM20+BJ20+BG20+BD20+BA20+AX20+AU20+AR20+AO20+AL20+AI20+AF20+AC20+Z20+W20+T20+Q20+N20+K20+H20+E20=0),CE19,IF(CE$14>=CE19,CE19,IF(AND(CB20=0,BY20=0,BV20=0,BS20=0,BP20=0,BM20=0,BJ20=0,BG20=0,BD20=0,BA20=0,AX20=0,AU20=0,AR20=0,AO20=0,AL20=0,AI20=0,AF20=0,AC20=0,Z20=0,W20=0,T20=0,Q20=0,N20=0,K20=0,H20=0,E20=0),$N$3-CA20-BX20-BU20-BR20-BO20-BL20-BI20-BF20-BC20-AZ20-AW20-AT20-AQ20-AN20-AK20-AH20-AE20-AB20-Y20-V20-S20-P20-M20-J20-G20-D20+CE$14+CB$14+BY$14+BV$14+BS$14+BP$14+BM$14+BJ$14+BG$14+BD$14+BA$14+AX$14+AU$14+AR$14+AO$14+AL$14+AI$14+AF$14+AC$14+Z$14+W$14+T$14+Q$14+N$14+K$14+H$14+E$14+SUM(CI20,CL20,CO20,CR20,CU20),CE$14)))","v":0},{"$f":"IF((CE19-CD20)<=0.0001,0,(CE19-CD20)*(1+(CE$15/12)))","v":0},{"$f":"IF(CE19=0,CE$14,0)","v":0},{"$f":"IF(AND(((CH19-$N$3+CD20+CA20+BX20+BU20+BR20+BO20+BL20+BI20+BF20+BC20+AZ20+AW20+AT20+AQ20+AN20+AK20+AH20+AE20+AB20+Y20+V20+S20+P20+M20+J20+G20+D20-CH$14-CE$14-CB$14-BY$14-BV$14-BS$14-BP$14-BM$14-BJ$14-BG$14-BD$14-BA$14-AX$14-AU$14-AR$14-AO$14-AL$14-AI$14-AF$14-AC$14-Z$14-W$14-T$14-Q$14-N$14-K$14-H$14-E$14-SUM(CL20,CO20,CR20,CU20))<=0),CE20+CB20+BY20+BV20+BS20+BP20+BM20+BJ20+BG20+BD20+BA20+AX20+AU20+AR20+AO20+AL20+AI20+AF20+AC20+Z20+W20+T20+Q20+N20+K20+H20+E20=0),CH19,IF(CH$14>=CH19,CH19,IF(AND(CE20=0,CB20=0,BY20=0,BV20=0,BS20=0,BP20=0,BM20=0,BJ20=0,BG20=0,BD20=0,BA20=0,AX20=0,AU20=0,AR20=0,AO20=0,AL20=0,AI20=0,AF20=0,AC20=0,Z20=0,W20=0,T20=0,Q20=0,N20=0,K20=0,H20=0,E20=0),$N$3-CD20-CA20-BX20-BU20-BR20-BO20-BL20-BI20-BF20-BC20-AZ20-AW20-AT20-AQ20-AN20-AK20-AH20-AE20-AB20-Y20-V20-S20-P20-M20-J20-G20-D20+CH$14+CE$14+CB$14+BY$14+BV$14+BS$14+BP$14+BM$14+BJ$14+BG$14+BD$14+BA$14+AX$14+AU$14+AR$14+AO$14+AL$14+AI$14+AF$14+AC$14+Z$14+W$14+T$14+Q$14+N$14+K$14+H$14+E$14+SUM(CL20,CO20,CR20,CU20),CH$14)))","v":0},{"$f":"IF((CH19-CG20)<=0.0001,0,(CH19-CG20)*(1+(CH$15/12)))","v":0},{"$f":"IF(CH19=0,CH$14,0)","v":0},{"$f":"IF(AND(((CK19-$N$3+CG20+CD20+CA20+BX20+BU20+BR20+BO20+BL20+BI20+BF20+BC20+AZ20+AW20+AT20+AQ20+AN20+AK20+AH20+AE20+AB20+Y20+V20+S20+P20+M20+J20+G20+D20-CK$14-CH$14-CE$14-CB$14-BY$14-BV$14-BS$14-BP$14-BM$14-BJ$14-BG$14-BD$14-BA$14-AX$14-AU$14-AR$14-AO$14-AL$14-AI$14-AF$14-AC$14-Z$14-W$14-T$14-Q$14-N$14-K$14-H$14-E$14-SUM(CO20,CR20,CU20))<=0),CH20+CE20+CB20+BY20+BV20+BS20+BP20+BM20+BJ20+BG20+BD20+BA20+AX20+AU20+AR20+AO20+AL20+AI20+AF20+AC20+Z20+W20+T20+Q20+N20+K20+H20+E20=0),CK19,IF(CK$14>=CK19,CK19,IF(AND(CH20=0,CE20=0,CB20=0,BY20=0,BV20=0,BS20=0,BP20=0,BM20=0,BJ20=0,BG20=0,BD20=0,BA20=0,AX20=0,AU20=0,AR20=0,AO20=0,AL20=0,AI20=0,AF20=0,AC20=0,Z20=0,W20=0,T20=0,Q20=0,N20=0,K20=0,H20=0,E20=0),$N$3-CG20-CD20-CA20-BX20-BU20-BR20-BO20-BL20-BI20-BF20-BC20-AZ20-AW20-AT20-AQ20-AN20-AK20-AH20-AE20-AB20-Y20-V20-S20-P20-M20-J20-G20-D20+CK$14+CH$14+CE$14+CB$14+BY$14+BV$14+BS$14+BP$14+BM$14+BJ$14+BG$14+BD$14+BA$14+AX$14+AU$14+AR$14+AO$14+AL$14+AI$14+AF$14+AC$14+Z$14+W$14+T$14+Q$14+N$14+K$14+H$14+E$14+SUM(CO20,CR20,CU20),CK$14)))","v":0},{"$f":"IF((CK19-CJ20)<=0.0001,0,(CK19-CJ20)*(1+(CK$15/12)))","v":0},{"$f":"IF(CK19=0,CK$14,0)","v":0},{"$f":"IF(AND(((CN19-$N$3+CJ20+CG20+CD20+CA20+BX20+BU20+BR20+BO20+BL20+BI20+BF20+BC20+AZ20+AW20+AT20+AQ20+AN20+AK20+AH20+AE20+AB20+Y20+V20+S20+P20+M20+J20+G20+D20-CN$14-CK$14-CH$14-CE$14-CB$14-BY$14-BV$14-BS$14-BP$14-BM$14-BJ$14-BG$14-BD$14-BA$14-AX$14-AU$14-AR$14-AO$14-AL$14-AI$14-AF$14-AC$14-Z$14-W$14-T$14-Q$14-N$14-K$14-H$14-E$14-SUM(CR20,CU20))<=0),CK20+CH20+CE20+CB20+BY20+BV20+BS20+BP20+BM20+BJ20+BG20+BD20+BA20+AX20+AU20+AR20+AO20+AL20+AI20+AF20+AC20+Z20+W20+T20+Q20+N20+K20+H20+E20=0),CN19,IF(CN$14>=CN19,CN19,IF(AND(CK20=0,CH20=0,CE20=0,CB20=0,BY20=0,BV20=0,BS20=0,BP20=0,BM20=0,BJ20=0,BG20=0,BD20=0,BA20=0,AX20=0,AU20=0,AR20=0,AO20=0,AL20=0,AI20=0,AF20=0,AC20=0,Z20=0,W20=0,T20=0,Q20=0,N20=0,K20=0,H20=0,E20=0),$N$3-CJ20-CG20-CD20-CA20-BX20-BU20-BR20-BO20-BL20-BI20-BF20-BC20-AZ20-AW20-AT20-AQ20-AN20-AK20-AH20-AE20-AB20-Y20-V20-S20-P20-M20-J20-G20-D20+CN$14+CK$14+CH$14+CE$14+CB$14+BY$14+BV$14+BS$14+BP$14+BM$14+BJ$14+BG$14+BD$14+BA$14+AX$14+AU$14+AR$14+AO$14+AL$14+AI$14+AF$14+AC$14+Z$14+W$14+T$14+Q$14+N$14+K$14+H$14+E$14+SUM(CR20,CU20),CN$14)))","v":0},{"$f":"IF((CN19-CM20)<=0.0001,0,(CN19-CM20)*(1+(CN$15/12)))","v":0},{"$f":"IF(CN19=0,CN$14,0)","v":0},{"$f":"IF(AND(((CQ19-$N$3+CM20+CJ20+CG20+CD20+CA20+BX20+BU20+BR20+BO20+BL20+BI20+BF20+BC20+AZ20+AW20+AT20+AQ20+AN20+AK20+AH20+AE20+AB20+Y20+V20+S20+P20+M20+J20+G20+D20-CQ$14-CN$14-CK$14-CH$14-CE$14-CB$14-BY$14-BV$14-BS$14-BP$14-BM$14-BJ$14-BG$14-BD$14-BA$14-AX$14-AU$14-AR$14-AO$14-AL$14-AI$14-AF$14-AC$14-Z$14-W$14-T$14-Q$14-N$14-K$14-H$14-E$14-SUM(CU20))<=0),CN20+CK20+CH20+CE20+CB20+BY20+BV20+BS20+BP20+BM20+BJ20+BG20+BD20+BA20+AX20+AU20+AR20+AO20+AL20+AI20+AF20+AC20+Z20+W20+T20+Q20+N20+K20+H20+E20=0),CQ19,IF(CQ$14>=CQ19,CQ19,IF(AND(CN20=0,CK20=0,CH20=0,CE20=0,CB20=0,BY20=0,BV20=0,BS20=0,BP20=0,BM20=0,BJ20=0,BG20=0,BD20=0,BA20=0,AX20=0,AU20=0,AR20=0,AO20=0,AL20=0,AI20=0,AF20=0,AC20=0,Z20=0,W20=0,T20=0,Q20=0,N20=0,K20=0,H20=0,E20=0),$N$3-CM20-CJ20-CG20-CD20-CA20-BX20-BU20-BR20-BO20-BL20-BI20-BF20-BC20-AZ20-AW20-AT20-AQ20-AN20-AK20-AH20-AE20-AB20-Y20-V20-S20-P20-M20-J20-G20-D20+CQ$14+CN$14+CK$14+CH$14+CE$14+CB$14+BY$14+BV$14+BS$14+BP$14+BM$14+BJ$14+BG$14+BD$14+BA$14+AX$14+AU$14+AR$14+AO$14+AL$14+AI$14+AF$14+AC$14+Z$14+W$14+T$14+Q$14+N$14+K$14+H$14+E$14+SUM(CU20),CQ$14)))","v":0},{"$f":"IF((CQ19-CP20)<=0.0001,0,(CQ19-CP20)*(1+(CQ$15/12)))","v":0},{"$f":"IF(CQ19=0,CQ$14,0)","v":0},{"$f":"IF(AND(((CT19-$N$3+CP20+CM20+CJ20+CG20+CD20+CA20+BX20+BU20+BR20+BO20+BL20+BI20+BF20+BC20+AZ20+AW20+AT20+AQ20+AN20+AK20+AH20+AE20+AB20+Y20+V20+S20+P20+M20+J20+G20+D20-CT$14-CQ$14-CN$14-CK$14-CH$14-CE$14-CB$14-BY$14-BV$14-BS$14-BP$14-BM$14-BJ$14-BG$14-BD$14-BA$14-AX$14-AU$14-AR$14-AO$14-AL$14-AI$14-AF$14-AC$14-Z$14-W$14-T$14-Q$14-N$14-K$14-H$14-E$14)<=0),CQ20+CN20+CK20+CH20+CE20+CB20+BY20+BV20+BS20+BP20+BM20+BJ20+BG20+BD20+BA20+AX20+AU20+AR20+AO20+AL20+AI20+AF20+AC20+Z20+W20+T20+Q20+N20+K20+H20+E20=0),CT19,IF(CT$14>=CT19,CT19,IF(AND(CQ20=0,CN20=0,CK20=0,CH20=0,CE20=0,CB20=0,BY20=0,BV20=0,BS20=0,BP20=0,BM20=0,BJ20=0,BG20=0,BD20=0,BA20=0,AX20=0,AU20=0,AR20=0,AO20=0,AL20=0,AI20=0,AF20=0,AC20=0,Z20=0,W20=0,T20=0,Q20=0,N20=0,K20=0,H20=0,E20=0),$N$3-CP20-CM20-CJ20-CG20-CD20-CA20-BX20-BU20-BR20-BO20-BL20-BI20-BF20-BC20-AZ20-AW20-AT20-AQ20-AN20-AK20-AH20-AE20-AB20-Y20-V20-S20-P20-M20-J20-G20-D20+CT$14+CQ$14+CN$14+CK$14+CH$14+CE$14+CB$14+BY$14+BV$14+BS$14+BP$14+BM$14+BJ$14+BG$14+BD$14+BA$14+AX$14+AU$14+AR$14+AO$14+AL$14+AI$14+AF$14+AC$14+Z$14+W$14+T$14+Q$14+N$14+K$14+H$14+E$14,CT$14)))","v":0},{"$f":"IF((CT19-CS20)<=0.0001,0,(CT19-CS20)*(1+(CT$15/12)))","v":0},{"$f":"IF(CT19=0,CT$14,0)","v":0},null,null,{"v":330.8577777777777,"d":"$330.86"},3,null,{"v":1918.192,"d":"$1,918.19"},3,null,{"v":2944.8520000000003,"d":"$2,944.85"},3,null,0,3,null,0,3,null,0,3,null,0,3,null,0,3,null,0,3,null,0,3,null,0,3,null,0,3,null,0,3,null,0,3,null,0,3,null,0,3,null,0,3,null,0,3,null,0,3,null,0,3,null,0,3,null,0,3,null,0,3,null,0,3,null,0,3,null,0,3,null,0,3,null,0,3,null,0,3,null,0,3,null,0,3,null,0,3]
[{"v":5275.894542962964,"d":"$5,275.89"},{"v":325,"d":"$325.00"},4,{"v":225,"d":"$225.00"},{"$f":"IF((E20-D21)<=0.0001,0,(E20-D21)*(1+(E$15/12)))","v":{"v":106.56349629629621,"d":"$106.56"}},null,{"v":40,"d":"$40.00"},{"v":1896.9739200000001,"d":"$1,896.97"},{"$f":"IF(H20=0,H$14,0)","v":0},{"v":60,"d":"$60.00"},{"v":2947.357126666667,"d":"$2,947.36"},{"$f":"IF(K20=0,K$14,0)","v":0},0,0,{"$f":"IF(N20=0,N$14,0)","v":0},0,0,{"$f":"IF(Q20=0,Q$14,0)","v":0},0,{"$f":"IF((T20-S21)<=0.0001,0,(T20-S21)*(1+(T$15/12)))","v":0},{"$f":"IF(T20=0,T$14,0)","v":0},0,0,{"$f":"IF(W20=0,W$14,0)","v":0},0,0,{"$f":"IF(Z20=0,Z$14,0)","v":0},0,0,{"$f":"IF(AC20=0,AC$14,0)","v":0},0,0,{"$f":"IF(AF20=0,AF$14,0)","v":0},0,0,{"$f":"IF(AI20=0,AI$14,0)","v":0},0,0,{"$f":"IF(AL20=0,AL$14,0)","v":0},0,0,{"$f":"IF(AO20=0,AO$14,0)","v":0},0,0,{"$f":"IF(AR20=0,AR$14,0)","v":0},0,0,{"$f":"IF(AU20=0,AU$14,0)","v":0},0,0,{"$f":"IF(AX20=0,AX$14,0)","v":0},0,0,{"$f":"IF(BA20=0,BA$14,0)","v":0},0,0,{"$f":"IF(BD20=0,BD$14,0)","v":0},0,0,{"$f":"IF(BG20=0,BG$14,0)","v":0},0,0,{"$f":"IF(BJ20=0,BJ$14,0)","v":0},0,0,{"$f":"IF(BM20=0,BM$14,0)","v":0},0,0,{"$f":"IF(BP20=0,BP$14,0)","v":0},0,0,{"$f":"IF(BS20=0,BS$14,0)","v":0},0,0,{"$f":"IF(BV20=0,BV$14,0)","v":0},0,0,{"$f":"IF(BY20=0,BY$14,0)","v":0},0,0,{"$f":"IF(CB20=0,CB$14,0)","v":0},0,0,{"$f":"IF(CE20=0,CE$14,0)","v":0},0,0,{"$f":"IF(CH20=0,CH$14,0)","v":0},0,0,{"$f":"IF(CK20=0,CK$14,0)","v":0},0,0,{"$f":"IF(CN20=0,CN$14,0)","v":0},0,0,{"$f":"IF(CQ20=0,CQ$14,0)","v":0},0,0,{"$f":"IF(CT20=0,CT$14,0)","v":0},null,null,{"v":106.56349629629621,"d":"$106.56"},4,null,{"v":1896.9739200000001,"d":"$1,896.97"},4,null,{"v":2947.357126666667,"d":"$2,947.36"},4,null,0,4,null,0,4,null,0,4,null,0,4,null,0,4,null,0,4,null,0,4,null,0,4,null,0,4,null,0,4,null,0,4,null,0,4,null,0,4,null,0,4,null,0,4,null,0,4,null,0,4,null,0,4,null,0,4,null,0,4,null,0,4,null,0,4,null,0,4,null,0,4,null,0,4,null,0,4,null,0,4,null,0,4,null,0,4]
[{"v":5030.839321537038,"d":"$5,030.84"},{"v":325,"d":"$325.00"},5,{"v":106.56349629629621,"d":"$106.56"},{"$f":"IF((E21-D22)<=0.0001,0,(E21-D22)*(1+(E$15/12)))","v":0},null,{"v":158.4365037037038,"d":"$158.44"},{"v":1755.9227904592592,"d":"$1,755.92"},0,{"v":60,"d":"$60.00"},{"v":2949.9165310777785,"d":"$2,949.92"},0,0,0,0,0,0,0,0,0,0,0,0,0,0,0,0,0,0,{"$f":"IF(AC21=0,AC$14,0)","v":0},0,0,{"$f":"IF(AF21=0,AF$14,0)","v":0},0,0,{"$f":"IF(AI21=0,AI$14,0)","v":0},0,0,{"$f":"IF(AL21=0,AL$14,0)","v":0},0,0,{"$f":"IF(AO21=0,AO$14,0)","v":0},0,0,{"$f":"IF(AR21=0,AR$14,0)","v":0},0,0,{"$f":"IF(AU21=0,AU$14,0)","v":0},0,0,{"$f":"IF(AX21=0,AX$14,0)","v":0},0,0,0,0,0,0,0,0,0,0,0,0,0,0,0,0,0,0,0,0,0,0,0,0,0,0,0,0,0,0,0,0,0,0,0,0,0,0,0,0,0,0,0,0,0,0,0,0,null,null,0,5,null,{"v":1755.9227904592592,"d":"$1,755.92"},5,null,{"v":2949.9165310777785,"d":"$2,949.92"},5,null,0,5,null,0,5,null,0,5,null,0,5,null,0,5,null,0,5,null,0,5,null,0,5,null,0,5,null,0,5,null,0,5,null,0,5,null,0,5,null,0,5,null,0,5,null,0,5,null,0,5,null,0,5,null,0,5,null,0,5,null,0,5,null,0,5,null,0,5,null,0,5,null,0,5,null,0,5,null,0,5,null,0,5,null,0,5]
[{"v":4783.363407614982,"d":"$4,783.36"},{"v":325,"d":"$325.00"},6,0,0,null,{"v":265,"d":"$265.00"},{"v":1505.8320183638518,"d":"$1,505.83"},0,{"v":60,"d":"$60.00"},{"v":2952.5313892511303,"d":"$2,952.53"},0,0,0,0,0,0,0,0,0,0,0,0,0,0,0,0,0,0,{"$f":"IF(AC22=0,AC$14,0)","v":0},0,0,{"$f":"IF(AF22=0,AF$14,0)","v":0},0,0,{"$f":"IF(AI22=0,AI$14,0)","v":0},0,0,{"$f":"IF(AL22=0,AL$14,0)","v":0},0,0,{"$f":"IF(AO22=0,AO$14,0)","v":0},0,0,{"$f":"IF(AR22=0,AR$14,0)","v":0},0,0,{"$f":"IF(AU22=0,AU$14,0)","v":0},0,0,{"$f":"IF(AX22=0,AX$14,0)","v":0},0,0,0,0,0,0,0,0,0,0,0,0,0,0,0,0,0,0,0,0,0,0,0,0,0,0,0,0,0,0,0,0,0,0,0,0,0,0,0,0,0,0,0,0,0,0,0,0,null,null,0,6,null,{"v":1505.8320183638518,"d":"$1,505.83"},6,null,{"v":2952.5313892511303,"d":"$2,952.53"},6,null,0,6,null,0,6,null,0,6,null,0,6,null,0,6,null,0,6,null,0,6,null,0,6,null,0,6,null,0,6,null,0,6,null,0,6,null,0,6,null,0,6,null,0,6,null,0,6,null,0,6,null,0,6,null,0,6,null,0,6,null,0,6,null,0,6,null,0,6,null,0,6,null,0,6,null,0,6,null,0,6,null,0,6,null,0,6]
[{"v":4533.443241232395,"d":"$4,533.44"},{"v":325,"d":"$325.00"},7,0,0,null,{"v":265,"d":"$265.00"},{"v":1253.2403385474904,"d":"$1,253.24"},0,{"v":60,"d":"$60.00"},{"v":2955.202902684905,"d":"$2,955.20"},0,0,0,0,0,0,0,0,0,0,0,0,0,0,0,0,0,0,{"$f":"IF(AC23=0,AC$14,0)","v":0},0,0,{"$f":"IF(AF23=0,AF$14,0)","v":0},0,0,{"$f":"IF(AI23=0,AI$14,0)","v":0},0,0,{"$f":"IF(AL23=0,AL$14,0)","v":0},0,0,{"$f":"IF(AO23=0,AO$14,0)","v":0},0,0,{"$f":"IF(AR23=0,AR$14,0)","v":0},0,0,{"$f":"IF(AU23=0,AU$14,0)","v":0},0,0,{"$f":"IF(AX23=0,AX$14,0)","v":0},0,0,0,0,0,0,0,0,0,0,0,0,0,0,0,0,0,0,0,0,0,0,0,0,0,0,0,0,0,0,0,0,0,0,0,0,0,0,0,0,0,0,0,0,0,0,0,0,null,null,0,7,null,{"v":1253.2403385474904,"d":"$1,253.24"},7,null,{"v":2955.202902684905,"d":"$2,955.20"},7,null,0,7,null,0,7,null,0,7,null,0,7,null,0,7,null,0,7,null,0,7,null,0,7,null,0,7,null,0,7,null,0,7,null,0,7,null,0,7,null,0,7,null,0,7,null,0,7,null,0,7,null,0,7,null,0,7,null,0,7,null,0,7,null,0,7,null,0,7,null,0,7,null,0,7,null,0,7,null,0,7,null,0,7,null,0,7]
[{"v":4281.05504084271,"d":"$4,281.06"},{"v":325,"d":"$325.00"},8,0,0,null,{"v":265,"d":"$265.00"},{"v":998.1227419329654,"d":"$998.12"},0,{"v":60,"d":"$60.00"},{"v":2957.9322989097445,"d":"$2,957.93"},0,0,0,0,0,0,0,0,0,0,0,0,0,0,0,0,0,0,{"$f":"IF(AC24=0,AC$14,0)","v":0},0,0,{"$f":"IF(AF24=0,AF$14,0)","v":0},0,0,{"$f":"IF(AI24=0,AI$14,0)","v":0},0,0,{"$f":"IF(AL24=0,AL$14,0)","v":0},0,0,{"$f":"IF(AO24=0,AO$14,0)","v":0},0,0,{"$f":"IF(AR24=0,AR$14,0)","v":0},0,0,{"$f":"IF(AU24=0,AU$14,0)","v":0},0,0,{"$f":"IF(AX24=0,AX$14,0)","v":0},0,0,0,0,0,0,0,0,0,0,0,0,0,0,0,0,0,0,0,0,0,0,0,0,0,0,0,0,0,0,0,0,0,0,0,0,0,0,0,0,0,0,0,0,0,0,0,0,null,null,0,8,null,{"v":998.1227419329654,"d":"$998.12"},8,null,{"v":2957.9322989097445,"d":"$2,957.93"},8,null,0,8,null,0,8,null,0,8,null,0,8,null,0,8,null,0,8,null,0,8,null,0,8,null,0,8,null,0,8,null,0,8,null,0,8,null,0,8,null,0,8,null,0,8,null,0,8,null,0,8,null,0,8,null,0,8,null,0,8,null,0,8,null,0,8,null,0,8,null,0,8,null,0,8,null,0,8,null,0,8,null,0,8,null,0,8]
[{"v":4026.1748014050845,"d":"$4,026.17"},{"v":325,"d":"$325.00"},9,0,0,null,{"v":265,"d":"$265.00"},{"v":740.4539693522951,"d":"$740.45"},0,{"v":60,"d":"$60.00"},{"v":2960.7208320527893,"d":"$2,960.72"},0,0,0,0,0,0,0,0,0,0,0,0,0,0,0,0,0,0,{"$f":"IF(AC25=0,AC$14,0)","v":0},0,0,{"$f":"IF(AF25=0,AF$14,0)","v":0},0,0,{"$f":"IF(AI25=0,AI$14,0)","v":0},0,0,{"$f":"IF(AL25=0,AL$14,0)","v":0},0,0,{"$f":"IF(AO25=0,AO$14,0)","v":0},0,0,{"$f":"IF(AR25=0,AR$14,0)","v":0},0,0,{"$f":"IF(AU25=0,AU$14,0)","v":0},0,0,{"$f":"IF(AX25=0,AX$14,0)","v":0},0,0,0,0,0,0,0,0,0,0,0,0,0,0,0,0,0,0,0,0,0,0,0,0,0,0,0,0,0,0,0,0,0,0,0,0,0,0,0,0,0,0,0,0,0,0,0,0,null,null,0,9,null,{"v":740.4539693522951,"d":"$740.45"},9,null,{"v":2960.7208320527893,"d":"$2,960.72"},9,null,0,9,null,0,9,null,0,9,null,0,9,null,0,9,null,0,9,null,0,9,null,0,9,null,0,9,null,0,9,null,0,9,null,0,9,null,0,9,null,0,9,null,0,9,null,0,9,null,0,9,null,0,9,null,0,9,null,0,9,null,0,9,null,0,9,null,0,9,null,0,9,null,0,9,null,0,9,null,0,9,null,0,9,null,0,9]
[{"v":3768.7782924597514,"d":"$3,768.78"},{"v":325,"d":"$325.00"},10,0,0,null,{"v":265,"d":"$265.00"},{"v":480.208509045818,"d":"$480.21"},0,{"v":60,"d":"$60.00"},{"v":2963.5697834139332,"d":"$2,963.57"},0,0,0,0,0,0,0,0,0,0,0,0,0,0,0,0,0,0,{"$f":"IF(AC26=0,AC$14,0)","v":0},0,0,{"$f":"IF(AF26=0,AF$14,0)","v":0},0,0,{"$f":"IF(AI26=0,AI$14,0)","v":0},0,0,{"$f":"IF(AL26=0,AL$14,0)","v":0},0,0,{"$f":"IF(AO26=0,AO$14,0)","v":0},0,0,{"$f":"IF(AR26=0,AR$14,0)","v":0},0,0,{"$f":"IF(AU26=0,AU$14,0)","v":0},0,0,{"$f":"IF(AX26=0,AX$14,0)","v":0},0,0,0,0,0,0,0,0,0,0,0,0,0,0,0,0,0,0,0,0,0,0,0,0,0,0,0,0,0,0,0,0,0,0,0,0,0,0,0,0,0,0,0,0,0,0,0,0,null,null,0,10,null,{"v":480.208509045818,"d":"$480.21"},10,null,{"v":2963.5697834139332,"d":"$2,963.57"},10,null,0,10,null,0,10,null,0,10,null,0,10,null,0,10,null,0,10,null,0,10,null,0,10,null,0,10,null,0,10,null,0,10,null,0,10,null,0,10,null,0,10,null,0,10,null,0,10,null,0,10,null,0,10,null,0,10,null,0,10,null,0,10,null,0,10,null,0,10,null,0,10,null,0,10,null,0,10,null,0,10,null,0,10,null,0,10]
[{"v":3508.841056190845,"d":"$3,508.84"},{"$f":"SUM(D28,G28,J28,M28,P28,S28,V28,Y28,AB28,AE28,AH28,AK28,AN28,AQ28,AT28,AW28,AZ28,BC28,BF28,BI28,BL28,BO28,BR28,BU28,BX28,CA28,CD28,CG28,CJ28,CM28,CP28,CS28)","v":{"v":325,"d":"$325.00"}},11,0,0,null,{"v":265,"d":"$265.00"},{"v":217.36059413627618,"d":"$217.36"},0,{"v":60,"d":"$60.00"},{"v":2966.4804620545688,"d":"$2,966.48"},0,0,0,0,0,0,0,0,0,0,0,0,0,0,0,0,0,0,{"$f":"IF(AC27=0,AC$14,0)","v":0},0,0,{"$f":"IF(AF27=0,AF$14,0)","v":0},0,0,{"$f":"IF(AI27=0,AI$14,0)","v":0},0,0,{"$f":"IF(AL27=0,AL$14,0)","v":0},0,0,{"$f":"IF(AO27=0,AO$14,0)","v":0},0,0,{"$f":"IF(AR27=0,AR$14,0)","v":0},0,0,{"$f":"IF(AU27=0,AU$14,0)","v":0},0,0,{"$f":"IF(AX27=0,AX$14,0)","v":0},0,0,0,0,0,0,0,0,0,0,0,0,0,0,0,0,0,0,0,0,0,0,0,0,0,0,0,0,0,0,0,0,0,0,0,0,0,0,0,0,0,0,0,0,0,0,0,0,null,null,0,11,null,{"v":217.36059413627618,"d":"$217.36"},11,null,{"v":2966.4804620545688,"d":"$2,966.48"},11,null,0,11,null,0,11,null,0,11,null,0,11,null,0,11,null,0,11,null,0,11,null,0,11,null,0,11,null,0,11,null,0,11,null,0,11,null,0,11,null,0,11,null,0,11,null,0,11,null,0,11,null,0,11,null,0,11,null,0,11,null,0,11,null,0,11,null,0,11,null,0,11,null,0,11,null,0,11,null,0,11,null,0,11,null,0,11]
[{"v":3245.7826124083135,"d":"$3,245.78"},{"v":325,"d":"$325.00"},12,0,0,null,{"v":217.36059413627618,"d":"$217.36"},{"$f":"IF((H28-G29)<=0.0001,0,(H28-G29)*(1+(H$15/12)))","v":0},0,{"v":107.63940586372382,"d":"$107.64"},{"v":2920.7826124083135,"d":"$2,920.78"},0,0,0,0,0,0,0,0,0,0,0,0,0,0,0,0,0,0,{"$f":"IF(AC28=0,AC$14,0)","v":0},0,0,{"$f":"IF(AF28=0,AF$14,0)","v":0},0,0,{"$f":"IF(AI28=0,AI$14,0)","v":0},0,0,{"$f":"IF(AL28=0,AL$14,0)","v":0},0,0,{"$f":"IF(AO28=0,AO$14,0)","v":0},0,0,{"$f":"IF(AR28=0,AR$14,0)","v":0},0,0,{"$f":"IF(AU28=0,AU$14,0)","v":0},0,0,{"$f":"IF(AX28=0,AX$14,0)","v":0},0,0,0,0,0,0,0,0,0,0,0,0,0,0,0,0,0,0,0,0,0,0,0,0,0,0,0,0,0,0,0,0,0,0,0,0,0,0,0,0,0,0,0,0,0,0,0,0,null,null,0,12,null,0,12,null,{"v":2920.7826124083135,"d":"$2,920.78"},12,null,0,12,null,0,12,null,0,12,null,0,12,null,0,12,null,0,12,null,0,12,null,0,12,null,0,12,null,0,12,null,0,12,null,0,12,null,0,12,null,0,12,null,0,12,null,0,12,null,0,12,null,0,12,null,0,12,null,0,12,null,0,12,null,0,12,null,0,12,null,0,12,null,0,12,null,0,12,null,0,12,null,0,12,null,0,12]
[{"v":2977.024569010494,"d":"$2,977.02"},{"$f":"SUM(D30,G30,J30,M30,P30,S30,V30,Y30,AB30,AE30,AH30,AK30,AN30,AQ30,AT30,AW30,AZ30,BC30,BF30,BI30,BL30,BO30,BR30,BU30,BX30,CA30,CD30,CG30,CJ30,CM30,CP30,CS30)","v":{"v":325,"d":"$325.00"}},13,0,0,null,0,0,{"v":40,"d":"$40.00"},{"v":325,"d":"$325.00"},{"v":2652.024569010494,"d":"$2,652.02"},0,0,0,0,0,0,0,0,0,0,0,0,0,0,0,0,0,0,{"$f":"IF(AC29=0,AC$14,0)","v":0},0,0,{"$f":"IF(AF29=0,AF$14,0)","v":0},0,0,{"$f":"IF(AI29=0,AI$14,0)","v":0},0,0,{"$f":"IF(AL29=0,AL$14,0)","v":0},0,0,{"$f":"IF(AO29=0,AO$14,0)","v":0},0,0,{"$f":"IF(AR29=0,AR$14,0)","v":0},0,0,{"$f":"IF(AU29=0,AU$14,0)","v":0},0,0,{"$f":"IF(AX29=0,AX$14,0)","v":0},0,0,0,0,0,0,0,0,0,0,0,0,0,0,0,0,0,0,0,0,0,0,0,0,0,0,0,0,0,0,0,0,0,0,0,0,0,0,0,0,0,0,0,0,0,0,0,0,null,null,0,13,null,0,13,null,{"v":2652.024569010494,"d":"$2,652.02"},13,null,0,13,null,0,13,null,0,13,null,0,13,null,0,13,null,0,13,null,0,13,null,0,13,null,0,13,null,0,13,null,0,13,null,0,13,null,0,13,null,0,13,null,0,13,null,0,13,null,0,13,null,0,13,null,0,13,null,0,13,null,0,13,null,0,13,null,0,13,null,0,13,null,0,13,null,0,13,null,0,13,null,0,13,null,0,13]
[{"v":2702.443434672388,"d":"$2,702.44"},{"v":325,"d":"$325.00"},14,0,0,null,0,0,{"v":40,"d":"$40.00"},{"v":325,"d":"$325.00"},{"v":2377.443434672388,"d":"$2,377.44"},0,0,0,0,0,0,0,0,0,0,0,0,0,0,0,0,0,0,{"$f":"IF(AC30=0,AC$14,0)","v":0},0,0,{"$f":"IF(AF30=0,AF$14,0)","v":0},0,0,{"$f":"IF(AI30=0,AI$14,0)","v":0},0,0,{"$f":"IF(AL30=0,AL$14,0)","v":0},0,0,{"$f":"IF(AO30=0,AO$14,0)","v":0},0,0,{"$f":"IF(AR30=0,AR$14,0)","v":0},0,0,{"$f":"IF(AU30=0,AU$14,0)","v":0},0,0,{"$f":"IF(AX30=0,AX$14,0)","v":0},0,0,0,0,0,0,0,0,0,0,0,0,0,0,0,0,0,0,0,0,0,0,0,0,0,0,0,0,0,0,0,0,0,0,0,0,0,0,0,0,0,0,0,0,0,0,0,0,null,null,0,14,null,0,14,null,{"v":2377.443434672388,"d":"$2,377.44"},14,null,0,14,null,0,14,null,0,14,null,0,14,null,0,14,null,0,14,null,0,14,null,0,14,null,0,14,null,0,14,null,0,14,null,0,14,null,0,14,null,0,14,null,0,14,null,0,14,null,0,14,null,0,14,null,0,14,null,0,14,null,0,14,null,0,14,null,0,14,null,0,14,null,0,14,null,0,14,null,0,14,null,0,14,null,0,14]
[{"v":2421.913042423623,"d":"$2,421.91"},{"v":325,"d":"$325.00"},15,0,0,null,0,0,{"v":40,"d":"$40.00"},{"v":325,"d":"$325.00"},{"v":2096.913042423623,"d":"$2,096.91"},0,0,0,0,0,0,0,0,0,0,0,0,0,0,0,0,0,0,{"$f":"IF(AC31=0,AC$14,0)","v":0},0,0,{"$f":"IF(AF31=0,AF$14,0)","v":0},0,0,{"$f":"IF(AI31=0,AI$14,0)","v":0},0,0,{"$f":"IF(AL31=0,AL$14,0)","v":0},0,0,{"$f":"IF(AO31=0,AO$14,0)","v":0},0,0,{"$f":"IF(AR31=0,AR$14,0)","v":0},0,0,{"$f":"IF(AU31=0,AU$14,0)","v":0},0,0,{"$f":"IF(AX31=0,AX$14,0)","v":0},0,0,0,0,0,0,0,0,0,0,0,0,0,0,0,0,0,0,0,0,0,0,0,0,0,0,0,0,0,0,0,0,0,0,0,0,0,0,0,0,0,0,0,0,0,0,0,0,null,null,0,15,null,0,15,null,{"v":2096.913042423623,"d":"$2,096.91"},15,null,0,15,null,0,15,null,0,15,null,0,15,null,0,15,null,0,15,null,0,15,null,0,15,null,0,15,null,0,15,null,0,15,null,0,15,null,0,15,null,0,15,null,0,15,null,0,15,null,0,15,null,0,15,null,0,15,null,0,15,null,0,15,null,0,15,null,0,15,null,0,15,null,0,15,null,0,15,null,0,15,null,0,15,null,0,15]
[{"v":2135.304491676135,"d":"$2,135.30"},{"$f":"SUM(D33,G33,J33,M33,P33,S33,V33,Y33,AB33,AE33,AH33,AK33,AN33,AQ33,AT33,AW33,AZ33,BC33,BF33,BI33,BL33,BO33,BR33,BU33,BX33,CA33,CD33,CG33,CJ33,CM33,CP33,CS33)","v":{"v":325,"d":"$325.00"}},16,0,0,null,0,0,{"v":40,"d":"$40.00"},{"v":325,"d":"$325.00"},{"v":1810.304491676135,"d":"$1,810.30"},0,0,0,0,0,0,0,0,0,0,0,0,0,0,0,0,0,0,{"$f":"IF(AC32=0,AC$14,0)","v":0},0,0,{"$f":"IF(AF32=0,AF$14,0)","v":0},0,0,{"$f":"IF(AI32=0,AI$14,0)","v":0},0,0,{"$f":"IF(AL32=0,AL$14,0)","v":0},0,0,{"$f":"IF(AO32=0,AO$14,0)","v":0},0,0,{"$f":"IF(AR32=0,AR$14,0)","v":0},0,0,{"$f":"IF(AU32=0,AU$14,0)","v":0},0,0,{"$f":"IF(AX32=0,AX$14,0)","v":0},0,0,0,0,0,0,0,0,0,0,0,0,0,0,0,0,0,0,0,0,0,0,0,0,0,0,0,0,0,0,0,0,0,0,0,0,0,0,0,0,0,0,0,0,0,0,0,0,null,null,0,16,null,0,16,null,{"v":1810.304491676135,"d":"$1,810.30"},16,null,0,16,null,0,16,null,0,16,null,0,16,null,0,16,null,0,16,null,0,16,null,0,16,null,0,16,null,0,16,null,0,16,null,0,16,null,0,16,null,0,16,null,0,16,null,0,16,null,0,16,null,0,16,null,0,16,null,0,16,null,0,16,null,0,16,null,0,16,null,0,16,null,0,16,null,0,16,null,0,16,null,0,16,null,0,16]
[{"v":1842.4860889957847,"d":"$1,842.49"},{"v":325,"d":"$325.00"},17,0,0,null,0,0,{"v":40,"d":"$40.00"},{"v":325,"d":"$325.00"},{"v":1517.4860889957847,"d":"$1,517.49"},0,0,0,0,0,0,0,0,0,0,0,0,0,0,0,0,0,0,{"$f":"IF(AC33=0,AC$14,0)","v":0},0,0,{"$f":"IF(AF33=0,AF$14,0)","v":0},0,0,{"$f":"IF(AI33=0,AI$14,0)","v":0},0,0,{"$f":"IF(AL33=0,AL$14,0)","v":0},0,0,{"$f":"IF(AO33=0,AO$14,0)","v":0},0,0,{"$f":"IF(AR33=0,AR$14,0)","v":0},0,0,{"$f":"IF(AU33=0,AU$14,0)","v":0},0,0,{"$f":"IF(AX33=0,AX$14,0)","v":0},0,0,0,0,0,0,0,0,0,0,0,0,0,0,0,0,0,0,0,0,0,0,0,0,0,0,0,0,0,0,0,0,0,0,0,0,0,0,0,0,0,0,0,0,0,0,0,0,null,null,0,17,null,0,17,null,{"v":1517.4860889957847,"d":"$1,517.49"},17,null,0,17,null,0,17,null,0,17,null,0,17,null,0,17,null,0,17,null,0,17,null,0,17,null,0,17,null,0,17,null,0,17,null,0,17,null,0,17,null,0,17,null,0,17,null,0,17,null,0,17,null,0,17,null,0,17,null,0,17,null,0,17,null,0,17,null,0,17,null,0,17,null,0,17,null,0,17,null,0,17,null,0,17,null,0,17]
[{"v":1543.3232875906936,"d":"$1,543.32"},{"v":325,"d":"$325.00"},18,0,0,null,0,0,{"v":40,"d":"$40.00"},{"v":325,"d":"$325.00"},{"v":1218.3232875906936,"d":"$1,218.32"},0,0,0,0,0,0,0,0,0,0,0,0,0,0,0,0,0,0,{"$f":"IF(AC34=0,AC$14,0)","v":0},0,0,{"$f":"IF(AF34=0,AF$14,0)","v":0},0,0,{"$f":"IF(AI34=0,AI$14,0)","v":0},0,0,{"$f":"IF(AL34=0,AL$14,0)","v":0},0,0,{"$f":"IF(AO34=0,AO$14,0)","v":0},0,0,{"$f":"IF(AR34=0,AR$14,0)","v":0},0,0,{"$f":"IF(AU34=0,AU$14,0)","v":0},0,0,{"$f":"IF(AX34=0,AX$14,0)","v":0},0,0,0,0,0,0,0,0,0,0,0,0,0,0,0,0,0,0,0,0,0,0,0,0,0,0,0,0,0,0,0,0,0,0,0,0,0,0,0,0,0,0,0,0,0,0,0,0,null,null,0,18,null,0,18,null,{"v":1218.3232875906936,"d":"$1,218.32"},18,null,0,18,null,0,18,null,0,18,null,0,18,null,0,18,null,0,18,null,0,18,null,0,18,null,0,18,null,0,18,null,0,18,null,0,18,null,0,18,null,0,18,null,0,18,null,0,18,null,0,18,null,0,18,null,0,18,null,0,18,null,0,18,null,0,18,null,0,18,null,0,18,null,0,18,null,0,18,null,0,18,null,0,18,null,0,18]
[{"v":1237.678625488492,"d":"$1,237.68"},{"v":325,"d":"$325.00"},19,0,0,null,0,0,{"v":40,"d":"$40.00"},{"v":325,"d":"$325.00"},{"v":912.678625488492,"d":"$912.68"},0,0,0,0,0,0,0,0,0,0,0,0,0,0,0,0,0,0,{"$f":"IF(AC35=0,AC$14,0)","v":0},0,0,{"$f":"IF(AF35=0,AF$14,0)","v":0},0,0,{"$f":"IF(AI35=0,AI$14,0)","v":0},0,0,{"$f":"IF(AL35=0,AL$14,0)","v":0},0,0,{"$f":"IF(AO35=0,AO$14,0)","v":0},0,0,{"$f":"IF(AR35=0,AR$14,0)","v":0},0,0,{"$f":"IF(AU35=0,AU$14,0)","v":0},0,0,{"$f":"IF(AX35=0,AX$14,0)","v":0},0,0,0,0,0,0,0,0,0,0,0,0,0,0,0,0,0,0,0,0,0,0,0,0,0,0,0,0,0,0,0,0,0,0,0,0,0,0,0,0,0,0,0,0,0,0,0,0,null,null,0,19,null,0,19,null,{"v":912.678625488492,"d":"$912.68"},19,null,0,19,null,0,19,null,0,19,null,0,19,null,0,19,null,0,19,null,0,19,null,0,19,null,0,19,null,0,19,null,0,19,null,0,19,null,0,19,null,0,19,null,0,19,null,0,19,null,0,19,null,0,19,null,0,19,null,0,19,null,0,19,null,0,19,null,0,19,null,0,19,null,0,19,null,0,19,null,0,19,null,0,19,null,0,19]
[{"v":925.4116623740761,"d":"$925.41"},{"v":325,"d":"$325.00"},20,0,0,null,0,0,{"v":40,"d":"$40.00"},{"v":325,"d":"$325.00"},{"v":600.4116623740761,"d":"$600.41"},0,0,0,0,0,0,0,0,0,0,0,0,0,0,0,0,0,0,{"$f":"IF(AC36=0,AC$14,0)","v":0},0,0,{"$f":"IF(AF36=0,AF$14,0)","v":0},0,0,{"$f":"IF(AI36=0,AI$14,0)","v":0},0,0,{"$f":"IF(AL36=0,AL$14,0)","v":0},0,0,{"$f":"IF(AO36=0,AO$14,0)","v":0},0,0,{"$f":"IF(AR36=0,AR$14,0)","v":0},0,0,{"$f":"IF(AU36=0,AU$14,0)","v":0},0,0,{"$f":"IF(AX36=0,AX$14,0)","v":0},0,0,0,0,0,0,0,0,0,0,0,0,0,0,0,0,0,0,0,0,0,0,0,0,0,0,0,0,0,0,0,0,0,0,0,0,0,0,0,0,0,0,0,0,0,0,0,0,null,null,0,20,null,0,20,null,{"v":600.4116623740761,"d":"$600.41"},20,null,0,20,null,0,20,null,0,20,null,0,20,null,0,20,null,0,20,null,0,20,null,0,20,null,0,20,null,0,20,null,0,20,null,0,20,null,0,20,null,0,20,null,0,20,null,0,20,null,0,20,null,0,20,null,0,20,null,0,20,null,0,20,null,0,20,null,0,20,null,0,20,null,0,20,null,0,20,null,0,20,null,0,20,null,0,20]
[{"v":606.3789150588477,"d":"$606.38"},{"v":325,"d":"$325.00"},21,0,0,null,0,0,{"v":40,"d":"$40.00"},{"v":325,"d":"$325.00"},{"v":281.3789150588477,"d":"$281.38"},0,0,0,0,0,0,0,0,0,0,0,0,0,0,0,0,0,0,{"$f":"IF(AC37=0,AC$14,0)","v":0},0,0,{"$f":"IF(AF37=0,AF$14,0)","v":0},0,0,{"$f":"IF(AI37=0,AI$14,0)","v":0},0,0,{"$f":"IF(AL37=0,AL$14,0)","v":0},0,0,{"$f":"IF(AO37=0,AO$14,0)","v":0},0,0,{"$f":"IF(AR37=0,AR$14,0)","v":0},0,0,{"$f":"IF(AU37=0,AU$14,0)","v":0},0,0,{"$f":"IF(AX37=0,AX$14,0)","v":0},0,0,0,0,0,0,0,0,0,0,0,0,0,0,0,0,0,0,0,0,0,0,0,0,0,0,0,0,0,0,0,0,0,0,0,0,0,0,0,0,0,0,0,0,0,0,0,0,null,null,0,21,null,0,21,null,{"v":281.3789150588477,"d":"$281.38"},21,null,0,21,null,0,21,null,0,21,null,0,21,null,0,21,null,0,21,null,0,21,null,0,21,null,0,21,null,0,21,null,0,21,null,0,21,null,0,21,null,0,21,null,0,21,null,0,21,null,0,21,null,0,21,null,0,21,null,0,21,null,0,21,null,0,21,null,0,21,null,0,21,null,0,21,null,0,21,null,0,21,null,0,21,null,0,21]
[{"v":281.3789150588477,"d":"$281.38"},{"v":281.3789150588477,"d":"$281.38"},22,0,0,null,0,0,{"v":40,"d":"$40.00"},{"v":281.3789150588477,"d":"$281.38"},0,0,0,0,0,0,0,0,0,0,0,0,0,0,0,0,0,0,0,{"$f":"IF(AC38=0,AC$14,0)","v":0},0,0,{"$f":"IF(AF38=0,AF$14,0)","v":0},0,0,{"$f":"IF(AI38=0,AI$14,0)","v":0},0,0,{"$f":"IF(AL38=0,AL$14,0)","v":0},0,0,{"$f":"IF(AO38=0,AO$14,0)","v":0},0,0,{"$f":"IF(AR38=0,AR$14,0)","v":0},0,0,{"$f":"IF(AU38=0,AU$14,0)","v":0},0,0,{"$f":"IF(AX38=0,AX$14,0)","v":0},0,0,0,0,0,0,0,0,0,0,0,0,0,0,0,0,0,0,0,0,0,0,0,0,0,0,0,0,0,0,0,0,0,0,0,0,0,0,0,0,0,0,0,0,0,0,0,0,null,null,0,22,null,0,22,null,0,22,null,0,22,null,0,22,null,0,22,null,0,22,null,0,22,null,0,22,null,0,22,null,0,22,null,0,22,null,0,22,null,0,22,null,0,22,null,0,22,null,0,22,null,0,22,null,0,22,null,0,22,null,0,22,null,0,22,null,0,22,null,0,22,null,0,22,null,0,22,null,0,22,null,0,22,null,0,22,null,0,22,null,0,22,null,0,22]
[0,0,23,0,0,null,0,0,{"v":40,"d":"$40.00"},0,0,{"v":60,"d":"$60.00"},0,0,0,0,0,0,0,0,0,0,0,0,0,0,0,0,0,{"$f":"IF(AC39=0,AC$14,0)","v":0},0,0,{"$f":"IF(AF39=0,AF$14,0)","v":0},0,0,{"$f":"IF(AI39=0,AI$14,0)","v":0},0,0,{"$f":"IF(AL39=0,AL$14,0)","v":0},0,0,{"$f":"IF(AO39=0,AO$14,0)","v":0},0,0,{"$f":"IF(AR39=0,AR$14,0)","v":0},0,0,{"$f":"IF(AU39=0,AU$14,0)","v":0},0,0,{"$f":"IF(AX39=0,AX$14,0)","v":0},0,0,0,0,0,0,0,0,0,0,0,0,0,0,0,0,0,0,0,0,0,0,0,0,0,0,0,0,0,0,0,0,0,0,0,0,0,0,0,0,0,0,0,0,0,0,0,0,null,null,0,23,null,0,23,null,0,23,null,0,23,null,0,23,null,0,23,null,0,23,null,0,23,null,0,23,null,0,23,null,0,23,null,0,23,null,0,23,null,0,23,null,0,23,null,0,23,null,0,23,null,0,23,null,0,23,null,0,23,null,0,23,null,0,23,null,0,23,null,0,23,null,0,23,null,0,23,null,0,23,null,0,23,null,0,23,null,0,23,null,0,23,null,0,23]
[0,0,24,0,0,null,0,0,{"v":40,"d":"$40.00"},0,0,{"v":60,"d":"$60.00"},0,0,0,0,0,0,0,0,0,0,0,0,0,0,0,0,0,{"$f":"IF(AC40=0,AC$14,0)","v":0},0,0,{"$f":"IF(AF40=0,AF$14,0)","v":0},0,0,{"$f":"IF(AI40=0,AI$14,0)","v":0},0,0,{"$f":"IF(AL40=0,AL$14,0)","v":0},0,0,{"$f":"IF(AO40=0,AO$14,0)","v":0},0,0,{"$f":"IF(AR40=0,AR$14,0)","v":0},0,0,{"$f":"IF(AU40=0,AU$14,0)","v":0},0,0,{"$f":"IF(AX40=0,AX$14,0)","v":0},0,0,0,0,0,0,0,0,0,0,0,0,0,0,0,0,0,0,0,0,0,0,0,0,0,0,0,0,0,0,0,0,0,0,0,0,0,0,0,0,0,0,0,0,0,0,0,0,null,null,0,24,null,0,24,null,0,24,null,0,24,null,0,24,null,0,24,null,0,24,null,0,24,null,0,24,null,0,24,null,0,24,null,0,24,null,0,24,null,0,24,null,0,24,null,0,24,null,0,24,null,0,24,null,0,24,null,0,24,null,0,24,null,0,24,null,0,24,null,0,24,null,0,24,null,0,24,null,0,24,null,0,24,null,0,24,null,0,24,null,0,24,null,0,24]
[0,0,25,0,0,null,0,0,{"v":40,"d":"$40.00"},0,0,{"v":60,"d":"$60.00"},0,0,0,0,0,0,0,0,0,0,0,0,0,0,0,0,0,{"$f":"IF(AC41=0,AC$14,0)","v":0},0,0,{"$f":"IF(AF41=0,AF$14,0)","v":0},0,0,{"$f":"IF(AI41=0,AI$14,0)","v":0},0,0,{"$f":"IF(AL41=0,AL$14,0)","v":0},0,0,{"$f":"IF(AO41=0,AO$14,0)","v":0},0,0,{"$f":"IF(AR41=0,AR$14,0)","v":0},0,0,{"$f":"IF(AU41=0,AU$14,0)","v":0},0,0,{"$f":"IF(AX41=0,AX$14,0)","v":0},0,0,0,0,0,0,0,0,0,0,0,0,0,0,0,0,0,0,0,0,0,0,0,0,0,0,0,0,0,0,0,0,0,0,0,0,0,0,0,0,0,0,0,0,0,0,0,0,null,null,0,25,null,0,25,null,0,25,null,0,25,null,0,25,null,0,25,null,0,25,null,0,25,null,0,25,null,0,25,null,0,25,null,0,25,null,0,25,null,0,25,null,0,25,null,0,25,null,0,25,null,0,25,null,0,25,null,0,25,null,0,25,null,0,25,null,0,25,null,0,25,null,0,25,null,0,25,null,0,25,null,0,25,null,0,25,null,0,25,null,0,25,null,0,25]
[0,0,26,0,0,null,0,0,{"v":40,"d":"$40.00"},0,0,{"v":60,"d":"$60.00"},0,0,0,0,0,0,0,0,0,0,0,0,0,0,0,0,0,{"$f":"IF(AC42=0,AC$14,0)","v":0},0,0,{"$f":"IF(AF42=0,AF$14,0)","v":0},0,0,{"$f":"IF(AI42=0,AI$14,0)","v":0},0,0,{"$f":"IF(AL42=0,AL$14,0)","v":0},0,0,{"$f":"IF(AO42=0,AO$14,0)","v":0},0,0,{"$f":"IF(AR42=0,AR$14,0)","v":0},0,0,{"$f":"IF(AU42=0,AU$14,0)","v":0},0,0,{"$f":"IF(AX42=0,AX$14,0)","v":0},0,0,0,0,0,0,0,0,0,0,0,0,0,0,0,0,0,0,0,0,0,0,0,0,0,0,0,0,0,0,0,0,0,0,0,0,0,0,0,0,0,0,0,0,0,0,0,0,null,null,0,26,null,0,26,null,0,26,null,0,26,null,0,26,null,0,26,null,0,26,null,0,26,null,0,26,null,0,26,null,0,26,null,0,26,null,0,26,null,0,26,null,0,26,null,0,26,null,0,26,null,0,26,null,0,26,null,0,26,null,0,26,null,0,26,null,0,26,null,0,26,null,0,26,null,0,26,null,0,26,null,0,26,null,0,26,null,0,26,null,0,26,null,0,26]
[0,0,27,0,0,null,0,0,{"v":40,"d":"$40.00"},0,0,{"v":60,"d":"$60.00"},0,0,0,0,0,0,0,0,0,0,0,0,0,0,0,0,0,{"$f":"IF(AC43=0,AC$14,0)","v":0},0,0,{"$f":"IF(AF43=0,AF$14,0)","v":0},0,0,{"$f":"IF(AI43=0,AI$14,0)","v":0},0,0,{"$f":"IF(AL43=0,AL$14,0)","v":0},0,0,{"$f":"IF(AO43=0,AO$14,0)","v":0},0,0,{"$f":"IF(AR43=0,AR$14,0)","v":0},0,0,{"$f":"IF(AU43=0,AU$14,0)","v":0},0,0,{"$f":"IF(AX43=0,AX$14,0)","v":0},0,0,0,0,0,0,0,0,0,0,0,0,0,0,0,0,0,0,0,0,0,0,0,0,0,0,0,0,0,0,0,0,0,0,0,0,0,0,0,0,0,0,0,0,0,0,0,0,null,null,0,27,null,0,27,null,0,27,null,0,27,null,0,27,null,0,27,null,0,27,null,0,27,null,0,27,null,0,27,null,0,27,null,0,27,null,0,27,null,0,27,null,0,27,null,0,27,null,0,27,null,0,27,null,0,27,null,0,27,null,0,27,null,0,27,null,0,27,null,0,27,null,0,27,null,0,27,null,0,27,null,0,27,null,0,27,null,0,27,null,0,27,null,0,27]
[0,0,28,0,0,null,0,0,{"v":40,"d":"$40.00"},0,0,{"v":60,"d":"$60.00"},0,0,0,0,0,0,0,0,0,0,0,0,0,0,0,0,0,{"$f":"IF(AC44=0,AC$14,0)","v":0},0,0,{"$f":"IF(AF44=0,AF$14,0)","v":0},0,0,{"$f":"IF(AI44=0,AI$14,0)","v":0},0,0,{"$f":"IF(AL44=0,AL$14,0)","v":0},0,0,{"$f":"IF(AO44=0,AO$14,0)","v":0},0,0,{"$f":"IF(AR44=0,AR$14,0)","v":0},0,0,{"$f":"IF(AU44=0,AU$14,0)","v":0},0,0,{"$f":"IF(AX44=0,AX$14,0)","v":0},0,0,0,0,0,0,0,0,0,0,0,0,0,0,0,0,0,0,0,0,0,0,0,0,0,0,0,0,0,0,0,0,0,0,0,0,0,0,0,0,0,0,0,0,0,0,0,0,null,null,0,28,null,0,28,null,0,28,null,0,28,null,0,28,null,0,28,null,0,28,null,0,28,null,0,28,null,0,28,null,0,28,null,0,28,null,0,28,null,0,28,null,0,28,null,0,28,null,0,28,null,0,28,null,0,28,null,0,28,null,0,28,null,0,28,null,0,28,null,0,28,null,0,28,null,0,28,null,0,28,null,0,28,null,0,28,null,0,28,null,0,28,null,0,28]
[0,0,29,0,0,null,0,0,{"v":40,"d":"$40.00"},0,0,{"v":60,"d":"$60.00"},0,0,0,0,0,0,0,0,0,0,0,0,0,0,0,0,0,{"$f":"IF(AC45=0,AC$14,0)","v":0},0,0,{"$f":"IF(AF45=0,AF$14,0)","v":0},0,0,{"$f":"IF(AI45=0,AI$14,0)","v":0},0,0,{"$f":"IF(AL45=0,AL$14,0)","v":0},0,0,{"$f":"IF(AO45=0,AO$14,0)","v":0},0,0,{"$f":"IF(AR45=0,AR$14,0)","v":0},0,0,{"$f":"IF(AU45=0,AU$14,0)","v":0},0,0,{"$f":"IF(AX45=0,AX$14,0)","v":0},0,0,0,0,0,0,0,0,0,0,0,0,0,0,0,0,0,0,0,0,0,0,0,0,0,0,0,0,0,0,0,0,0,0,0,0,0,0,0,0,0,0,0,0,0,0,0,0,null,null,0,29,null,0,29,null,0,29,null,0,29,null,0,29,null,0,29,null,0,29,null,0,29,null,0,29,null,0,29,null,0,29,null,0,29,null,0,29,null,0,29,null,0,29,null,0,29,null,0,29,null,0,29,null,0,29,null,0,29,null,0,29,null,0,29,null,0,29,null,0,29,null,0,29,null,0,29,null,0,29,null,0,29,null,0,29,null,0,29,null,0,29,null,0,29]
[0,0,30,0,0,null,0,0,{"v":40,"d":"$40.00"},0,0,{"v":60,"d":"$60.00"},0,0,0,0,0,0,0,0,0,0,0,0,0,0,0,0,0,{"$f":"IF(AC46=0,AC$14,0)","v":0},0,0,{"$f":"IF(AF46=0,AF$14,0)","v":0},0,0,{"$f":"IF(AI46=0,AI$14,0)","v":0},0,0,{"$f":"IF(AL46=0,AL$14,0)","v":0},0,0,{"$f":"IF(AO46=0,AO$14,0)","v":0},0,0,{"$f":"IF(AR46=0,AR$14,0)","v":0},0,0,{"$f":"IF(AU46=0,AU$14,0)","v":0},0,0,{"$f":"IF(AX46=0,AX$14,0)","v":0},0,0,0,0,0,0,0,0,0,0,0,0,0,0,0,0,0,0,0,0,0,0,0,0,0,0,0,0,0,0,0,0,0,0,0,0,0,0,0,0,0,0,0,0,0,0,0,0,null,null,0,30,null,0,30,null,0,30,null,0,30,null,0,30,null,0,30,null,0,30,null,0,30,null,0,30,null,0,30,null,0,30,null,0,30,null,0,30,null,0,30,null,0,30,null,0,30,null,0,30,null,0,30,null,0,30,null,0,30,null,0,30,null,0,30,null,0,30,null,0,30,null,0,30,null,0,30,null,0,30,null,0,30,null,0,30,null,0,30,null,0,30,null,0,30]
[0,0,31,0,0,null,0,0,{"v":40,"d":"$40.00"},0,0,{"v":60,"d":"$60.00"},0,0,0,0,0,0,0,0,0,0,0,0,0,0,0,0,0,{"$f":"IF(AC47=0,AC$14,0)","v":0},0,0,{"$f":"IF(AF47=0,AF$14,0)","v":0},0,0,{"$f":"IF(AI47=0,AI$14,0)","v":0},0,0,{"$f":"IF(AL47=0,AL$14,0)","v":0},0,0,{"$f":"IF(AO47=0,AO$14,0)","v":0},0,0,{"$f":"IF(AR47=0,AR$14,0)","v":0},0,0,{"$f":"IF(AU47=0,AU$14,0)","v":0},0,0,{"$f":"IF(AX47=0,AX$14,0)","v":0},0,0,0,0,0,0,0,0,0,0,0,0,0,0,0,0,0,0,0,0,0,0,0,0,0,0,0,0,0,0,0,0,0,0,0,0,0,0,0,0,0,0,0,0,0,0,0,0,null,null,0,31,null,0,31,null,0,31,null,0,31,null,0,31,null,0,31,null,0,31,null,0,31,null,0,31,null,0,31,null,0,31,null,0,31,null,0,31,null,0,31,null,0,31,null,0,31,null,0,31,null,0,31,null,0,31,null,0,31,null,0,31,null,0,31,null,0,31,null,0,31,null,0,31,null,0,31,null,0,31,null,0,31,null,0,31,null,0,31,null,0,31,null,0,31]
[0,0,32,0,0,null,0,0,{"v":40,"d":"$40.00"},0,0,{"v":60,"d":"$60.00"},0,0,0,0,0,0,0,0,0,0,0,0,0,0,0,0,0,{"$f":"IF(AC48=0,AC$14,0)","v":0},0,0,{"$f":"IF(AF48=0,AF$14,0)","v":0},0,0,{"$f":"IF(AI48=0,AI$14,0)","v":0},0,0,{"$f":"IF(AL48=0,AL$14,0)","v":0},0,0,{"$f":"IF(AO48=0,AO$14,0)","v":0},0,0,{"$f":"IF(AR48=0,AR$14,0)","v":0},0,0,{"$f":"IF(AU48=0,AU$14,0)","v":0},0,0,{"$f":"IF(AX48=0,AX$14,0)","v":0},0,0,0,0,0,0,0,0,0,0,0,0,0,0,0,0,0,0,0,0,0,0,0,0,0,0,0,0,0,0,0,0,0,0,0,0,0,0,0,0,0,0,0,0,0,0,0,0,null,null,0,32,null,0,32,null,0,32,null,0,32,null,0,32,null,0,32,null,0,32,null,0,32,null,0,32,null,0,32,null,0,32,null,0,32,null,0,32,null,0,32,null,0,32,null,0,32,null,0,32,null,0,32,null,0,32,null,0,32,null,0,32,null,0,32,null,0,32,null,0,32,null,0,32,null,0,32,null,0,32,null,0,32,null,0,32,null,0,32,null,0,32,null,0,32]
[0,0,33,0,0,null,0,0,{"v":40,"d":"$40.00"},0,0,{"v":60,"d":"$60.00"},0,0,0,0,0,0,0,0,0,0,0,0,0,0,0,0,0,{"$f":"IF(AC49=0,AC$14,0)","v":0},0,0,{"$f":"IF(AF49=0,AF$14,0)","v":0},0,0,{"$f":"IF(AI49=0,AI$14,0)","v":0},0,0,{"$f":"IF(AL49=0,AL$14,0)","v":0},0,0,{"$f":"IF(AO49=0,AO$14,0)","v":0},0,0,{"$f":"IF(AR49=0,AR$14,0)","v":0},0,0,{"$f":"IF(AU49=0,AU$14,0)","v":0},0,0,{"$f":"IF(AX49=0,AX$14,0)","v":0},0,0,0,0,0,0,0,0,0,0,0,0,0,0,0,0,0,0,0,0,0,0,0,0,0,0,0,0,0,0,0,0,0,0,0,0,0,0,0,0,0,0,0,0,0,0,0,0,null,null,{"$f":"E50","v":0},33,null,{"$f":"H50","v":0},33,null,{"$f":"K50","v":0},33,null,{"$f":"N50","v":0},33,null,{"$f":"Q50","v":0},33,null,{"$f":"T50","v":0},33,null,{"$f":"W50","v":0},33,null,{"$f":"Z50","v":0},33,null,{"$f":"AC50","v":0},33,null,{"$f":"AF50","v":0},33,null,{"$f":"AI50","v":0},33,null,{"$f":"AL50","v":0},33,null,{"$f":"AO50","v":0},33,null,{"$f":"AR50","v":0},33,null,{"$f":"AU50","v":0},33,null,{"$f":"AX50","v":0},33,null,{"$f":"BA50","v":0},33,null,{"$f":"BD50","v":0},33,null,{"$f":"BG50","v":0},33,null,{"$f":"BJ50","v":0},33,null,{"$f":"BM50","v":0},33,null,{"$f":"BP50","v":0},33,null,{"$f":"BS50","v":0},33,null,{"$f":"BV50","v":0},33,null,{"$f":"BY50","v":0},33,null,{"$f":"CB50","v":0},33,null,{"$f":"CE50","v":0},33,null,{"$f":"CH50","v":0},33,null,{"$f":"CK50","v":0},33,null,{"$f":"CN50","v":0},33,null,{"$f":"CQ50","v":0},33,null,{"$f":"CT50","v":0},33]
[0,0,34,0,0,null,0,0,{"v":40,"d":"$40.00"},0,0,{"v":60,"d":"$60.00"},0,0,0,0,0,0,0,0,0,0,0,0,0,0,0,0,0,{"$f":"IF(AC50=0,AC$14,0)","v":0},0,0,{"$f":"IF(AF50=0,AF$14,0)","v":0},0,0,{"$f":"IF(AI50=0,AI$14,0)","v":0},0,0,{"$f":"IF(AL50=0,AL$14,0)","v":0},0,0,{"$f":"IF(AO50=0,AO$14,0)","v":0},0,0,{"$f":"IF(AR50=0,AR$14,0)","v":0},0,0,{"$f":"IF(AU50=0,AU$14,0)","v":0},0,0,{"$f":"IF(AX50=0,AX$14,0)","v":0},0,0,0,0,0,0,0,0,0,0,0,0,0,0,0,0,0,0,0,0,0,0,0,0,0,0,0,0,0,0,0,0,0,0,0,0,0,0,0,0,0,0,0,0,0,0,0,0,null,null,0,34,null,0,34,null,0,34,null,0,34,null,0,34,null,0,34,null,0,34,null,0,34,null,0,34,null,0,34,null,0,34,null,0,34,null,0,34,null,0,34,null,0,34,null,0,34,null,0,34,null,0,34,null,0,34,null,0,34,null,0,34,null,0,34,null,0,34,null,0,34,null,0,34,null,0,34,null,0,34,null,0,34,null,0,34,null,0,34,null,0,34,null,0,34]
[0,0,35,0,0,null,0,0,{"v":40,"d":"$40.00"},0,0,{"v":60,"d":"$60.00"},0,0,0,0,0,0,0,0,0,0,0,0,0,0,0,0,0,{"$f":"IF(AC51=0,AC$14,0)","v":0},0,0,{"$f":"IF(AF51=0,AF$14,0)","v":0},0,0,{"$f":"IF(AI51=0,AI$14,0)","v":0},0,0,{"$f":"IF(AL51=0,AL$14,0)","v":0},0,0,{"$f":"IF(AO51=0,AO$14,0)","v":0},0,0,{"$f":"IF(AR51=0,AR$14,0)","v":0},0,0,{"$f":"IF(AU51=0,AU$14,0)","v":0},0,0,{"$f":"IF(AX51=0,AX$14,0)","v":0},0,0,0,0,0,0,0,0,0,0,0,0,0,0,0,0,0,0,0,0,0,0,0,0,0,0,0,0,0,0,0,0,0,0,0,0,0,0,0,0,0,0,0,0,0,0,0,0,null,null,0,35,null,0,35,null,0,35,null,0,35,null,0,35,null,0,35,null,0,35,null,0,35,null,0,35,null,0,35,null,0,35,null,0,35,null,0,35,null,0,35,null,0,35,null,0,35,null,0,35,null,0,35,null,0,35,null,0,35,null,0,35,null,0,35,null,0,35,null,0,35,null,0,35,null,0,35,null,0,35,null,0,35,null,0,35,null,0,35,null,0,35,null,0,35]
[0,0,36,0,0,null,0,0,{"v":40,"d":"$40.00"},0,0,{"v":60,"d":"$60.00"},0,0,0,0,0,0,0,0,0,0,0,0,0,0,0,0,0,{"$f":"IF(AC52=0,AC$14,0)","v":0},0,0,{"$f":"IF(AF52=0,AF$14,0)","v":0},0,0,{"$f":"IF(AI52=0,AI$14,0)","v":0},0,0,{"$f":"IF(AL52=0,AL$14,0)","v":0},0,0,{"$f":"IF(AO52=0,AO$14,0)","v":0},0,0,{"$f":"IF(AR52=0,AR$14,0)","v":0},0,0,{"$f":"IF(AU52=0,AU$14,0)","v":0},0,0,{"$f":"IF(AX52=0,AX$14,0)","v":0},0,0,0,0,0,0,0,0,0,0,0,0,0,0,0,0,0,0,0,0,0,0,0,0,0,0,0,0,0,0,0,0,0,0,0,0,0,0,0,0,0,0,0,0,0,0,0,0,null,null,0,36,null,0,36,null,0,36,null,0,36,null,0,36,null,0,36,null,0,36,null,0,36,null,0,36,null,0,36,null,0,36,null,0,36,null,0,36,null,0,36,null,0,36,null,0,36,null,0,36,null,0,36,null,0,36,null,0,36,null,0,36,null,0,36,null,0,36,null,0,36,null,0,36,null,0,36,null,0,36,null,0,36,null,0,36,null,0,36,null,0,36,null,0,36]
[0,0,37,0,0,null,0,0,{"v":40,"d":"$40.00"},0,0,{"v":60,"d":"$60.00"},0,0,0,0,0,0,0,0,0,0,0,0,0,0,0,0,0,{"$f":"IF(AC53=0,AC$14,0)","v":0},0,0,{"$f":"IF(AF53=0,AF$14,0)","v":0},0,0,{"$f":"IF(AI53=0,AI$14,0)","v":0},0,0,{"$f":"IF(AL53=0,AL$14,0)","v":0},0,0,{"$f":"IF(AO53=0,AO$14,0)","v":0},0,0,{"$f":"IF(AR53=0,AR$14,0)","v":0},0,0,{"$f":"IF(AU53=0,AU$14,0)","v":0},0,0,{"$f":"IF(AX53=0,AX$14,0)","v":0},0,0,0,0,0,0,0,0,0,0,0,0,0,0,0,0,0,0,0,0,0,0,0,0,0,0,0,0,0,0,0,0,0,0,0,0,0,0,0,0,0,0,0,0,0,0,0,0,null,null,0,37,null,0,37,null,0,37,null,0,37,null,0,37,null,0,37,null,0,37,null,0,37,null,0,37,null,0,37,null,0,37,null,0,37,null,0,37,null,0,37,null,0,37,null,0,37,null,0,37,null,0,37,null,0,37,null,0,37,null,0,37,null,0,37,null,0,37,null,0,37,null,0,37,null,0,37,null,0,37,null,0,37,null,0,37,null,0,37,null,0,37,null,0,37]
[0,0,38,0,0,null,0,0,{"v":40,"d":"$40.00"},0,0,{"v":60,"d":"$60.00"},0,0,0,0,0,0,0,0,0,0,0,0,0,0,0,0,0,{"$f":"IF(AC54=0,AC$14,0)","v":0},0,0,{"$f":"IF(AF54=0,AF$14,0)","v":0},0,0,{"$f":"IF(AI54=0,AI$14,0)","v":0},0,0,{"$f":"IF(AL54=0,AL$14,0)","v":0},0,0,{"$f":"IF(AO54=0,AO$14,0)","v":0},0,0,{"$f":"IF(AR54=0,AR$14,0)","v":0},0,0,{"$f":"IF(AU54=0,AU$14,0)","v":0},0,0,{"$f":"IF(AX54=0,AX$14,0)","v":0},0,0,0,0,0,0,0,0,0,0,0,0,0,0,0,0,0,0,0,0,0,0,0,0,0,0,0,0,0,0,0,0,0,0,0,0,0,0,0,0,0,0,0,0,0,0,0,0,null,null,0,38,null,0,38,null,0,38,null,0,38,null,0,38,null,0,38,null,0,38,null,0,38,null,0,38,null,0,38,null,0,38,null,0,38,null,0,38,null,0,38,null,0,38,null,0,38,null,0,38,null,0,38,null,0,38,null,0,38,null,0,38,null,0,38,null,0,38,null,0,38,null,0,38,null,0,38,null,0,38,null,0,38,null,0,38,null,0,38,null,0,38,null,0,38]
[0,0,39,0,0,null,0,0,{"v":40,"d":"$40.00"},0,0,{"v":60,"d":"$60.00"},0,0,0,0,0,0,0,0,0,0,0,0,0,0,0,0,0,{"$f":"IF(AC55=0,AC$14,0)","v":0},0,0,{"$f":"IF(AF55=0,AF$14,0)","v":0},0,0,{"$f":"IF(AI55=0,AI$14,0)","v":0},0,0,{"$f":"IF(AL55=0,AL$14,0)","v":0},0,0,{"$f":"IF(AO55=0,AO$14,0)","v":0},0,0,{"$f":"IF(AR55=0,AR$14,0)","v":0},0,0,{"$f":"IF(AU55=0,AU$14,0)","v":0},0,0,{"$f":"IF(AX55=0,AX$14,0)","v":0},0,0,0,0,0,0,0,0,0,0,0,0,0,0,0,0,0,0,0,0,0,0,0,0,0,0,0,0,0,0,0,0,0,0,0,0,0,0,0,0,0,0,0,0,0,0,0,0,null,null,0,39,null,0,39,null,0,39,null,0,39,null,0,39,null,0,39,null,0,39,null,0,39,null,0,39,null,0,39,null,0,39,null,0,39,null,0,39,null,0,39,null,0,39,null,0,39,null,0,39,null,0,39,null,0,39,null,0,39,null,0,39,null,0,39,null,0,39,null,0,39,null,0,39,null,0,39,null,0,39,null,0,39,null,0,39,null,0,39,null,0,39,null,0,39]
[0,0,40,0,0,null,0,0,{"v":40,"d":"$40.00"},0,0,{"v":60,"d":"$60.00"},0,0,0,0,0,0,0,0,0,0,0,0,0,0,0,0,0,{"$f":"IF(AC56=0,AC$14,0)","v":0},0,0,{"$f":"IF(AF56=0,AF$14,0)","v":0},0,0,{"$f":"IF(AI56=0,AI$14,0)","v":0},0,0,{"$f":"IF(AL56=0,AL$14,0)","v":0},0,0,{"$f":"IF(AO56=0,AO$14,0)","v":0},0,0,{"$f":"IF(AR56=0,AR$14,0)","v":0},0,0,{"$f":"IF(AU56=0,AU$14,0)","v":0},0,0,{"$f":"IF(AX56=0,AX$14,0)","v":0},0,0,0,0,0,0,0,0,0,0,0,0,0,0,0,0,0,0,0,0,0,0,0,0,0,0,0,0,0,0,0,0,0,0,0,0,0,0,0,0,0,0,0,0,0,0,0,0,null,null,0,40,null,0,40,null,0,40,null,0,40,null,0,40,null,0,40,null,0,40,null,0,40,null,0,40,null,0,40,null,0,40,null,0,40,null,0,40,null,0,40,null,0,40,null,0,40,null,0,40,null,0,40,null,0,40,null,0,40,null,0,40,null,0,40,null,0,40,null,0,40,null,0,40,null,0,40,null,0,40,null,0,40,null,0,40,null,0,40,null,0,40,null,0,40]
[0,0,41,0,0,null,0,0,{"v":40,"d":"$40.00"},0,0,{"v":60,"d":"$60.00"},0,0,0,0,0,0,0,0,0,0,0,0,0,0,0,0,0,{"$f":"IF(AC57=0,AC$14,0)","v":0},0,0,{"$f":"IF(AF57=0,AF$14,0)","v":0},0,0,{"$f":"IF(AI57=0,AI$14,0)","v":0},0,0,{"$f":"IF(AL57=0,AL$14,0)","v":0},0,0,{"$f":"IF(AO57=0,AO$14,0)","v":0},0,0,{"$f":"IF(AR57=0,AR$14,0)","v":0},0,0,{"$f":"IF(AU57=0,AU$14,0)","v":0},0,0,{"$f":"IF(AX57=0,AX$14,0)","v":0},0,0,0,0,0,0,0,0,0,0,0,0,0,0,0,0,0,0,0,0,0,0,0,0,0,0,0,0,0,0,0,0,0,0,0,0,0,0,0,0,0,0,0,0,0,0,0,0,null,null,0,41,null,0,41,null,0,41,null,0,41,null,0,41,null,0,41,null,0,41,null,0,41,null,0,41,null,0,41,null,0,41,null,0,41,null,0,41,null,0,41,null,0,41,null,0,41,null,0,41,null,0,41,null,0,41,null,0,41,null,0,41,null,0,41,null,0,41,null,0,41,null,0,41,null,0,41,null,0,41,null,0,41,null,0,41,null,0,41,null,0,41,null,0,41]
[0,0,42,0,0,null,0,0,{"v":40,"d":"$40.00"},0,0,{"v":60,"d":"$60.00"},0,0,0,0,0,0,0,0,0,0,0,0,0,0,0,0,0,{"$f":"IF(AC58=0,AC$14,0)","v":0},0,0,{"$f":"IF(AF58=0,AF$14,0)","v":0},0,0,{"$f":"IF(AI58=0,AI$14,0)","v":0},0,0,{"$f":"IF(AL58=0,AL$14,0)","v":0},0,0,{"$f":"IF(AO58=0,AO$14,0)","v":0},0,0,{"$f":"IF(AR58=0,AR$14,0)","v":0},0,0,{"$f":"IF(AU58=0,AU$14,0)","v":0},0,0,{"$f":"IF(AX58=0,AX$14,0)","v":0},0,0,0,0,0,0,0,0,0,0,0,0,0,0,0,0,0,0,0,0,0,0,0,0,0,0,0,0,0,0,0,0,0,0,0,0,0,0,0,0,0,0,0,0,0,0,0,0,null,null,0,42,null,0,42,null,0,42,null,0,42,null,0,42,null,0,42,null,0,42,null,0,42,null,0,42,null,0,42,null,0,42,null,0,42,null,0,42,null,0,42,null,0,42,null,0,42,null,0,42,null,0,42,null,0,42,null,0,42,null,0,42,null,0,42,null,0,42,null,0,42,null,0,42,null,0,42,null,0,42,null,0,42,null,0,42,null,0,42,null,0,42,null,0,42]
[0,0,43,0,0,null,0,0,{"v":40,"d":"$40.00"},0,0,{"v":60,"d":"$60.00"},0,0,0,0,0,0,0,0,0,0,0,0,0,0,0,0,0,{"$f":"IF(AC59=0,AC$14,0)","v":0},0,0,{"$f":"IF(AF59=0,AF$14,0)","v":0},0,0,{"$f":"IF(AI59=0,AI$14,0)","v":0},0,0,{"$f":"IF(AL59=0,AL$14,0)","v":0},0,0,{"$f":"IF(AO59=0,AO$14,0)","v":0},0,0,{"$f":"IF(AR59=0,AR$14,0)","v":0},0,0,{"$f":"IF(AU59=0,AU$14,0)","v":0},0,0,{"$f":"IF(AX59=0,AX$14,0)","v":0},0,0,0,0,0,0,0,0,0,0,0,0,0,0,0,0,0,0,0,0,0,0,0,0,0,0,0,0,0,0,0,0,0,0,0,0,0,0,0,0,0,0,0,0,0,0,0,0,null,null,0,43,null,0,43,null,0,43,null,0,43,null,0,43,null,0,43,null,0,43,null,0,43,null,0,43,null,0,43,null,0,43,null,0,43,null,0,43,null,0,43,null,0,43,null,0,43,null,0,43,null,0,43,null,0,43,null,0,43,null,0,43,null,0,43,null,0,43,null,0,43,null,0,43,null,0,43,null,0,43,null,0,43,null,0,43,null,0,43,null,0,43,null,0,43]
[0,0,44,0,0,null,0,0,{"v":40,"d":"$40.00"},0,0,{"v":60,"d":"$60.00"},0,0,0,0,0,0,0,0,0,0,0,0,0,0,0,0,0,{"$f":"IF(AC60=0,AC$14,0)","v":0},0,0,{"$f":"IF(AF60=0,AF$14,0)","v":0},0,0,{"$f":"IF(AI60=0,AI$14,0)","v":0},0,0,{"$f":"IF(AL60=0,AL$14,0)","v":0},0,0,{"$f":"IF(AO60=0,AO$14,0)","v":0},0,0,{"$f":"IF(AR60=0,AR$14,0)","v":0},0,0,{"$f":"IF(AU60=0,AU$14,0)","v":0},0,0,{"$f":"IF(AX60=0,AX$14,0)","v":0},0,0,0,0,0,0,0,0,0,0,0,0,0,0,0,0,0,0,0,0,0,0,0,0,0,0,0,0,0,0,0,0,0,0,0,0,0,0,0,0,0,0,0,0,0,0,0,0,null,null,0,44,null,0,44,null,0,44,null,0,44,null,0,44,null,0,44,null,0,44,null,0,44,null,0,44,null,0,44,null,0,44,null,0,44,null,0,44,null,0,44,null,0,44,null,0,44,null,0,44,null,0,44,null,0,44,null,0,44,null,0,44,null,0,44,null,0,44,null,0,44,null,0,44,null,0,44,null,0,44,null,0,44,null,0,44,null,0,44,null,0,44,null,0,44]
[0,0,45,0,0,null,0,0,{"v":40,"d":"$40.00"},0,0,{"v":60,"d":"$60.00"},0,0,0,0,0,0,0,0,0,0,0,0,0,0,0,0,0,{"$f":"IF(AC61=0,AC$14,0)","v":0},0,0,{"$f":"IF(AF61=0,AF$14,0)","v":0},0,0,{"$f":"IF(AI61=0,AI$14,0)","v":0},0,0,{"$f":"IF(AL61=0,AL$14,0)","v":0},0,0,{"$f":"IF(AO61=0,AO$14,0)","v":0},0,0,{"$f":"IF(AR61=0,AR$14,0)","v":0},0,0,{"$f":"IF(AU61=0,AU$14,0)","v":0},0,0,{"$f":"IF(AX61=0,AX$14,0)","v":0},0,0,0,0,0,0,0,0,0,0,0,0,0,0,0,0,0,0,0,0,0,0,0,0,0,0,0,0,0,0,0,0,0,0,0,0,0,0,0,0,0,0,0,0,0,0,0,0,null,null,0,45,null,0,45,null,0,45,null,0,45,null,0,45,null,0,45,null,0,45,null,0,45,null,0,45,null,0,45,null,0,45,null,0,45,null,0,45,null,0,45,null,0,45,null,0,45,null,0,45,null,0,45,null,0,45,null,0,45,null,0,45,null,0,45,null,0,45,null,0,45,null,0,45,null,0,45,null,0,45,null,0,45,null,0,45,null,0,45,null,0,45,null,0,45]
[0,0,46,0,0,null,0,0,{"v":40,"d":"$40.00"},0,0,{"v":60,"d":"$60.00"},0,0,0,0,0,0,0,0,0,0,0,0,0,0,0,0,0,{"$f":"IF(AC62=0,AC$14,0)","v":0},0,0,{"$f":"IF(AF62=0,AF$14,0)","v":0},0,0,{"$f":"IF(AI62=0,AI$14,0)","v":0},0,0,{"$f":"IF(AL62=0,AL$14,0)","v":0},0,0,{"$f":"IF(AO62=0,AO$14,0)","v":0},0,0,{"$f":"IF(AR62=0,AR$14,0)","v":0},0,0,{"$f":"IF(AU62=0,AU$14,0)","v":0},0,0,{"$f":"IF(AX62=0,AX$14,0)","v":0},0,0,0,0,0,0,0,0,0,0,0,0,0,0,0,0,0,0,0,0,0,0,0,0,0,0,0,0,0,0,0,0,0,0,0,0,0,0,0,0,0,0,0,0,0,0,0,0,null,null,0,46,null,0,46,null,0,46,null,0,46,null,0,46,null,0,46,null,0,46,null,0,46,null,0,46,null,0,46,null,0,46,null,0,46,null,0,46,null,0,46,null,0,46,null,0,46,null,0,46,null,0,46,null,0,46,null,0,46,null,0,46,null,0,46,null,0,46,null,0,46,null,0,46,null,0,46,null,0,46,null,0,46,null,0,46,null,0,46,null,0,46,null,0,46]
[0,0,47,0,0,null,0,0,{"v":40,"d":"$40.00"},0,0,{"v":60,"d":"$60.00"},0,0,0,0,0,0,0,0,0,0,0,0,0,0,0,0,0,{"$f":"IF(AC63=0,AC$14,0)","v":0},0,0,{"$f":"IF(AF63=0,AF$14,0)","v":0},0,0,{"$f":"IF(AI63=0,AI$14,0)","v":0},0,0,{"$f":"IF(AL63=0,AL$14,0)","v":0},0,0,{"$f":"IF(AO63=0,AO$14,0)","v":0},0,0,{"$f":"IF(AR63=0,AR$14,0)","v":0},0,0,{"$f":"IF(AU63=0,AU$14,0)","v":0},0,0,{"$f":"IF(AX63=0,AX$14,0)","v":0},0,0,0,0,0,0,0,0,0,0,0,0,0,0,0,0,0,0,0,0,0,0,0,0,0,0,0,0,0,0,0,0,0,0,0,0,0,0,0,0,0,0,0,0,0,0,0,0,null,null,0,47,null,0,47,null,0,47,null,0,47,null,0,47,null,0,47,null,0,47,null,0,47,null,0,47,null,0,47,null,0,47,null,0,47,null,0,47,null,0,47,null,0,47,null,0,47,null,0,47,null,0,47,null,0,47,null,0,47,null,0,47,null,0,47,null,0,47,null,0,47,null,0,47,null,0,47,null,0,47,null,0,47,null,0,47,null,0,47,null,0,47,null,0,47]
[0,0,48,0,0,null,0,0,{"v":40,"d":"$40.00"},0,0,{"v":60,"d":"$60.00"},0,0,0,0,0,0,0,0,0,0,0,0,0,0,0,0,0,{"$f":"IF(AC64=0,AC$14,0)","v":0},0,0,{"$f":"IF(AF64=0,AF$14,0)","v":0},0,0,{"$f":"IF(AI64=0,AI$14,0)","v":0},0,0,{"$f":"IF(AL64=0,AL$14,0)","v":0},0,0,{"$f":"IF(AO64=0,AO$14,0)","v":0},0,0,{"$f":"IF(AR64=0,AR$14,0)","v":0},0,0,{"$f":"IF(AU64=0,AU$14,0)","v":0},0,0,{"$f":"IF(AX64=0,AX$14,0)","v":0},0,0,0,0,0,0,0,0,0,0,0,0,0,0,0,0,0,0,0,0,0,0,0,0,0,0,0,0,0,0,0,0,0,0,0,0,0,0,0,0,0,0,0,0,0,0,0,0,null,null,0,48,null,0,48,null,0,48,null,0,48,null,0,48,null,0,48,null,0,48,null,0,48,null,0,48,null,0,48,null,0,48,null,0,48,null,0,48,null,0,48,null,0,48,null,0,48,null,0,48,null,0,48,null,0,48,null,0,48,null,0,48,null,0,48,null,0,48,null,0,48,null,0,48,null,0,48,null,0,48,null,0,48,null,0,48,null,0,48,null,0,48,null,0,48]
[0,0,49,0,0,null,0,0,{"v":40,"d":"$40.00"},0,0,{"v":60,"d":"$60.00"},0,0,0,0,0,0,0,0,0,0,0,0,0,0,0,0,0,{"$f":"IF(AC65=0,AC$14,0)","v":0},0,0,{"$f":"IF(AF65=0,AF$14,0)","v":0},0,0,{"$f":"IF(AI65=0,AI$14,0)","v":0},0,0,{"$f":"IF(AL65=0,AL$14,0)","v":0},0,0,{"$f":"IF(AO65=0,AO$14,0)","v":0},0,0,{"$f":"IF(AR65=0,AR$14,0)","v":0},0,0,{"$f":"IF(AU65=0,AU$14,0)","v":0},0,0,{"$f":"IF(AX65=0,AX$14,0)","v":0},0,0,0,0,0,0,0,0,0,0,0,0,0,0,0,0,0,0,0,0,0,0,0,0,0,0,0,0,0,0,0,0,0,0,0,0,0,0,0,0,0,0,0,0,0,0,0,0,null,null,0,49,null,0,49,null,0,49,null,0,49,null,0,49,null,0,49,null,0,49,null,0,49,null,0,49,null,0,49,null,0,49,null,0,49,null,0,49,null,0,49,null,0,49,null,0,49,null,0,49,null,0,49,null,0,49,null,0,49,null,0,49,null,0,49,null,0,49,null,0,49,null,0,49,null,0,49,null,0,49,null,0,49,null,0,49,null,0,49,null,0,49,null,0,49]
[0,0,50,0,0,null,0,0,{"v":40,"d":"$40.00"},0,0,{"v":60,"d":"$60.00"},0,0,0,0,0,0,0,0,0,0,0,0,0,0,0,0,0,{"$f":"IF(AC66=0,AC$14,0)","v":0},0,0,{"$f":"IF(AF66=0,AF$14,0)","v":0},0,0,{"$f":"IF(AI66=0,AI$14,0)","v":0},0,0,{"$f":"IF(AL66=0,AL$14,0)","v":0},0,0,{"$f":"IF(AO66=0,AO$14,0)","v":0},0,0,{"$f":"IF(AR66=0,AR$14,0)","v":0},0,0,{"$f":"IF(AU66=0,AU$14,0)","v":0},0,0,{"$f":"IF(AX66=0,AX$14,0)","v":0},0,0,0,0,0,0,0,0,0,0,0,0,0,0,0,0,0,0,0,0,0,0,0,0,0,0,0,0,0,0,0,0,0,0,0,0,0,0,0,0,0,0,0,0,0,0,0,0,null,null,0,50,null,0,50,null,0,50,null,0,50,null,0,50,null,0,50,null,0,50,null,0,50,null,0,50,null,0,50,null,0,50,null,0,50,null,0,50,null,0,50,null,0,50,null,0,50,null,0,50,null,0,50,null,0,50,null,0,50,null,0,50,null,0,50,null,0,50,null,0,50,null,0,50,null,0,50,null,0,50,null,0,50,null,0,50,null,0,50,null,0,50,null,0,50]
[0,0,51,0,0,null,0,0,{"v":40,"d":"$40.00"},0,0,{"v":60,"d":"$60.00"},0,0,0,0,0,0,0,0,0,0,0,0,0,0,0,0,0,{"$f":"IF(AC67=0,AC$14,0)","v":0},0,0,{"$f":"IF(AF67=0,AF$14,0)","v":0},0,0,{"$f":"IF(AI67=0,AI$14,0)","v":0},0,0,{"$f":"IF(AL67=0,AL$14,0)","v":0},0,0,{"$f":"IF(AO67=0,AO$14,0)","v":0},0,0,{"$f":"IF(AR67=0,AR$14,0)","v":0},0,0,{"$f":"IF(AU67=0,AU$14,0)","v":0},0,0,{"$f":"IF(AX67=0,AX$14,0)","v":0},0,0,0,0,0,0,0,0,0,0,0,0,0,0,0,0,0,0,0,0,0,0,0,0,0,0,0,0,0,0,0,0,0,0,0,0,0,0,0,0,0,0,0,0,0,0,0,0,null,null,0,51,null,0,51,null,0,51,null,0,51,null,0,51,null,0,51,null,0,51,null,0,51,null,0,51,null,0,51,null,0,51,null,0,51,null,0,51,null,0,51,null,0,51,null,0,51,null,0,51,null,0,51,null,0,51,null,0,51,null,0,51,null,0,51,null,0,51,null,0,51,null,0,51,null,0,51,null,0,51,null,0,51,null,0,51,null,0,51,null,0,51,null,0,51]
[0,0,52,0,0,null,0,0,{"v":40,"d":"$40.00"},0,0,{"v":60,"d":"$60.00"},0,0,0,0,0,0,0,0,0,0,0,0,0,0,0,0,0,{"$f":"IF(AC68=0,AC$14,0)","v":0},0,0,{"$f":"IF(AF68=0,AF$14,0)","v":0},0,0,{"$f":"IF(AI68=0,AI$14,0)","v":0},0,0,{"$f":"IF(AL68=0,AL$14,0)","v":0},0,0,{"$f":"IF(AO68=0,AO$14,0)","v":0},0,0,{"$f":"IF(AR68=0,AR$14,0)","v":0},0,0,{"$f":"IF(AU68=0,AU$14,0)","v":0},0,0,{"$f":"IF(AX68=0,AX$14,0)","v":0},0,0,0,0,0,0,0,0,0,0,0,0,0,0,0,0,0,0,0,0,0,0,0,0,0,0,0,0,0,0,0,0,0,0,0,0,0,0,0,0,0,0,0,0,0,0,0,0,null,null,0,52,null,0,52,null,0,52,null,0,52,null,0,52,null,0,52,null,0,52,null,0,52,null,0,52,null,0,52,null,0,52,null,0,52,null,0,52,null,0,52,null,0,52,null,0,52,null,0,52,null,0,52,null,0,52,null,0,52,null,0,52,null,0,52,null,0,52,null,0,52,null,0,52,null,0,52,null,0,52,null,0,52,null,0,52,null,0,52,null,0,52,null,0,52]
[0,0,53,0,0,null,0,0,{"v":40,"d":"$40.00"},0,0,{"v":60,"d":"$60.00"},0,0,0,0,0,0,0,0,0,0,0,0,0,0,0,0,0,{"$f":"IF(AC69=0,AC$14,0)","v":0},0,0,{"$f":"IF(AF69=0,AF$14,0)","v":0},0,0,{"$f":"IF(AI69=0,AI$14,0)","v":0},0,0,{"$f":"IF(AL69=0,AL$14,0)","v":0},0,0,{"$f":"IF(AO69=0,AO$14,0)","v":0},0,0,{"$f":"IF(AR69=0,AR$14,0)","v":0},0,0,{"$f":"IF(AU69=0,AU$14,0)","v":0},0,0,{"$f":"IF(AX69=0,AX$14,0)","v":0},0,0,0,0,0,0,0,0,0,0,0,0,0,0,0,0,0,0,0,0,0,0,0,0,0,0,0,0,0,0,0,0,0,0,0,0,0,0,0,0,0,0,0,0,0,0,0,0,null,null,0,53,null,0,53,null,0,53,null,0,53,null,0,53,null,0,53,null,0,53,null,0,53,null,0,53,null,0,53,null,0,53,null,0,53,null,0,53,null,0,53,null,0,53,null,0,53,null,0,53,null,0,53,null,0,53,null,0,53,null,0,53,null,0,53,null,0,53,null,0,53,null,0,53,null,0,53,null,0,53,null,0,53,null,0,53,null,0,53,null,0,53,null,0,53]
[0,0,54,0,0,null,0,0,{"v":40,"d":"$40.00"},0,0,{"v":60,"d":"$60.00"},0,0,0,0,0,0,0,0,0,0,0,0,0,0,0,0,0,{"$f":"IF(AC70=0,AC$14,0)","v":0},0,0,{"$f":"IF(AF70=0,AF$14,0)","v":0},0,0,{"$f":"IF(AI70=0,AI$14,0)","v":0},0,0,{"$f":"IF(AL70=0,AL$14,0)","v":0},0,0,{"$f":"IF(AO70=0,AO$14,0)","v":0},0,0,{"$f":"IF(AR70=0,AR$14,0)","v":0},0,0,{"$f":"IF(AU70=0,AU$14,0)","v":0},0,0,{"$f":"IF(AX70=0,AX$14,0)","v":0},0,0,0,0,0,0,0,0,0,0,0,0,0,0,0,0,0,0,0,0,0,0,0,0,0,0,0,0,0,0,0,0,0,0,0,0,0,0,0,0,0,0,0,0,0,0,0,0,null,null,0,54,null,0,54,null,0,54,null,0,54,null,0,54,null,0,54,null,0,54,null,0,54,null,0,54,null,0,54,null,0,54,null,0,54,null,0,54,null,0,54,null,0,54,null,0,54,null,0,54,null,0,54,null,0,54,null,0,54,null,0,54,null,0,54,null,0,54,null,0,54,null,0,54,null,0,54,null,0,54,null,0,54,null,0,54,null,0,54,null,0,54,null,0,54]
[0,0,55,0,0,null,0,0,{"v":40,"d":"$40.00"},0,0,{"v":60,"d":"$60.00"},0,0,0,0,0,0,0,0,0,0,0,0,0,0,0,0,0,{"$f":"IF(AC71=0,AC$14,0)","v":0},0,0,{"$f":"IF(AF71=0,AF$14,0)","v":0},0,0,{"$f":"IF(AI71=0,AI$14,0)","v":0},0,0,{"$f":"IF(AL71=0,AL$14,0)","v":0},0,0,{"$f":"IF(AO71=0,AO$14,0)","v":0},0,0,{"$f":"IF(AR71=0,AR$14,0)","v":0},0,0,{"$f":"IF(AU71=0,AU$14,0)","v":0},0,0,{"$f":"IF(AX71=0,AX$14,0)","v":0},0,0,0,0,0,0,0,0,0,0,0,0,0,0,0,0,0,0,0,0,0,0,0,0,0,0,0,0,0,0,0,0,0,0,0,0,0,0,0,0,0,0,0,0,0,0,0,0,null,null,0,55,null,0,55,null,0,55,null,0,55,null,0,55,null,0,55,null,0,55,null,0,55,null,0,55,null,0,55,null,0,55,null,0,55,null,0,55,null,0,55,null,0,55,null,0,55,null,0,55,null,0,55,null,0,55,null,0,55,null,0,55,null,0,55,null,0,55,null,0,55,null,0,55,null,0,55,null,0,55,null,0,55,null,0,55,null,0,55,null,0,55,null,0,55]
[0,0,56,0,0,null,0,0,{"v":40,"d":"$40.00"},0,0,{"v":60,"d":"$60.00"},0,0,0,0,0,0,0,0,0,0,0,0,0,0,0,0,0,{"$f":"IF(AC72=0,AC$14,0)","v":0},0,0,{"$f":"IF(AF72=0,AF$14,0)","v":0},0,0,{"$f":"IF(AI72=0,AI$14,0)","v":0},0,0,{"$f":"IF(AL72=0,AL$14,0)","v":0},0,0,{"$f":"IF(AO72=0,AO$14,0)","v":0},0,0,{"$f":"IF(AR72=0,AR$14,0)","v":0},0,0,{"$f":"IF(AU72=0,AU$14,0)","v":0},0,0,{"$f":"IF(AX72=0,AX$14,0)","v":0},0,0,0,0,0,0,0,0,0,0,0,0,0,0,0,0,0,0,0,0,0,0,0,0,0,0,0,0,0,0,0,0,0,0,0,0,0,0,0,0,0,0,0,0,0,0,0,0,null,null,0,56,null,0,56,null,0,56,null,0,56,null,0,56,null,0,56,null,0,56,null,0,56,null,0,56,null,0,56,null,0,56,null,0,56,null,0,56,null,0,56,null,0,56,null,0,56,null,0,56,null,0,56,null,0,56,null,0,56,null,0,56,null,0,56,null,0,56,null,0,56,null,0,56,null,0,56,null,0,56,null,0,56,null,0,56,null,0,56,null,0,56,null,0,56]
[0,0,57,0,0,null,0,0,{"v":40,"d":"$40.00"},0,0,{"v":60,"d":"$60.00"},0,0,0,0,0,0,0,0,0,0,0,0,0,0,0,0,0,{"$f":"IF(AC73=0,AC$14,0)","v":0},0,0,{"$f":"IF(AF73=0,AF$14,0)","v":0},0,0,{"$f":"IF(AI73=0,AI$14,0)","v":0},0,0,{"$f":"IF(AL73=0,AL$14,0)","v":0},0,0,{"$f":"IF(AO73=0,AO$14,0)","v":0},0,0,{"$f":"IF(AR73=0,AR$14,0)","v":0},0,0,{"$f":"IF(AU73=0,AU$14,0)","v":0},0,0,{"$f":"IF(AX73=0,AX$14,0)","v":0},0,0,0,0,0,0,0,0,0,0,0,0,0,0,0,0,0,0,0,0,0,0,0,0,0,0,0,0,0,0,0,0,0,0,0,0,0,0,0,0,0,0,0,0,0,0,0,0,null,null,0,57,null,0,57,null,0,57,null,0,57,null,0,57,null,0,57,null,0,57,null,0,57,null,0,57,null,0,57,null,0,57,null,0,57,null,0,57,null,0,57,null,0,57,null,0,57,null,0,57,null,0,57,null,0,57,null,0,57,null,0,57,null,0,57,null,0,57,null,0,57,null,0,57,null,0,57,null,0,57,null,0,57,null,0,57,null,0,57,null,0,57,null,0,57]
[0,0,58,0,0,null,0,0,{"v":40,"d":"$40.00"},0,0,{"v":60,"d":"$60.00"},0,0,0,0,0,0,0,0,0,0,0,0,0,0,0,0,0,{"$f":"IF(AC74=0,AC$14,0)","v":0},0,0,{"$f":"IF(AF74=0,AF$14,0)","v":0},0,0,{"$f":"IF(AI74=0,AI$14,0)","v":0},0,0,{"$f":"IF(AL74=0,AL$14,0)","v":0},0,0,{"$f":"IF(AO74=0,AO$14,0)","v":0},0,0,{"$f":"IF(AR74=0,AR$14,0)","v":0},0,0,{"$f":"IF(AU74=0,AU$14,0)","v":0},0,0,{"$f":"IF(AX74=0,AX$14,0)","v":0},0,0,0,0,0,0,0,0,0,0,0,0,0,0,0,0,0,0,0,0,0,0,0,0,0,0,0,0,0,0,0,0,0,0,0,0,0,0,0,0,0,0,0,0,0,0,0,0,null,null,0,58,null,0,58,null,0,58,null,0,58,null,0,58,null,0,58,null,0,58,null,0,58,null,0,58,null,0,58,null,0,58,null,0,58,null,0,58,null,0,58,null,0,58,null,0,58,null,0,58,null,0,58,null,0,58,null,0,58,null,0,58,null,0,58,null,0,58,null,0,58,null,0,58,null,0,58,null,0,58,null,0,58,null,0,58,null,0,58,null,0,58,null,0,58]
[0,0,59,0,0,null,0,0,{"v":40,"d":"$40.00"},0,0,{"v":60,"d":"$60.00"},0,0,0,0,0,0,0,0,0,0,0,0,0,0,0,0,0,{"$f":"IF(AC75=0,AC$14,0)","v":0},0,0,{"$f":"IF(AF75=0,AF$14,0)","v":0},0,0,{"$f":"IF(AI75=0,AI$14,0)","v":0},0,0,{"$f":"IF(AL75=0,AL$14,0)","v":0},0,0,{"$f":"IF(AO75=0,AO$14,0)","v":0},0,0,{"$f":"IF(AR75=0,AR$14,0)","v":0},0,0,{"$f":"IF(AU75=0,AU$14,0)","v":0},0,0,{"$f":"IF(AX75=0,AX$14,0)","v":0},0,0,0,0,0,0,0,0,0,0,0,0,0,0,0,0,0,0,0,0,0,0,0,0,0,0,0,0,0,0,0,0,0,0,0,0,0,0,0,0,0,0,0,0,0,0,0,0,null,null,0,59,null,0,59,null,0,59,null,0,59,null,0,59,null,0,59,null,0,59,null,0,59,null,0,59,null,0,59,null,0,59,null,0,59,null,0,59,null,0,59,null,0,59,null,0,59,null,0,59,null,0,59,null,0,59,null,0,59,null,0,59,null,0,59,null,0,59,null,0,59,null,0,59,null,0,59,null,0,59,null,0,59,null,0,59,null,0,59,null,0,59,null,0,59]
[0,0,60,0,0,null,0,0,{"v":40,"d":"$40.00"},0,0,{"v":60,"d":"$60.00"},0,0,0,0,0,0,0,0,0,0,0,0,0,0,0,0,0,{"$f":"IF(AC76=0,AC$14,0)","v":0},0,0,{"$f":"IF(AF76=0,AF$14,0)","v":0},0,0,{"$f":"IF(AI76=0,AI$14,0)","v":0},0,0,{"$f":"IF(AL76=0,AL$14,0)","v":0},0,0,{"$f":"IF(AO76=0,AO$14,0)","v":0},0,0,{"$f":"IF(AR76=0,AR$14,0)","v":0},0,0,{"$f":"IF(AU76=0,AU$14,0)","v":0},0,0,{"$f":"IF(AX76=0,AX$14,0)","v":0},0,0,0,0,0,0,0,0,0,0,0,0,0,0,0,0,0,0,0,0,0,0,0,0,0,0,0,0,0,0,0,0,0,0,0,0,0,0,0,0,0,0,0,0,0,0,0,0,null,null,0,60,null,0,60,null,0,60,null,0,60,null,0,60,null,0,60,null,0,60,null,0,60,null,0,60,null,0,60,null,0,60,null,0,60,null,0,60,null,0,60,null,0,60,null,0,60,null,0,60,null,0,60,null,0,60,null,0,60,null,0,60,null,0,60,null,0,60,null,0,60,null,0,60,null,0,60,null,0,60,null,0,60,null,0,60,null,0,60,null,0,60,null,0,60]
[0,0,61,0,0,null,0,0,{"v":40,"d":"$40.00"},0,0,{"v":60,"d":"$60.00"},0,0,0,0,0,0,0,0,0,0,0,0,0,0,0,0,0,{"$f":"IF(AC77=0,AC$14,0)","v":0},0,0,{"$f":"IF(AF77=0,AF$14,0)","v":0},0,0,{"$f":"IF(AI77=0,AI$14,0)","v":0},0,0,{"$f":"IF(AL77=0,AL$14,0)","v":0},0,0,{"$f":"IF(AO77=0,AO$14,0)","v":0},0,0,{"$f":"IF(AR77=0,AR$14,0)","v":0},0,0,{"$f":"IF(AU77=0,AU$14,0)","v":0},0,0,{"$f":"IF(AX77=0,AX$14,0)","v":0},0,0,0,0,0,0,0,0,0,0,0,0,0,0,0,0,0,0,0,0,0,0,0,0,0,0,0,0,0,0,0,0,0,0,0,0,0,0,0,0,0,0,0,0,0,0,0,0,null,null,0,61,null,0,61,null,0,61,null,0,61,null,0,61,null,0,61,null,0,61,null,0,61,null,0,61,null,0,61,null,0,61,null,0,61,null,0,61,null,0,61,null,0,61,null,0,61,null,0,61,null,0,61,null,0,61,null,0,61,null,0,61,null,0,61,null,0,61,null,0,61,null,0,61,null,0,61,null,0,61,null,0,61,null,0,61,null,0,61,null,0,61,null,0,61]
[0,0,62,0,0,null,0,0,{"v":40,"d":"$40.00"},0,0,{"v":60,"d":"$60.00"},0,0,0,0,0,0,0,0,0,0,0,0,0,0,0,0,0,{"$f":"IF(AC78=0,AC$14,0)","v":0},0,0,{"$f":"IF(AF78=0,AF$14,0)","v":0},0,0,{"$f":"IF(AI78=0,AI$14,0)","v":0},0,0,{"$f":"IF(AL78=0,AL$14,0)","v":0},0,0,{"$f":"IF(AO78=0,AO$14,0)","v":0},0,0,{"$f":"IF(AR78=0,AR$14,0)","v":0},0,0,{"$f":"IF(AU78=0,AU$14,0)","v":0},0,0,{"$f":"IF(AX78=0,AX$14,0)","v":0},0,0,0,0,0,0,0,0,0,0,0,0,0,0,0,0,0,0,0,0,0,0,0,0,0,0,0,0,0,0,0,0,0,0,0,0,0,0,0,0,0,0,0,0,0,0,0,0,null,null,0,62,null,0,62,null,0,62,null,0,62,null,0,62,null,0,62,null,0,62,null,0,62,null,0,62,null,0,62,null,0,62,null,0,62,null,0,62,null,0,62,null,0,62,null,0,62,null,0,62,null,0,62,null,0,62,null,0,62,null,0,62,null,0,62,null,0,62,null,0,62,null,0,62,null,0,62,null,0,62,null,0,62,null,0,62,null,0,62,null,0,62,null,0,62]
[0,0,63,0,0,null,0,0,{"v":40,"d":"$40.00"},0,0,{"v":60,"d":"$60.00"},0,0,0,0,0,0,0,0,0,0,0,0,0,0,0,0,0,{"$f":"IF(AC79=0,AC$14,0)","v":0},0,0,{"$f":"IF(AF79=0,AF$14,0)","v":0},0,0,{"$f":"IF(AI79=0,AI$14,0)","v":0},0,0,{"$f":"IF(AL79=0,AL$14,0)","v":0},0,0,{"$f":"IF(AO79=0,AO$14,0)","v":0},0,0,{"$f":"IF(AR79=0,AR$14,0)","v":0},0,0,{"$f":"IF(AU79=0,AU$14,0)","v":0},0,0,{"$f":"IF(AX79=0,AX$14,0)","v":0},0,0,0,0,0,0,0,0,0,0,0,0,0,0,0,0,0,0,0,0,0,0,0,0,0,0,0,0,0,0,0,0,0,0,0,0,0,0,0,0,0,0,0,0,0,0,0,0,null,null,0,63,null,0,63,null,0,63,null,0,63,null,0,63,null,0,63,null,0,63,null,0,63,null,0,63,null,0,63,null,0,63,null,0,63,null,0,63,null,0,63,null,0,63,null,0,63,null,0,63,null,0,63,null,0,63,null,0,63,null,0,63,null,0,63,null,0,63,null,0,63,null,0,63,null,0,63,null,0,63,null,0,63,null,0,63,null,0,63,null,0,63,null,0,63]
[0,0,64,0,0,null,0,0,{"v":40,"d":"$40.00"},0,0,{"v":60,"d":"$60.00"},0,0,0,0,0,0,0,0,0,0,0,0,0,0,0,0,0,{"$f":"IF(AC80=0,AC$14,0)","v":0},0,0,{"$f":"IF(AF80=0,AF$14,0)","v":0},0,0,{"$f":"IF(AI80=0,AI$14,0)","v":0},0,0,{"$f":"IF(AL80=0,AL$14,0)","v":0},0,0,{"$f":"IF(AO80=0,AO$14,0)","v":0},0,0,{"$f":"IF(AR80=0,AR$14,0)","v":0},0,0,{"$f":"IF(AU80=0,AU$14,0)","v":0},0,0,{"$f":"IF(AX80=0,AX$14,0)","v":0},0,0,0,0,0,0,0,0,0,0,0,0,0,0,0,0,0,0,0,0,0,0,0,0,0,0,0,0,0,0,0,0,0,0,0,0,0,0,0,0,0,0,0,0,0,0,0,0,null,null,0,64,null,0,64,null,0,64,null,0,64,null,0,64,null,0,64,null,0,64,null,0,64,null,0,64,null,0,64,null,0,64,null,0,64,null,0,64,null,0,64,null,0,64,null,0,64,null,0,64,null,0,64,null,0,64,null,0,64,null,0,64,null,0,64,null,0,64,null,0,64,null,0,64,null,0,64,null,0,64,null,0,64,null,0,64,null,0,64,null,0,64,null,0,64]
[0,0,65,0,0,null,0,0,{"v":40,"d":"$40.00"},0,0,{"v":60,"d":"$60.00"},0,0,0,0,0,0,0,0,0,0,0,0,0,0,0,0,0,{"$f":"IF(AC81=0,AC$14,0)","v":0},0,0,{"$f":"IF(AF81=0,AF$14,0)","v":0},0,0,{"$f":"IF(AI81=0,AI$14,0)","v":0},0,0,{"$f":"IF(AL81=0,AL$14,0)","v":0},0,0,{"$f":"IF(AO81=0,AO$14,0)","v":0},0,0,{"$f":"IF(AR81=0,AR$14,0)","v":0},0,0,{"$f":"IF(AU81=0,AU$14,0)","v":0},0,0,{"$f":"IF(AX81=0,AX$14,0)","v":0},0,0,0,0,0,0,0,0,0,0,0,0,0,0,0,0,0,0,0,0,0,0,0,0,0,0,0,0,0,0,0,0,0,0,0,0,0,0,0,0,0,0,0,0,0,0,0,0,null,null,{"$f":"E82","v":0},65,null,{"$f":"H82","v":0},65,null,{"$f":"K82","v":0},65,null,{"$f":"N82","v":0},65,null,{"$f":"Q82","v":0},65,null,{"$f":"T82","v":0},65,null,{"$f":"W82","v":0},65,null,{"$f":"Z82","v":0},65,null,{"$f":"AC82","v":0},65,null,{"$f":"AF82","v":0},65,null,{"$f":"AI82","v":0},65,null,{"$f":"AL82","v":0},65,null,{"$f":"AO82","v":0},65,null,{"$f":"AR82","v":0},65,null,{"$f":"AU82","v":0},65,null,{"$f":"AX82","v":0},65,null,{"$f":"BA82","v":0},65,null,{"$f":"BD82","v":0},65,null,{"$f":"BG82","v":0},65,null,{"$f":"BJ82","v":0},65,null,{"$f":"BM82","v":0},65,null,{"$f":"BP82","v":0},65,null,{"$f":"BS82","v":0},65,null,{"$f":"BV82","v":0},65,null,{"$f":"BY82","v":0},65,null,{"$f":"CB82","v":0},65,null,{"$f":"CE82","v":0},65,null,{"$f":"CH82","v":0},65,null,{"$f":"CK82","v":0},65,null,{"$f":"CN82","v":0},65,null,{"$f":"CQ82","v":0},65,null,{"$f":"CT82","v":0},65]
[{"$f":"SUM(D83:E83,G83:H83,J83:K83,M83:N83,P83:Q83,S83:T83,V83:W83,Y83:Z83,AB83:AC83,AE83:AF83,AH83:AI83,AK83:AL83,AN83:AO83,AQ83:AR83,AT83:AU83,AW83:AX83,AZ83:BA83,BC83:BD83,BF83:BG83,BI83:BJ83,BL83:BM83,BO83:BP83,BR83:BS83,BU83:BV83,BX83:BY83,CA83:CB83,CD83:CE83,CG83:CH83,CJ83:CK83,CM83:CN83,CP83:CQ83,CS83:CT83)","v":0},{"$f":"SUM(D83,G83,J83,M83,P83,S83,V83,Y83,AB83,AE83,AH83,AK83,AN83,AQ83,AT83,AW83,AZ83,BC83,BF83,BI83,BL83,BO83,BR83,BU83,BX83,CA83,CD83,CG83,CJ83,CM83,CP83,CS83)","v":0},66,0,0,null,0,{"$f":"IF((H82-G83)<=0.0001,0,(H82-G83)*(1+(H$15/12)))","v":0},{"v":40,"d":"$40.00"},0,0,{"v":60,"d":"$60.00"},0,0,0,0,0,0,0,0,0,0,0,0,0,0,0,0,0,{"$f":"IF(AC82=0,AC$14,0)","v":0},0,0,{"$f":"IF(AF82=0,AF$14,0)","v":0},0,0,{"$f":"IF(AI82=0,AI$14,0)","v":0},0,0,{"$f":"IF(AL82=0,AL$14,0)","v":0},0,0,{"$f":"IF(AO82=0,AO$14,0)","v":0},0,0,{"$f":"IF(AR82=0,AR$14,0)","v":0},0,0,{"$f":"IF(AU82=0,AU$14,0)","v":0},0,0,{"$f":"IF(AX82=0,AX$14,0)","v":0},0,0,0,0,0,0,0,0,0,0,0,0,0,0,0,0,0,0,0,0,0,0,0,0,0,0,0,0,0,0,0,0,0,0,0,0,0,0,0,0,0,0,0,0,0,0,0,0,null,null,0,66,null,0,66,null,0,66,null,0,66,null,0,66,null,0,66,null,0,66,null,0,66,null,0,66,null,0,66,null,0,66,null,0,66,null,0,66,null,0,66,null,0,66,null,0,66,null,0,66,null,0,66,null,0,66,null,0,66,null,0,66,null,0,66,null,0,66,null,0,66,null,0,66,null,0,66,null,0,66,null,0,66,null,0,66,null,0,66,null,0,66,null,0,66]
[0,0,67,{"$f":"IF((E83-$N$3-$E$14-SUM(I84,L84,O84,R84,U84,X84,AA84))<=0,($N$3+(E83-$N$3)),($N$3+$E$14+SUM(I84,L84,O84,R84,U84,X84,AA84)))","v":0},0,null,{"$f":"IF(AND(((H83-$N$3+D84-H$14-E$14-SUM(L84,O84,R84,U84,X84,AA84))<=0),E84=0),H83,IF(E84=0,$N$3-D84+H$14+E$14+SUM(L84,O84,R84,U84,X84,AA84),H$14))","v":0},0,{"v":40,"d":"$40.00"},{"$f":"IF(AND(((K83-$N$3+G84+D84-K$14-H$14-E$14-SUM(O84,R84,U84,X84,AA84))<=0),H84+E84=0),K83,IF(K$14>=K83,K83,IF(AND(H84=0,E84=0),$N$3-G84-D84+K$14+H$14+E$14+SUM(O84,R84,U84,X84,AA84),K$14)))","v":0},{"$f":"IF((K83-J84)<=0.0001,0,(K83-J84)*(1+(K$15/12)))","v":0},{"v":60,"d":"$60.00"},{"$f":"IF(AND(((N83-$N$3+J84+G84+D84-N$14-K$14-H$14-E$14-SUM(R84,U84,X84,AA84))<=0),K84+H84+E84=0),N83,IF(N$14>=N83,N83, IF(AND(K84=0,H84=0,E84=0),$N$3-J84-G84-D84+N$14+K$14+H$14+E$14+SUM(R84,U84,X84,AA84),N$14)))","v":0},{"$f":"IF((N83-M84)<=0.0001,0,(N83-M84)*(1+(N$15/12)))","v":0},0,{"$f":"IF(AND(((Q83-$N$3+M84+J84+G84+D84-Q$14-N$14-K$14-H$14-E$14-SUM(U84,X84,AA84))<=0),N84+K84+H84+E84=0),Q83,IF(Q$14>=Q83,Q83,IF(AND(N84=0,K84=0,H84=0,E84=0),$N$3-M84-J84-G84-D84+Q$14+N$14+K$14+H$14+E$14+SUM(U84,X84,AA84),Q$14)))","v":0},{"$f":"IF((Q83-P84)<=0.0001,0,(Q83-P84)*(1+(Q$15/12)))","v":0},0,{"$f":"IF(AND(((T83-$N$3+P84+M84+J84+G84+D84-T$14-Q$14-N$14-K$14-H$14-E$14-SUM(X84,AA84))<=0),Q84+N84+K84+H84+E84=0),T83,IF(T$14>=T83,T83,IF(AND(Q84=0,N84=0,K84=0,H84=0),$N$3-P84-M84-J84-G84-D84+T$14+Q$14+N$14+K$14+H$14+E$14+SUM(X84,AA84),T$14)))","v":0},0,0,{"$f":"IF(AND(((W83-$N$3+S84+P84+M84+J84+G84+D84-W$14-T$14-Q$14-N$14-K$14-H$14-E$14-SUM(AA84))<=0),T84+Q84+N84+K84+H84+E84=0),W83,IF(W$14>=W83,W83,IF(AND(T84=0,Q84=0,N84=0,K84=0,H84=0,E84=0),$N$3-S84-P84-M84-J84-G84-D84+W$14+T$14+Q$14+N$14+K$14+H$14+E$14+SUM(AA84),W$14)))","v":0},{"$f":"IF((W83-V84)<=0.0001,0,(W83-V84)*(1+(W$15/12)))","v":0},0,{"$f":"IF(AND(((Z83-$N$3+V84+S84+P84+M84+J84+G84+D84-Z$14-W$14-T$14-Q$14-N$14-K$14-H$14-E$14)<=0),W84+T84+Q84+N84+K84+H84+E84=0),Z83,IF(Z$14>=Z83,Z83,IF(AND(W84=0,T84=0,Q84=0,N84=0,K84=0,H84=0,E84=0),$N$3-V84-S84-P84-M84-J84-G84-D84+Z$14+W$14+T$14+Q$14+N$14+K$14+H$14+E$14,Z$14)))","v":0},{"$f":"IF((Z83-Y84)<=0.0001,0,(Z83-Y84)*(1+(Z$15/12)))","v":0},0,{"$f":"IF(AND(((AC83-$N$3+Y84+V84+S84+P84+M84+J84+G84+D84-AC$14-Z$14-W$14-T$14-Q$14-N$14-K$14-H$14-E$14-SUM(AG84,AJ84,AM84,AP84,AS84,AV84,AY84,BB84,BE84,BH84,BK84,BN84,BQ84,BT84,BW84,BZ84,CC84,CF84,CI84,CL84,CO84,CR84,CU84))<=0),Z84+W84+T84+Q84+N84+K84+H84+E84=0),AC83,IF(AC$14>=AC83,AC83,IF(AND(Z84=0,W84=0,T84=0,Q84=0,N84=0,K84=0,H84=0,E84=0),$N$3-Y84-V84-S84-P84-M84-J84-G84-D84+AC$14+Z$14+W$14+T$14+Q$14+N$14+K$14+H$14+E$14+SUM(AG84,AJ84,AM84,AP84,AS84,AV84,AY84,BB84,BE84,BH84,BK84,BN84,BQ84,BT84,BW84,BZ84,CC84,CF84,CI84,CL84,CO84,CR84,CU84),AC$14)))","v":0},{"$f":"IF((AC83-AB84)<=0.0001,0,(AC83-AB84)*(1+(AC$15/12)))","v":0},{"$f":"IF(AC83=0,AC$14,0)","v":0},{"$f":"IF(AND(((AF83-$N$3+AB84+Y84+V84+S84+P84+M84+J84+G84+D84-AF$14-AC$14-Z$14-W$14-T$14-Q$14-N$14-K$14-H$14-E$14-SUM(AJ84,AM84,AP84,AS84,AV84,AY84,BB84,BE84,BH84,BK84,BN84,BQ84,BT84,BW84,BZ84,CC84,CF84,CI84,CL84,CO84,CR84,CU84))<=0),AC84+Z84+W84+T84+Q84+N84+K84+H84+E84=0),AF83,IF(AF$14>=AF83,AF83,IF(AND(AC84=0,Z84=0,W84=0,T84=0,Q84=0,N84=0,K84=0,H84=0,E84=0),$N$3-AB84-Y84-V84-S84-P84-M84-J84-G84-D84+AF$14+AC$14+Z$14+W$14+T$14+Q$14+N$14+K$14+H$14+E$14+SUM(AJ84,AM84,AP84,AS84,AV84,AY84,BB84,BE84,BH84,BK84,BN84,BQ84,BT84,BW84,BZ84,CC84,CF84,CI84,CL84,CO84,CR84,CU84),AF$14)))","v":0},{"$f":"IF((AF83-AE84)<=0.0001,0,(AF83-AE84)*(1+(AF$15/12)))","v":0},{"$f":"IF(AF83=0,AF$14,0)","v":0},{"$f":"IF(AND(((AI83-$N$3+AE84+AB84+Y84+V84+S84+P84+M84+J84+G84+D84-AI$14-AF$14-AC$14-Z$14-W$14-T$14-Q$14-N$14-K$14-H$14-E$14-SUM(AM84,AP84,AS84,AV84,AY84,BB84,BE84,BH84,BK84,BN84,BQ84,BT84,BW84,BZ84,CC84,CF84,CI84,CL84,CO84,CR84,CU84))<=0),AF84+AC84+Z84+W84+T84+Q84+N84+K84+H84+E84=0),AI83,IF(AI$14>=AI83,AI83,IF(AND(AF84=0,AC84=0,Z84=0,W84=0,T84=0,Q84=0,N84=0,K84=0,H84=0,E84=0),$N$3-AE84-AB84-Y84-V84-S84-P84-M84-J84-G84-D84+AI$14+AF$14+AC$14+Z$14+W$14+T$14+Q$14+N$14+K$14+H$14+E$14+SUM(AM84,AP84,AS84,AV84,AY84,BB84,BE84,BH84,BK84,BN84,BQ84,BT84,BW84,BZ84,CC84,CF84,CI84,CL84,CO84,CR84,CU84),AI$14)))","v":0},{"$f":"IF((AI83-AH84)<=0.0001,0,(AI83-AH84)*(1+(AI$15/12)))","v":0},{"$f":"IF(AI83=0,AI$14,0)","v":0},{"$f":"IF(AND(((AL83-$N$3+AH84+AE84+AB84+Y84+V84+S84+P84+M84+J84+G84+D84-AL$14-AI$14-AF$14-AC$14-Z$14-W$14-T$14-Q$14-N$14-K$14-H$14-E$14-SUM(AP84,AS84,AV84,AY84,BB84,BE84,BH84,BK84,BN84,BQ84,BT84,BW84,BZ84,CC84,CF84,CI84,CL84,CO84,CR84,CU84))<=0),AI84+AF84+AC84+Z84+W84+T84+Q84+N84+K84+H84+E84=0),AL83,IF(AL$14>=AL83,AL83,IF(AND(AI84=0,AF84=0,AC84=0,Z84=0,W84=0,T84=0,Q84=0,N84=0,K84=0,H84=0,E84=0),$N$3-AH84-AE84-AB84-Y84-V84-S84-P84-M84-J84-G84-D84+AL$14+AI$14+AF$14+AC$14+Z$14+W$14+T$14+Q$14+N$14+K$14+H$14+E$14+SUM(AP84,AS84,AV84,AY84,BB84,BE84,BH84,BK84,BN84,BQ84,BT84,BW84,BZ84,CC84,CF84,CI84,CL84,CO84,CR84,CU84),AL$14)))","v":0},{"$f":"IF((AL83-AK84)<=0.0001,0,(AL83-AK84)*(1+(AL$15/12)))","v":0},{"$f":"IF(AL83=0,AL$14,0)","v":0},{"$f":"IF(AND(((AO83-$N$3+AK84+AH84+AE84+AB84+Y84+V84+S84+P84+M84+J84+G84+D84-AO$14-AL$14-AI$14-AF$14-AC$14-Z$14-W$14-T$14-Q$14-N$14-K$14-H$14-E$14-SUM(AS84,AV84,AY84,BB84,BE84,BH84,BK84,BN84,BQ84,BT84,BW84,BZ84,CC84,CF84,CI84,CL84,CO84,CR84,CU84))<=0),AL84+AI84+AF84+AC84+Z84+W84+T84+Q84+N84+K84+H84+E84=0),AO83,IF(AO$14>=AO83,AO83,IF(AND(AL84=0,AI84=0,AF84=0,AC84=0,Z84=0,W84=0,T84=0,Q84=0,N84=0,K84=0,H84=0,E84=0),$N$3-AK84-AH84-AE84-AB84-Y84-V84-S84-P84-M84-J84-G84-D84+AO$14+AL$14+AI$14+AF$14+AC$14+Z$14+W$14+T$14+Q$14+N$14+K$14+H$14+E$14+SUM(AS84,AV84,AY84,BB84,BE84,BH84,BK84,BN84,BQ84,BT84,BW84,BZ84,CC84,CF84,CI84,CL84,CO84,CR84,CU84),AO$14)))","v":0},{"$f":"IF((AO83-AN84)<=0.0001,0,(AO83-AN84)*(1+(AO$15/12)))","v":0},{"$f":"IF(AO83=0,AO$14,0)","v":0},{"$f":"IF(AND(((AR83-$N$3+AN84+AK84+AH84+AE84+AB84+Y84+V84+S84+P84+M84+J84+G84+D84-AR$14-AO$14-AL$14-AI$14-AF$14-AC$14-Z$14-W$14-T$14-Q$14-N$14-K$14-H$14-E$14-SUM(AV84,AY84,BB84,BE84,BH84,BK84,BN84,BQ84,BT84,BW84,BZ84,CC84,CF84,CI84,CL84,CO84,CR84,CU84))<=0),AO84+AL84+AI84+AF84+AC84+Z84+W84+T84+Q84+N84+K84+H84+E84=0),AR83,IF(AR$14>=AR83,AR83,IF(AND(AO84=0,AL84=0,AI84=0,AF84=0,AC84=0,Z84=0,W84=0,T84=0,Q84=0,N84=0,K84=0,H84=0,E84=0),$N$3-AN84-AK84-AH84-AE84-AB84-Y84-V84-S84-P84-M84-J84-G84-D84+AR$14+AO$14+AL$14+AI$14+AF$14+AC$14+Z$14+W$14+T$14+Q$14+N$14+K$14+H$14+E$14+SUM(AV84,AY84,BB84,BE84,BH84,BK84,BN84,BQ84,BT84,BW84,BZ84,CC84,CF84,CI84,CL84,CO84,CR84,CU84),AR$14)))","v":0},{"$f":"IF((AR83-AQ84)<=0.0001,0,(AR83-AQ84)*(1+(AR$15/12)))","v":0},{"$f":"IF(AR83=0,AR$14,0)","v":0},{"$f":"IF(AND(((AU83-$N$3+AQ84+AN84+AK84+AH84+AE84+AB84+Y84+V84+S84+P84+M84+J84+G84+D84-AU$14-AR$14-AO$14-AL$14-AI$14-AF$14-AC$14-Z$14-W$14-T$14-Q$14-N$14-K$14-H$14-E$14-SUM(AY84,BB84,BE84,BH84,BK84,BN84,BQ84,BT84,BW84,BZ84,CC84,CF84,CI84,CL84,CO84,CR84,CU84))<=0),AR84+AO84+AL84+AI84+AF84+AC84+Z84+W84+T84+Q84+N84+K84+H84+E84=0),AU83,IF(AU$14>=AU83,AU83,IF(AND(AR84=0,AO84=0,AL84=0,AI84=0,AF84=0,AC84=0,Z84=0,W84=0,T84=0,Q84=0,N84=0,K84=0,H84=0,E84=0),$N$3-AQ84-AN84-AK84-AH84-AE84-AB84-Y84-V84-S84-P84-M84-J84-G84-D84+AU$14+AR$14+AO$14+AL$14+AI$14+AF$14+AC$14+Z$14+W$14+T$14+Q$14+N$14+K$14+H$14+E$14+SUM(AY84,BB84,BE84,BH84,BK84,BN84,BQ84,BT84,BW84,BZ84,CC84,CF84,CI84,CL84,CO84,CR84,CU84),AU$14)))","v":0},{"$f":"IF((AU83-AT84)<=0.0001,0,(AU83-AT84)*(1+(AU$15/12)))","v":0},{"$f":"IF(AU83=0,AU$14,0)","v":0},{"$f":"IF(AND(((AX83-$N$3+AT84+AQ84+AN84+AK84+AH84+AE84+AB84+Y84+V84+S84+P84+M84+J84+G84+D84-AX$14-AU$14-AR$14-AO$14-AL$14-AI$14-AF$14-AC$14-Z$14-W$14-T$14-Q$14-N$14-K$14-H$14-E$14-SUM(BB84,BE84,BH84,BK84,BN84,BQ84,BT84,BW84,BZ84,CC84,CF84,CI84,CL84,CO84,CR84,CU84))<=0),AU84+AR84+AO84+AL84+AI84+AF84+AC84+Z84+W84+T84+Q84+N84+K84+H84+E84=0),AX83,IF(AX$14>=AX83,AX83,IF(AND(AU84=0,AR84=0,AO84=0,AL84=0,AI84=0,AF84=0,AC84=0,Z84=0,W84=0,T84=0,Q84=0,N84=0,K84=0,H84=0,E84=0),$N$3-AT84-AQ84-AN84-AK84-AH84-AE84-AB84-Y84-V84-S84-P84-M84-J84-G84-D84+AX$14+AU$14+AR$14+AO$14+AL$14+AI$14+AF$14+AC$14+Z$14+W$14+T$14+Q$14+N$14+K$14+H$14+E$14+SUM(BB84,BE84,BH84,BK84,BN84,BQ84,BT84,BW84,BZ84,CC84,CF84,CI84,CL84,CO84,CR84,CU84),AX$14)))","v":0},{"$f":"IF((AX83-AW84)<=0.0001,0,(AX83-AW84)*(1+(AX$15/12)))","v":0},{"$f":"IF(AX83=0,AX$14,0)","v":0},{"$f":"IF(AND(((BA83-$N$3+AW84+AT84+AQ84+AN84+AK84+AH84+AE84+AB84+Y84+V84+S84+P84+M84+J84+G84+D84-BA$14-AX$14-AU$14-AR$14-AO$14-AL$14-AI$14-AF$14-AC$14-Z$14-W$14-T$14-Q$14-N$14-K$14-H$14-E$14-SUM(BE84,BH84,BK84,BN84,BQ84,BT84,BW84,BZ84,CC84,CF84,CI84,CL84,CO84,CR84,CU84))<=0),AX84+AU84+AR84+AO84+AL84+AI84+AF84+AC84+Z84+W84+T84+Q84+N84+K84+H84+E84=0),BA83,IF(BA$14>=BA83,BA83,IF(AND(AX84=0,AU84=0,AR84=0,AO84=0,AL84=0,AI84=0,AF84=0,AC84=0,Z84=0,W84=0,T84=0,Q84=0,N84=0,K84=0,H84=0,E84=0),$N$3-AW84-AT84-AQ84-AN84-AK84-AH84-AE84-AB84-Y84-V84-S84-P84-M84-J84-G84-D84+BA$14+AX$14+AU$14+AR$14+AO$14+AL$14+AI$14+AF$14+AC$14+Z$14+W$14+T$14+Q$14+N$14+K$14+H$14+E$14+SUM(BE84,BH84,BK84,BN84,BQ84,BT84,BW84,BZ84,CC84,CF84,CI84,CL84,CO84,CR84,CU84),BA$14)))","v":0},{"$f":"IF((BA83-AZ84)<=0.0001,0,(BA83-AZ84)*(1+(BA$15/12)))","v":0},0,{"$f":"IF(AND(((BD83-$N$3+AZ84+AW84+AT84+AQ84+AN84+AK84+AH84+AE84+AB84+Y84+V84+S84+P84+M84+J84+G84+D84-BD$14-BA$14-AX$14-AU$14-AR$14-AO$14-AL$14-AI$14-AF$14-AC$14-Z$14-W$14-T$14-Q$14-N$14-K$14-H$14-E$14-SUM(BH84,BK84,BN84,BQ84,BT84,BW84,BZ84,CC84,CF84,CI84,CL84,CO84,CR84,CU84))<=0),BA84+AX84+AU84+AR84+AO84+AL84+AI84+AF84+AC84+Z84+W84+T84+Q84+N84+K84+H84+E84=0),BD83,IF(BD$14>=BD83,BD83,IF(AND(BA84=0,AX84=0,AU84=0,AR84=0,AO84=0,AL84=0,AI84=0,AF84=0,AC84=0,Z84=0,W84=0,T84=0,Q84=0,N84=0,K84=0,H84=0,E84=0),$N$3-AZ84-AW84-AT84-AQ84-AN84-AK84-AH84-AE84-AB84-Y84-V84-S84-P84-M84-J84-G84-D84+BD$14+BA$14+AX$14+AU$14+AR$14+AO$14+AL$14+AI$14+AF$14+AC$14+Z$14+W$14+T$14+Q$14+N$14+K$14+H$14+E$14+SUM(BH84,BK84,BN84,BQ84,BT84,BW84,BZ84,CC84,CF84,CI84,CL84,CO84,CR84,CU84),BD$14)))","v":0},{"$f":"IF((BD83-BC84)<=0.0001,0,(BD83-BC84)*(1+(BD$15/12)))","v":0},0,{"$f":"IF(AND(((BG83-$N$3+BC84+AZ84+AW84+AT84+AQ84+AN84+AK84+AH84+AE84+AB84+Y84+V84+S84+P84+M84+J84+G84+D84-BG$14-BD$14-BA$14-AX$14-AU$14-AR$14-AO$14-AL$14-AI$14-AF$14-AC$14-Z$14-W$14-T$14-Q$14-N$14-K$14-H$14-E$14-SUM(BK84,BN84,BQ84,BT84,BW84,BZ84,CC84,CF84,CI84,CL84,CO84,CR84,CU84))<=0),BD84+BA84+AX84+AU84+AR84+AO84+AL84+AI84+AF84+AC84+Z84+W84+T84+Q84+N84+K84+H84+E84=0),BG83,IF(BG$14>=BG83,BG83,IF(AND(BD84=0,BA84=0,AX84=0,AU84=0,AR84=0,AO84=0,AL84=0,AI84=0,AF84=0,AC84=0,Z84=0,W84=0,T84=0,Q84=0,N84=0,K84=0,H84=0,E84=0),$N$3-BC84-AZ84-AW84-AT84-AQ84-AN84-AK84-AH84-AE84-AB84-Y84-V84-S84-P84-M84-J84-G84-D84+BG$14+BD$14+BA$14+AX$14+AU$14+AR$14+AO$14+AL$14+AI$14+AF$14+AC$14+Z$14+W$14+T$14+Q$14+N$14+K$14+H$14+E$14+SUM(BK84,BN84,BQ84,BT84,BW84,BZ84,CC84,CF84,CI84,CL84,CO84,CR84,CU84),BG$14)))","v":0},{"$f":"IF((BG83-BF84)<=0.0001,0,(BG83-BF84)*(1+(BG$15/12)))","v":0},0,{"$f":"IF(AND(((BJ83-$N$3+BF84+BC84+AZ84+AW84+AT84+AQ84+AN84+AK84+AH84+AE84+AB84+Y84+V84+S84+P84+M84+J84+G84+D84-BJ$14-BG$14-BD$14-BA$14-AX$14-AU$14-AR$14-AO$14-AL$14-AI$14-AF$14-AC$14-Z$14-W$14-T$14-Q$14-N$14-K$14-H$14-E$14-SUM(BN84,BQ84,BT84,BW84,BZ84,CC84,CF84,CI84,CL84,CO84,CR84,CU84))<=0),BG84+BD84+BA84+AX84+AU84+AR84+AO84+AL84+AI84+AF84+AC84+Z84+W84+T84+Q84+N84+K84+H84+E84=0),BJ83,IF(BJ$14>=BJ83,BJ83,IF(AND(BG84=0,BD84=0,BA84=0,AX84=0,AU84=0,AR84=0,AO84=0,AL84=0,AI84=0,AF84=0,AC84=0,Z84=0,W84=0,T84=0,Q84=0,N84=0,K84=0,H84=0,E84=0),$N$3-BF84-BC84-AZ84-AW84-AT84-AQ84-AN84-AK84-AH84-AE84-AB84-Y84-V84-S84-P84-M84-J84-G84-D84+BJ$14+BG$14+BD$14+BA$14+AX$14+AU$14+AR$14+AO$14+AL$14+AI$14+AF$14+AC$14+Z$14+W$14+T$14+Q$14+N$14+K$14+H$14+E$14+SUM(BN84,BQ84,BT84,BW84,BZ84,CC84,CF84,CI84,CL84,CO84,CR84,CU84),BJ$14)))","v":0},{"$f":"IF((BJ83-BI84)<=0.0001,0,(BJ83-BI84)*(1+(BJ$15/12)))","v":0},0,{"$f":"IF(AND(((BM83-$N$3+BI84+BF84+BC84+AZ84+AW84+AT84+AQ84+AN84+AK84+AH84+AE84+AB84+Y84+V84+S84+P84+M84+J84+G84+D84-BM$14-BJ$14-BG$14-BD$14-BA$14-AX$14-AU$14-AR$14-AO$14-AL$14-AI$14-AF$14-AC$14-Z$14-W$14-T$14-Q$14-N$14-K$14-H$14-E$14-SUM(BQ84,BT84,BW84,BZ84,CC84,CF84,CI84,CL84,CO84,CR84,CU84))<=0),BJ84+BG84+BD84+BA84+AX84+AU84+AR84+AO84+AL84+AI84+AF84+AC84+Z84+W84+T84+Q84+N84+K84+H84+E84=0),BM83,IF(BM$14>=BM83,BM83,IF(AND(BJ84=0,BG84=0,BD84=0,BA84=0,AX84=0,AU84=0,AR84=0,AO84=0,AL84=0,AI84=0,AF84=0,AC84=0,Z84=0,W84=0,T84=0,Q84=0,N84=0,K84=0,H84=0,E84=0),$N$3-BI84-BF84-BC84-AZ84-AW84-AT84-AQ84-AN84-AK84-AH84-AE84-AB84-Y84-V84-S84-P84-M84-J84-G84-D84+BM$14+BJ$14+BG$14+BD$14+BA$14+AX$14+AU$14+AR$14+AO$14+AL$14+AI$14+AF$14+AC$14+Z$14+W$14+T$14+Q$14+N$14+K$14+H$14+E$14+SUM(BQ84,BT84,BW84,BZ84,CC84,CF84,CI84,CL84,CO84,CR84,CU84),BM$14)))","v":0},{"$f":"IF((BM83-BL84)<=0.0001,0,(BM83-BL84)*(1+(BM$15/12)))","v":0},0,{"$f":"IF(AND(((BP83-$N$3+BL84+BI84+BF84+BC84+AZ84+AW84+AT84+AQ84+AN84+AK84+AH84+AE84+AB84+Y84+V84+S84+P84+M84+J84+G84+D84-BP$14-BM$14-BJ$14-BG$14-BD$14-BA$14-AX$14-AU$14-AR$14-AO$14-AL$14-AI$14-AF$14-AC$14-Z$14-W$14-T$14-Q$14-N$14-K$14-H$14-E$14-SUM(BT84,BW84,BZ84,CC84,CF84,CI84,CL84,CO84,CR84,CU84))<=0),BM84+BJ84+BG84+BD84+BA84+AX84+AU84+AR84+AO84+AL84+AI84+AF84+AC84+Z84+W84+T84+Q84+N84+K84+H84+E84=0),BP83,IF(BP$14>=BP83,BP83,IF(AND(BM84=0,BJ84=0,BG84=0,BD84=0,BA84=0,AX84=0,AU84=0,AR84=0,AO84=0,AL84=0,AI84=0,AF84=0,AC84=0,Z84=0,W84=0,T84=0,Q84=0,N84=0,K84=0,H84=0,E84=0),$N$3-BL84-BI84-BF84-BC84-AZ84-AW84-AT84-AQ84-AN84-AK84-AH84-AE84-AB84-Y84-V84-S84-P84-M84-J84-G84-D84+BP$14+BM$14+BJ$14+BG$14+BD$14+BA$14+AX$14+AU$14+AR$14+AO$14+AL$14+AI$14+AF$14+AC$14+Z$14+W$14+T$14+Q$14+N$14+K$14+H$14+E$14+SUM(BT84,BW84,BZ84,CC84,CF84,CI84,CL84,CO84,CR84,CU84),BP$14)))","v":0},{"$f":"IF((BP83-BO84)<=0.0001,0,(BP83-BO84)*(1+(BP$15/12)))","v":0},0,{"$f":"IF(AND(((BS83-$N$3+BO84+BL84+BI84+BF84+BC84+AZ84+AW84+AT84+AQ84+AN84+AK84+AH84+AE84+AB84+Y84+V84+S84+P84+M84+J84+G84+D84-BS$14-BP$14-BM$14-BJ$14-BG$14-BD$14-BA$14-AX$14-AU$14-AR$14-AO$14-AL$14-AI$14-AF$14-AC$14-Z$14-W$14-T$14-Q$14-N$14-K$14-H$14-E$14-SUM(BW84,BZ84,CC84,CF84,CI84,CL84,CO84,CR84,CU84))<=0),BP84+BM84+BJ84+BG84+BD84+BA84+AX84+AU84+AR84+AO84+AL84+AI84+AF84+AC84+Z84+W84+T84+Q84+N84+K84+H84+E84=0),BS83,IF(BS$14>=BS83,BS83,IF(AND(BP84=0,BM84=0,BJ84=0,BG84=0,BD84=0,BA84=0,AX84=0,AU84=0,AR84=0,AO84=0,AL84=0,AI84=0,AF84=0,AC84=0,Z84=0,W84=0,T84=0,Q84=0,N84=0,K84=0,H84=0,E84=0),$N$3-BO84-BL84-BI84-BF84-BC84-AZ84-AW84-AT84-AQ84-AN84-AK84-AH84-AE84-AB84-Y84-V84-S84-P84-M84-J84-G84-D84+BS$14+BP$14+BM$14+BJ$14+BG$14+BD$14+BA$14+AX$14+AU$14+AR$14+AO$14+AL$14+AI$14+AF$14+AC$14+Z$14+W$14+T$14+Q$14+N$14+K$14+H$14+E$14+SUM(BW84,BZ84,CC84,CF84,CI84,CL84,CO84,CR84,CU84),BS$14)))","v":0},{"$f":"IF((BS83-BR84)<=0.0001,0,(BS83-BR84)*(1+(BS$15/12)))","v":0},0,{"$f":"IF(AND(((BV83-$N$3+BR84+BO84+BL84+BI84+BF84+BC84+AZ84+AW84+AT84+AQ84+AN84+AK84+AH84+AE84+AB84+Y84+V84+S84+P84+M84+J84+G84+D84-BV$14-BS$14-BP$14-BM$14-BJ$14-BG$14-BD$14-BA$14-AX$14-AU$14-AR$14-AO$14-AL$14-AI$14-AF$14-AC$14-Z$14-W$14-T$14-Q$14-N$14-K$14-H$14-E$14-SUM(BZ84,CC84,CF84,CI84,CL84,CO84,CR84,CU84))<=0),BS84+BP84+BM84+BJ84+BG84+BD84+BA84+AX84+AU84+AR84+AO84+AL84+AI84+AF84+AC84+Z84+W84+T84+Q84+N84+K84+H84+E84=0),BV83,IF(BV$14>=BV83,BV83,IF(AND(BS84=0,BP84=0,BM84=0,BJ84=0,BG84=0,BD84=0,BA84=0,AX84=0,AU84=0,AR84=0,AO84=0,AL84=0,AI84=0,AF84=0,AC84=0,Z84=0,W84=0,T84=0,Q84=0,N84=0,K84=0,H84=0,E84=0),$N$3-BR84-BO84-BL84-BI84-BF84-BC84-AZ84-AW84-AT84-AQ84-AN84-AK84-AH84-AE84-AB84-Y84-V84-S84-P84-M84-J84-G84-D84+BV$14+BS$14+BP$14+BM$14+BJ$14+BG$14+BD$14+BA$14+AX$14+AU$14+AR$14+AO$14+AL$14+AI$14+AF$14+AC$14+Z$14+W$14+T$14+Q$14+N$14+K$14+H$14+E$14+SUM(BZ84,CC84,CF84,CI84,CL84,CO84,CR84,CU84),BV$14)))","v":0},{"$f":"IF((BV83-BU84)<=0.0001,0,(BV83-BU84)*(1+(BV$15/12)))","v":0},0,{"$f":"IF(AND(((BY83-$N$3+BU84+BR84+BO84+BL84+BI84+BF84+BC84+AZ84+AW84+AT84+AQ84+AN84+AK84+AH84+AE84+AB84+Y84+V84+S84+P84+M84+J84+G84+D84-BY$14-BV$14-BS$14-BP$14-BM$14-BJ$14-BG$14-BD$14-BA$14-AX$14-AU$14-AR$14-AO$14-AL$14-AI$14-AF$14-AC$14-Z$14-W$14-T$14-Q$14-N$14-K$14-H$14-E$14-SUM(CC84,CF84,CI84,CL84,CO84,CR84,CU84))<=0),BV84+BS84+BP84+BM84+BJ84+BG84+BD84+BA84+AX84+AU84+AR84+AO84+AL84+AI84+AF84+AC84+Z84+W84+T84+Q84+N84+K84+H84+E84=0),BY83,IF(BY$14>=BY83,BY83,IF(AND(BV84=0,BS84=0,BP84=0,BM84=0,BJ84=0,BG84=0,BD84=0,BA84=0,AX84=0,AU84=0,AR84=0,AO84=0,AL84=0,AI84=0,AF84=0,AC84=0,Z84=0,W84=0,T84=0,Q84=0,N84=0,K84=0,H84=0,E84=0),$N$3-BU84-BR84-BO84-BL84-BI84-BF84-BC84-AZ84-AW84-AT84-AQ84-AN84-AK84-AH84-AE84-AB84-Y84-V84-S84-P84-M84-J84-G84-D84+BY$14+BV$14+BS$14+BP$14+BM$14+BJ$14+BG$14+BD$14+BA$14+AX$14+AU$14+AR$14+AO$14+AL$14+AI$14+AF$14+AC$14+Z$14+W$14+T$14+Q$14+N$14+K$14+H$14+E$14+SUM(CC84,CF84,CI84,CL84,CO84,CR84,CU84),BY$14)))","v":0},{"$f":"IF((BY83-BX84)<=0.0001,0,(BY83-BX84)*(1+(BY$15/12)))","v":0},0,{"$f":"IF(AND(((CB83-$N$3+BX84+BU84+BR84+BO84+BL84+BI84+BF84+BC84+AZ84+AW84+AT84+AQ84+AN84+AK84+AH84+AE84+AB84+Y84+V84+S84+P84+M84+J84+G84+D84-CB$14-BY$14-BV$14-BS$14-BP$14-BM$14-BJ$14-BG$14-BD$14-BA$14-AX$14-AU$14-AR$14-AO$14-AL$14-AI$14-AF$14-AC$14-Z$14-W$14-T$14-Q$14-N$14-K$14-H$14-E$14-SUM(CF84,CI84,CL84,CO84,CR84,CU84))<=0),BY84+BV84+BS84+BP84+BM84+BJ84+BG84+BD84+BA84+AX84+AU84+AR84+AO84+AL84+AI84+AF84+AC84+Z84+W84+T84+Q84+N84+K84+H84+E84=0),CB83,IF(CB$14>=CB83,CB83,IF(AND(BY84=0,BV84=0,BS84=0,BP84=0,BM84=0,BJ84=0,BG84=0,BD84=0,BA84=0,AX84=0,AU84=0,AR84=0,AO84=0,AL84=0,AI84=0,AF84=0,AC84=0,Z84=0,W84=0,T84=0,Q84=0,N84=0,K84=0,H84=0,E84=0),$N$3-BX84-BU84-BR84-BO84-BL84-BI84-BF84-BC84-AZ84-AW84-AT84-AQ84-AN84-AK84-AH84-AE84-AB84-Y84-V84-S84-P84-M84-J84-G84-D84+CB$14+BY$14+BV$14+BS$14+BP$14+BM$14+BJ$14+BG$14+BD$14+BA$14+AX$14+AU$14+AR$14+AO$14+AL$14+AI$14+AF$14+AC$14+Z$14+W$14+T$14+Q$14+N$14+K$14+H$14+E$14+SUM(CF84,CI84,CL84,CO84,CR84,CU84),CB$14)))","v":0},{"$f":"IF((CB83-CA84)<=0.0001,0,(CB83-CA84)*(1+(CB$15/12)))","v":0},0,{"$f":"IF(AND(((CE83-$N$3+CA84+BX84+BU84+BR84+BO84+BL84+BI84+BF84+BC84+AZ84+AW84+AT84+AQ84+AN84+AK84+AH84+AE84+AB84+Y84+V84+S84+P84+M84+J84+G84+D84-CE$14-CB$14-BY$14-BV$14-BS$14-BP$14-BM$14-BJ$14-BG$14-BD$14-BA$14-AX$14-AU$14-AR$14-AO$14-AL$14-AI$14-AF$14-AC$14-Z$14-W$14-T$14-Q$14-N$14-K$14-H$14-E$14-SUM(CI84,CL84,CO84,CR84,CU84))<=0),CB84+BY84+BV84+BS84+BP84+BM84+BJ84+BG84+BD84+BA84+AX84+AU84+AR84+AO84+AL84+AI84+AF84+AC84+Z84+W84+T84+Q84+N84+K84+H84+E84=0),CE83,IF(CE$14>=CE83,CE83,IF(AND(CB84=0,BY84=0,BV84=0,BS84=0,BP84=0,BM84=0,BJ84=0,BG84=0,BD84=0,BA84=0,AX84=0,AU84=0,AR84=0,AO84=0,AL84=0,AI84=0,AF84=0,AC84=0,Z84=0,W84=0,T84=0,Q84=0,N84=0,K84=0,H84=0,E84=0),$N$3-CA84-BX84-BU84-BR84-BO84-BL84-BI84-BF84-BC84-AZ84-AW84-AT84-AQ84-AN84-AK84-AH84-AE84-AB84-Y84-V84-S84-P84-M84-J84-G84-D84+CE$14+CB$14+BY$14+BV$14+BS$14+BP$14+BM$14+BJ$14+BG$14+BD$14+BA$14+AX$14+AU$14+AR$14+AO$14+AL$14+AI$14+AF$14+AC$14+Z$14+W$14+T$14+Q$14+N$14+K$14+H$14+E$14+SUM(CI84,CL84,CO84,CR84,CU84),CE$14)))","v":0},{"$f":"IF((CE83-CD84)<=0.0001,0,(CE83-CD84)*(1+(CE$15/12)))","v":0},0,{"$f":"IF(AND(((CH83-$N$3+CD84+CA84+BX84+BU84+BR84+BO84+BL84+BI84+BF84+BC84+AZ84+AW84+AT84+AQ84+AN84+AK84+AH84+AE84+AB84+Y84+V84+S84+P84+M84+J84+G84+D84-CH$14-CE$14-CB$14-BY$14-BV$14-BS$14-BP$14-BM$14-BJ$14-BG$14-BD$14-BA$14-AX$14-AU$14-AR$14-AO$14-AL$14-AI$14-AF$14-AC$14-Z$14-W$14-T$14-Q$14-N$14-K$14-H$14-E$14-SUM(CL84,CO84,CR84,CU84))<=0),CE84+CB84+BY84+BV84+BS84+BP84+BM84+BJ84+BG84+BD84+BA84+AX84+AU84+AR84+AO84+AL84+AI84+AF84+AC84+Z84+W84+T84+Q84+N84+K84+H84+E84=0),CH83,IF(CH$14>=CH83,CH83,IF(AND(CE84=0,CB84=0,BY84=0,BV84=0,BS84=0,BP84=0,BM84=0,BJ84=0,BG84=0,BD84=0,BA84=0,AX84=0,AU84=0,AR84=0,AO84=0,AL84=0,AI84=0,AF84=0,AC84=0,Z84=0,W84=0,T84=0,Q84=0,N84=0,K84=0,H84=0,E84=0),$N$3-CD84-CA84-BX84-BU84-BR84-BO84-BL84-BI84-BF84-BC84-AZ84-AW84-AT84-AQ84-AN84-AK84-AH84-AE84-AB84-Y84-V84-S84-P84-M84-J84-G84-D84+CH$14+CE$14+CB$14+BY$14+BV$14+BS$14+BP$14+BM$14+BJ$14+BG$14+BD$14+BA$14+AX$14+AU$14+AR$14+AO$14+AL$14+AI$14+AF$14+AC$14+Z$14+W$14+T$14+Q$14+N$14+K$14+H$14+E$14+SUM(CL84,CO84,CR84,CU84),CH$14)))","v":0},{"$f":"IF((CH83-CG84)<=0.0001,0,(CH83-CG84)*(1+(CH$15/12)))","v":0},0,{"$f":"IF(AND(((CK83-$N$3+CG84+CD84+CA84+BX84+BU84+BR84+BO84+BL84+BI84+BF84+BC84+AZ84+AW84+AT84+AQ84+AN84+AK84+AH84+AE84+AB84+Y84+V84+S84+P84+M84+J84+G84+D84-CK$14-CH$14-CE$14-CB$14-BY$14-BV$14-BS$14-BP$14-BM$14-BJ$14-BG$14-BD$14-BA$14-AX$14-AU$14-AR$14-AO$14-AL$14-AI$14-AF$14-AC$14-Z$14-W$14-T$14-Q$14-N$14-K$14-H$14-E$14-SUM(CO84,CR84,CU84))<=0),CH84+CE84+CB84+BY84+BV84+BS84+BP84+BM84+BJ84+BG84+BD84+BA84+AX84+AU84+AR84+AO84+AL84+AI84+AF84+AC84+Z84+W84+T84+Q84+N84+K84+H84+E84=0),CK83,IF(CK$14>=CK83,CK83,IF(AND(CH84=0,CE84=0,CB84=0,BY84=0,BV84=0,BS84=0,BP84=0,BM84=0,BJ84=0,BG84=0,BD84=0,BA84=0,AX84=0,AU84=0,AR84=0,AO84=0,AL84=0,AI84=0,AF84=0,AC84=0,Z84=0,W84=0,T84=0,Q84=0,N84=0,K84=0,H84=0,E84=0),$N$3-CG84-CD84-CA84-BX84-BU84-BR84-BO84-BL84-BI84-BF84-BC84-AZ84-AW84-AT84-AQ84-AN84-AK84-AH84-AE84-AB84-Y84-V84-S84-P84-M84-J84-G84-D84+CK$14+CH$14+CE$14+CB$14+BY$14+BV$14+BS$14+BP$14+BM$14+BJ$14+BG$14+BD$14+BA$14+AX$14+AU$14+AR$14+AO$14+AL$14+AI$14+AF$14+AC$14+Z$14+W$14+T$14+Q$14+N$14+K$14+H$14+E$14+SUM(CO84,CR84,CU84),CK$14)))","v":0},{"$f":"IF((CK83-CJ84)<=0.0001,0,(CK83-CJ84)*(1+(CK$15/12)))","v":0},0,{"$f":"IF(AND(((CN83-$N$3+CJ84+CG84+CD84+CA84+BX84+BU84+BR84+BO84+BL84+BI84+BF84+BC84+AZ84+AW84+AT84+AQ84+AN84+AK84+AH84+AE84+AB84+Y84+V84+S84+P84+M84+J84+G84+D84-CN$14-CK$14-CH$14-CE$14-CB$14-BY$14-BV$14-BS$14-BP$14-BM$14-BJ$14-BG$14-BD$14-BA$14-AX$14-AU$14-AR$14-AO$14-AL$14-AI$14-AF$14-AC$14-Z$14-W$14-T$14-Q$14-N$14-K$14-H$14-E$14-SUM(CR84,CU84))<=0),CK84+CH84+CE84+CB84+BY84+BV84+BS84+BP84+BM84+BJ84+BG84+BD84+BA84+AX84+AU84+AR84+AO84+AL84+AI84+AF84+AC84+Z84+W84+T84+Q84+N84+K84+H84+E84=0),CN83,IF(CN$14>=CN83,CN83,IF(AND(CK84=0,CH84=0,CE84=0,CB84=0,BY84=0,BV84=0,BS84=0,BP84=0,BM84=0,BJ84=0,BG84=0,BD84=0,BA84=0,AX84=0,AU84=0,AR84=0,AO84=0,AL84=0,AI84=0,AF84=0,AC84=0,Z84=0,W84=0,T84=0,Q84=0,N84=0,K84=0,H84=0,E84=0),$N$3-CJ84-CG84-CD84-CA84-BX84-BU84-BR84-BO84-BL84-BI84-BF84-BC84-AZ84-AW84-AT84-AQ84-AN84-AK84-AH84-AE84-AB84-Y84-V84-S84-P84-M84-J84-G84-D84+CN$14+CK$14+CH$14+CE$14+CB$14+BY$14+BV$14+BS$14+BP$14+BM$14+BJ$14+BG$14+BD$14+BA$14+AX$14+AU$14+AR$14+AO$14+AL$14+AI$14+AF$14+AC$14+Z$14+W$14+T$14+Q$14+N$14+K$14+H$14+E$14+SUM(CR84,CU84),CN$14)))","v":0},{"$f":"IF((CN83-CM84)<=0.0001,0,(CN83-CM84)*(1+(CN$15/12)))","v":0},0,{"$f":"IF(AND(((CQ83-$N$3+CM84+CJ84+CG84+CD84+CA84+BX84+BU84+BR84+BO84+BL84+BI84+BF84+BC84+AZ84+AW84+AT84+AQ84+AN84+AK84+AH84+AE84+AB84+Y84+V84+S84+P84+M84+J84+G84+D84-CQ$14-CN$14-CK$14-CH$14-CE$14-CB$14-BY$14-BV$14-BS$14-BP$14-BM$14-BJ$14-BG$14-BD$14-BA$14-AX$14-AU$14-AR$14-AO$14-AL$14-AI$14-AF$14-AC$14-Z$14-W$14-T$14-Q$14-N$14-K$14-H$14-E$14-SUM(CU84))<=0),CN84+CK84+CH84+CE84+CB84+BY84+BV84+BS84+BP84+BM84+BJ84+BG84+BD84+BA84+AX84+AU84+AR84+AO84+AL84+AI84+AF84+AC84+Z84+W84+T84+Q84+N84+K84+H84+E84=0),CQ83,IF(CQ$14>=CQ83,CQ83,IF(AND(CN84=0,CK84=0,CH84=0,CE84=0,CB84=0,BY84=0,BV84=0,BS84=0,BP84=0,BM84=0,BJ84=0,BG84=0,BD84=0,BA84=0,AX84=0,AU84=0,AR84=0,AO84=0,AL84=0,AI84=0,AF84=0,AC84=0,Z84=0,W84=0,T84=0,Q84=0,N84=0,K84=0,H84=0,E84=0),$N$3-CM84-CJ84-CG84-CD84-CA84-BX84-BU84-BR84-BO84-BL84-BI84-BF84-BC84-AZ84-AW84-AT84-AQ84-AN84-AK84-AH84-AE84-AB84-Y84-V84-S84-P84-M84-J84-G84-D84+CQ$14+CN$14+CK$14+CH$14+CE$14+CB$14+BY$14+BV$14+BS$14+BP$14+BM$14+BJ$14+BG$14+BD$14+BA$14+AX$14+AU$14+AR$14+AO$14+AL$14+AI$14+AF$14+AC$14+Z$14+W$14+T$14+Q$14+N$14+K$14+H$14+E$14+SUM(CU84),CQ$14)))","v":0},{"$f":"IF((CQ83-CP84)<=0.0001,0,(CQ83-CP84)*(1+(CQ$15/12)))","v":0},0,{"$f":"IF(AND(((CT83-$N$3+CP84+CM84+CJ84+CG84+CD84+CA84+BX84+BU84+BR84+BO84+BL84+BI84+BF84+BC84+AZ84+AW84+AT84+AQ84+AN84+AK84+AH84+AE84+AB84+Y84+V84+S84+P84+M84+J84+G84+D84-CT$14-CQ$14-CN$14-CK$14-CH$14-CE$14-CB$14-BY$14-BV$14-BS$14-BP$14-BM$14-BJ$14-BG$14-BD$14-BA$14-AX$14-AU$14-AR$14-AO$14-AL$14-AI$14-AF$14-AC$14-Z$14-W$14-T$14-Q$14-N$14-K$14-H$14-E$14)<=0),CQ84+CN84+CK84+CH84+CE84+CB84+BY84+BV84+BS84+BP84+BM84+BJ84+BG84+BD84+BA84+AX84+AU84+AR84+AO84+AL84+AI84+AF84+AC84+Z84+W84+T84+Q84+N84+K84+H84+E84=0),CT83,IF(CT$14>=CT83,CT83,IF(AND(CQ84=0,CN84=0,CK84=0,CH84=0,CE84=0,CB84=0,BY84=0,BV84=0,BS84=0,BP84=0,BM84=0,BJ84=0,BG84=0,BD84=0,BA84=0,AX84=0,AU84=0,AR84=0,AO84=0,AL84=0,AI84=0,AF84=0,AC84=0,Z84=0,W84=0,T84=0,Q84=0,N84=0,K84=0,H84=0,E84=0),$N$3-CP84-CM84-CJ84-CG84-CD84-CA84-BX84-BU84-BR84-BO84-BL84-BI84-BF84-BC84-AZ84-AW84-AT84-AQ84-AN84-AK84-AH84-AE84-AB84-Y84-V84-S84-P84-M84-J84-G84-D84+CT$14+CQ$14+CN$14+CK$14+CH$14+CE$14+CB$14+BY$14+BV$14+BS$14+BP$14+BM$14+BJ$14+BG$14+BD$14+BA$14+AX$14+AU$14+AR$14+AO$14+AL$14+AI$14+AF$14+AC$14+Z$14+W$14+T$14+Q$14+N$14+K$14+H$14+E$14,CT$14)))","v":0},{"$f":"IF((CT83-CS84)<=0.0001,0,(CT83-CS84)*(1+(CT$15/12)))","v":0},0,null,null,0,67,null,0,67,null,0,67,null,0,67,null,0,67,null,0,67,null,0,67,null,0,67,null,0,67,null,0,67,null,0,67,null,0,67,null,0,67,null,0,67,null,0,67,null,0,67,null,0,67,null,0,67,null,0,67,null,0,67,null,0,67,null,0,67,null,0,67,null,0,67,null,0,67,null,0,67,null,0,67,null,0,67,null,0,67,null,0,67,null,0,67,null,0,67]
[0,0,68,0,0,null,0,0,{"$f":"IF(H84=0,H$14,0)","v":{"v":40,"d":"$40.00"}},0,0,{"$f":"IF(K84=0,K$14,0)","v":{"v":60,"d":"$60.00"}},0,0,{"$f":"IF(N84=0,N$14,0)","v":0},0,0,{"$f":"IF(Q84=0,Q$14,0)","v":0},0,{"$f":"IF((T84-S85)<=0.0001,0,(T84-S85)*(1+(T$15/12)))","v":0},{"$f":"IF(T84=0,T$14,0)","v":0},0,0,{"$f":"IF(W84=0,W$14,0)","v":0},0,0,{"$f":"IF(Z84=0,Z$14,0)","v":0},0,0,{"$f":"IF(AC84=0,AC$14,0)","v":0},0,0,{"$f":"IF(AF84=0,AF$14,0)","v":0},0,0,{"$f":"IF(AI84=0,AI$14,0)","v":0},0,0,{"$f":"IF(AL84=0,AL$14,0)","v":0},0,0,{"$f":"IF(AO84=0,AO$14,0)","v":0},0,0,{"$f":"IF(AR84=0,AR$14,0)","v":0},0,0,{"$f":"IF(AU84=0,AU$14,0)","v":0},0,0,{"$f":"IF(AX84=0,AX$14,0)","v":0},0,0,{"$f":"IF(BA84=0,BA$14,0)","v":0},0,0,{"$f":"IF(BD84=0,BD$14,0)","v":0},0,0,{"$f":"IF(BG84=0,BG$14,0)","v":0},0,0,{"$f":"IF(BJ84=0,BJ$14,0)","v":0},0,0,{"$f":"IF(BM84=0,BM$14,0)","v":0},0,0,{"$f":"IF(BP84=0,BP$14,0)","v":0},0,0,{"$f":"IF(BS84=0,BS$14,0)","v":0},0,0,{"$f":"IF(BV84=0,BV$14,0)","v":0},0,0,{"$f":"IF(BY84=0,BY$14,0)","v":0},0,0,{"$f":"IF(CB84=0,CB$14,0)","v":0},0,0,{"$f":"IF(CE84=0,CE$14,0)","v":0},0,0,{"$f":"IF(CH84=0,CH$14,0)","v":0},0,0,{"$f":"IF(CK84=0,CK$14,0)","v":0},0,0,{"$f":"IF(CN84=0,CN$14,0)","v":0},0,0,{"$f":"IF(CQ84=0,CQ$14,0)","v":0},0,0,{"$f":"IF(CT84=0,CT$14,0)","v":0},null,null,0,68,null,0,68,null,0,68,null,0,68,null,0,68,null,0,68,null,0,68,null,0,68,null,0,68,null,0,68,null,0,68,null,0,68,null,0,68,null,0,68,null,0,68,null,0,68,null,0,68,null,0,68,null,0,68,null,0,68,null,0,68,null,0,68,null,0,68,null,0,68,null,0,68,null,0,68,null,0,68,null,0,68,null,0,68,null,0,68,null,0,68,null,0,68]
[0,0,69,0,{"$f":"IF((E85-D86)<=0.0001,0,(E85-D86)*(1+(E$15/12)))","v":0},null,0,0,{"v":40,"d":"$40.00"},0,0,{"v":60,"d":"$60.00"},0,0,0,0,0,0,0,0,0,0,0,0,0,0,0,0,0,{"$f":"IF(AC85=0,AC$14,0)","v":0},0,0,{"$f":"IF(AF85=0,AF$14,0)","v":0},0,0,{"$f":"IF(AI85=0,AI$14,0)","v":0},0,0,{"$f":"IF(AL85=0,AL$14,0)","v":0},0,0,{"$f":"IF(AO85=0,AO$14,0)","v":0},0,0,{"$f":"IF(AR85=0,AR$14,0)","v":0},0,0,{"$f":"IF(AU85=0,AU$14,0)","v":0},0,0,{"$f":"IF(AX85=0,AX$14,0)","v":0},0,0,0,0,0,0,0,0,0,0,0,0,0,0,0,0,0,0,0,0,0,0,0,0,0,0,0,0,0,0,0,0,0,0,0,0,0,0,0,0,0,0,0,0,0,0,0,0,null,null,0,69,null,0,69,null,0,69,null,0,69,null,0,69,null,0,69,null,0,69,null,0,69,null,0,69,null,0,69,null,0,69,null,0,69,null,0,69,null,0,69,null,0,69,null,0,69,null,0,69,null,0,69,null,0,69,null,0,69,null,0,69,null,0,69,null,0,69,null,0,69,null,0,69,null,0,69,null,0,69,null,0,69,null,0,69,null,0,69,null,0,69,null,0,69]
[0,0,70,0,0,null,0,0,{"v":40,"d":"$40.00"},0,0,{"v":60,"d":"$60.00"},0,0,0,0,0,0,0,0,0,0,0,0,0,0,0,0,0,{"$f":"IF(AC86=0,AC$14,0)","v":0},0,0,{"$f":"IF(AF86=0,AF$14,0)","v":0},0,0,{"$f":"IF(AI86=0,AI$14,0)","v":0},0,0,{"$f":"IF(AL86=0,AL$14,0)","v":0},0,0,{"$f":"IF(AO86=0,AO$14,0)","v":0},0,0,{"$f":"IF(AR86=0,AR$14,0)","v":0},0,0,{"$f":"IF(AU86=0,AU$14,0)","v":0},0,0,{"$f":"IF(AX86=0,AX$14,0)","v":0},0,0,0,0,0,0,0,0,0,0,0,0,0,0,0,0,0,0,0,0,0,0,0,0,0,0,0,0,0,0,0,0,0,0,0,0,0,0,0,0,0,0,0,0,0,0,0,0,null,null,0,70,null,0,70,null,0,70,null,0,70,null,0,70,null,0,70,null,0,70,null,0,70,null,0,70,null,0,70,null,0,70,null,0,70,null,0,70,null,0,70,null,0,70,null,0,70,null,0,70,null,0,70,null,0,70,null,0,70,null,0,70,null,0,70,null,0,70,null,0,70,null,0,70,null,0,70,null,0,70,null,0,70,null,0,70,null,0,70,null,0,70,null,0,70]
[0,0,71,0,0,null,0,0,{"v":40,"d":"$40.00"},0,0,{"v":60,"d":"$60.00"},0,0,0,0,0,0,0,0,0,0,0,0,0,0,0,0,0,{"$f":"IF(AC87=0,AC$14,0)","v":0},0,0,{"$f":"IF(AF87=0,AF$14,0)","v":0},0,0,{"$f":"IF(AI87=0,AI$14,0)","v":0},0,0,{"$f":"IF(AL87=0,AL$14,0)","v":0},0,0,{"$f":"IF(AO87=0,AO$14,0)","v":0},0,0,{"$f":"IF(AR87=0,AR$14,0)","v":0},0,0,{"$f":"IF(AU87=0,AU$14,0)","v":0},0,0,{"$f":"IF(AX87=0,AX$14,0)","v":0},0,0,0,0,0,0,0,0,0,0,0,0,0,0,0,0,0,0,0,0,0,0,0,0,0,0,0,0,0,0,0,0,0,0,0,0,0,0,0,0,0,0,0,0,0,0,0,0,null,null,0,71,null,0,71,null,0,71,null,0,71,null,0,71,null,0,71,null,0,71,null,0,71,null,0,71,null,0,71,null,0,71,null,0,71,null,0,71,null,0,71,null,0,71,null,0,71,null,0,71,null,0,71,null,0,71,null,0,71,null,0,71,null,0,71,null,0,71,null,0,71,null,0,71,null,0,71,null,0,71,null,0,71,null,0,71,null,0,71,null,0,71,null,0,71]
[0,0,72,0,0,null,0,0,{"v":40,"d":"$40.00"},0,0,{"v":60,"d":"$60.00"},0,0,0,0,0,0,0,0,0,0,0,0,0,0,0,0,0,{"$f":"IF(AC88=0,AC$14,0)","v":0},0,0,{"$f":"IF(AF88=0,AF$14,0)","v":0},0,0,{"$f":"IF(AI88=0,AI$14,0)","v":0},0,0,{"$f":"IF(AL88=0,AL$14,0)","v":0},0,0,{"$f":"IF(AO88=0,AO$14,0)","v":0},0,0,{"$f":"IF(AR88=0,AR$14,0)","v":0},0,0,{"$f":"IF(AU88=0,AU$14,0)","v":0},0,0,{"$f":"IF(AX88=0,AX$14,0)","v":0},0,0,0,0,0,0,0,0,0,0,0,0,0,0,0,0,0,0,0,0,0,0,0,0,0,0,0,0,0,0,0,0,0,0,0,0,0,0,0,0,0,0,0,0,0,0,0,0,null,null,0,72,null,0,72,null,0,72,null,0,72,null,0,72,null,0,72,null,0,72,null,0,72,null,0,72,null,0,72,null,0,72,null,0,72,null,0,72,null,0,72,null,0,72,null,0,72,null,0,72,null,0,72,null,0,72,null,0,72,null,0,72,null,0,72,null,0,72,null,0,72,null,0,72,null,0,72,null,0,72,null,0,72,null,0,72,null,0,72,null,0,72,null,0,72]
[0,0,73,0,0,null,0,0,{"v":40,"d":"$40.00"},0,0,{"v":60,"d":"$60.00"},0,0,0,0,0,0,0,0,0,0,0,0,0,0,0,0,0,{"$f":"IF(AC89=0,AC$14,0)","v":0},0,0,{"$f":"IF(AF89=0,AF$14,0)","v":0},0,0,{"$f":"IF(AI89=0,AI$14,0)","v":0},0,0,{"$f":"IF(AL89=0,AL$14,0)","v":0},0,0,{"$f":"IF(AO89=0,AO$14,0)","v":0},0,0,{"$f":"IF(AR89=0,AR$14,0)","v":0},0,0,{"$f":"IF(AU89=0,AU$14,0)","v":0},0,0,{"$f":"IF(AX89=0,AX$14,0)","v":0},0,0,0,0,0,0,0,0,0,0,0,0,0,0,0,0,0,0,0,0,0,0,0,0,0,0,0,0,0,0,0,0,0,0,0,0,0,0,0,0,0,0,0,0,0,0,0,0,null,null,0,73,null,0,73,null,0,73,null,0,73,null,0,73,null,0,73,null,0,73,null,0,73,null,0,73,null,0,73,null,0,73,null,0,73,null,0,73,null,0,73,null,0,73,null,0,73,null,0,73,null,0,73,null,0,73,null,0,73,null,0,73,null,0,73,null,0,73,null,0,73,null,0,73,null,0,73,null,0,73,null,0,73,null,0,73,null,0,73,null,0,73,null,0,73]
[0,0,74,0,0,null,0,0,{"v":40,"d":"$40.00"},0,0,{"v":60,"d":"$60.00"},0,0,0,0,0,0,0,0,0,0,0,0,0,0,0,0,0,{"$f":"IF(AC90=0,AC$14,0)","v":0},0,0,{"$f":"IF(AF90=0,AF$14,0)","v":0},0,0,{"$f":"IF(AI90=0,AI$14,0)","v":0},0,0,{"$f":"IF(AL90=0,AL$14,0)","v":0},0,0,{"$f":"IF(AO90=0,AO$14,0)","v":0},0,0,{"$f":"IF(AR90=0,AR$14,0)","v":0},0,0,{"$f":"IF(AU90=0,AU$14,0)","v":0},0,0,{"$f":"IF(AX90=0,AX$14,0)","v":0},0,0,0,0,0,0,0,0,0,0,0,0,0,0,0,0,0,0,0,0,0,0,0,0,0,0,0,0,0,0,0,0,0,0,0,0,0,0,0,0,0,0,0,0,0,0,0,0,null,null,0,74,null,0,74,null,0,74,null,0,74,null,0,74,null,0,74,null,0,74,null,0,74,null,0,74,null,0,74,null,0,74,null,0,74,null,0,74,null,0,74,null,0,74,null,0,74,null,0,74,null,0,74,null,0,74,null,0,74,null,0,74,null,0,74,null,0,74,null,0,74,null,0,74,null,0,74,null,0,74,null,0,74,null,0,74,null,0,74,null,0,74,null,0,74]
[0,0,75,0,0,null,0,0,{"v":40,"d":"$40.00"},0,0,{"v":60,"d":"$60.00"},0,0,0,0,0,0,0,0,0,0,0,0,0,0,0,0,0,{"$f":"IF(AC91=0,AC$14,0)","v":0},0,0,{"$f":"IF(AF91=0,AF$14,0)","v":0},0,0,{"$f":"IF(AI91=0,AI$14,0)","v":0},0,0,{"$f":"IF(AL91=0,AL$14,0)","v":0},0,0,{"$f":"IF(AO91=0,AO$14,0)","v":0},0,0,{"$f":"IF(AR91=0,AR$14,0)","v":0},0,0,{"$f":"IF(AU91=0,AU$14,0)","v":0},0,0,{"$f":"IF(AX91=0,AX$14,0)","v":0},0,0,0,0,0,0,0,0,0,0,0,0,0,0,0,0,0,0,0,0,0,0,0,0,0,0,0,0,0,0,0,0,0,0,0,0,0,0,0,0,0,0,0,0,0,0,0,0,null,null,0,75,null,0,75,null,0,75,null,0,75,null,0,75,null,0,75,null,0,75,null,0,75,null,0,75,null,0,75,null,0,75,null,0,75,null,0,75,null,0,75,null,0,75,null,0,75,null,0,75,null,0,75,null,0,75,null,0,75,null,0,75,null,0,75,null,0,75,null,0,75,null,0,75,null,0,75,null,0,75,null,0,75,null,0,75,null,0,75,null,0,75,null,0,75]
[0,0,76,0,0,null,0,0,{"v":40,"d":"$40.00"},0,0,{"v":60,"d":"$60.00"},0,0,0,0,0,0,0,0,0,0,0,0,0,0,0,0,0,{"$f":"IF(AC92=0,AC$14,0)","v":0},0,0,{"$f":"IF(AF92=0,AF$14,0)","v":0},0,0,{"$f":"IF(AI92=0,AI$14,0)","v":0},0,0,{"$f":"IF(AL92=0,AL$14,0)","v":0},0,0,{"$f":"IF(AO92=0,AO$14,0)","v":0},0,0,{"$f":"IF(AR92=0,AR$14,0)","v":0},0,0,{"$f":"IF(AU92=0,AU$14,0)","v":0},0,0,{"$f":"IF(AX92=0,AX$14,0)","v":0},0,0,0,0,0,0,0,0,0,0,0,0,0,0,0,0,0,0,0,0,0,0,0,0,0,0,0,0,0,0,0,0,0,0,0,0,0,0,0,0,0,0,0,0,0,0,0,0,null,null,0,76,null,0,76,null,0,76,null,0,76,null,0,76,null,0,76,null,0,76,null,0,76,null,0,76,null,0,76,null,0,76,null,0,76,null,0,76,null,0,76,null,0,76,null,0,76,null,0,76,null,0,76,null,0,76,null,0,76,null,0,76,null,0,76,null,0,76,null,0,76,null,0,76,null,0,76,null,0,76,null,0,76,null,0,76,null,0,76,null,0,76,null,0,76]
[0,0,77,0,0,null,0,0,{"v":40,"d":"$40.00"},0,0,{"v":60,"d":"$60.00"},0,0,0,0,0,0,0,0,0,0,0,0,0,0,0,0,0,{"$f":"IF(AC93=0,AC$14,0)","v":0},0,0,{"$f":"IF(AF93=0,AF$14,0)","v":0},0,0,{"$f":"IF(AI93=0,AI$14,0)","v":0},0,0,{"$f":"IF(AL93=0,AL$14,0)","v":0},0,0,{"$f":"IF(AO93=0,AO$14,0)","v":0},0,0,{"$f":"IF(AR93=0,AR$14,0)","v":0},0,0,{"$f":"IF(AU93=0,AU$14,0)","v":0},0,0,{"$f":"IF(AX93=0,AX$14,0)","v":0},0,0,0,0,0,0,0,0,0,0,0,0,0,0,0,0,0,0,0,0,0,0,0,0,0,0,0,0,0,0,0,0,0,0,0,0,0,0,0,0,0,0,0,0,0,0,0,0,null,null,0,77,null,0,77,null,0,77,null,0,77,null,0,77,null,0,77,null,0,77,null,0,77,null,0,77,null,0,77,null,0,77,null,0,77,null,0,77,null,0,77,null,0,77,null,0,77,null,0,77,null,0,77,null,0,77,null,0,77,null,0,77,null,0,77,null,0,77,null,0,77,null,0,77,null,0,77,null,0,77,null,0,77,null,0,77,null,0,77,null,0,77,null,0,77]
[0,0,78,0,0,null,0,0,{"v":40,"d":"$40.00"},0,0,{"v":60,"d":"$60.00"},0,0,0,0,0,0,0,0,0,0,0,0,0,0,0,0,0,{"$f":"IF(AC94=0,AC$14,0)","v":0},0,0,{"$f":"IF(AF94=0,AF$14,0)","v":0},0,0,{"$f":"IF(AI94=0,AI$14,0)","v":0},0,0,{"$f":"IF(AL94=0,AL$14,0)","v":0},0,0,{"$f":"IF(AO94=0,AO$14,0)","v":0},0,0,{"$f":"IF(AR94=0,AR$14,0)","v":0},0,0,{"$f":"IF(AU94=0,AU$14,0)","v":0},0,0,{"$f":"IF(AX94=0,AX$14,0)","v":0},0,0,0,0,0,0,0,0,0,0,0,0,0,0,0,0,0,0,0,0,0,0,0,0,0,0,0,0,0,0,0,0,0,0,0,0,0,0,0,0,0,0,0,0,0,0,0,0,null,null,0,78,null,0,78,null,0,78,null,0,78,null,0,78,null,0,78,null,0,78,null,0,78,null,0,78,null,0,78,null,0,78,null,0,78,null,0,78,null,0,78,null,0,78,null,0,78,null,0,78,null,0,78,null,0,78,null,0,78,null,0,78,null,0,78,null,0,78,null,0,78,null,0,78,null,0,78,null,0,78,null,0,78,null,0,78,null,0,78,null,0,78,null,0,78]
[0,0,79,0,0,null,0,0,{"v":40,"d":"$40.00"},0,0,{"v":60,"d":"$60.00"},0,0,0,0,0,0,0,0,0,0,0,0,0,0,0,0,0,{"$f":"IF(AC95=0,AC$14,0)","v":0},0,0,{"$f":"IF(AF95=0,AF$14,0)","v":0},0,0,{"$f":"IF(AI95=0,AI$14,0)","v":0},0,0,{"$f":"IF(AL95=0,AL$14,0)","v":0},0,0,{"$f":"IF(AO95=0,AO$14,0)","v":0},0,0,{"$f":"IF(AR95=0,AR$14,0)","v":0},0,0,{"$f":"IF(AU95=0,AU$14,0)","v":0},0,0,{"$f":"IF(AX95=0,AX$14,0)","v":0},0,0,0,0,0,0,0,0,0,0,0,0,0,0,0,0,0,0,0,0,0,0,0,0,0,0,0,0,0,0,0,0,0,0,0,0,0,0,0,0,0,0,0,0,0,0,0,0,null,null,0,79,null,0,79,null,0,79,null,0,79,null,0,79,null,0,79,null,0,79,null,0,79,null,0,79,null,0,79,null,0,79,null,0,79,null,0,79,null,0,79,null,0,79,null,0,79,null,0,79,null,0,79,null,0,79,null,0,79,null,0,79,null,0,79,null,0,79,null,0,79,null,0,79,null,0,79,null,0,79,null,0,79,null,0,79,null,0,79,null,0,79,null,0,79]
[0,0,80,0,0,null,0,0,{"v":40,"d":"$40.00"},0,0,{"v":60,"d":"$60.00"},0,0,0,0,0,0,0,0,0,0,0,0,0,0,0,0,0,{"$f":"IF(AC96=0,AC$14,0)","v":0},0,0,{"$f":"IF(AF96=0,AF$14,0)","v":0},0,0,{"$f":"IF(AI96=0,AI$14,0)","v":0},0,0,{"$f":"IF(AL96=0,AL$14,0)","v":0},0,0,{"$f":"IF(AO96=0,AO$14,0)","v":0},0,0,{"$f":"IF(AR96=0,AR$14,0)","v":0},0,0,{"$f":"IF(AU96=0,AU$14,0)","v":0},0,0,{"$f":"IF(AX96=0,AX$14,0)","v":0},0,0,0,0,0,0,0,0,0,0,0,0,0,0,0,0,0,0,0,0,0,0,0,0,0,0,0,0,0,0,0,0,0,0,0,0,0,0,0,0,0,0,0,0,0,0,0,0,null,null,0,80,null,0,80,null,0,80,null,0,80,null,0,80,null,0,80,null,0,80,null,0,80,null,0,80,null,0,80,null,0,80,null,0,80,null,0,80,null,0,80,null,0,80,null,0,80,null,0,80,null,0,80,null,0,80,null,0,80,null,0,80,null,0,80,null,0,80,null,0,80,null,0,80,null,0,80,null,0,80,null,0,80,null,0,80,null,0,80,null,0,80,null,0,80]
[0,0,81,0,0,null,0,0,{"v":40,"d":"$40.00"},0,0,{"v":60,"d":"$60.00"},0,0,0,0,0,0,0,0,0,0,0,0,0,0,0,0,0,{"$f":"IF(AC97=0,AC$14,0)","v":0},0,0,{"$f":"IF(AF97=0,AF$14,0)","v":0},0,0,{"$f":"IF(AI97=0,AI$14,0)","v":0},0,0,{"$f":"IF(AL97=0,AL$14,0)","v":0},0,0,{"$f":"IF(AO97=0,AO$14,0)","v":0},0,0,{"$f":"IF(AR97=0,AR$14,0)","v":0},0,0,{"$f":"IF(AU97=0,AU$14,0)","v":0},0,0,{"$f":"IF(AX97=0,AX$14,0)","v":0},0,0,0,0,0,0,0,0,0,0,0,0,0,0,0,0,0,0,0,0,0,0,0,0,0,0,0,0,0,0,0,0,0,0,0,0,0,0,0,0,0,0,0,0,0,0,0,0,null,null,0,81,null,0,81,null,0,81,null,0,81,null,0,81,null,0,81,null,0,81,null,0,81,null,0,81,null,0,81,null,0,81,null,0,81,null,0,81,null,0,81,null,0,81,null,0,81,null,0,81,null,0,81,null,0,81,null,0,81,null,0,81,null,0,81,null,0,81,null,0,81,null,0,81,null,0,81,null,0,81,null,0,81,null,0,81,null,0,81,null,0,81,null,0,81]
[0,0,82,0,0,null,0,0,{"v":40,"d":"$40.00"},0,0,{"v":60,"d":"$60.00"},0,0,0,0,0,0,0,0,0,0,0,0,0,0,0,0,0,{"$f":"IF(AC98=0,AC$14,0)","v":0},0,0,{"$f":"IF(AF98=0,AF$14,0)","v":0},0,0,{"$f":"IF(AI98=0,AI$14,0)","v":0},0,0,{"$f":"IF(AL98=0,AL$14,0)","v":0},0,0,{"$f":"IF(AO98=0,AO$14,0)","v":0},0,0,{"$f":"IF(AR98=0,AR$14,0)","v":0},0,0,{"$f":"IF(AU98=0,AU$14,0)","v":0},0,0,{"$f":"IF(AX98=0,AX$14,0)","v":0},0,0,0,0,0,0,0,0,0,0,0,0,0,0,0,0,0,0,0,0,0,0,0,0,0,0,0,0,0,0,0,0,0,0,0,0,0,0,0,0,0,0,0,0,0,0,0,0,null,null,0,82,null,0,82,null,0,82,null,0,82,null,0,82,null,0,82,null,0,82,null,0,82,null,0,82,null,0,82,null,0,82,null,0,82,null,0,82,null,0,82,null,0,82,null,0,82,null,0,82,null,0,82,null,0,82,null,0,82,null,0,82,null,0,82,null,0,82,null,0,82,null,0,82,null,0,82,null,0,82,null,0,82,null,0,82,null,0,82,null,0,82,null,0,82]
[0,0,83,0,0,null,0,0,{"v":40,"d":"$40.00"},0,0,{"v":60,"d":"$60.00"},0,0,0,0,0,0,0,0,0,0,0,0,0,0,0,0,0,{"$f":"IF(AC99=0,AC$14,0)","v":0},0,0,{"$f":"IF(AF99=0,AF$14,0)","v":0},0,0,{"$f":"IF(AI99=0,AI$14,0)","v":0},0,0,{"$f":"IF(AL99=0,AL$14,0)","v":0},0,0,{"$f":"IF(AO99=0,AO$14,0)","v":0},0,0,{"$f":"IF(AR99=0,AR$14,0)","v":0},0,0,{"$f":"IF(AU99=0,AU$14,0)","v":0},0,0,{"$f":"IF(AX99=0,AX$14,0)","v":0},0,0,0,0,0,0,0,0,0,0,0,0,0,0,0,0,0,0,0,0,0,0,0,0,0,0,0,0,0,0,0,0,0,0,0,0,0,0,0,0,0,0,0,0,0,0,0,0,null,null,0,83,null,0,83,null,0,83,null,0,83,null,0,83,null,0,83,null,0,83,null,0,83,null,0,83,null,0,83,null,0,83,null,0,83,null,0,83,null,0,83,null,0,83,null,0,83,null,0,83,null,0,83,null,0,83,null,0,83,null,0,83,null,0,83,null,0,83,null,0,83,null,0,83,null,0,83,null,0,83,null,0,83,null,0,83,null,0,83,null,0,83,null,0,83]
[0,0,84,0,0,null,0,0,{"v":40,"d":"$40.00"},0,0,{"v":60,"d":"$60.00"},0,0,0,0,0,0,0,0,0,0,0,0,0,0,0,0,0,{"$f":"IF(AC100=0,AC$14,0)","v":0},0,0,{"$f":"IF(AF100=0,AF$14,0)","v":0},0,0,{"$f":"IF(AI100=0,AI$14,0)","v":0},0,0,{"$f":"IF(AL100=0,AL$14,0)","v":0},0,0,{"$f":"IF(AO100=0,AO$14,0)","v":0},0,0,{"$f":"IF(AR100=0,AR$14,0)","v":0},0,0,{"$f":"IF(AU100=0,AU$14,0)","v":0},0,0,{"$f":"IF(AX100=0,AX$14,0)","v":0},0,0,0,0,0,0,0,0,0,0,0,0,0,0,0,0,0,0,0,0,0,0,0,0,0,0,0,0,0,0,0,0,0,0,0,0,0,0,0,0,0,0,0,0,0,0,0,0,null,null,0,84,null,0,84,null,0,84,null,0,84,null,0,84,null,0,84,null,0,84,null,0,84,null,0,84,null,0,84,null,0,84,null,0,84,null,0,84,null,0,84,null,0,84,null,0,84,null,0,84,null,0,84,null,0,84,null,0,84,null,0,84,null,0,84,null,0,84,null,0,84,null,0,84,null,0,84,null,0,84,null,0,84,null,0,84,null,0,84,null,0,84,null,0,84]
[0,0,85,0,0,null,0,0,{"v":40,"d":"$40.00"},0,0,{"v":60,"d":"$60.00"},0,0,0,0,0,0,0,0,0,0,0,0,0,0,0,0,0,{"$f":"IF(AC101=0,AC$14,0)","v":0},0,0,{"$f":"IF(AF101=0,AF$14,0)","v":0},0,0,{"$f":"IF(AI101=0,AI$14,0)","v":0},0,0,{"$f":"IF(AL101=0,AL$14,0)","v":0},0,0,{"$f":"IF(AO101=0,AO$14,0)","v":0},0,0,{"$f":"IF(AR101=0,AR$14,0)","v":0},0,0,{"$f":"IF(AU101=0,AU$14,0)","v":0},0,0,{"$f":"IF(AX101=0,AX$14,0)","v":0},0,0,0,0,0,0,0,0,0,0,0,0,0,0,0,0,0,0,0,0,0,0,0,0,0,0,0,0,0,0,0,0,0,0,0,0,0,0,0,0,0,0,0,0,0,0,0,0,null,null,0,85,null,0,85,null,0,85,null,0,85,null,0,85,null,0,85,null,0,85,null,0,85,null,0,85,null,0,85,null,0,85,null,0,85,null,0,85,null,0,85,null,0,85,null,0,85,null,0,85,null,0,85,null,0,85,null,0,85,null,0,85,null,0,85,null,0,85,null,0,85,null,0,85,null,0,85,null,0,85,null,0,85,null,0,85,null,0,85,null,0,85,null,0,85]
[0,0,86,0,0,null,0,0,{"v":40,"d":"$40.00"},0,0,{"v":60,"d":"$60.00"},0,0,0,0,0,0,0,0,0,0,0,0,0,0,0,0,0,{"$f":"IF(AC102=0,AC$14,0)","v":0},0,0,{"$f":"IF(AF102=0,AF$14,0)","v":0},0,0,{"$f":"IF(AI102=0,AI$14,0)","v":0},0,0,{"$f":"IF(AL102=0,AL$14,0)","v":0},0,0,{"$f":"IF(AO102=0,AO$14,0)","v":0},0,0,{"$f":"IF(AR102=0,AR$14,0)","v":0},0,0,{"$f":"IF(AU102=0,AU$14,0)","v":0},0,0,{"$f":"IF(AX102=0,AX$14,0)","v":0},0,0,0,0,0,0,0,0,0,0,0,0,0,0,0,0,0,0,0,0,0,0,0,0,0,0,0,0,0,0,0,0,0,0,0,0,0,0,0,0,0,0,0,0,0,0,0,0,null,null,0,86,null,0,86,null,0,86,null,0,86,null,0,86,null,0,86,null,0,86,null,0,86,null,0,86,null,0,86,null,0,86,null,0,86,null,0,86,null,0,86,null,0,86,null,0,86,null,0,86,null,0,86,null,0,86,null,0,86,null,0,86,null,0,86,null,0,86,null,0,86,null,0,86,null,0,86,null,0,86,null,0,86,null,0,86,null,0,86,null,0,86,null,0,86]
[0,0,87,0,0,null,0,0,{"v":40,"d":"$40.00"},0,0,{"v":60,"d":"$60.00"},0,0,0,0,0,0,0,0,0,0,0,0,0,0,0,0,0,{"$f":"IF(AC103=0,AC$14,0)","v":0},0,0,{"$f":"IF(AF103=0,AF$14,0)","v":0},0,0,{"$f":"IF(AI103=0,AI$14,0)","v":0},0,0,{"$f":"IF(AL103=0,AL$14,0)","v":0},0,0,{"$f":"IF(AO103=0,AO$14,0)","v":0},0,0,{"$f":"IF(AR103=0,AR$14,0)","v":0},0,0,{"$f":"IF(AU103=0,AU$14,0)","v":0},0,0,{"$f":"IF(AX103=0,AX$14,0)","v":0},0,0,0,0,0,0,0,0,0,0,0,0,0,0,0,0,0,0,0,0,0,0,0,0,0,0,0,0,0,0,0,0,0,0,0,0,0,0,0,0,0,0,0,0,0,0,0,0,null,null,0,87,null,0,87,null,0,87,null,0,87,null,0,87,null,0,87,null,0,87,null,0,87,null,0,87,null,0,87,null,0,87,null,0,87,null,0,87,null,0,87,null,0,87,null,0,87,null,0,87,null,0,87,null,0,87,null,0,87,null,0,87,null,0,87,null,0,87,null,0,87,null,0,87,null,0,87,null,0,87,null,0,87,null,0,87,null,0,87,null,0,87,null,0,87]
[0,0,88,0,0,null,0,0,{"v":40,"d":"$40.00"},0,0,{"v":60,"d":"$60.00"},0,0,0,0,0,0,0,0,0,0,0,0,0,0,0,0,0,{"$f":"IF(AC104=0,AC$14,0)","v":0},0,0,{"$f":"IF(AF104=0,AF$14,0)","v":0},0,0,{"$f":"IF(AI104=0,AI$14,0)","v":0},0,0,{"$f":"IF(AL104=0,AL$14,0)","v":0},0,0,{"$f":"IF(AO104=0,AO$14,0)","v":0},0,0,{"$f":"IF(AR104=0,AR$14,0)","v":0},0,0,{"$f":"IF(AU104=0,AU$14,0)","v":0},0,0,{"$f":"IF(AX104=0,AX$14,0)","v":0},0,0,0,0,0,0,0,0,0,0,0,0,0,0,0,0,0,0,0,0,0,0,0,0,0,0,0,0,0,0,0,0,0,0,0,0,0,0,0,0,0,0,0,0,0,0,0,0,null,null,0,88,null,0,88,null,0,88,null,0,88,null,0,88,null,0,88,null,0,88,null,0,88,null,0,88,null,0,88,null,0,88,null,0,88,null,0,88,null,0,88,null,0,88,null,0,88,null,0,88,null,0,88,null,0,88,null,0,88,null,0,88,null,0,88,null,0,88,null,0,88,null,0,88,null,0,88,null,0,88,null,0,88,null,0,88,null,0,88,null,0,88,null,0,88]
[0,0,89,0,0,null,0,0,{"v":40,"d":"$40.00"},0,0,{"v":60,"d":"$60.00"},0,0,0,0,0,0,0,0,0,0,0,0,0,0,0,0,0,{"$f":"IF(AC105=0,AC$14,0)","v":0},0,0,{"$f":"IF(AF105=0,AF$14,0)","v":0},0,0,{"$f":"IF(AI105=0,AI$14,0)","v":0},0,0,{"$f":"IF(AL105=0,AL$14,0)","v":0},0,0,{"$f":"IF(AO105=0,AO$14,0)","v":0},0,0,{"$f":"IF(AR105=0,AR$14,0)","v":0},0,0,{"$f":"IF(AU105=0,AU$14,0)","v":0},0,0,{"$f":"IF(AX105=0,AX$14,0)","v":0},0,0,0,0,0,0,0,0,0,0,0,0,0,0,0,0,0,0,0,0,0,0,0,0,0,0,0,0,0,0,0,0,0,0,0,0,0,0,0,0,0,0,0,0,0,0,0,0,null,null,0,89,null,0,89,null,0,89,null,0,89,null,0,89,null,0,89,null,0,89,null,0,89,null,0,89,null,0,89,null,0,89,null,0,89,null,0,89,null,0,89,null,0,89,null,0,89,null,0,89,null,0,89,null,0,89,null,0,89,null,0,89,null,0,89,null,0,89,null,0,89,null,0,89,null,0,89,null,0,89,null,0,89,null,0,89,null,0,89,null,0,89,null,0,89]
[0,0,90,0,0,null,0,0,{"v":40,"d":"$40.00"},0,0,{"v":60,"d":"$60.00"},0,0,0,0,0,0,0,0,0,0,0,0,0,0,0,0,0,{"$f":"IF(AC106=0,AC$14,0)","v":0},0,0,{"$f":"IF(AF106=0,AF$14,0)","v":0},0,0,{"$f":"IF(AI106=0,AI$14,0)","v":0},0,0,{"$f":"IF(AL106=0,AL$14,0)","v":0},0,0,{"$f":"IF(AO106=0,AO$14,0)","v":0},0,0,{"$f":"IF(AR106=0,AR$14,0)","v":0},0,0,{"$f":"IF(AU106=0,AU$14,0)","v":0},0,0,{"$f":"IF(AX106=0,AX$14,0)","v":0},0,0,0,0,0,0,0,0,0,0,0,0,0,0,0,0,0,0,0,0,0,0,0,0,0,0,0,0,0,0,0,0,0,0,0,0,0,0,0,0,0,0,0,0,0,0,0,0,null,null,0,90,null,0,90,null,0,90,null,0,90,null,0,90,null,0,90,null,0,90,null,0,90,null,0,90,null,0,90,null,0,90,null,0,90,null,0,90,null,0,90,null,0,90,null,0,90,null,0,90,null,0,90,null,0,90,null,0,90,null,0,90,null,0,90,null,0,90,null,0,90,null,0,90,null,0,90,null,0,90,null,0,90,null,0,90,null,0,90,null,0,90,null,0,90]
[0,0,91,0,0,null,0,0,{"v":40,"d":"$40.00"},0,0,{"v":60,"d":"$60.00"},0,0,0,0,0,0,0,0,0,0,0,0,0,0,0,0,0,{"$f":"IF(AC107=0,AC$14,0)","v":0},0,0,{"$f":"IF(AF107=0,AF$14,0)","v":0},0,0,{"$f":"IF(AI107=0,AI$14,0)","v":0},0,0,{"$f":"IF(AL107=0,AL$14,0)","v":0},0,0,{"$f":"IF(AO107=0,AO$14,0)","v":0},0,0,{"$f":"IF(AR107=0,AR$14,0)","v":0},0,0,{"$f":"IF(AU107=0,AU$14,0)","v":0},0,0,{"$f":"IF(AX107=0,AX$14,0)","v":0},0,0,0,0,0,0,0,0,0,0,0,0,0,0,0,0,0,0,0,0,0,0,0,0,0,0,0,0,0,0,0,0,0,0,0,0,0,0,0,0,0,0,0,0,0,0,0,0,null,null,0,91,null,0,91,null,0,91,null,0,91,null,0,91,null,0,91,null,0,91,null,0,91,null,0,91,null,0,91,null,0,91,null,0,91,null,0,91,null,0,91,null,0,91,null,0,91,null,0,91,null,0,91,null,0,91,null,0,91,null,0,91,null,0,91,null,0,91,null,0,91,null,0,91,null,0,91,null,0,91,null,0,91,null,0,91,null,0,91,null,0,91,null,0,91]
[0,0,92,0,0,null,0,0,{"v":40,"d":"$40.00"},0,0,{"v":60,"d":"$60.00"},0,0,0,0,0,0,0,0,0,0,0,0,0,0,0,0,0,{"$f":"IF(AC108=0,AC$14,0)","v":0},0,0,{"$f":"IF(AF108=0,AF$14,0)","v":0},0,0,{"$f":"IF(AI108=0,AI$14,0)","v":0},0,0,{"$f":"IF(AL108=0,AL$14,0)","v":0},0,0,{"$f":"IF(AO108=0,AO$14,0)","v":0},0,0,{"$f":"IF(AR108=0,AR$14,0)","v":0},0,0,{"$f":"IF(AU108=0,AU$14,0)","v":0},0,0,{"$f":"IF(AX108=0,AX$14,0)","v":0},0,0,0,0,0,0,0,0,0,0,0,0,0,0,0,0,0,0,0,0,0,0,0,0,0,0,0,0,0,0,0,0,0,0,0,0,0,0,0,0,0,0,0,0,0,0,0,0,null,null,0,92,null,0,92,null,0,92,null,0,92,null,0,92,null,0,92,null,0,92,null,0,92,null,0,92,null,0,92,null,0,92,null,0,92,null,0,92,null,0,92,null,0,92,null,0,92,null,0,92,null,0,92,null,0,92,null,0,92,null,0,92,null,0,92,null,0,92,null,0,92,null,0,92,null,0,92,null,0,92,null,0,92,null,0,92,null,0,92,null,0,92,null,0,92]
[0,0,93,0,0,null,0,0,{"v":40,"d":"$40.00"},0,0,{"v":60,"d":"$60.00"},0,0,0,0,0,0,0,0,0,0,0,0,0,0,0,0,0,{"$f":"IF(AC109=0,AC$14,0)","v":0},0,0,{"$f":"IF(AF109=0,AF$14,0)","v":0},0,0,{"$f":"IF(AI109=0,AI$14,0)","v":0},0,0,{"$f":"IF(AL109=0,AL$14,0)","v":0},0,0,{"$f":"IF(AO109=0,AO$14,0)","v":0},0,0,{"$f":"IF(AR109=0,AR$14,0)","v":0},0,0,{"$f":"IF(AU109=0,AU$14,0)","v":0},0,0,{"$f":"IF(AX109=0,AX$14,0)","v":0},0,0,0,0,0,0,0,0,0,0,0,0,0,0,0,0,0,0,0,0,0,0,0,0,0,0,0,0,0,0,0,0,0,0,0,0,0,0,0,0,0,0,0,0,0,0,0,0,null,null,0,93,null,0,93,null,0,93,null,0,93,null,0,93,null,0,93,null,0,93,null,0,93,null,0,93,null,0,93,null,0,93,null,0,93,null,0,93,null,0,93,null,0,93,null,0,93,null,0,93,null,0,93,null,0,93,null,0,93,null,0,93,null,0,93,null,0,93,null,0,93,null,0,93,null,0,93,null,0,93,null,0,93,null,0,93,null,0,93,null,0,93,null,0,93]
[0,0,94,0,0,null,0,0,{"v":40,"d":"$40.00"},0,0,{"v":60,"d":"$60.00"},0,0,0,0,0,0,0,0,0,0,0,0,0,0,0,0,0,{"$f":"IF(AC110=0,AC$14,0)","v":0},0,0,{"$f":"IF(AF110=0,AF$14,0)","v":0},0,0,{"$f":"IF(AI110=0,AI$14,0)","v":0},0,0,{"$f":"IF(AL110=0,AL$14,0)","v":0},0,0,{"$f":"IF(AO110=0,AO$14,0)","v":0},0,0,{"$f":"IF(AR110=0,AR$14,0)","v":0},0,0,{"$f":"IF(AU110=0,AU$14,0)","v":0},0,0,{"$f":"IF(AX110=0,AX$14,0)","v":0},0,0,0,0,0,0,0,0,0,0,0,0,0,0,0,0,0,0,0,0,0,0,0,0,0,0,0,0,0,0,0,0,0,0,0,0,0,0,0,0,0,0,0,0,0,0,0,0,null,null,0,94,null,0,94,null,0,94,null,0,94,null,0,94,null,0,94,null,0,94,null,0,94,null,0,94,null,0,94,null,0,94,null,0,94,null,0,94,null,0,94,null,0,94,null,0,94,null,0,94,null,0,94,null,0,94,null,0,94,null,0,94,null,0,94,null,0,94,null,0,94,null,0,94,null,0,94,null,0,94,null,0,94,null,0,94,null,0,94,null,0,94,null,0,94]
[0,0,95,0,0,null,0,0,{"v":40,"d":"$40.00"},0,0,{"v":60,"d":"$60.00"},0,0,0,0,0,0,0,0,0,0,0,0,0,0,0,0,0,{"$f":"IF(AC111=0,AC$14,0)","v":0},0,0,{"$f":"IF(AF111=0,AF$14,0)","v":0},0,0,{"$f":"IF(AI111=0,AI$14,0)","v":0},0,0,{"$f":"IF(AL111=0,AL$14,0)","v":0},0,0,{"$f":"IF(AO111=0,AO$14,0)","v":0},0,0,{"$f":"IF(AR111=0,AR$14,0)","v":0},0,0,{"$f":"IF(AU111=0,AU$14,0)","v":0},0,0,{"$f":"IF(AX111=0,AX$14,0)","v":0},0,0,0,0,0,0,0,0,0,0,0,0,0,0,0,0,0,0,0,0,0,0,0,0,0,0,0,0,0,0,0,0,0,0,0,0,0,0,0,0,0,0,0,0,0,0,0,0,null,null,0,95,null,0,95,null,0,95,null,0,95,null,0,95,null,0,95,null,0,95,null,0,95,null,0,95,null,0,95,null,0,95,null,0,95,null,0,95,null,0,95,null,0,95,null,0,95,null,0,95,null,0,95,null,0,95,null,0,95,null,0,95,null,0,95,null,0,95,null,0,95,null,0,95,null,0,95,null,0,95,null,0,95,null,0,95,null,0,95,null,0,95,null,0,95]
[0,0,96,0,0,null,0,0,{"v":40,"d":"$40.00"},0,0,{"v":60,"d":"$60.00"},0,0,0,0,0,0,0,0,0,0,0,0,0,0,0,0,0,{"$f":"IF(AC112=0,AC$14,0)","v":0},0,0,{"$f":"IF(AF112=0,AF$14,0)","v":0},0,0,{"$f":"IF(AI112=0,AI$14,0)","v":0},0,0,{"$f":"IF(AL112=0,AL$14,0)","v":0},0,0,{"$f":"IF(AO112=0,AO$14,0)","v":0},0,0,{"$f":"IF(AR112=0,AR$14,0)","v":0},0,0,{"$f":"IF(AU112=0,AU$14,0)","v":0},0,0,{"$f":"IF(AX112=0,AX$14,0)","v":0},0,0,0,0,0,0,0,0,0,0,0,0,0,0,0,0,0,0,0,0,0,0,0,0,0,0,0,0,0,0,0,0,0,0,0,0,0,0,0,0,0,0,0,0,0,0,0,0,null,null,0,96,null,0,96,null,0,96,null,0,96,null,0,96,null,0,96,null,0,96,null,0,96,null,0,96,null,0,96,null,0,96,null,0,96,null,0,96,null,0,96,null,0,96,null,0,96,null,0,96,null,0,96,null,0,96,null,0,96,null,0,96,null,0,96,null,0,96,null,0,96,null,0,96,null,0,96,null,0,96,null,0,96,null,0,96,null,0,96,null,0,96,null,0,96]
[0,0,97,0,0,null,0,0,{"v":40,"d":"$40.00"},0,0,{"v":60,"d":"$60.00"},0,0,0,0,0,0,0,0,0,0,0,0,0,0,0,0,0,{"$f":"IF(AC113=0,AC$14,0)","v":0},0,0,{"$f":"IF(AF113=0,AF$14,0)","v":0},0,0,{"$f":"IF(AI113=0,AI$14,0)","v":0},0,0,{"$f":"IF(AL113=0,AL$14,0)","v":0},0,0,{"$f":"IF(AO113=0,AO$14,0)","v":0},0,0,{"$f":"IF(AR113=0,AR$14,0)","v":0},0,0,{"$f":"IF(AU113=0,AU$14,0)","v":0},0,0,{"$f":"IF(AX113=0,AX$14,0)","v":0},0,0,0,0,0,0,0,0,0,0,0,0,0,0,0,0,0,0,0,0,0,0,0,0,0,0,0,0,0,0,0,0,0,0,0,0,0,0,0,0,0,0,0,0,0,0,0,0,null,null,{"$f":"E114","v":0},97,null,{"$f":"H114","v":0},97,null,{"$f":"K114","v":0},97,null,{"$f":"N114","v":0},97,null,{"$f":"Q114","v":0},97,null,{"$f":"T114","v":0},97,null,{"$f":"W114","v":0},97,null,{"$f":"Z114","v":0},97,null,{"$f":"AC114","v":0},97,null,{"$f":"AF114","v":0},97,null,{"$f":"AI114","v":0},97,null,{"$f":"AL114","v":0},97,null,{"$f":"AO114","v":0},97,null,{"$f":"AR114","v":0},97,null,{"$f":"AU114","v":0},97,null,{"$f":"AX114","v":0},97,null,{"$f":"BA114","v":0},97,null,{"$f":"BD114","v":0},97,null,{"$f":"BG114","v":0},97,null,{"$f":"BJ114","v":0},97,null,{"$f":"BM114","v":0},97,null,{"$f":"BP114","v":0},97,null,{"$f":"BS114","v":0},97,null,{"$f":"BV114","v":0},97,null,{"$f":"BY114","v":0},97,null,{"$f":"CB114","v":0},97,null,{"$f":"CE114","v":0},97,null,{"$f":"CH114","v":0},97,null,{"$f":"CK114","v":0},97,null,{"$f":"CN114","v":0},97,null,{"$f":"CQ114","v":0},97,null,{"$f":"CT114","v":0},97]
[0,0,98,0,0,null,0,0,{"v":40,"d":"$40.00"},0,0,{"v":60,"d":"$60.00"},0,0,0,0,0,0,0,0,0,0,0,0,0,0,0,0,0,{"$f":"IF(AC114=0,AC$14,0)","v":0},0,0,{"$f":"IF(AF114=0,AF$14,0)","v":0},0,0,{"$f":"IF(AI114=0,AI$14,0)","v":0},0,0,{"$f":"IF(AL114=0,AL$14,0)","v":0},0,0,{"$f":"IF(AO114=0,AO$14,0)","v":0},0,0,{"$f":"IF(AR114=0,AR$14,0)","v":0},0,0,{"$f":"IF(AU114=0,AU$14,0)","v":0},0,0,{"$f":"IF(AX114=0,AX$14,0)","v":0},0,0,0,0,0,0,0,0,0,0,0,0,0,0,0,0,0,0,0,0,0,0,0,0,0,0,0,0,0,0,0,0,0,0,0,0,0,0,0,0,0,0,0,0,0,0,0,0,null,null,0,98,null,0,98,null,0,98,null,0,98,null,0,98,null,0,98,null,0,98,null,0,98,null,0,98,null,0,98,null,0,98,null,0,98,null,0,98,null,0,98,null,0,98,null,0,98,null,0,98,null,0,98,null,0,98,null,0,98,null,0,98,null,0,98,null,0,98,null,0,98,null,0,98,null,0,98,null,0,98,null,0,98,null,0,98,null,0,98,null,0,98,null,0,98]
[0,0,99,0,0,null,0,0,{"v":40,"d":"$40.00"},0,0,{"v":60,"d":"$60.00"},0,0,0,0,0,0,0,0,0,0,0,0,0,0,0,0,0,{"$f":"IF(AC115=0,AC$14,0)","v":0},0,0,{"$f":"IF(AF115=0,AF$14,0)","v":0},0,0,{"$f":"IF(AI115=0,AI$14,0)","v":0},0,0,{"$f":"IF(AL115=0,AL$14,0)","v":0},0,0,{"$f":"IF(AO115=0,AO$14,0)","v":0},0,0,{"$f":"IF(AR115=0,AR$14,0)","v":0},0,0,{"$f":"IF(AU115=0,AU$14,0)","v":0},0,0,{"$f":"IF(AX115=0,AX$14,0)","v":0},0,0,0,0,0,0,0,0,0,0,0,0,0,0,0,0,0,0,0,0,0,0,0,0,0,0,0,0,0,0,0,0,0,0,0,0,0,0,0,0,0,0,0,0,0,0,0,0,null,null,0,99,null,0,99,null,0,99,null,0,99,null,0,99,null,0,99,null,0,99,null,0,99,null,0,99,null,0,99,null,0,99,null,0,99,null,0,99,null,0,99,null,0,99,null,0,99,null,0,99,null,0,99,null,0,99,null,0,99,null,0,99,null,0,99,null,0,99,null,0,99,null,0,99,null,0,99,null,0,99,null,0,99,null,0,99,null,0,99,null,0,99,null,0,99]
[0,0,100,0,0,null,0,0,{"v":40,"d":"$40.00"},0,0,{"v":60,"d":"$60.00"},0,0,0,0,0,0,0,0,0,0,0,0,0,0,0,0,0,{"$f":"IF(AC116=0,AC$14,0)","v":0},0,0,{"$f":"IF(AF116=0,AF$14,0)","v":0},0,0,{"$f":"IF(AI116=0,AI$14,0)","v":0},0,0,{"$f":"IF(AL116=0,AL$14,0)","v":0},0,0,{"$f":"IF(AO116=0,AO$14,0)","v":0},0,0,{"$f":"IF(AR116=0,AR$14,0)","v":0},0,0,{"$f":"IF(AU116=0,AU$14,0)","v":0},0,0,{"$f":"IF(AX116=0,AX$14,0)","v":0},0,0,0,0,0,0,0,0,0,0,0,0,0,0,0,0,0,0,0,0,0,0,0,0,0,0,0,0,0,0,0,0,0,0,0,0,0,0,0,0,0,0,0,0,0,0,0,0,null,null,0,100,null,0,100,null,0,100,null,0,100,null,0,100,null,0,100,null,0,100,null,0,100,null,0,100,null,0,100,null,0,100,null,0,100,null,0,100,null,0,100,null,0,100,null,0,100,null,0,100,null,0,100,null,0,100,null,0,100,null,0,100,null,0,100,null,0,100,null,0,100,null,0,100,null,0,100,null,0,100,null,0,100,null,0,100,null,0,100,null,0,100,null,0,100]
[0,0,101,0,0,null,0,0,{"v":40,"d":"$40.00"},0,0,{"v":60,"d":"$60.00"},0,0,0,0,0,0,0,0,0,0,0,0,0,0,0,0,0,{"$f":"IF(AC117=0,AC$14,0)","v":0},0,0,{"$f":"IF(AF117=0,AF$14,0)","v":0},0,0,{"$f":"IF(AI117=0,AI$14,0)","v":0},0,0,{"$f":"IF(AL117=0,AL$14,0)","v":0},0,0,{"$f":"IF(AO117=0,AO$14,0)","v":0},0,0,{"$f":"IF(AR117=0,AR$14,0)","v":0},0,0,{"$f":"IF(AU117=0,AU$14,0)","v":0},0,0,{"$f":"IF(AX117=0,AX$14,0)","v":0},0,0,0,0,0,0,0,0,0,0,0,0,0,0,0,0,0,0,0,0,0,0,0,0,0,0,0,0,0,0,0,0,0,0,0,0,0,0,0,0,0,0,0,0,0,0,0,0,null,null,0,101,null,0,101,null,0,101,null,0,101,null,0,101,null,0,101,null,0,101,null,0,101,null,0,101,null,0,101,null,0,101,null,0,101,null,0,101,null,0,101,null,0,101,null,0,101,null,0,101,null,0,101,null,0,101,null,0,101,null,0,101,null,0,101,null,0,101,null,0,101,null,0,101,null,0,101,null,0,101,null,0,101,null,0,101,null,0,101,null,0,101,null,0,101]
[0,0,102,0,0,null,0,0,{"v":40,"d":"$40.00"},0,0,{"v":60,"d":"$60.00"},0,0,0,0,0,0,0,0,0,0,0,0,0,0,0,0,0,{"$f":"IF(AC118=0,AC$14,0)","v":0},0,0,{"$f":"IF(AF118=0,AF$14,0)","v":0},0,0,{"$f":"IF(AI118=0,AI$14,0)","v":0},0,0,{"$f":"IF(AL118=0,AL$14,0)","v":0},0,0,{"$f":"IF(AO118=0,AO$14,0)","v":0},0,0,{"$f":"IF(AR118=0,AR$14,0)","v":0},0,0,{"$f":"IF(AU118=0,AU$14,0)","v":0},0,0,{"$f":"IF(AX118=0,AX$14,0)","v":0},0,0,0,0,0,0,0,0,0,0,0,0,0,0,0,0,0,0,0,0,0,0,0,0,0,0,0,0,0,0,0,0,0,0,0,0,0,0,0,0,0,0,0,0,0,0,0,0,null,null,0,102,null,0,102,null,0,102,null,0,102,null,0,102,null,0,102,null,0,102,null,0,102,null,0,102,null,0,102,null,0,102,null,0,102,null,0,102,null,0,102,null,0,102,null,0,102,null,0,102,null,0,102,null,0,102,null,0,102,null,0,102,null,0,102,null,0,102,null,0,102,null,0,102,null,0,102,null,0,102,null,0,102,null,0,102,null,0,102,null,0,102,null,0,102]
[0,0,103,0,0,null,0,0,{"v":40,"d":"$40.00"},0,0,{"v":60,"d":"$60.00"},0,0,0,0,0,0,0,0,0,0,0,0,0,0,0,0,0,{"$f":"IF(AC119=0,AC$14,0)","v":0},0,0,{"$f":"IF(AF119=0,AF$14,0)","v":0},0,0,{"$f":"IF(AI119=0,AI$14,0)","v":0},0,0,{"$f":"IF(AL119=0,AL$14,0)","v":0},0,0,{"$f":"IF(AO119=0,AO$14,0)","v":0},0,0,{"$f":"IF(AR119=0,AR$14,0)","v":0},0,0,{"$f":"IF(AU119=0,AU$14,0)","v":0},0,0,{"$f":"IF(AX119=0,AX$14,0)","v":0},0,0,0,0,0,0,0,0,0,0,0,0,0,0,0,0,0,0,0,0,0,0,0,0,0,0,0,0,0,0,0,0,0,0,0,0,0,0,0,0,0,0,0,0,0,0,0,0,null,null,0,103,null,0,103,null,0,103,null,0,103,null,0,103,null,0,103,null,0,103,null,0,103,null,0,103,null,0,103,null,0,103,null,0,103,null,0,103,null,0,103,null,0,103,null,0,103,null,0,103,null,0,103,null,0,103,null,0,103,null,0,103,null,0,103,null,0,103,null,0,103,null,0,103,null,0,103,null,0,103,null,0,103,null,0,103,null,0,103,null,0,103,null,0,103]
[0,0,104,0,0,null,0,0,{"v":40,"d":"$40.00"},0,0,{"v":60,"d":"$60.00"},0,0,0,0,0,0,0,0,0,0,0,0,0,0,0,0,0,{"$f":"IF(AC120=0,AC$14,0)","v":0},0,0,{"$f":"IF(AF120=0,AF$14,0)","v":0},0,0,{"$f":"IF(AI120=0,AI$14,0)","v":0},0,0,{"$f":"IF(AL120=0,AL$14,0)","v":0},0,0,{"$f":"IF(AO120=0,AO$14,0)","v":0},0,0,{"$f":"IF(AR120=0,AR$14,0)","v":0},0,0,{"$f":"IF(AU120=0,AU$14,0)","v":0},0,0,{"$f":"IF(AX120=0,AX$14,0)","v":0},0,0,0,0,0,0,0,0,0,0,0,0,0,0,0,0,0,0,0,0,0,0,0,0,0,0,0,0,0,0,0,0,0,0,0,0,0,0,0,0,0,0,0,0,0,0,0,0,null,null,0,104,null,0,104,null,0,104,null,0,104,null,0,104,null,0,104,null,0,104,null,0,104,null,0,104,null,0,104,null,0,104,null,0,104,null,0,104,null,0,104,null,0,104,null,0,104,null,0,104,null,0,104,null,0,104,null,0,104,null,0,104,null,0,104,null,0,104,null,0,104,null,0,104,null,0,104,null,0,104,null,0,104,null,0,104,null,0,104,null,0,104,null,0,104]
[0,0,105,0,0,null,0,0,{"v":40,"d":"$40.00"},0,0,{"v":60,"d":"$60.00"},0,0,0,0,0,0,0,0,0,0,0,0,0,0,0,0,0,{"$f":"IF(AC121=0,AC$14,0)","v":0},0,0,{"$f":"IF(AF121=0,AF$14,0)","v":0},0,0,{"$f":"IF(AI121=0,AI$14,0)","v":0},0,0,{"$f":"IF(AL121=0,AL$14,0)","v":0},0,0,{"$f":"IF(AO121=0,AO$14,0)","v":0},0,0,{"$f":"IF(AR121=0,AR$14,0)","v":0},0,0,{"$f":"IF(AU121=0,AU$14,0)","v":0},0,0,{"$f":"IF(AX121=0,AX$14,0)","v":0},0,0,0,0,0,0,0,0,0,0,0,0,0,0,0,0,0,0,0,0,0,0,0,0,0,0,0,0,0,0,0,0,0,0,0,0,0,0,0,0,0,0,0,0,0,0,0,0,null,null,0,105,null,0,105,null,0,105,null,0,105,null,0,105,null,0,105,null,0,105,null,0,105,null,0,105,null,0,105,null,0,105,null,0,105,null,0,105,null,0,105,null,0,105,null,0,105,null,0,105,null,0,105,null,0,105,null,0,105,null,0,105,null,0,105,null,0,105,null,0,105,null,0,105,null,0,105,null,0,105,null,0,105,null,0,105,null,0,105,null,0,105,null,0,105]
[0,0,106,0,0,null,0,0,{"v":40,"d":"$40.00"},0,0,{"v":60,"d":"$60.00"},0,0,0,0,0,0,0,0,0,0,0,0,0,0,0,0,0,{"$f":"IF(AC122=0,AC$14,0)","v":0},0,0,{"$f":"IF(AF122=0,AF$14,0)","v":0},0,0,{"$f":"IF(AI122=0,AI$14,0)","v":0},0,0,{"$f":"IF(AL122=0,AL$14,0)","v":0},0,0,{"$f":"IF(AO122=0,AO$14,0)","v":0},0,0,{"$f":"IF(AR122=0,AR$14,0)","v":0},0,0,{"$f":"IF(AU122=0,AU$14,0)","v":0},0,0,{"$f":"IF(AX122=0,AX$14,0)","v":0},0,0,0,0,0,0,0,0,0,0,0,0,0,0,0,0,0,0,0,0,0,0,0,0,0,0,0,0,0,0,0,0,0,0,0,0,0,0,0,0,0,0,0,0,0,0,0,0,null,null,0,106,null,0,106,null,0,106,null,0,106,null,0,106,null,0,106,null,0,106,null,0,106,null,0,106,null,0,106,null,0,106,null,0,106,null,0,106,null,0,106,null,0,106,null,0,106,null,0,106,null,0,106,null,0,106,null,0,106,null,0,106,null,0,106,null,0,106,null,0,106,null,0,106,null,0,106,null,0,106,null,0,106,null,0,106,null,0,106,null,0,106,null,0,106]
[0,0,107,0,0,null,0,0,{"v":40,"d":"$40.00"},0,0,{"v":60,"d":"$60.00"},0,0,0,0,0,0,0,0,0,0,0,0,0,0,0,0,0,{"$f":"IF(AC123=0,AC$14,0)","v":0},0,0,{"$f":"IF(AF123=0,AF$14,0)","v":0},0,0,{"$f":"IF(AI123=0,AI$14,0)","v":0},0,0,{"$f":"IF(AL123=0,AL$14,0)","v":0},0,0,{"$f":"IF(AO123=0,AO$14,0)","v":0},0,0,{"$f":"IF(AR123=0,AR$14,0)","v":0},0,0,{"$f":"IF(AU123=0,AU$14,0)","v":0},0,0,{"$f":"IF(AX123=0,AX$14,0)","v":0},0,0,0,0,0,0,0,0,0,0,0,0,0,0,0,0,0,0,0,0,0,0,0,0,0,0,0,0,0,0,0,0,0,0,0,0,0,0,0,0,0,0,0,0,0,0,0,0,null,null,0,107,null,0,107,null,0,107,null,0,107,null,0,107,null,0,107,null,0,107,null,0,107,null,0,107,null,0,107,null,0,107,null,0,107,null,0,107,null,0,107,null,0,107,null,0,107,null,0,107,null,0,107,null,0,107,null,0,107,null,0,107,null,0,107,null,0,107,null,0,107,null,0,107,null,0,107,null,0,107,null,0,107,null,0,107,null,0,107,null,0,107,null,0,107]
[0,0,108,0,0,null,0,0,{"v":40,"d":"$40.00"},0,0,{"v":60,"d":"$60.00"},0,0,0,0,0,0,0,0,0,0,0,0,0,0,0,0,0,{"$f":"IF(AC124=0,AC$14,0)","v":0},0,0,{"$f":"IF(AF124=0,AF$14,0)","v":0},0,0,{"$f":"IF(AI124=0,AI$14,0)","v":0},0,0,{"$f":"IF(AL124=0,AL$14,0)","v":0},0,0,{"$f":"IF(AO124=0,AO$14,0)","v":0},0,0,{"$f":"IF(AR124=0,AR$14,0)","v":0},0,0,{"$f":"IF(AU124=0,AU$14,0)","v":0},0,0,{"$f":"IF(AX124=0,AX$14,0)","v":0},0,0,0,0,0,0,0,0,0,0,0,0,0,0,0,0,0,0,0,0,0,0,0,0,0,0,0,0,0,0,0,0,0,0,0,0,0,0,0,0,0,0,0,0,0,0,0,0,null,null,0,108,null,0,108,null,0,108,null,0,108,null,0,108,null,0,108,null,0,108,null,0,108,null,0,108,null,0,108,null,0,108,null,0,108,null,0,108,null,0,108,null,0,108,null,0,108,null,0,108,null,0,108,null,0,108,null,0,108,null,0,108,null,0,108,null,0,108,null,0,108,null,0,108,null,0,108,null,0,108,null,0,108,null,0,108,null,0,108,null,0,108,null,0,108]
[0,0,109,0,0,null,0,0,{"v":40,"d":"$40.00"},0,0,{"v":60,"d":"$60.00"},0,0,0,0,0,0,0,0,0,0,0,0,0,0,0,0,0,{"$f":"IF(AC125=0,AC$14,0)","v":0},0,0,{"$f":"IF(AF125=0,AF$14,0)","v":0},0,0,{"$f":"IF(AI125=0,AI$14,0)","v":0},0,0,{"$f":"IF(AL125=0,AL$14,0)","v":0},0,0,{"$f":"IF(AO125=0,AO$14,0)","v":0},0,0,{"$f":"IF(AR125=0,AR$14,0)","v":0},0,0,{"$f":"IF(AU125=0,AU$14,0)","v":0},0,0,{"$f":"IF(AX125=0,AX$14,0)","v":0},0,0,0,0,0,0,0,0,0,0,0,0,0,0,0,0,0,0,0,0,0,0,0,0,0,0,0,0,0,0,0,0,0,0,0,0,0,0,0,0,0,0,0,0,0,0,0,0,null,null,0,109,null,0,109,null,0,109,null,0,109,null,0,109,null,0,109,null,0,109,null,0,109,null,0,109,null,0,109,null,0,109,null,0,109,null,0,109,null,0,109,null,0,109,null,0,109,null,0,109,null,0,109,null,0,109,null,0,109,null,0,109,null,0,109,null,0,109,null,0,109,null,0,109,null,0,109,null,0,109,null,0,109,null,0,109,null,0,109,null,0,109,null,0,109]
[0,0,110,0,0,null,0,0,{"v":40,"d":"$40.00"},0,0,{"v":60,"d":"$60.00"},0,0,0,0,0,0,0,0,0,0,0,0,0,0,0,0,0,{"$f":"IF(AC126=0,AC$14,0)","v":0},0,0,{"$f":"IF(AF126=0,AF$14,0)","v":0},0,0,{"$f":"IF(AI126=0,AI$14,0)","v":0},0,0,{"$f":"IF(AL126=0,AL$14,0)","v":0},0,0,{"$f":"IF(AO126=0,AO$14,0)","v":0},0,0,{"$f":"IF(AR126=0,AR$14,0)","v":0},0,0,{"$f":"IF(AU126=0,AU$14,0)","v":0},0,0,{"$f":"IF(AX126=0,AX$14,0)","v":0},0,0,0,0,0,0,0,0,0,0,0,0,0,0,0,0,0,0,0,0,0,0,0,0,0,0,0,0,0,0,0,0,0,0,0,0,0,0,0,0,0,0,0,0,0,0,0,0,null,null,0,110,null,0,110,null,0,110,null,0,110,null,0,110,null,0,110,null,0,110,null,0,110,null,0,110,null,0,110,null,0,110,null,0,110,null,0,110,null,0,110,null,0,110,null,0,110,null,0,110,null,0,110,null,0,110,null,0,110,null,0,110,null,0,110,null,0,110,null,0,110,null,0,110,null,0,110,null,0,110,null,0,110,null,0,110,null,0,110,null,0,110,null,0,110]
[0,0,111,0,0,null,0,0,{"v":40,"d":"$40.00"},0,0,{"v":60,"d":"$60.00"},0,0,0,0,0,0,0,0,0,0,0,0,0,0,0,0,0,{"$f":"IF(AC127=0,AC$14,0)","v":0},0,0,{"$f":"IF(AF127=0,AF$14,0)","v":0},0,0,{"$f":"IF(AI127=0,AI$14,0)","v":0},0,0,{"$f":"IF(AL127=0,AL$14,0)","v":0},0,0,{"$f":"IF(AO127=0,AO$14,0)","v":0},0,0,{"$f":"IF(AR127=0,AR$14,0)","v":0},0,0,{"$f":"IF(AU127=0,AU$14,0)","v":0},0,0,{"$f":"IF(AX127=0,AX$14,0)","v":0},0,0,0,0,0,0,0,0,0,0,0,0,0,0,0,0,0,0,0,0,0,0,0,0,0,0,0,0,0,0,0,0,0,0,0,0,0,0,0,0,0,0,0,0,0,0,0,0,null,null,0,111,null,0,111,null,0,111,null,0,111,null,0,111,null,0,111,null,0,111,null,0,111,null,0,111,null,0,111,null,0,111,null,0,111,null,0,111,null,0,111,null,0,111,null,0,111,null,0,111,null,0,111,null,0,111,null,0,111,null,0,111,null,0,111,null,0,111,null,0,111,null,0,111,null,0,111,null,0,111,null,0,111,null,0,111,null,0,111,null,0,111,null,0,111]
[0,0,112,0,0,null,0,0,{"v":40,"d":"$40.00"},0,0,{"v":60,"d":"$60.00"},0,0,0,0,0,0,0,0,0,0,0,0,0,0,0,0,0,{"$f":"IF(AC128=0,AC$14,0)","v":0},0,0,{"$f":"IF(AF128=0,AF$14,0)","v":0},0,0,{"$f":"IF(AI128=0,AI$14,0)","v":0},0,0,{"$f":"IF(AL128=0,AL$14,0)","v":0},0,0,{"$f":"IF(AO128=0,AO$14,0)","v":0},0,0,{"$f":"IF(AR128=0,AR$14,0)","v":0},0,0,{"$f":"IF(AU128=0,AU$14,0)","v":0},0,0,{"$f":"IF(AX128=0,AX$14,0)","v":0},0,0,0,0,0,0,0,0,0,0,0,0,0,0,0,0,0,0,0,0,0,0,0,0,0,0,0,0,0,0,0,0,0,0,0,0,0,0,0,0,0,0,0,0,0,0,0,0,null,null,0,112,null,0,112,null,0,112,null,0,112,null,0,112,null,0,112,null,0,112,null,0,112,null,0,112,null,0,112,null,0,112,null,0,112,null,0,112,null,0,112,null,0,112,null,0,112,null,0,112,null,0,112,null,0,112,null,0,112,null,0,112,null,0,112,null,0,112,null,0,112,null,0,112,null,0,112,null,0,112,null,0,112,null,0,112,null,0,112,null,0,112,null,0,112]
[0,0,113,0,0,null,0,0,{"v":40,"d":"$40.00"},0,0,{"v":60,"d":"$60.00"},0,0,0,0,0,0,0,0,0,0,0,0,0,0,0,0,0,{"$f":"IF(AC129=0,AC$14,0)","v":0},0,0,{"$f":"IF(AF129=0,AF$14,0)","v":0},0,0,{"$f":"IF(AI129=0,AI$14,0)","v":0},0,0,{"$f":"IF(AL129=0,AL$14,0)","v":0},0,0,{"$f":"IF(AO129=0,AO$14,0)","v":0},0,0,{"$f":"IF(AR129=0,AR$14,0)","v":0},0,0,{"$f":"IF(AU129=0,AU$14,0)","v":0},0,0,{"$f":"IF(AX129=0,AX$14,0)","v":0},0,0,0,0,0,0,0,0,0,0,0,0,0,0,0,0,0,0,0,0,0,0,0,0,0,0,0,0,0,0,0,0,0,0,0,0,0,0,0,0,0,0,0,0,0,0,0,0,null,null,0,113,null,0,113,null,0,113,null,0,113,null,0,113,null,0,113,null,0,113,null,0,113,null,0,113,null,0,113,null,0,113,null,0,113,null,0,113,null,0,113,null,0,113,null,0,113,null,0,113,null,0,113,null,0,113,null,0,113,null,0,113,null,0,113,null,0,113,null,0,113,null,0,113,null,0,113,null,0,113,null,0,113,null,0,113,null,0,113,null,0,113,null,0,113]
[0,0,114,0,0,null,0,0,{"v":40,"d":"$40.00"},0,0,{"v":60,"d":"$60.00"},0,0,0,0,0,0,0,0,0,0,0,0,0,0,0,0,0,{"$f":"IF(AC130=0,AC$14,0)","v":0},0,0,{"$f":"IF(AF130=0,AF$14,0)","v":0},0,0,{"$f":"IF(AI130=0,AI$14,0)","v":0},0,0,{"$f":"IF(AL130=0,AL$14,0)","v":0},0,0,{"$f":"IF(AO130=0,AO$14,0)","v":0},0,0,{"$f":"IF(AR130=0,AR$14,0)","v":0},0,0,{"$f":"IF(AU130=0,AU$14,0)","v":0},0,0,{"$f":"IF(AX130=0,AX$14,0)","v":0},0,0,0,0,0,0,0,0,0,0,0,0,0,0,0,0,0,0,0,0,0,0,0,0,0,0,0,0,0,0,0,0,0,0,0,0,0,0,0,0,0,0,0,0,0,0,0,0,null,null,0,114,null,0,114,null,0,114,null,0,114,null,0,114,null,0,114,null,0,114,null,0,114,null,0,114,null,0,114,null,0,114,null,0,114,null,0,114,null,0,114,null,0,114,null,0,114,null,0,114,null,0,114,null,0,114,null,0,114,null,0,114,null,0,114,null,0,114,null,0,114,null,0,114,null,0,114,null,0,114,null,0,114,null,0,114,null,0,114,null,0,114,null,0,114]
[0,0,115,0,0,null,0,0,{"v":40,"d":"$40.00"},0,0,{"v":60,"d":"$60.00"},0,0,0,0,0,0,0,0,0,0,0,0,0,0,0,0,0,{"$f":"IF(AC131=0,AC$14,0)","v":0},0,0,{"$f":"IF(AF131=0,AF$14,0)","v":0},0,0,{"$f":"IF(AI131=0,AI$14,0)","v":0},0,0,{"$f":"IF(AL131=0,AL$14,0)","v":0},0,0,{"$f":"IF(AO131=0,AO$14,0)","v":0},0,0,{"$f":"IF(AR131=0,AR$14,0)","v":0},0,0,{"$f":"IF(AU131=0,AU$14,0)","v":0},0,0,{"$f":"IF(AX131=0,AX$14,0)","v":0},0,0,0,0,0,0,0,0,0,0,0,0,0,0,0,0,0,0,0,0,0,0,0,0,0,0,0,0,0,0,0,0,0,0,0,0,0,0,0,0,0,0,0,0,0,0,0,0,null,null,0,115,null,0,115,null,0,115,null,0,115,null,0,115,null,0,115,null,0,115,null,0,115,null,0,115,null,0,115,null,0,115,null,0,115,null,0,115,null,0,115,null,0,115,null,0,115,null,0,115,null,0,115,null,0,115,null,0,115,null,0,115,null,0,115,null,0,115,null,0,115,null,0,115,null,0,115,null,0,115,null,0,115,null,0,115,null,0,115,null,0,115,null,0,115]
[0,0,116,0,0,null,0,0,{"v":40,"d":"$40.00"},0,0,{"v":60,"d":"$60.00"},0,0,0,0,0,0,0,0,0,0,0,0,0,0,0,0,0,{"$f":"IF(AC132=0,AC$14,0)","v":0},0,0,{"$f":"IF(AF132=0,AF$14,0)","v":0},0,0,{"$f":"IF(AI132=0,AI$14,0)","v":0},0,0,{"$f":"IF(AL132=0,AL$14,0)","v":0},0,0,{"$f":"IF(AO132=0,AO$14,0)","v":0},0,0,{"$f":"IF(AR132=0,AR$14,0)","v":0},0,0,{"$f":"IF(AU132=0,AU$14,0)","v":0},0,0,{"$f":"IF(AX132=0,AX$14,0)","v":0},0,0,0,0,0,0,0,0,0,0,0,0,0,0,0,0,0,0,0,0,0,0,0,0,0,0,0,0,0,0,0,0,0,0,0,0,0,0,0,0,0,0,0,0,0,0,0,0,null,null,0,116,null,0,116,null,0,116,null,0,116,null,0,116,null,0,116,null,0,116,null,0,116,null,0,116,null,0,116,null,0,116,null,0,116,null,0,116,null,0,116,null,0,116,null,0,116,null,0,116,null,0,116,null,0,116,null,0,116,null,0,116,null,0,116,null,0,116,null,0,116,null,0,116,null,0,116,null,0,116,null,0,116,null,0,116,null,0,116,null,0,116,null,0,116]
[0,0,117,0,0,null,0,0,{"v":40,"d":"$40.00"},0,0,{"v":60,"d":"$60.00"},0,0,0,0,0,0,0,0,0,0,0,0,0,0,0,0,0,{"$f":"IF(AC133=0,AC$14,0)","v":0},0,0,{"$f":"IF(AF133=0,AF$14,0)","v":0},0,0,{"$f":"IF(AI133=0,AI$14,0)","v":0},0,0,{"$f":"IF(AL133=0,AL$14,0)","v":0},0,0,{"$f":"IF(AO133=0,AO$14,0)","v":0},0,0,{"$f":"IF(AR133=0,AR$14,0)","v":0},0,0,{"$f":"IF(AU133=0,AU$14,0)","v":0},0,0,{"$f":"IF(AX133=0,AX$14,0)","v":0},0,0,0,0,0,0,0,0,0,0,0,0,0,0,0,0,0,0,0,0,0,0,0,0,0,0,0,0,0,0,0,0,0,0,0,0,0,0,0,0,0,0,0,0,0,0,0,0,null,null,0,117,null,0,117,null,0,117,null,0,117,null,0,117,null,0,117,null,0,117,null,0,117,null,0,117,null,0,117,null,0,117,null,0,117,null,0,117,null,0,117,null,0,117,null,0,117,null,0,117,null,0,117,null,0,117,null,0,117,null,0,117,null,0,117,null,0,117,null,0,117,null,0,117,null,0,117,null,0,117,null,0,117,null,0,117,null,0,117,null,0,117,null,0,117]
[0,0,118,0,0,null,0,0,{"v":40,"d":"$40.00"},0,0,{"v":60,"d":"$60.00"},0,0,0,0,0,0,0,0,0,0,0,0,0,0,0,0,0,{"$f":"IF(AC134=0,AC$14,0)","v":0},0,0,{"$f":"IF(AF134=0,AF$14,0)","v":0},0,0,{"$f":"IF(AI134=0,AI$14,0)","v":0},0,0,{"$f":"IF(AL134=0,AL$14,0)","v":0},0,0,{"$f":"IF(AO134=0,AO$14,0)","v":0},0,0,{"$f":"IF(AR134=0,AR$14,0)","v":0},0,0,{"$f":"IF(AU134=0,AU$14,0)","v":0},0,0,{"$f":"IF(AX134=0,AX$14,0)","v":0},0,0,0,0,0,0,0,0,0,0,0,0,0,0,0,0,0,0,0,0,0,0,0,0,0,0,0,0,0,0,0,0,0,0,0,0,0,0,0,0,0,0,0,0,0,0,0,0,null,null,0,118,null,0,118,null,0,118,null,0,118,null,0,118,null,0,118,null,0,118,null,0,118,null,0,118,null,0,118,null,0,118,null,0,118,null,0,118,null,0,118,null,0,118,null,0,118,null,0,118,null,0,118,null,0,118,null,0,118,null,0,118,null,0,118,null,0,118,null,0,118,null,0,118,null,0,118,null,0,118,null,0,118,null,0,118,null,0,118,null,0,118,null,0,118]
[0,0,119,0,0,null,0,0,{"v":40,"d":"$40.00"},0,0,{"v":60,"d":"$60.00"},0,0,0,0,0,0,0,0,0,0,0,0,0,0,0,0,0,{"$f":"IF(AC135=0,AC$14,0)","v":0},0,0,{"$f":"IF(AF135=0,AF$14,0)","v":0},0,0,{"$f":"IF(AI135=0,AI$14,0)","v":0},0,0,{"$f":"IF(AL135=0,AL$14,0)","v":0},0,0,{"$f":"IF(AO135=0,AO$14,0)","v":0},0,0,{"$f":"IF(AR135=0,AR$14,0)","v":0},0,0,{"$f":"IF(AU135=0,AU$14,0)","v":0},0,0,{"$f":"IF(AX135=0,AX$14,0)","v":0},0,0,0,0,0,0,0,0,0,0,0,0,0,0,0,0,0,0,0,0,0,0,0,0,0,0,0,0,0,0,0,0,0,0,0,0,0,0,0,0,0,0,0,0,0,0,0,0,null,null,0,119,null,0,119,null,0,119,null,0,119,null,0,119,null,0,119,null,0,119,null,0,119,null,0,119,null,0,119,null,0,119,null,0,119,null,0,119,null,0,119,null,0,119,null,0,119,null,0,119,null,0,119,null,0,119,null,0,119,null,0,119,null,0,119,null,0,119,null,0,119,null,0,119,null,0,119,null,0,119,null,0,119,null,0,119,null,0,119,null,0,119,null,0,119]
[0,0,120,0,0,null,0,0,{"v":40,"d":"$40.00"},0,0,{"v":60,"d":"$60.00"},0,0,0,0,0,0,0,0,0,0,0,0,0,0,0,0,0,{"$f":"IF(AC136=0,AC$14,0)","v":0},0,0,{"$f":"IF(AF136=0,AF$14,0)","v":0},0,0,{"$f":"IF(AI136=0,AI$14,0)","v":0},0,0,{"$f":"IF(AL136=0,AL$14,0)","v":0},0,0,{"$f":"IF(AO136=0,AO$14,0)","v":0},0,0,{"$f":"IF(AR136=0,AR$14,0)","v":0},0,0,{"$f":"IF(AU136=0,AU$14,0)","v":0},0,0,{"$f":"IF(AX136=0,AX$14,0)","v":0},0,0,0,0,0,0,0,0,0,0,0,0,0,0,0,0,0,0,0,0,0,0,0,0,0,0,0,0,0,0,0,0,0,0,0,0,0,0,0,0,0,0,0,0,0,0,0,0,null,null,0,120,null,0,120,null,0,120,null,0,120,null,0,120,null,0,120,null,0,120,null,0,120,null,0,120,null,0,120,null,0,120,null,0,120,null,0,120,null,0,120,null,0,120,null,0,120,null,0,120,null,0,120,null,0,120,null,0,120,null,0,120,null,0,120,null,0,120,null,0,120,null,0,120,null,0,120,null,0,120,null,0,120,null,0,120,null,0,120,null,0,120,null,0,120]

{"sheet":"Debt Avalanche Calculator","index":3,"n_rows":137,"n_cols":196,"rows_kept":137,"merged":[[2,3,3,9],[5,10,6,16]]}
[]
[{"$nulls":19},"Instructions:"]
[{"$nulls":3},"Debt Avalanche Calculator",{"$nulls":8},"Extra Monthly Payment ",{"$f":"'Snowball vs Avalanche'!H4","v":{"v":200,"d":"$200.00"}},null,"(beyond minimum debt payments)",{"$nulls":3}," - Note: All these cells are auto-filled in from the 'Snowball vs Avalanche' tab."]
[{"$nulls":12},"One-Time Start-up Payment ",{"$f":"'Snowball vs Avalanche'!H5","v":0},null,"(from cash you have in savings)",{"$nulls":3},"They are here just for your reference if you would like to see the detail"]
[{"$nulls":3},"(FREE 8-Debt Version)"]
[{"$nulls":3},"Provided by: LifeAndMyFinances.com",{"$nulls":6},"Like this sheet? Need a bigger version of the Debt Avalanche?        We sell one on Etsy for just $3.99. Click here to check it out! "]
[{"$nulls":3},"Copyright 2022"]
[]
[]
[{"$nulls":3},"Highest Interest",{"$nulls":21},"Lowest Interest"]
[]
[{"$nulls":3},"Debt 1",null,null,"Debt 2",null,null,"Debt 3",null,null,"Debt 4",null,null,"Debt 5",null,null,"Debt 6",null,null,"Debt 7",null,null,"Debt 8",null,null,"Debt 9",null,null,"Debt 10",null,null,"Debt 11",null,null,"Debt 12",null,null,"Debt 13",null,null,"Debt 14",null,null,"Debt 15",null,null,"Debt 16",null,null,"Debt 17",null,null,"Debt 18",null,null,"Debt 19",null,null,"Debt 20",null,null,"Debt 21",null,null,"Debt 22",null,null,"Debt 23",null,null,"Debt 24",null,null,"Debt 25",null,null,"Debt 26",null,null,"Debt 27",null,null,"Debt 28",null,null,"Debt 29",null,null,"Debt 30",null,null,"Debt 31",null,null,"Debt 32"]
[{"$nulls":3},"Balance",{"$f":"'Snowball vs Avalanche'!J16","v":{"v":3000,"d":"$3,000.00"}},null,"Balance",{"$f":"'Snowball vs Avalanche'!J17","v":{"v":2000,"d":"$2,000.00"}},null,"Balance",{"$f":"'Snowball vs Avalanche'!J18","v":{"v":1000,"d":"$1,000.00"}},null,"Balance",{"$f":"'Snowball vs Avalanche'!$J$19","v":0},null,"Balance",{"$f":"'Snowball vs Avalanche'!$J$20","v":0},null,"Balance",{"$f":"'Snowball vs Avalanche'!$J$21","v":0},null,"Balance",{"$f":"'Snowball vs Avalanche'!$J$22","v":0},null,"Balance",{"$f":"'Snowball vs Avalanche'!$J$23","v":0},null,"Balance",{"$f":"'Snowball vs Avalanche'!$J$24","v":0},null,"Balance",{"$f":"'Snowball vs Avalanche'!$J$25","v":0},null,"Balance",{"$f":"'Snowball vs Avalanche'!$J$26","v":0},null,"Balance",{"$f":"'Snowball vs Avalanche'!$J$27","v":0},null,"Balance",{"$f":"'Snowball vs Avalanche'!$J$28","v":0},null,"Balance",{"$f":"'Snowball vs Avalanche'!$J$29","v":0},null,"Balance",{"$f":"'Snowball vs Avalanche'!$J$30","v":0},null,"Balance",{"$f":"'Snowball vs Avalanche'!$J$31","v":0},null,"Balance",{"$f":"'Snowball vs Avalanche'!$J$32","v":0},null,"Balance",{"$f":"'Snowball vs Avalanche'!$J$33","v":0},null,"Balance",{"$f":"'Snowball vs Avalanche'!$J$34","v":0},null,"Balance",{"$f":"'Snowball vs Avalanche'!$J$35","v":0},null,"Balance",{"$f":"'Snowball vs Avalanche'!$J$36","v":0},null,"Balance",{"$f":"'Snowball vs Avalanche'!$J$37","v":0},null,"Balance",{"$f":"'Snowball vs Avalanche'!$J$38","v":0},null,"Balance",{"$f":"'Snowball vs Avalanche'!$J$39","v":0},null,"Balance",{"$f":"'Snowball vs Avalanche'!$J$40","v":0},null,"Balance",{"$f":"'Snowball vs Avalanche'!$J$41","v":0},null,"Balance",{"$f":"'Snowball vs Avalanche'!$J$42","v":0},null,"Balance",{"$f":"'Snowball vs Avalanche'!$J$43","v":0},null,"Balance",{"$f":"'Snowball vs Avalanche'!$J$44","v":0},null,"Balance",{"$f":"'Snowball vs Avalanche'!$J$45","v":0},null,"Balance",{"$f":"'Snowball vs Avalanche'!$J$46","v":0},null,"Balance",{"$f":"'Snowball vs Avalanche'!$J$47","v":0}]
[{"$nulls":3},"Minimum Payment",{"$f":"'Snowball vs Avalanche'!K16","v":{"v":60,"d":"$60.00"}},null,"Minimum Payment",{"$f":"'Snowball vs Avalanche'!K17","v":{"v":40,"d":"$40.00"}},null,"Minimum Payment",{"$f":"'Snowball vs Avalanche'!K18","v":{"v":25,"d":"$25.00"}},null,"Minimum Payment",{"$f":"'Snowball vs Avalanche'!$K$19","v":0},null,"Minimum Payment",{"$f":"'Snowball vs Avalanche'!$K$20","v":0},null,"Minimum Payment",{"$f":"'Snowball vs Avalanche'!$K$21","v":0},null,"Minimum Payment",{"$f":"'Snowball vs Avalanche'!$K$22","v":0},null,"Minimum Payment",{"$f":"'Snowball vs Avalanche'!$K$23","v":0},null,"Minimum Payment",{"$f":"'Snowball vs Avalanche'!$K$24","v":0},null,"Minimum Payment",{"$f":"'Snowball vs Avalanche'!$K$25","v":0},null,"Minimum Payment",{"$f":"'Snowball vs Avalanche'!$K$26","v":0},null,"Minimum Payment",{"$f":"'Snowball vs Avalanche'!$K$27","v":0},null,"Minimum Payment",{"$f":"'Snowball vs Avalanche'!$K$28","v":0},null,"Minimum Payment",{"$f":"'Snowball vs Avalanche'!$K$29","v":0},null,"Minimum Payment",{"$f":"'Snowball vs Avalanche'!$K$30","v":0},null,"Minimum Payment",{"$f":"'Snowball vs Avalanche'!$K$31","v":0},null,"Minimum Payment",{"$f":"'Snowball vs Avalanche'!$K$32","v":0},null,"Minimum Payment",{"$f":"'Snowball vs Avalanche'!$K$33","v":0},null,"Minimum Payment",{"$f":"'Snowball vs Avalanche'!$K$34","v":0},null,"Minimum Payment",{"$f":"'Snowball vs Avalanche'!$K$35","v":0},null,"Minimum Payment",{"$f":"'Snowball vs Avalanche'!$K$36","v":0},null,"Minimum Payment",{"$f":"'Snowball vs Avalanche'!$K$37","v":0},null,"Minimum Payment",{"$f":"'Snowball vs Avalanche'!$K$38","v":0},null,"Minimum Payment",{"$f":"'Snowball vs Avalanche'!$K$39","v":0},null,"Minimum Payment",{"$f":"'Snowball vs Avalanche'!$K$40","v":0},null,"Minimum Payment",{"$f":"'Snowball vs Avalanche'!$K$41","v":0},null,"Minimum Payment",{"$f":"'Snowball vs Avalanche'!$K$42","v":0},null,"Minimum Payment",{"$f":"'Snowball vs Avalanche'!$K$43","v":0},null,"Minimum Payment",{"$f":"'Snowball vs Avalanche'!$K$44","v":0},null,"Minimum Payment",{"$f":"'Snowball vs Avalanche'!$K$45","v":0},null,"Minimum Payment",{"$f":"'Snowball vs Avalanche'!$K$46","v":0},null,"Minimum Payment",{"$f":"'Snowball vs Avalanche'!$K$47","v":0}]
[{"$nulls":3},"Interest Rate",{"$f":"'Snowball vs Avalanche'!L16","v":{"v":0.26,"d":"26.0%"}},null,"Interest Rate",{"$f":"'Snowball vs Avalanche'!L17","v":{"v":0.12,"d":"12.0%"}},null,"Interest Rate",{"$f":"'Snowball vs Avalanche'!L18","v":{"v":0.08,"d":"8.0%"}},null,"Interest Rate",{"$f":"'Snowball vs Avalanche'!$L$19","v":{"v":0,"d":"0.0%"}},null,"Interest Rate",{"$f":"'Snowball vs Avalanche'!$L$20","v":{"v":0,"d":"0.0%"}},null,"Interest Rate",{"$f":"'Snowball vs Avalanche'!$L$21","v":{"v":0,"d":"0.0%"}},null,"Interest Rate",{"$f":"'Snowball vs Avalanche'!$L$22","v":{"v":0,"d":"0.0%"}},null,"Interest Rate",{"$f":"'Snowball vs Avalanche'!$L$23","v":{"v":0,"d":"0.0%"}},null,"Interest Rate",{"$f":"'Snowball vs Avalanche'!$L$24","v":{"v":0,"d":"0.0%"}},null,"Interest Rate",{"$f":"'Snowball vs Avalanche'!$L$25","v":{"v":0,"d":"0.0%"}},null,"Interest Rate",{"$f":"'Snowball vs Avalanche'!$L$26","v":{"v":0,"d":"0.0%"}},null,"Interest Rate",{"$f":"'Snowball vs Avalanche'!$L$27","v":{"v":0,"d":"0.0%"}},null,"Interest Rate",{"$f":"'Snowball vs Avalanche'!$L$28","v":{"v":0,"d":"0.0%"}},null,"Interest Rate",{"$f":"'Snowball vs Avalanche'!$L$29","v":{"v":0,"d":"0.0%"}},null,"Interest Rate",{"$f":"'Snowball vs Avalanche'!$L$30","v":{"v":0,"d":"0.0%"}},null,"Interest Rate",{"$f":"'Snowball vs Avalanche'!$L$31","v":{"v":0,"d":"0.0%"}},null,"Interest Rate",{"$f":"'Snowball vs Avalanche'!$L$32","v":{"v":0,"d":"0.0%"}},null,"Interest Rate",{"$f":"'Snowball vs Avalanche'!$L$33","v":{"v":0,"d":"0.0%"}},null,"Interest Rate",{"$f":"'Snowball vs Avalanche'!$L$34","v":{"v":0,"d":"0.0%"}},null,"Interest Rate",{"$f":"'Snowball vs Avalanche'!$L$35","v":{"v":0,"d":"0.0%"}},null,"Interest Rate",{"$f":"'Snowball vs Avalanche'!$L$36","v":{"v":0,"d":"0.0%"}},null,"Interest Rate",{"$f":"'Snowball vs Avalanche'!$L$37","v":{"v":0,"d":"0.0%"}},null,"Interest Rate",{"$f":"'Snowball vs Avalanche'!$L$38","v":{"v":0,"d":"0.0%"}},null,"Interest Rate",{"$f":"'Snowball vs Avalanche'!$L$39","v":{"v":0,"d":"0.0%"}},null,"Interest Rate",{"$f":"'Snowball vs Avalanche'!$L$40","v":{"v":0,"d":"0.0%"}},null,"Interest Rate",{"$f":"'Snowball vs Avalanche'!$L$41","v":{"v":0,"d":"0.0%"}},null,"Interest Rate",{"$f":"'Snowball vs Avalanche'!$L$42","v":{"v":0,"d":"0.0%"}},null,"Interest Rate",{"$f":"'Snowball vs Avalanche'!$L$43","v":{"v":0,"d":"0.0%"}},null,"Interest Rate",{"$f":"'Snowball vs Avalanche'!$L$44","v":{"v":0,"d":"0.0%"}},null,"Interest Rate",{"$f":"'Snowball vs Avalanche'!$L$45","v":{"v":0,"d":"0.0%"}},null,"Interest Rate",{"$f":"'Snowball vs Avalanche'!$L$46","v":{"v":0,"d":"0.0%"}},null,"Interest Rate",{"$f":"'Snowball vs Avalanche'!$L$47","v":{"v":0,"d":"0.0%"}}]
[]
[null,null,"Month","Payment","Balance",null,"Payment","Balance","Min Pmnt Available","Payment","Balance","Min Pmnt Available","Payment","Balance","Min Pmnt Available","Payment","Balance","Min Pmnt Available","Payment","Balance","Min Pmnt Available","Payment","Balance","Min Pmnt Available","Payment","Balance","Min Pmnt Available","Payment","Balance","Min Pmnt Available","Payment","Balance","Min Pmnt Available","Payment","Balance","Min Pmnt Available","Payment","Balance","Min Pmnt Available","Payment","Balance","Min Pmnt Available","Payment","Balance","Min Pmnt Available","Payment","Balance","Min Pmnt Available","Payment","Balance","Min Pmnt Available","Payment","Balance","Min Pmnt Available","Payment","Balance","Min Pmnt Available","Payment","Balance","Min Pmnt Available","Payment","Balance","Min Pmnt Available","Payment","Balance","Min Pmnt Available","Payment","Balance","Min Pmnt Available","Payment","Balance","Min Pmnt Available","Payment","Balance","Min Pmnt Available","Payment","Balance","Min Pmnt Available","Payment","Balance","Min Pmnt Available","Payment","Balance","Min Pmnt Available","Payment","Balance","Min Pmnt Available","Payment","Balance","Min Pmnt Available","Payment","Balance","Min Pmnt Available","Payment","Balance","Min Pmnt Available","Payment","Balance","Min Pmnt Available",null,null,"Debt 1","Month Paid Off",null,"Debt 2","Month Paid Off",null,"Debt 3","Month Paid Off",null,"Debt 4","Month Paid Off",null,"Debt 5","Month Paid Off",null,"Debt 6","Month Paid Off",null,"Debt 7","Month Paid Off",null,"Debt 8","Month Paid Off",null,"Debt 9","Month Paid Off",null,"Debt 10","Month Paid Off",null,"Debt 11","Month Paid Off",null,"Debt 12","Month Paid Off",null,"Debt 13","Month Paid Off",null,"Debt 14","Month Paid Off",null,"Debt 15","Month Paid Off",null,"Debt 16","Month Paid Off",null,"Debt 17","Month Paid Off",null,"Debt 18","Month Paid Off",null,"Debt 19","Month Paid Off",null,"Debt 20","Month Paid Off",null,"Debt 21","Month Paid Off",null,"Debt 22","Month Paid Off",null,"Debt 23","Month Paid Off",null,"Debt 24","Month Paid Off",null,"Debt 25","Month Paid Off",null,"Debt 26","Month Paid Off",null,"Debt 27","Month Paid Off",null,"Debt 28","Month Paid Off",null,"Debt 29","Month Paid Off",null,"Debt 30","Month Paid Off",null,"Debt 31","Month Paid Off",null,"Debt 32","Month Paid Off"]
[{"$f":"SUM(D18:E18,G18:H18,J18:K18,M18:N18,P18:Q18,S18:T18,V18:W18,Y18:Z18,AB18:AC18,AE18:AF18,AH18:AI18,AK18:AL18,AN18:AO18,AQ18:AR18,AT18:AU18,AW18:AX18,AZ18:BA18,BC18:BD18,BF18:BG18,BI18:BJ18,BL18:BM18,BO18:BP18,BR18:BS18,BU18:BV18,BX18:BY18,CA18:CB18,CD18:CE18,CG18:CH18,CJ18:CK18,CM18:CN18,CP18:CQ18,CS18:CT18)","v":{"v":6000,"d":"$6,000.00"}},{"$f":"SUM(D18,G18,J18,M18,P18,S18,V18,Y18,AB18,AE18,AH18,AK18,AN18,AQ18,AT18,AW18,AZ18,BC18,BF18,BI18,BL18,BO18,BR18,BU18,BX18,CA18,CD18,CG18,CJ18,CM18,CP18,CS18)","v":{"v":325,"d":"$325.00"}},1,{"$f":"IF((N4+N3)>=E13,E13,(N3+N4+E14))","v":{"v":260,"d":"$260.00"}},{"$f":"IF(E13-D18<=0,0,(E13-D18))","v":{"v":2740,"d":"$2,740.00"}},null,{"$f":"IF((N3+N4)>=(E13+H13),H13,IF(AND(D18=E13,D18<>0),(N3+N4-E13+H14),H14))","v":{"v":40,"d":"$40.00"}},{"$f":"IF(H13-G18<=0,0,(H13-G18))","v":{"v":1960,"d":"$1,960.00"}},0,{"$f":"IF((N3+N4)>=(H13+K13+E13),K13,IF(AND(G18=H13, G18<>0),(N3+N4-H13-E13+K14),K14))","v":{"v":25,"d":"$25.00"}},{"$f":"IF(K13-J18<=0,0,(K13-J18))","v":{"v":975,"d":"$975.00"}},0,{"$f":"IF((N3+N4)>=(K13+N13+H13+E13),N13,IF(AND(J18=K13, J18<>0),(N3+N4-K13-H13-E13+N14),N14))","v":0},{"$f":"IF(N13-M18<=0,0,(N13-M18))","v":0},0,{"$f":"IF((N3+N4)>=(N13+Q13+K13+H13+E13),Q13,IF(AND(M18=N13,M18<>0),(N3+N4-N13-K13-H13-E13+Q14),Q14))","v":0},{"$f":"IF(Q13-P18<=0,0,(Q13-P18))","v":0},0,{"$f":"IF((N3+N4)>=(Q13+T13+N13+K13+H13+E13),T13,IF(AND(P18=Q13,P18<>0),(N3+N4-Q13-N13-K13-H13-E13+T14),T14))","v":0},{"$f":"IF(T13-S18<=0,0,(T13-S18))","v":0},0,{"$f":"IF(($N$3+$N$4)>=(T13+W13+Q13+N13+K13+H13+E13),W13,IF(AND(S18=T$13,S18<>0),($N$3+$N$4-T13-Q13-N13-K13-H13-E13+W14),W14))","v":0},{"$f":"IF(W13-V18<=0,0,(W13-V18))","v":0},0,{"$f":"IF(($N$3+$N$4)>=(W13+Z13+T13+Q13+N13+K13+H13+E13),Z13,IF(AND(V18=W$13,V18<>0),($N$3+$N$4-W13-T13-Q13-N13-K13-H13-E13+Z14),Z14))","v":0},{"$f":"IF(Z13-Y18<=0,0,(Z13-Y18))","v":0},0,null,{"$f":"IF(AC13-AB18<=0,0,(AC13-AB18))","v":0},0,{"$f":"IF(($N$3+$N$4+E14+H14+K14+N14+Q14+T14+W14+Z14+AC14+AF14)>=(AC13+AF13+Z13+W13+T13+Q13+N13+K13+H13+E13),AF13,IF(AND(AB18=AC$13,AB18<>0),($N$3+$N$4-AC13-Z13-W13-T13-Q13-N13-K13-H13-E13+E14+H14+K14+N14+Q14+T14+W14+Z14+AC14+AF14),AF14))","v":0},{"$f":"IF(AF13-AE18<=0,0,(AF13-AE18))","v":0},0,{"$f":"IF(($N$3+$N$4+E14+H14+K14+N14+Q14+T14+W14+Z14+AC14+AF14+AI14)>=(AF13+AI13+AC13+Z13+W13+T13+Q13+N13+K13+H13+E13),AI13,IF(AND(AE18=AF$13,AE18<>0),($N$3+$N$4-AF13-AC13-Z13-W13-T13-Q13-N13-K13-H13-E13+E14+H14+K14+N14+Q14+T14+W14+Z14+AC14+AF14+AI14),AI14))","v":0},{"$f":"IF(AI13-AH18<=0,0,(AI13-AH18))","v":0},0,{"$f":"IF(($N$3+$N$4+E14+H14+K14+N14+Q14+T14+W14+Z14+AC14+AF14+AI14+AL14)>=(AI13+AL13+AF13+AC13+Z13+W13+T13+Q13+N13+K13+H13+E13),AL13,IF(AND(AH18=AI$13,AH18<>0),($N$3+$N$4-AI13-AF13-AC13-Z13-W13-T13-Q13-N13-K13-H13-E13+E14+H14+K14+N14+Q14+T14+W14+Z14+AC14+AF14+AI14+AL14),AL14))","v":0},{"$f":"IF(AL13-AK18<=0,0,(AL13-AK18))","v":0},0,{"$f":"IF(($N$3+$N$4+E14+H14+K14+N14+Q14+T14+W14+Z14+AC14+AF14+AI14+AL14+AO14)>=(AL13+AO13+AI13+AF13+AC13+Z13+W13+T13+Q13+N13+K13+H13+E13),AO13,IF(AND(AK18=AL$13,AK18<>0),($N$3+$N$4-AL13-AI13-AF13-AC13-Z13-W13-T13-Q13-N13-K13-H13-E13+E14+H14+K14+N14+Q14+T14+W14+Z14+AC14+AF14+AI14+AL14+AO14),AO14))","v":0},{"$f":"IF(AO13-AN18<=0,0,(AO13-AN18))","v":0},0,{"$f":"IF(($N$3+$N$4+E14+H14+K14+N14+Q14+T14+W14+Z14+AC14+AF14+AI14+AL14+AO14+AR14)>=(AO13+AR13+AL13+AI13+AF13+AC13+Z13+W13+T13+Q13+N13+K13+H13+E13),AR13,IF(AND(AN18=AO$13,AN18<>0),($N$3+$N$4-AO13-AL13-AI13-AF13-AC13-Z13-W13-T13-Q13-N13-K13-H13-E13+E14+H14+K14+N14+Q14+T14+W14+Z14+AC14+AF14+AI14+AL14+AO14+AR14),AR14))","v":0},{"$f":"IF(AR13-AQ18<=0,0,(AR13-AQ18))","v":0},0,{"$f":"IF(($N$3+$N$4+E14+H14+K14+N14+Q14+T14+W14+Z14+AC14+AF14+AI14+AL14+AO14+AR14+AU14)>=(AR13+AU13+AO13+AL13+AI13+AF13+AC13+Z13+W13+T13+Q13+N13+K13+H13+E13),AU13,IF(AND(AQ18=AR$13,AQ18<>0),($N$3+$N$4-AR13-AO13-AL13-AI13-AF13-AC13-Z13-W13-T13-Q13-N13-K13-H13-E13+E14+H14+K14+N14+Q14+T14+W14+Z14+AC14+AF14+AI14+AL14+AO14+AR14+AU14),AU14))","v":0},{"$f":"IF(AU13-AT18<=0,0,(AU13-AT18))","v":0},0,{"$f":"IF(($N$3+$N$4+E14+H14+K14+N14+Q14+T14+W14+Z14+AC14+AF14+AI14+AL14+AO14+AR14+AU14+AX14)>=(AU13+AX13+AR13+AO13+AL13+AI13+AF13+AC13+Z13+W13+T13+Q13+N13+K13+H13+E13),AX13,IF(AND(AT18=AU$13,AT18<>0),($N$3+$N$4-AU13-AR13-AO13-AL13-AI13-AF13-AC13-Z13-W13-T13-Q13-N13-K13-H13-E13+E14+H14+K14+N14+Q14+T14+W14+Z14+AC14+AF14+AI14+AL14+AO14+AR14+AU14+AX14),AX14))","v":0},{"$f":"IF(AX13-AW18<=0,0,(AX13-AW18))","v":0},0,{"$f":"IF(($N$3+$N$4+E14+H14+K14+N14+Q14+T14+W14+Z14+AC14+AF14+AI14+AL14+AO14+AR14+AU14+AX14+BA14)>=(AX13+BA13+AU13+AR13+AO13+AL13+AI13+AF13+AC13+Z13+W13+T13+Q13+N13+K13+H13+E13),BA13,IF(AND(AW18=AX$13,AW18<>0),($N$3+$N$4-AX13-AU13-AR13-AO13-AL13-AI13-AF13-AC13-Z13-W13-T13-Q13-N13-K13-H13-E13+E14+H14+K14+N14+Q14+T14+W14+Z14+AC14+AF14+AI14+AL14+AO14+AR14+AU14+AX14+BA14),BA14))","v":0},{"$f":"IF(BA13-AZ18<=0,0,(BA13-AZ18))","v":0},0,{"$f":"IF(($N$3+$N$4+E14+H14+K14+N14+Q14+T14+W14+Z14+AC14+AF14+AI14+AL14+AO14+AR14+AU14+AX14+BA14+BD14)>=(BA13+BD13+AX13+AU13+AR13+AO13+AL13+AI13+AF13+AC13+Z13+W13+T13+Q13+N13+K13+H13+E13),BD13,IF(AND(AZ18=BA$13,AZ18<>0),($N$3+$N$4-BA13-AX13-AU13-AR13-AO13-AL13-AI13-AF13-AC13-Z13-W13-T13-Q13-N13-K13-H13-E13+E14+H14+K14+N14+Q14+T14+W14+Z14+AC14+AF14+AI14+AL14+AO14+AR14+AU14+AX14+BA14+BD14),BD14))","v":0},{"$f":"IF(BD13-BC18<=0,0,(BD13-BC18))","v":0},0,{"$f":"IF(($N$3+$N$4+E14+H14+K14+N14+Q14+T14+W14+Z14+AC14+AF14+AI14+AL14+AO14+AR14+AU14+AX14+BA14+BD14+BG14)>=(BD13+BG13+BA13+AX13+AU13+AR13+AO13+AL13+AI13+AF13+AC13+Z13+W13+T13+Q13+N13+K13+H13+E13),BG13,IF(AND(BC18=BD$13,BC18<>0),($N$3+$N$4-BD13-BA13-AX13-AU13-AR13-AO13-AL13-AI13-AF13-AC13-Z13-W13-T13-Q13-N13-K13-H13-E13+E14+H14+K14+N14+Q14+T14+W14+Z14+AC14+AF14+AI14+AL14+AO14+AR14+AU14+AX14+BA14+BD14+BG14),BG14))","v":0},{"$f":"IF(BG13-BF18<=0,0,(BG13-BF18))","v":0},0,{"$f":"IF(($N$3+$N$4+E14+H14+K14+N14+Q14+T14+W14+Z14+AC14+AF14+AI14+AL14+AO14+AR14+AU14+AX14+BA14+BD14+BG14+BJ14)>=(BG13+BJ13+BD13+BA13+AX13+AU13+AR13+AO13+AL13+AI13+AF13+AC13+Z13+W13+T13+Q13+N13+K13+H13+E13),BJ13,IF(AND(BF18=BG$13,BF18<>0),($N$3+$N$4-BG13-BD13-BA13-AX13-AU13-AR13-AO13-AL13-AI13-AF13-AC13-Z13-W13-T13-Q13-N13-K13-H13-E13+E14+H14+K14+N14+Q14+T14+W14+Z14+AC14+AF14+AI14+AL14+AO14+AR14+AU14+AX14+BA14+BD14+BG14+BJ14),BJ14))","v":0},{"$f":"IF(BJ13-BI18<=0,0,(BJ13-BI18))","v":0},0,{"$f":"IF(($N$3+$N$4+E14+H14+K14+N14+Q14+T14+W14+Z14+AC14+AF14+AI14+AL14+AO14+AR14+AU14+AX14+BA14+BD14+BG14+BJ14+BM14)>=(BJ13+BM13+BG13+BD13+BA13+AX13+AU13+AR13+AO13+AL13+AI13+AF13+AC13+Z13+W13+T13+Q13+N13+K13+H13+E13),BM13,IF(AND(BI18=BJ$13,BI18<>0),($N$3+$N$4-BJ13-BG13-BD13-BA13-AX13-AU13-AR13-AO13-AL13-AI13-AF13-AC13-Z13-W13-T13-Q13-N13-K13-H13-E13+E14+H14+K14+N14+Q14+T14+W14+Z14+AC14+AF14+AI14+AL14+AO14+AR14+AU14+AX14+BA14+BD14+BG14+BJ14+BM14),BM14))","v":0},{"$f":"IF(BM13-BL18<=0,0,(BM13-BL18))","v":0},0,{"$f":"IF(($N$3+$N$4+E14+H14+K14+N14+Q14+T14+W14+Z14+AC14+AF14+AI14+AL14+AO14+AR14+AU14+AX14+BA14+BD14+BG14+BJ14+BM14+BP14)>=(BM13+BP13+BJ13+BG13+BD13+BA13+AX13+AU13+AR13+AO13+AL13+AI13+AF13+AC13+Z13+W13+T13+Q13+N13+K13+H13+E13),BP13,IF(AND(BL18=BM$13,BL18<>0),($N$3+$N$4-BM13-BJ13-BG13-BD13-BA13-AX13-AU13-AR13-AO13-AL13-AI13-AF13-AC13-Z13-W13-T13-Q13-N13-K13-H13-E13+E14+H14+K14+N14+Q14+T14+W14+Z14+AC14+AF14+AI14+AL14+AO14+AR14+AU14+AX14+BA14+BD14+BG14+BJ14+BM14+BP14),BP14))","v":0},{"$f":"IF(BP13-BO18<=0,0,(BP13-BO18))","v":0},0,{"$f":"IF(($N$3+$N$4+E14+H14+K14+N14+Q14+T14+W14+Z14+AC14+AF14+AI14+AL14+AO14+AR14+AU14+AX14+BA14+BD14+BG14+BJ14+BM14+BP14+BS14)>=(BP13+BS13+BM13+BJ13+BG13+BD13+BA13+AX13+AU13+AR13+AO13+AL13+AI13+AF13+AC13+Z13+W13+T13+Q13+N13+K13+H13+E13),BS13,IF(AND(BO18=BP$13,BO18<>0),($N$3+$N$4-BP13-BM13-BJ13-BG13-BD13-BA13-AX13-AU13-AR13-AO13-AL13-AI13-AF13-AC13-Z13-W13-T13-Q13-N13-K13-H13-E13+E14+H14+K14+N14+Q14+T14+W14+Z14+AC14+AF14+AI14+AL14+AO14+AR14+AU14+AX14+BA14+BD14+BG14+BJ14+BM14+BP14+BS14),BS14))","v":0},{"$f":"IF(BS13-BR18<=0,0,(BS13-BR18))","v":0},0,{"$f":"IF(($N$3+$N$4+E14+H14+K14+N14+Q14+T14+W14+Z14+AC14+AF14+AI14+AL14+AO14+AR14+AU14+AX14+BA14+BD14+BG14+BJ14+BM14+BP14+BS14+BV14)>=(BS13+BV13+BP13+BM13+BJ13+BG13+BD13+BA13+AX13+AU13+AR13+AO13+AL13+AI13+AF13+AC13+Z13+W13+T13+Q13+N13+K13+H13+E13),BV13,IF(AND(BR18=BS$13,BR18<>0),($N$3+$N$4-BS13-BP13-BM13-BJ13-BG13-BD13-BA13-AX13-AU13-AR13-AO13-AL13-AI13-AF13-AC13-Z13-W13-T13-Q13-N13-K13-H13-E13+E14+H14+K14+N14+Q14+T14+W14+Z14+AC14+AF14+AI14+AL14+AO14+AR14+AU14+AX14+BA14+BD14+BG14+BJ14+BM14+BP14+BS14+BV14),BV14))","v":0},{"$f":"IF(BV13-BU18<=0,0,(BV13-BU18))","v":0},0,{"$f":"IF(($N$3+$N$4+E14+H14+K14+N14+Q14+T14+W14+Z14+AC14+AF14+AI14+AL14+AO14+AR14+AU14+AX14+BA14+BD14+BG14+BJ14+BM14+BP14+BS14+BV14+BY14)>=(BV13+BY13+BS13+BP13+BM13+BJ13+BG13+BD13+BA13+AX13+AU13+AR13+AO13+AL13+AI13+AF13+AC13+Z13+W13+T13+Q13+N13+K13+H13+E13),BY13,IF(AND(BU18=BV$13,BU18<>0),($N$3+$N$4-BV13-BS13-BP13-BM13-BJ13-BG13-BD13-BA13-AX13-AU13-AR13-AO13-AL13-AI13-AF13-AC13-Z13-W13-T13-Q13-N13-K13-H13-E13+E14+H14+K14+N14+Q14+T14+W14+Z14+AC14+AF14+AI14+AL14+AO14+AR14+AU14+AX14+BA14+BD14+BG14+BJ14+BM14+BP14+BS14+BV14+BY14),BY14))","v":0},{"$f":"IF(BY13-BX18<=0,0,(BY13-BX18))","v":0},0,{"$f":"IF(($N$3+$N$4+E14+H14+K14+N14+Q14+T14+W14+Z14+AC14+AF14+AI14+AL14+AO14+AR14+AU14+AX14+BA14+BD14+BG14+BJ14+BM14+BP14+BS14+BV14+BY14+CB14)>=(BY13+CB13+BV13+BS13+BP13+BM13+BJ13+BG13+BD13+BA13+AX13+AU13+AR13+AO13+AL13+AI13+AF13+AC13+Z13+W13+T13+Q13+N13+K13+H13+E13),CB13,IF(AND(BX18=BY$13,BX18<>0),($N$3+$N$4-BY13-BV13-BS13-BP13-BM13-BJ13-BG13-BD13-BA13-AX13-AU13-AR13-AO13-AL13-AI13-AF13-AC13-Z13-W13-T13-Q13-N13-K13-H13-E13+E14+H14+K14+N14+Q14+T14+W14+Z14+AC14+AF14+AI14+AL14+AO14+AR14+AU14+AX14+BA14+BD14+BG14+BJ14+BM14+BP14+BS14+BV14+BY14+CB14),CB14))","v":0},{"$f":"IF(CB13-CA18<=0,0,(CB13-CA18))","v":0},0,{"$f":"IF(($N$3+$N$4+E14+H14+K14+N14+Q14+T14+W14+Z14+AC14+AF14+AI14+AL14+AO14+AR14+AU14+AX14+BA14+BD14+BG14+BJ14+BM14+BP14+BS14+BV14+BY14+CB14+CE14)>=(CB13+CE13+BY13+BV13+BS13+BP13+BM13+BJ13+BG13+BD13+BA13+AX13+AU13+AR13+AO13+AL13+AI13+AF13+AC13+Z13+W13+T13+Q13+N13+K13+H13+E13),CE13,IF(AND(CA18=CB$13,CA18<>0),($N$3+$N$4-CB13-BY13-BV13-BS13-BP13-BM13-BJ13-BG13-BD13-BA13-AX13-AU13-AR13-AO13-AL13-AI13-AF13-AC13-Z13-W13-T13-Q13-N13-K13-H13-E13+E14+H14+K14+N14+Q14+T14+W14+Z14+AC14+AF14+AI14+AL14+AO14+AR14+AU14+AX14+BA14+BD14+BG14+BJ14+BM14+BP14+BS14+BV14+BY14+CB14+CE14),CE14))","v":0},{"$f":"IF(CE13-CD18<=0,0,(CE13-CD18))","v":0},0,{"$f":"IF(($N$3+$N$4+E14+H14+K14+N14+Q14+T14+W14+Z14+AC14+AF14+AI14+AL14+AO14+AR14+AU14+AX14+BA14+BD14+BG14+BJ14+BM14+BP14+BS14+BV14+BY14+CB14+CE14+CH14)>=(CE13+CH13+CB13+BY13+BV13+BS13+BP13+BM13+BJ13+BG13+BD13+BA13+AX13+AU13+AR13+AO13+AL13+AI13+AF13+AC13+Z13+W13+T13+Q13+N13+K13+H13+E13),CH13,IF(AND(CD18=CE$13,CD18<>0),($N$3+$N$4-CE13-CB13-BY13-BV13-BS13-BP13-BM13-BJ13-BG13-BD13-BA13-AX13-AU13-AR13-AO13-AL13-AI13-AF13-AC13-Z13-W13-T13-Q13-N13-K13-H13-E13+E14+H14+K14+N14+Q14+T14+W14+Z14+AC14+AF14+AI14+AL14+AO14+AR14+AU14+AX14+BA14+BD14+BG14+BJ14+BM14+BP14+BS14+BV14+BY14+CB14+CE14+CH14),CH14))","v":0},{"$f":"IF(CH13-CG18<=0,0,(CH13-CG18))","v":0},0,{"$f":"IF(($N$3+$N$4+E14+H14+K14+N14+Q14+T14+W14+Z14+AC14+AF14+AI14+AL14+AO14+AR14+AU14+AX14+BA14+BD14+BG14+BJ14+BM14+BP14+BS14+BV14+BY14+CB14+CE14+CH14+CK14)>=(CH13+CK13+CE13+CB13+BY13+BV13+BS13+BP13+BM13+BJ13+BG13+BD13+BA13+AX13+AU13+AR13+AO13+AL13+AI13+AF13+AC13+Z13+W13+T13+Q13+N13+K13+H13+E13),CK13,IF(AND(CG18=CH$13,CG18<>0),($N$3+$N$4-CH13-CE13-CB13-BY13-BV13-BS13-BP13-BM13-BJ13-BG13-BD13-BA13-AX13-AU13-AR13-AO13-AL13-AI13-AF13-AC13-Z13-W13-T13-Q13-N13-K13-H13-E13+E14+H14+K14+N14+Q14+T14+W14+Z14+AC14+AF14+AI14+AL14+AO14+AR14+AU14+AX14+BA14+BD14+BG14+BJ14+BM14+BP14+BS14+BV14+BY14+CB14+CE14+CH14+CK14),CK14))","v":0},{"$f":"IF(CK13-CJ18<=0,0,(CK13-CJ18))","v":0},0,{"$f":"IF(($N$3+$N$4+E14+H14+K14+N14+Q14+T14+W14+Z14+AC14+AF14+AI14+AL14+AO14+AR14+AU14+AX14+BA14+BD14+BG14+BJ14+BM14+BP14+BS14+BV14+BY14+CB14+CE14+CH14+CK14+CN14)>=(CK13+CN13+CH13+CE13+CB13+BY13+BV13+BS13+BP13+BM13+BJ13+BG13+BD13+BA13+AX13+AU13+AR13+AO13+AL13+AI13+AF13+AC13+Z13+W13+T13+Q13+N13+K13+H13+E13),CN13,IF(AND(CJ18=CK$13,CJ18<>0),($N$3+$N$4-CK13-CH13-CE13-CB13-BY13-BV13-BS13-BP13-BM13-BJ13-BG13-BD13-BA13-AX13-AU13-AR13-AO13-AL13-AI13-AF13-AC13-Z13-W13-T13-Q13-N13-K13-H13-E13+E14+H14+K14+N14+Q14+T14+W14+Z14+AC14+AF14+AI14+AL14+AO14+AR14+AU14+AX14+BA14+BD14+BG14+BJ14+BM14+BP14+BS14+BV14+BY14+CB14+CE14+CH14+CK14+CN14),CN14))","v":0},{"$f":"IF(CN13-CM18<=0,0,(CN13-CM18))","v":0},0,{"$f":"IF(($N$3+$N$4+E14+H14+K14+N14+Q14+T14+W14+Z14+AC14+AF14+AI14+AL14+AO14+AR14+AU14+AX14+BA14+BD14+BG14+BJ14+BM14+BP14+BS14+BV14+BY14+CB14+CE14+CH14+CK14+CN14+CQ14)>=(CN13+CQ13+CK13+CH13+CE13+CB13+BY13+BV13+BS13+BP13+BM13+BJ13+BG13+BD13+BA13+AX13+AU13+AR13+AO13+AL13+AI13+AF13+AC13+Z13+W13+T13+Q13+N13+K13+H13+E13),CQ13,IF(AND(CM18=CN$13,CM18<>0),($N$3+$N$4-CN13-CK13-CH13-CE13-CB13-BY13-BV13-BS13-BP13-BM13-BJ13-BG13-BD13-BA13-AX13-AU13-AR13-AO13-AL13-AI13-AF13-AC13-Z13-W13-T13-Q13-N13-K13-H13-E13+E14+H14+K14+N14+Q14+T14+W14+Z14+AC14+AF14+AI14+AL14+AO14+AR14+AU14+AX14+BA14+BD14+BG14+BJ14+BM14+BP14+BS14+BV14+BY14+CB14+CE14+CH14+CK14+CN14+CQ14),CQ14))","v":0},{"$f":"IF(CQ13-CP18<=0,0,(CQ13-CP18))","v":0},0,{"$f":"IF(($N$3+$N$4+E14+H14+K14+N14+Q14+T14+W14+Z14+AC14+AF14+AI14+AL14+AO14+AR14+AU14+AX14+BA14+BD14+BG14+BJ14+BM14+BP14+BS14+BV14+BY14+CB14+CE14+CH14+CK14+CN14+CQ14+CT14)>=(CQ13+CT13+CN13+CK13+CH13+CE13+CB13+BY13+BV13+BS13+BP13+BM13+BJ13+BG13+BD13+BA13+AX13+AU13+AR13+AO13+AL13+AI13+AF13+AC13+Z13+W13+T13+Q13+N13+K13+H13+E13),CT13,IF(AND(CP18=CQ$13,CP18<>0),($N$3+$N$4-CQ13-CN13-CK13-CH13-CE13-CB13-BY13-BV13-BS13-BP13-BM13-BJ13-BG13-BD13-BA13-AX13-AU13-AR13-AO13-AL13-AI13-AF13-AC13-Z13-W13-T13-Q13-N13-K13-H13-E13+E14+H14+K14+N14+Q14+T14+W14+Z14+AC14+AF14+AI14+AL14+AO14+AR14+AU14+AX14+BA14+BD14+BG14+BJ14+BM14+BP14+BS14+BV14+BY14+CB14+CE14+CH14+CK14+CN14+CQ14+CT14),CT14))","v":0},{"$f":"IF(CT13-CS18<=0,0,(CT13-CS18))","v":0},0,null,null,{"$f":"E18","v":{"v":2740,"d":"$2,740.00"}},1,null,{"$f":"H18","v":{"v":1960,"d":"$1,960.00"}},1,null,{"$f":"K18","v":{"v":975,"d":"$975.00"}},1,null,{"$f":"N18","v":0},1,null,{"$f":"Q18","v":0},1,null,{"$f":"T18","v":0},1,null,{"$f":"W18","v":0},1,null,{"$f":"Z18","v":0},1,null,{"$f":"AC18","v":0},1,null,{"$f":"AF18","v":0},1,null,{"$f":"AI18","v":0},1,null,{"$f":"AL18","v":0},1,null,{"$f":"AO18","v":0},1,null,{"$f":"AR18","v":0},1,null,{"$f":"AU18","v":0},1,null,{"$f":"AX18","v":0},1,null,{"$f":"BA18","v":0},1,null,{"$f":"BD18","v":0},1,null,{"$f":"BG18","v":0},1,null,{"$f":"BJ18","v":0},1,null,{"$f":"BM18","v":0},1,null,{"$f":"BP18","v":0},1,null,{"$f":"BS18","v":0},1,null,{"$f":"BV18","v":0},1,null,{"$f":"BY18","v":0},1,null,{"$f":"CB18","v":0},1,null,{"$f":"CE18","v":0},1,null,{"$f":"CH18","v":0},1,null,{"$f":"CK18","v":0},1,null,{"$f":"CN18","v":0},1,null,{"$f":"CQ18","v":0},1,null,{"$f":"CT18","v":0},1]
[{"$f":"SUM(D19:E19,G19:H19,J19:K19,M19:N19,P19:Q19,S19:T19,V19:W19,Y19:Z19,AB19:AC19,AE19:AF19,AH19:AI19,AK19:AL19,AN19:AO19,AQ19:AR19,AT19:AU19,AW19:AX19,AZ19:BA19,BC19:BD19,BF19:BG19,BI19:BJ19,BL19:BM19,BO19:BP19,BR19:BS19,BU19:BV19,BX19:BY19,CA19:CB19,CD19:CE19,CG19:CH19,CJ19:CK19,CM19:CN19,CP19:CQ19,CS19:CT19)","v":{"v":5754.266666666666,"d":"$5,754.27"}},{"$f":"SUM(D19,G19,J19,M19,P19,S19,V19,Y19,AB19,AE19,AH19,AK19,AN19,AQ19,AT19,AW19,AZ19,BC19,BF19,BI19,BL19,BO19,BR19,BU19,BX19,CA19,CD19,CG19,CJ19,CM19,CP19,CS19)","v":{"v":325,"d":"$325.00"}},2,{"$f":"IF((E18-$N$3-$E$14-SUM(I19,L19,O19,R19,U19,X19,AA19))<=0,($N$3+(E18-$N$3)),($N$3+$E$14+SUM(I19,L19,O19,R19,U19,X19,AA19)))","v":{"v":260,"d":"$260.00"}},{"$f":"IF((E18-D19)<=0.0001,0,(E18-D19)*(1+(E$15/12)))","v":{"v":2533.7333333333336,"d":"$2,533.73"}},null,{"$f":"IF(AND(((H18-$N$3+D19-H$14-E$14-SUM(L19,O19,R19,U19,X19,AA19))<=0),E19=0),H18,IF(E19=0,$N$3-D19+H$14+E$14+SUM(L19,O19,R19,U19,X19,AA19),H$14))","v":{"v":40,"d":"$40.00"}},{"$f":"IF((H18-G19)<=0.0001,0,(H18-G19)*(1+(H$15/12)))","v":{"v":1939.2,"d":"$1,939.20"}},{"$f":"IF(H18=0,H$14,0)","v":0},{"$f":"IF(AND(((K18-$N$3+G19+D19-K$14-H$14-E$14-SUM(O19,R19,U19,X19,AA19))<=0),H19+E19=0),K18,IF(K$14>=K18,K18,IF(AND(H19=0,E19=0),$N$3-G19-D19+K$14+H$14+E$14+SUM(O19,R19,U19,X19,AA19),K$14)))","v":{"v":25,"d":"$25.00"}},{"$f":"IF((K18-J19)<=0.0001,0,(K18-J19)*(1+(K$15/12)))","v":{"v":956.3333333333333,"d":"$956.33"}},{"$f":"IF(K18=0,K$14,0)","v":0},{"$f":"IF(AND(((N18-$N$3+J19+G19+D19-N$14-K$14-H$14-E$14-SUM(R19,U19,X19,AA19))<=0),K19+H19+E19=0),N18,IF(N$14>=N18,N18, IF(AND(K19=0,H19=0,E19=0),$N$3-J19-G19-D19+N$14+K$14+H$14+E$14+SUM(R19,U19,X19,AA19),N$14)))","v":0},{"$f":"IF((N18-M19)<=0.0001,0,(N18-M19)*(1+(N$15/12)))","v":0},{"$f":"IF(N18=0,N$14,0)","v":0},{"$f":"IF(AND(((Q18-$N$3+M19+J19+G19+D19-Q$14-N$14-K$14-H$14-E$14-SUM(U19,X19,AA19))<=0),N19+K19+H19+E19=0),Q18,IF(Q$14>=Q18,Q18,IF(AND(N19=0,K19=0,H19=0,E19=0),$N$3-M19-J19-G19-D19+Q$14+N$14+K$14+H$14+E$14+SUM(U19,X19,AA19),Q$14)))","v":0},{"$f":"IF((Q18-P19)<=0.0001,0,(Q18-P19)*(1+(Q$15/12)))","v":0},{"$f":"IF(Q18=0,Q$14,0)","v":0},{"$f":"IF(AND(((T18-$N$3+P19+M19+J19+G19+D19-T$14-Q$14-N$14-K$14-H$14-E$14-SUM(X19,AA19))<=0),Q19+N19+K19+H19+E19=0),T18,IF(T$14>=T18,T18,IF(AND(Q19=0,N19=0,K19=0,H19=0),$N$3-P19-M19-J19-G19-D19+T$14+Q$14+N$14+K$14+H$14+E$14+SUM(X19,AA19),T$14)))","v":0},{"$f":"IF((T18-S19)<=0.0001,0,(T18-S19)*(1+(T$15/12)))","v":0},{"$f":"IF(T18=0,T$14,0)","v":0},{"$f":"IF(AND(((W18-$N$3+S19+P19+M19+J19+G19+D19-W$14-T$14-Q$14-N$14-K$14-H$14-E$14-SUM(AA19))<=0),T19+Q19+N19+K19+H19+E19=0),W18,IF(W$14>=W18,W18,IF(AND(T19=0,Q19=0,N19=0,K19=0,H19=0,E19=0),$N$3-S19-P19-M19-J19-G19-D19+W$14+T$14+Q$14+N$14+K$14+H$14+E$14+SUM(AA19),W$14)))","v":0},{"$f":"IF((W18-V19)<=0.0001,0,(W18-V19)*(1+(W$15/12)))","v":0},{"$f":"IF(W18=0,W$14,0)","v":0},{"$f":"IF(AND(((Z18-$N$3+V19+S19+P19+M19+J19+G19+D19-Z$14-W$14-T$14-Q$14-N$14-K$14-H$14-E$14)<=0),W19+T19+Q19+N19+K19+H19+E19=0),Z18,IF(Z$14>=Z18,Z18,IF(AND(W19=0,T19=0,Q19=0,N19=0,K19=0,H19=0,E19=0),$N$3-V19-S19-P19-M19-J19-G19-D19+Z$14+W$14+T$14+Q$14+N$14+K$14+H$14+E$14,Z$14)))","v":0},{"$f":"IF((Z18-Y19)<=0.0001,0,(Z18-Y19)*(1+(Z$15/12)))","v":0},{"$f":"IF(Z18=0,Z$14,0)","v":0},null,{"$f":"IF((AC18-AB19)<=0.0001,0,(AC18-AB19)*(1+(AC$15/12)))","v":0},{"$f":"IF(AC18=0,AC$14,0)","v":0},{"$f":"IF(AND(((AF18-$N$3+AB19+Y19+V19+S19+P19+M19+J19+G19+D19-AF$14-AC$14-Z$14-W$14-T$14-Q$14-N$14-K$14-H$14-E$14-SUM(AJ19,AM19,AP19,AS19,AV19,AY19,BB19,BE19,BH19,BK19,BN19,BQ19,BT19,BW19,BZ19,CC19,CF19,CI19,CL19,CO19,CR19,CU19))<=0),AC19+Z19+W19+T19+Q19+N19+K19+H19+E19=0),AF18,IF(AF$14>=AF18,AF18,IF(AND(AC19=0,Z19=0,W19=0,T19=0,Q19=0,N19=0,K19=0,H19=0,E19=0),$N$3-AB19-Y19-V19-S19-P19-M19-J19-G19-D19+AF$14+AC$14+Z$14+W$14+T$14+Q$14+N$14+K$14+H$14+E$14+SUM(AJ19,AM19,AP19,AS19,AV19,AY19,BB19,BE19,BH19,BK19,BN19,BQ19,BT19,BW19,BZ19,CC19,CF19,CI19,CL19,CO19,CR19,CU19),AF$14)))","v":0},{"$f":"IF((AF18-AE19)<=0.0001,0,(AF18-AE19)*(1+(AF$15/12)))","v":0},{"$f":"IF(AF18=0,AF$14,0)","v":0},{"$f":"IF(AND(((AI18-$N$3+AE19+AB19+Y19+V19+S19+P19+M19+J19+G19+D19-AI$14-AF$14-AC$14-Z$14-W$14-T$14-Q$14-N$14-K$14-H$14-E$14-SUM(AM19,AP19,AS19,AV19,AY19,BB19,BE19,BH19,BK19,BN19,BQ19,BT19,BW19,BZ19,CC19,CF19,CI19,CL19,CO19,CR19,CU19))<=0),AF19+AC19+Z19+W19+T19+Q19+N19+K19+H19+E19=0),AI18,IF(AI$14>=AI18,AI18,IF(AND(AF19=0,AC19=0,Z19=0,W19=0,T19=0,Q19=0,N19=0,K19=0,H19=0,E19=0),$N$3-AE19-AB19-Y19-V19-S19-P19-M19-J19-G19-D19+AI$14+AF$14+AC$14+Z$14+W$14+T$14+Q$14+N$14+K$14+H$14+E$14+SUM(AM19,AP19,AS19,AV19,AY19,BB19,BE19,BH19,BK19,BN19,BQ19,BT19,BW19,BZ19,CC19,CF19,CI19,CL19,CO19,CR19,CU19),AI$14)))","v":0},{"$f":"IF((AI18-AH19)<=0.0001,0,(AI18-AH19)*(1+(AI$15/12)))","v":0},{"$f":"IF(AI18=0,AI$14,0)","v":0},{"$f":"IF(AND(((AL18-$N$3+AH19+AE19+AB19+Y19+V19+S19+P19+M19+J19+G19+D19-AL$14-AI$14-AF$14-AC$14-Z$14-W$14-T$14-Q$14-N$14-K$14-H$14-E$14-SUM(AP19,AS19,AV19,AY19,BB19,BE19,BH19,BK19,BN19,BQ19,BT19,BW19,BZ19,CC19,CF19,CI19,CL19,CO19,CR19,CU19))<=0),AI19+AF19+AC19+Z19+W19+T19+Q19+N19+K19+H19+E19=0),AL18,IF(AL$14>=AL18,AL18,IF(AND(AI19=0,AF19=0,AC19=0,Z19=0,W19=0,T19=0,Q19=0,N19=0,K19=0,H19=0,E19=0),$N$3-AH19-AE19-AB19-Y19-V19-S19-P19-M19-J19-G19-D19+AL$14+AI$14+AF$14+AC$14+Z$14+W$14+T$14+Q$14+N$14+K$14+H$14+E$14+SUM(AP19,AS19,AV19,AY19,BB19,BE19,BH19,BK19,BN19,BQ19,BT19,BW19,BZ19,CC19,CF19,CI19,CL19,CO19,CR19,CU19),AL$14)))","v":0},{"$f":"IF((AL18-AK19)<=0.0001,0,(AL18-AK19)*(1+(AL$15/12)))","v":0},{"$f":"IF(AL18=0,AL$14,0)","v":0},{"$f":"IF(AND(((AO18-$N$3+AK19+AH19+AE19+AB19+Y19+V19+S19+P19+M19+J19+G19+D19-AO$14-AL$14-AI$14-AF$14-AC$14-Z$14-W$14-T$14-Q$14-N$14-K$14-H$14-E$14-SUM(AS19,AV19,AY19,BB19,BE19,BH19,BK19,BN19,BQ19,BT19,BW19,BZ19,CC19,CF19,CI19,CL19,CO19,CR19,CU19))<=0),AL19+AI19+AF19+AC19+Z19+W19+T19+Q19+N19+K19+H19+E19=0),AO18,IF(AO$14>=AO18,AO18,IF(AND(AL19=0,AI19=0,AF19=0,AC19=0,Z19=0,W19=0,T19=0,Q19=0,N19=0,K19=0,H19=0,E19=0),$N$3-AK19-AH19-AE19-AB19-Y19-V19-S19-P19-M19-J19-G19-D19+AO$14+AL$14+AI$14+AF$14+AC$14+Z$14+W$14+T$14+Q$14+N$14+K$14+H$14+E$14+SUM(AS19,AV19,AY19,BB19,BE19,BH19,BK19,BN19,BQ19,BT19,BW19,BZ19,CC19,CF19,CI19,CL19,CO19,CR19,CU19),AO$14)))","v":0},{"$f":"IF((AO18-AN19)<=0.0001,0,(AO18-AN19)*(1+(AO$15/12)))","v":0},{"$f":"IF(AO18=0,AO$14,0)","v":0},{"$f":"IF(AND(((AR18-$N$3+AN19+AK19+AH19+AE19+AB19+Y19+V19+S19+P19+M19+J19+G19+D19-AR$14-AO$14-AL$14-AI$14-AF$14-AC$14-Z$14-W$14-T$14-Q$14-N$14-K$14-H$14-E$14-SUM(AV19,AY19,BB19,BE19,BH19,BK19,BN19,BQ19,BT19,BW19,BZ19,CC19,CF19,CI19,CL19,CO19,CR19,CU19))<=0),AO19+AL19+AI19+AF19+AC19+Z19+W19+T19+Q19+N19+K19+H19+E19=0),AR18,IF(AR$14>=AR18,AR18,IF(AND(AO19=0,AL19=0,AI19=0,AF19=0,AC19=0,Z19=0,W19=0,T19=0,Q19=0,N19=0,K19=0,H19=0,E19=0),$N$3-AN19-AK19-AH19-AE19-AB19-Y19-V19-S19-P19-M19-J19-G19-D19+AR$14+AO$14+AL$14+AI$14+AF$14+AC$14+Z$14+W$14+T$14+Q$14+N$14+K$14+H$14+E$14+SUM(AV19,AY19,BB19,BE19,BH19,BK19,BN19,BQ19,BT19,BW19,BZ19,CC19,CF19,CI19,CL19,CO19,CR19,CU19),AR$14)))","v":0},{"$f":"IF((AR18-AQ19)<=0.0001,0,(AR18-AQ19)*(1+(AR$15/12)))","v":0},{"$f":"IF(AR18=0,AR$14,0)","v":0},{"$f":"IF(AND(((AU18-$N$3+AQ19+AN19+AK19+AH19+AE19+AB19+Y19+V19+S19+P19+M19+J19+G19+D19-AU$14-AR$14-AO$14-AL$14-AI$14-AF$14-AC$14-Z$14-W$14-T$14-Q$14-N$14-K$14-H$14-E$14-SUM(AY19,BB19,BE19,BH19,BK19,BN19,BQ19,BT19,BW19,BZ19,CC19,CF19,CI19,CL19,CO19,CR19,CU19))<=0),AR19+AO19+AL19+AI19+AF19+AC19+Z19+W19+T19+Q19+N19+K19+H19+E19=0),AU18,IF(AU$14>=AU18,AU18,IF(AND(AR19=0,AO19=0,AL19=0,AI19=0,AF19=0,AC19=0,Z19=0,W19=0,T19=0,Q19=0,N19=0,K19=0,H19=0,E19=0),$N$3-AQ19-AN19-AK19-AH19-AE19-AB19-Y19-V19-S19-P19-M19-J19-G19-D19+AU$14+AR$14+AO$14+AL$14+AI$14+AF$14+AC$14+Z$14+W$14+T$14+Q$14+N$14+K$14+H$14+E$14+SUM(AY19,BB19,BE19,BH19,BK19,BN19,BQ19,BT19,BW19,BZ19,CC19,CF19,CI19,CL19,CO19,CR19,CU19),AU$14)))","v":0},{"$f":"IF((AU18-AT19)<=0.0001,0,(AU18-AT19)*(1+(AU$15/12)))","v":0},{"$f":"IF(AU18=0,AU$14,0)","v":0},{"$f":"IF(AND(((AX18-$N$3+AT19+AQ19+AN19+AK19+AH19+AE19+AB19+Y19+V19+S19+P19+M19+J19+G19+D19-AX$14-AU$14-AR$14-AO$14-AL$14-AI$14-AF$14-AC$14-Z$14-W$14-T$14-Q$14-N$14-K$14-H$14-E$14-SUM(BB19,BE19,BH19,BK19,BN19,BQ19,BT19,BW19,BZ19,CC19,CF19,CI19,CL19,CO19,CR19,CU19))<=0),AU19+AR19+AO19+AL19+AI19+AF19+AC19+Z19+W19+T19+Q19+N19+K19+H19+E19=0),AX18,IF(AX$14>=AX18,AX18,IF(AND(AU19=0,AR19=0,AO19=0,AL19=0,AI19=0,AF19=0,AC19=0,Z19=0,W19=0,T19=0,Q19=0,N19=0,K19=0,H19=0,E19=0),$N$3-AT19-AQ19-AN19-AK19-AH19-AE19-AB19-Y19-V19-S19-P19-M19-J19-G19-D19+AX$14+AU$14+AR$14+AO$14+AL$14+AI$14+AF$14+AC$14+Z$14+W$14+T$14+Q$14+N$14+K$14+H$14+E$14+SUM(BB19,BE19,BH19,BK19,BN19,BQ19,BT19,BW19,BZ19,CC19,CF19,CI19,CL19,CO19,CR19,CU19),AX$14)))","v":0},{"$f":"IF((AX18-AW19)<=0.0001,0,(AX18-AW19)*(1+(AX$15/12)))","v":0},{"$f":"IF(AX18=0,AX$14,0)","v":0},{"$f":"IF(AND(((BA18-$N$3+AW19+AT19+AQ19+AN19+AK19+AH19+AE19+AB19+Y19+V19+S19+P19+M19+J19+G19+D19-BA$14-AX$14-AU$14-AR$14-AO$14-AL$14-AI$14-AF$14-AC$14-Z$14-W$14-T$14-Q$14-N$14-K$14-H$14-E$14-SUM(BE19,BH19,BK19,BN19,BQ19,BT19,BW19,BZ19,CC19,CF19,CI19,CL19,CO19,CR19,CU19))<=0),AX19+AU19+AR19+AO19+AL19+AI19+AF19+AC19+Z19+W19+T19+Q19+N19+K19+H19+E19=0),BA18,IF(BA$14>=BA18,BA18,IF(AND(AX19=0,AU19=0,AR19=0,AO19=0,AL19=0,AI19=0,AF19=0,AC19=0,Z19=0,W19=0,T19=0,Q19=0,N19=0,K19=0,H19=0,E19=0),$N$3-AW19-AT19-AQ19-AN19-AK19-AH19-AE19-AB19-Y19-V19-S19-P19-M19-J19-G19-D19+BA$14+AX$14+AU$14+AR$14+AO$14+AL$14+AI$14+AF$14+AC$14+Z$14+W$14+T$14+Q$14+N$14+K$14+H$14+E$14+SUM(BE19,BH19,BK19,BN19,BQ19,BT19,BW19,BZ19,CC19,CF19,CI19,CL19,CO19,CR19,CU19),BA$14)))","v":0},{"$f":"IF((BA18-AZ19)<=0.0001,0,(BA18-AZ19)*(1+(BA$15/12)))","v":0},{"$f":"IF(BA18=0,BA$14,0)","v":0},{"$f":"IF(AND(((BD18-$N$3+AZ19+AW19+AT19+AQ19+AN19+AK19+AH19+AE19+AB19+Y19+V19+S19+P19+M19+J19+G19+D19-BD$14-BA$14-AX$14-AU$14-AR$14-AO$14-AL$14-AI$14-AF$14-AC$14-Z$14-W$14-T$14-Q$14-N$14-K$14-H$14-E$14-SUM(BH19,BK19,BN19,BQ19,BT19,BW19,BZ19,CC19,CF19,CI19,CL19,CO19,CR19,CU19))<=0),BA19+AX19+AU19+AR19+AO19+AL19+AI19+AF19+AC19+Z19+W19+T19+Q19+N19+K19+H19+E19=0),BD18,IF(BD$14>=BD18,BD18,IF(AND(BA19=0,AX19=0,AU19=0,AR19=0,AO19=0,AL19=0,AI19=0,AF19=0,AC19=0,Z19=0,W19=0,T19=0,Q19=0,N19=0,K19=0,H19=0,E19=0),$N$3-AZ19-AW19-AT19-AQ19-AN19-AK19-AH19-AE19-AB19-Y19-V19-S19-P19-M19-J19-G19-D19+BD$14+BA$14+AX$14+AU$14+AR$14+AO$14+AL$14+AI$14+AF$14+AC$14+Z$14+W$14+T$14+Q$14+N$14+K$14+H$14+E$14+SUM(BH19,BK19,BN19,BQ19,BT19,BW19,BZ19,CC19,CF19,CI19,CL19,CO19,CR19,CU19),BD$14)))","v":0},{"$f":"IF((BD18-BC19)<=0.0001,0,(BD18-BC19)*(1+(BD$15/12)))","v":0},{"$f":"IF(BD18=0,BD$14,0)","v":0},{"$f":"IF(AND(((BG18-$N$3+BC19+AZ19+AW19+AT19+AQ19+AN19+AK19+AH19+AE19+AB19+Y19+V19+S19+P19+M19+J19+G19+D19-BG$14-BD$14-BA$14-AX$14-AU$14-AR$14-AO$14-AL$14-AI$14-AF$14-AC$14-Z$14-W$14-T$14-Q$14-N$14-K$14-H$14-E$14-SUM(BK19,BN19,BQ19,BT19,BW19,BZ19,CC19,CF19,CI19,CL19,CO19,CR19,CU19))<=0),BD19+BA19+AX19+AU19+AR19+AO19+AL19+AI19+AF19+AC19+Z19+W19+T19+Q19+N19+K19+H19+E19=0),BG18,IF(BG$14>=BG18,BG18,IF(AND(BD19=0,BA19=0,AX19=0,AU19=0,AR19=0,AO19=0,AL19=0,AI19=0,AF19=0,AC19=0,Z19=0,W19=0,T19=0,Q19=0,N19=0,K19=0,H19=0,E19=0),$N$3-BC19-AZ19-AW19-AT19-AQ19-AN19-AK19-AH19-AE19-AB19-Y19-V19-S19-P19-M19-J19-G19-D19+BG$14+BD$14+BA$14+AX$14+AU$14+AR$14+AO$14+AL$14+AI$14+AF$14+AC$14+Z$14+W$14+T$14+Q$14+N$14+K$14+H$14+E$14+SUM(BK19,BN19,BQ19,BT19,BW19,BZ19,CC19,CF19,CI19,CL19,CO19,CR19,CU19),BG$14)))","v":0},{"$f":"IF((BG18-BF19)<=0.0001,0,(BG18-BF19)*(1+(BG$15/12)))","v":0},{"$f":"IF(BG18=0,BG$14,0)","v":0},{"$f":"IF(AND(((BJ18-$N$3+BF19+BC19+AZ19+AW19+AT19+AQ19+AN19+AK19+AH19+AE19+AB19+Y19+V19+S19+P19+M19+J19+G19+D19-BJ$14-BG$14-BD$14-BA$14-AX$14-AU$14-AR$14-AO$14-AL$14-AI$14-AF$14-AC$14-Z$14-W$14-T$14-Q$14-N$14-K$14-H$14-E$14-SUM(BN19,BQ19,BT19,BW19,BZ19,CC19,CF19,CI19,CL19,CO19,CR19,CU19))<=0),BG19+BD19+BA19+AX19+AU19+AR19+AO19+AL19+AI19+AF19+AC19+Z19+W19+T19+Q19+N19+K19+H19+E19=0),BJ18,IF(BJ$14>=BJ18,BJ18,IF(AND(BG19=0,BD19=0,BA19=0,AX19=0,AU19=0,AR19=0,AO19=0,AL19=0,AI19=0,AF19=0,AC19=0,Z19=0,W19=0,T19=0,Q19=0,N19=0,K19=0,H19=0,E19=0),$N$3-BF19-BC19-AZ19-AW19-AT19-AQ19-AN19-AK19-AH19-AE19-AB19-Y19-V19-S19-P19-M19-J19-G19-D19+BJ$14+BG$14+BD$14+BA$14+AX$14+AU$14+AR$14+AO$14+AL$14+AI$14+AF$14+AC$14+Z$14+W$14+T$14+Q$14+N$14+K$14+H$14+E$14+SUM(BN19,BQ19,BT19,BW19,BZ19,CC19,CF19,CI19,CL19,CO19,CR19,CU19),BJ$14)))","v":0},{"$f":"IF((BJ18-BI19)<=0.0001,0,(BJ18-BI19)*(1+(BJ$15/12)))","v":0},{"$f":"IF(BJ18=0,BJ$14,0)","v":0},{"$f":"IF(AND(((BM18-$N$3+BI19+BF19+BC19+AZ19+AW19+AT19+AQ19+AN19+AK19+AH19+AE19+AB19+Y19+V19+S19+P19+M19+J19+G19+D19-BM$14-BJ$14-BG$14-BD$14-BA$14-AX$14-AU$14-AR$14-AO$14-AL$14-AI$14-AF$14-AC$14-Z$14-W$14-T$14-Q$14-N$14-K$14-H$14-E$14-SUM(BQ19,BT19,BW19,BZ19,CC19,CF19,CI19,CL19,CO19,CR19,CU19))<=0),BJ19+BG19+BD19+BA19+AX19+AU19+AR19+AO19+AL19+AI19+AF19+AC19+Z19+W19+T19+Q19+N19+K19+H19+E19=0),BM18,IF(BM$14>=BM18,BM18,IF(AND(BJ19=0,BG19=0,BD19=0,BA19=0,AX19=0,AU19=0,AR19=0,AO19=0,AL19=0,AI19=0,AF19=0,AC19=0,Z19=0,W19=0,T19=0,Q19=0,N19=0,K19=0,H19=0,E19=0),$N$3-BI19-BF19-BC19-AZ19-AW19-AT19-AQ19-AN19-AK19-AH19-AE19-AB19-Y19-V19-S19-P19-M19-J19-G19-D19+BM$14+BJ$14+BG$14+BD$14+BA$14+AX$14+AU$14+AR$14+AO$14+AL$14+AI$14+AF$14+AC$14+Z$14+W$14+T$14+Q$14+N$14+K$14+H$14+E$14+SUM(BQ19,BT19,BW19,BZ19,CC19,CF19,CI19,CL19,CO19,CR19,CU19),BM$14)))","v":0},{"$f":"IF((BM18-BL19)<=0.0001,0,(BM18-BL19)*(1+(BM$15/12)))","v":0},{"$f":"IF(BM18=0,BM$14,0)","v":0},{"$f":"IF(AND(((BP18-$N$3+BL19+BI19+BF19+BC19+AZ19+AW19+AT19+AQ19+AN19+AK19+AH19+AE19+AB19+Y19+V19+S19+P19+M19+J19+G19+D19-BP$14-BM$14-BJ$14-BG$14-BD$14-BA$14-AX$14-AU$14-AR$14-AO$14-AL$14-AI$14-AF$14-AC$14-Z$14-W$14-T$14-Q$14-N$14-K$14-H$14-E$14-SUM(BT19,BW19,BZ19,CC19,CF19,CI19,CL19,CO19,CR19,CU19))<=0),BM19+BJ19+BG19+BD19+BA19+AX19+AU19+AR19+AO19+AL19+AI19+AF19+AC19+Z19+W19+T19+Q19+N19+K19+H19+E19=0),BP18,IF(BP$14>=BP18,BP18,IF(AND(BM19=0,BJ19=0,BG19=0,BD19=0,BA19=0,AX19=0,AU19=0,AR19=0,AO19=0,AL19=0,AI19=0,AF19=0,AC19=0,Z19=0,W19=0,T19=0,Q19=0,N19=0,K19=0,H19=0,E19=0),$N$3-BL19-BI19-BF19-BC19-AZ19-AW19-AT19-AQ19-AN19-AK19-AH19-AE19-AB19-Y19-V19-S19-P19-M19-J19-G19-D19+BP$14+BM$14+BJ$14+BG$14+BD$14+BA$14+AX$14+AU$14+AR$14+AO$14+AL$14+AI$14+AF$14+AC$14+Z$14+W$14+T$14+Q$14+N$14+K$14+H$14+E$14+SUM(BT19,BW19,BZ19,CC19,CF19,CI19,CL19,CO19,CR19,CU19),BP$14)))","v":0},{"$f":"IF((BP18-BO19)<=0.0001,0,(BP18-BO19)*(1+(BP$15/12)))","v":0},{"$f":"IF(BP18=0,BP$14,0)","v":0},{"$f":"IF(AND(((BS18-$N$3+BO19+BL19+BI19+BF19+BC19+AZ19+AW19+AT19+AQ19+AN19+AK19+AH19+AE19+AB19+Y19+V19+S19+P19+M19+J19+G19+D19-BS$14-BP$14-BM$14-BJ$14-BG$14-BD$14-BA$14-AX$14-AU$14-AR$14-AO$14-AL$14-AI$14-AF$14-AC$14-Z$14-W$14-T$14-Q$14-N$14-K$14-H$14-E$14-SUM(BW19,BZ19,CC19,CF19,CI19,CL19,CO19,CR19,CU19))<=0),BP19+BM19+BJ19+BG19+BD19+BA19+AX19+AU19+AR19+AO19+AL19+AI19+AF19+AC19+Z19+W19+T19+Q19+N19+K19+H19+E19=0),BS18,IF(BS$14>=BS18,BS18,IF(AND(BP19=0,BM19=0,BJ19=0,BG19=0,BD19=0,BA19=0,AX19=0,AU19=0,AR19=0,AO19=0,AL19=0,AI19=0,AF19=0,AC19=0,Z19=0,W19=0,T19=0,Q19=0,N19=0,K19=0,H19=0,E19=0),$N$3-BO19-BL19-BI19-BF19-BC19-AZ19-AW19-AT19-AQ19-AN19-AK19-AH19-AE19-AB19-Y19-V19-S19-P19-M19-J19-G19-D19+BS$14+BP$14+BM$14+BJ$14+BG$14+BD$14+BA$14+AX$14+AU$14+AR$14+AO$14+AL$14+AI$14+AF$14+AC$14+Z$14+W$14+T$14+Q$14+N$14+K$14+H$14+E$14+SUM(BW19,BZ19,CC19,CF19,CI19,CL19,CO19,CR19,CU19),BS$14)))","v":0},{"$f":"IF((BS18-BR19)<=0.0001,0,(BS18-BR19)*(1+(BS$15/12)))","v":0},{"$f":"IF(BS18=0,BS$14,0)","v":0},{"$f":"IF(AND(((BV18-$N$3+BR19+BO19+BL19+BI19+BF19+BC19+AZ19+AW19+AT19+AQ19+AN19+AK19+AH19+AE19+AB19+Y19+V19+S19+P19+M19+J19+G19+D19-BV$14-BS$14-BP$14-BM$14-BJ$14-BG$14-BD$14-BA$14-AX$14-AU$14-AR$14-AO$14-AL$14-AI$14-AF$14-AC$14-Z$14-W$14-T$14-Q$14-N$14-K$14-H$14-E$14-SUM(BZ19,CC19,CF19,CI19,CL19,CO19,CR19,CU19))<=0),BS19+BP19+BM19+BJ19+BG19+BD19+BA19+AX19+AU19+AR19+AO19+AL19+AI19+AF19+AC19+Z19+W19+T19+Q19+N19+K19+H19+E19=0),BV18,IF(BV$14>=BV18,BV18,IF(AND(BS19=0,BP19=0,BM19=0,BJ19=0,BG19=0,BD19=0,BA19=0,AX19=0,AU19=0,AR19=0,AO19=0,AL19=0,AI19=0,AF19=0,AC19=0,Z19=0,W19=0,T19=0,Q19=0,N19=0,K19=0,H19=0,E19=0),$N$3-BR19-BO19-BL19-BI19-BF19-BC19-AZ19-AW19-AT19-AQ19-AN19-AK19-AH19-AE19-AB19-Y19-V19-S19-P19-M19-J19-G19-D19+BV$14+BS$14+BP$14+BM$14+BJ$14+BG$14+BD$14+BA$14+AX$14+AU$14+AR$14+AO$14+AL$14+AI$14+AF$14+AC$14+Z$14+W$14+T$14+Q$14+N$14+K$14+H$14+E$14+SUM(BZ19,CC19,CF19,CI19,CL19,CO19,CR19,CU19),BV$14)))","v":0},{"$f":"IF((BV18-BU19)<=0.0001,0,(BV18-BU19)*(1+(BV$15/12)))","v":0},{"$f":"IF(BV18=0,BV$14,0)","v":0},{"$f":"IF(AND(((BY18-$N$3+BU19+BR19+BO19+BL19+BI19+BF19+BC19+AZ19+AW19+AT19+AQ19+AN19+AK19+AH19+AE19+AB19+Y19+V19+S19+P19+M19+J19+G19+D19-BY$14-BV$14-BS$14-BP$14-BM$14-BJ$14-BG$14-BD$14-BA$14-AX$14-AU$14-AR$14-AO$14-AL$14-AI$14-AF$14-AC$14-Z$14-W$14-T$14-Q$14-N$14-K$14-H$14-E$14-SUM(CC19,CF19,CI19,CL19,CO19,CR19,CU19))<=0),BV19+BS19+BP19+BM19+BJ19+BG19+BD19+BA19+AX19+AU19+AR19+AO19+AL19+AI19+AF19+AC19+Z19+W19+T19+Q19+N19+K19+H19+E19=0),BY18,IF(BY$14>=BY18,BY18,IF(AND(BV19=0,BS19=0,BP19=0,BM19=0,BJ19=0,BG19=0,BD19=0,BA19=0,AX19=0,AU19=0,AR19=0,AO19=0,AL19=0,AI19=0,AF19=0,AC19=0,Z19=0,W19=0,T19=0,Q19=0,N19=0,K19=0,H19=0,E19=0),$N$3-BU19-BR19-BO19-BL19-BI19-BF19-BC19-AZ19-AW19-AT19-AQ19-AN19-AK19-AH19-AE19-AB19-Y19-V19-S19-P19-M19-J19-G19-D19+BY$14+BV$14+BS$14+BP$14+BM$14+BJ$14+BG$14+BD$14+BA$14+AX$14+AU$14+AR$14+AO$14+AL$14+AI$14+AF$14+AC$14+Z$14+W$14+T$14+Q$14+N$14+K$14+H$14+E$14+SUM(CC19,CF19,CI19,CL19,CO19,CR19,CU19),BY$14)))","v":0},{"$f":"IF((BY18-BX19)<=0.0001,0,(BY18-BX19)*(1+(BY$15/12)))","v":0},{"$f":"IF(BY18=0,BY$14,0)","v":0},{"$f":"IF(AND(((CB18-$N$3+BX19+BU19+BR19+BO19+BL19+BI19+BF19+BC19+AZ19+AW19+AT19+AQ19+AN19+AK19+AH19+AE19+AB19+Y19+V19+S19+P19+M19+J19+G19+D19-CB$14-BY$14-BV$14-BS$14-BP$14-BM$14-BJ$14-BG$14-BD$14-BA$14-AX$14-AU$14-AR$14-AO$14-AL$14-AI$14-AF$14-AC$14-Z$14-W$14-T$14-Q$14-N$14-K$14-H$14-E$14-SUM(CF19,CI19,CL19,CO19,CR19,CU19))<=0),BY19+BV19+BS19+BP19+BM19+BJ19+BG19+BD19+BA19+AX19+AU19+AR19+AO19+AL19+AI19+AF19+AC19+Z19+W19+T19+Q19+N19+K19+H19+E19=0),CB18,IF(CB$14>=CB18,CB18,IF(AND(BY19=0,BV19=0,BS19=0,BP19=0,BM19=0,BJ19=0,BG19=0,BD19=0,BA19=0,AX19=0,AU19=0,AR19=0,AO19=0,AL19=0,AI19=0,AF19=0,AC19=0,Z19=0,W19=0,T19=0,Q19=0,N19=0,K19=0,H19=0,E19=0),$N$3-BX19-BU19-BR19-BO19-BL19-BI19-BF19-BC19-AZ19-AW19-AT19-AQ19-AN19-AK19-AH19-AE19-AB19-Y19-V19-S19-P19-M19-J19-G19-D19+CB$14+BY$14+BV$14+BS$14+BP$14+BM$14+BJ$14+BG$14+BD$14+BA$14+AX$14+AU$14+AR$14+AO$14+AL$14+AI$14+AF$14+AC$14+Z$14+W$14+T$14+Q$14+N$14+K$14+H$14+E$14+SUM(CF19,CI19,CL19,CO19,CR19,CU19),CB$14)))","v":0},{"$f":"IF((CB18-CA19)<=0.0001,0,(CB18-CA19)*(1+(CB$15/12)))","v":0},{"$f":"IF(CB18=0,CB$14,0)","v":0},{"$f":"IF(AND(((CE18-$N$3+CA19+BX19+BU19+BR19+BO19+BL19+BI19+BF19+BC19+AZ19+AW19+AT19+AQ19+AN19+AK19+AH19+AE19+AB19+Y19+V19+S19+P19+M19+J19+G19+D19-CE$14-CB$14-BY$14-BV$14-BS$14-BP$14-BM$14-BJ$14-BG$14-BD$14-BA$14-AX$14-AU$14-AR$14-AO$14-AL$14-AI$14-AF$14-AC$14-Z$14-W$14-T$14-Q$14-N$14-K$14-H$14-E$14-SUM(CI19,CL19,CO19,CR19,CU19))<=0),CB19+BY19+BV19+BS19+BP19+BM19+BJ19+BG19+BD19+BA19+AX19+AU19+AR19+AO19+AL19+AI19+AF19+AC19+Z19+W19+T19+Q19+N19+K19+H19+E19=0),CE18,IF(CE$14>=CE18,CE18,IF(AND(CB19=0,BY19=0,BV19=0,BS19=0,BP19=0,BM19=0,BJ19=0,BG19=0,BD19=0,BA19=0,AX19=0,AU19=0,AR19=0,AO19=0,AL19=0,AI19=0,AF19=0,AC19=0,Z19=0,W19=0,T19=0,Q19=0,N19=0,K19=0,H19=0,E19=0),$N$3-CA19-BX19-BU19-BR19-BO19-BL19-BI19-BF19-BC19-AZ19-AW19-AT19-AQ19-AN19-AK19-AH19-AE19-AB19-Y19-V19-S19-P19-M19-J19-G19-D19+CE$14+CB$14+BY$14+BV$14+BS$14+BP$14+BM$14+BJ$14+BG$14+BD$14+BA$14+AX$14+AU$14+AR$14+AO$14+AL$14+AI$14+AF$14+AC$14+Z$14+W$14+T$14+Q$14+N$14+K$14+H$14+E$14+SUM(CI19,CL19,CO19,CR19,CU19),CE$14)))","v":0},{"$f":"IF((CE18-CD19)<=0.0001,0,(CE18-CD19)*(1+(CE$15/12)))","v":0},{"$f":"IF(CE18=0,CE$14,0)","v":0},{"$f":"IF(AND(((CH18-$N$3+CD19+CA19+BX19+BU19+BR19+BO19+BL19+BI19+BF19+BC19+AZ19+AW19+AT19+AQ19+AN19+AK19+AH19+AE19+AB19+Y19+V19+S19+P19+M19+J19+G19+D19-CH$14-CE$14-CB$14-BY$14-BV$14-BS$14-BP$14-BM$14-BJ$14-BG$14-BD$14-BA$14-AX$14-AU$14-AR$14-AO$14-AL$14-AI$14-AF$14-AC$14-Z$14-W$14-T$14-Q$14-N$14-K$14-H$14-E$14-SUM(CL19,CO19,CR19,CU19))<=0),CE19+CB19+BY19+BV19+BS19+BP19+BM19+BJ19+BG19+BD19+BA19+AX19+AU19+AR19+AO19+AL19+AI19+AF19+AC19+Z19+W19+T19+Q19+N19+K19+H19+E19=0),CH18,IF(CH$14>=CH18,CH18,IF(AND(CE19=0,CB19=0,BY19=0,BV19=0,BS19=0,BP19=0,BM19=0,BJ19=0,BG19=0,BD19=0,BA19=0,AX19=0,AU19=0,AR19=0,AO19=0,AL19=0,AI19=0,AF19=0,AC19=0,Z19=0,W19=0,T19=0,Q19=0,N19=0,K19=0,H19=0,E19=0),$N$3-CD19-CA19-BX19-BU19-BR19-BO19-BL19-BI19-BF19-BC19-AZ19-AW19-AT19-AQ19-AN19-AK19-AH19-AE19-AB19-Y19-V19-S19-P19-M19-J19-G19-D19+CH$14+CE$14+CB$14+BY$14+BV$14+BS$14+BP$14+BM$14+BJ$14+BG$14+BD$14+BA$14+AX$14+AU$14+AR$14+AO$14+AL$14+AI$14+AF$14+AC$14+Z$14+W$14+T$14+Q$14+N$14+K$14+H$14+E$14+SUM(CL19,CO19,CR19,CU19),CH$14)))","v":0},{"$f":"IF((CH18-CG19)<=0.0001,0,(CH18-CG19)*(1+(CH$15/12)))","v":0},{"$f":"IF(CH18=0,CH$14,0)","v":0},{"$f":"IF(AND(((CK18-$N$3+CG19+CD19+CA19+BX19+BU19+BR19+BO19+BL19+BI19+BF19+BC19+AZ19+AW19+AT19+AQ19+AN19+AK19+AH19+AE19+AB19+Y19+V19+S19+P19+M19+J19+G19+D19-CK$14-CH$14-CE$14-CB$14-BY$14-BV$14-BS$14-BP$14-BM$14-BJ$14-BG$14-BD$14-BA$14-AX$14-AU$14-AR$14-AO$14-AL$14-AI$14-AF$14-AC$14-Z$14-W$14-T$14-Q$14-N$14-K$14-H$14-E$14-SUM(CO19,CR19,CU19))<=0),CH19+CE19+CB19+BY19+BV19+BS19+BP19+BM19+BJ19+BG19+BD19+BA19+AX19+AU19+AR19+AO19+AL19+AI19+AF19+AC19+Z19+W19+T19+Q19+N19+K19+H19+E19=0),CK18,IF(CK$14>=CK18,CK18,IF(AND(CH19=0,CE19=0,CB19=0,BY19=0,BV19=0,BS19=0,BP19=0,BM19=0,BJ19=0,BG19=0,BD19=0,BA19=0,AX19=0,AU19=0,AR19=0,AO19=0,AL19=0,AI19=0,AF19=0,AC19=0,Z19=0,W19=0,T19=0,Q19=0,N19=0,K19=0,H19=0,E19=0),$N$3-CG19-CD19-CA19-BX19-BU19-BR19-BO19-BL19-BI19-BF19-BC19-AZ19-AW19-AT19-AQ19-AN19-AK19-AH19-AE19-AB19-Y19-V19-S19-P19-M19-J19-G19-D19+CK$14+CH$14+CE$14+CB$14+BY$14+BV$14+BS$14+BP$14+BM$14+BJ$14+BG$14+BD$14+BA$14+AX$14+AU$14+AR$14+AO$14+AL$14+AI$14+AF$14+AC$14+Z$14+W$14+T$14+Q$14+N$14+K$14+H$14+E$14+SUM(CO19,CR19,CU19),CK$14)))","v":0},{"$f":"IF((CK18-CJ19)<=0.0001,0,(CK18-CJ19)*(1+(CK$15/12)))","v":0},{"$f":"IF(CK18=0,CK$14,0)","v":0},{"$f":"IF(AND(((CN18-$N$3+CJ19+CG19+CD19+CA19+BX19+BU19+BR19+BO19+BL19+BI19+BF19+BC19+AZ19+AW19+AT19+AQ19+AN19+AK19+AH19+AE19+AB19+Y19+V19+S19+P19+M19+J19+G19+D19-CN$14-CK$14-CH$14-CE$14-CB$14-BY$14-BV$14-BS$14-BP$14-BM$14-BJ$14-BG$14-BD$14-BA$14-AX$14-AU$14-AR$14-AO$14-AL$14-AI$14-AF$14-AC$14-Z$14-W$14-T$14-Q$14-N$14-K$14-H$14-E$14-SUM(CR19,CU19))<=0),CK19+CH19+CE19+CB19+BY19+BV19+BS19+BP19+BM19+BJ19+BG19+BD19+BA19+AX19+AU19+AR19+AO19+AL19+AI19+AF19+AC19+Z19+W19+T19+Q19+N19+K19+H19+E19=0),CN18,IF(CN$14>=CN18,CN18,IF(AND(CK19=0,CH19=0,CE19=0,CB19=0,BY19=0,BV19=0,BS19=0,BP19=0,BM19=0,BJ19=0,BG19=0,BD19=0,BA19=0,AX19=0,AU19=0,AR19=0,AO19=0,AL19=0,AI19=0,AF19=0,AC19=0,Z19=0,W19=0,T19=0,Q19=0,N19=0,K19=0,H19=0,E19=0),$N$3-CJ19-CG19-CD19-CA19-BX19-BU19-BR19-BO19-BL19-BI19-BF19-BC19-AZ19-AW19-AT19-AQ19-AN19-AK19-AH19-AE19-AB19-Y19-V19-S19-P19-M19-J19-G19-D19+CN$14+CK$14+CH$14+CE$14+CB$14+BY$14+BV$14+BS$14+BP$14+BM$14+BJ$14+BG$14+BD$14+BA$14+AX$14+AU$14+AR$14+AO$14+AL$14+AI$14+AF$14+AC$14+Z$14+W$14+T$14+Q$14+N$14+K$14+H$14+E$14+SUM(CR19,CU19),CN$14)))","v":0},{"$f":"IF((CN18-CM19)<=0.0001,0,(CN18-CM19)*(1+(CN$15/12)))","v":0},{"$f":"IF(CN18=0,CN$14,0)","v":0},{"$f":"IF(AND(((CQ18-$N$3+CM19+CJ19+CG19+CD19+CA19+BX19+BU19+BR19+BO19+BL19+BI19+BF19+BC19+AZ19+AW19+AT19+AQ19+AN19+AK19+AH19+AE19+AB19+Y19+V19+S19+P19+M19+J19+G19+D19-CQ$14-CN$14-CK$14-CH$14-CE$14-CB$14-BY$14-BV$14-BS$14-BP$14-BM$14-BJ$14-BG$14-BD$14-BA$14-AX$14-AU$14-AR$14-AO$14-AL$14-AI$14-AF$14-AC$14-Z$14-W$14-T$14-Q$14-N$14-K$14-H$14-E$14-SUM(CU19))<=0),CN19+CK19+CH19+CE19+CB19+BY19+BV19+BS19+BP19+BM19+BJ19+BG19+BD19+BA19+AX19+AU19+AR19+AO19+AL19+AI19+AF19+AC19+Z19+W19+T19+Q19+N19+K19+H19+E19=0),CQ18,IF(CQ$14>=CQ18,CQ18,IF(AND(CN19=0,CK19=0,CH19=0,CE19=0,CB19=0,BY19=0,BV19=0,BS19=0,BP19=0,BM19=0,BJ19=0,BG19=0,BD19=0,BA19=0,AX19=0,AU19=0,AR19=0,AO19=0,AL19=0,AI19=0,AF19=0,AC19=0,Z19=0,W19=0,T19=0,Q19=0,N19=0,K19=0,H19=0,E19=0),$N$3-CM19-CJ19-CG19-CD19-CA19-BX19-BU19-BR19-BO19-BL19-BI19-BF19-BC19-AZ19-AW19-AT19-AQ19-AN19-AK19-AH19-AE19-AB19-Y19-V19-S19-P19-M19-J19-G19-D19+CQ$14+CN$14+CK$14+CH$14+CE$14+CB$14+BY$14+BV$14+BS$14+BP$14+BM$14+BJ$14+BG$14+BD$14+BA$14+AX$14+AU$14+AR$14+AO$14+AL$14+AI$14+AF$14+AC$14+Z$14+W$14+T$14+Q$14+N$14+K$14+H$14+E$14+SUM(CU19),CQ$14)))","v":0},{"$f":"IF((CQ18-CP19)<=0.0001,0,(CQ18-CP19)*(1+(CQ$15/12)))","v":0},{"$f":"IF(CQ18=0,CQ$14,0)","v":0},{"$f":"IF(AND(((CT18-$N$3+CP19+CM19+CJ19+CG19+CD19+CA19+BX19+BU19+BR19+BO19+BL19+BI19+BF19+BC19+AZ19+AW19+AT19+AQ19+AN19+AK19+AH19+AE19+AB19+Y19+V19+S19+P19+M19+J19+G19+D19-CT$14-CQ$14-CN$14-CK$14-CH$14-CE$14-CB$14-BY$14-BV$14-BS$14-BP$14-BM$14-BJ$14-BG$14-BD$14-BA$14-AX$14-AU$14-AR$14-AO$14-AL$14-AI$14-AF$14-AC$14-Z$14-W$14-T$14-Q$14-N$14-K$14-H$14-E$14)<=0),CQ19+CN19+CK19+CH19+CE19+CB19+BY19+BV19+BS19+BP19+BM19+BJ19+BG19+BD19+BA19+AX19+AU19+AR19+AO19+AL19+AI19+AF19+AC19+Z19+W19+T19+Q19+N19+K19+H19+E19=0),CT18,IF(CT$14>=CT18,CT18,IF(AND(CQ19=0,CN19=0,CK19=0,CH19=0,CE19=0,CB19=0,BY19=0,BV19=0,BS19=0,BP19=0,BM19=0,BJ19=0,BG19=0,BD19=0,BA19=0,AX19=0,AU19=0,AR19=0,AO19=0,AL19=0,AI19=0,AF19=0,AC19=0,Z19=0,W19=0,T19=0,Q19=0,N19=0,K19=0,H19=0,E19=0),$N$3-CP19-CM19-CJ19-CG19-CD19-CA19-BX19-BU19-BR19-BO19-BL19-BI19-BF19-BC19-AZ19-AW19-AT19-AQ19-AN19-AK19-AH19-AE19-AB19-Y19-V19-S19-P19-M19-J19-G19-D19+CT$14+CQ$14+CN$14+CK$14+CH$14+CE$14+CB$14+BY$14+BV$14+BS$14+BP$14+BM$14+BJ$14+BG$14+BD$14+BA$14+AX$14+AU$14+AR$14+AO$14+AL$14+AI$14+AF$14+AC$14+Z$14+W$14+T$14+Q$14+N$14+K$14+H$14+E$14,CT$14)))","v":0},{"$f":"IF((CT18-CS19)<=0.0001,0,(CT18-CS19)*(1+(CT$15/12)))","v":0},{"$f":"IF(CT18=0,CT$14,0)","v":0},null,null,{"v":2533.7333333333336,"d":"$2,533.73"},2,null,{"v":1939.2,"d":"$1,939.20"},2,null,{"v":956.3333333333333,"d":"$956.33"},2,null,0,2,null,0,2,null,0,2,null,0,2,null,0,2,null,0,2,null,0,2,null,0,2,null,0,2,null,0,2,null,0,2,null,0,2,null,0,2,null,0,2,null,0,2,null,0,2,null,0,2,null,0,2,null,0,2,null,0,2,null,0,2,null,0,2,null,0,2,null,0,2,null,0,2,null,0,2,null,0,2,null,0,2,null,0,2]
[{"v":5503.731777777779,"d":"$5,503.73"},{"v":325,"d":"$325.00"},3,{"$f":"IF((E19-$N$3-$E$14-SUM(I20,L20,O20,R20,U20,X20,AA20))<=0,($N$3+(E19-$N$3)),($N$3+$E$14+SUM(I20,L20,O20,R20,U20,X20,AA20)))","v":{"v":260,"d":"$260.00"}},{"$f":"IF((E19-D20)<=0.0001,0,(E19-D20)*(1+(E$15/12)))","v":{"v":2322.997555555556,"d":"$2,323.00"}},null,{"$f":"IF(AND(((H19-$N$3+D20-H$14-E$14-SUM(L20,O20,R20,U20,X20,AA20))<=0),E20=0),H19,IF(E20=0,$N$3-D20+H$14+E$14+SUM(L20,O20,R20,U20,X20,AA20),H$14))","v":{"v":40,"d":"$40.00"}},{"v":1918.192,"d":"$1,918.19"},{"$f":"IF(H19=0,H$14,0)","v":0},{"$f":"IF(AND(((K19-$N$3+G20+D20-K$14-H$14-E$14-SUM(O20,R20,U20,X20,AA20))<=0),H20+E20=0),K19,IF(K$14>=K19,K19,IF(AND(H20=0,E20=0),$N$3-G20-D20+K$14+H$14+E$14+SUM(O20,R20,U20,X20,AA20),K$14)))","v":{"v":25,"d":"$25.00"}},{"$f":"IF((K19-J20)<=0.0001,0,(K19-J20)*(1+(K$15/12)))","v":{"v":937.5422222222221,"d":"$937.54"}},{"$f":"IF(K19=0,K$14,0)","v":0},{"$f":"IF(AND(((N19-$N$3+J20+G20+D20-N$14-K$14-H$14-E$14-SUM(R20,U20,X20,AA20))<=0),K20+H20+E20=0),N19,IF(N$14>=N19,N19, IF(AND(K20=0,H20=0,E20=0),$N$3-J20-G20-D20+N$14+K$14+H$14+E$14+SUM(R20,U20,X20,AA20),N$14)))","v":0},{"$f":"IF((N19-M20)<=0.0001,0,(N19-M20)*(1+(N$15/12)))","v":0},{"$f":"IF(N19=0,N$14,0)","v":0},{"$f":"IF(AND(((Q19-$N$3+M20+J20+G20+D20-Q$14-N$14-K$14-H$14-E$14-SUM(U20,X20,AA20))<=0),N20+K20+H20+E20=0),Q19,IF(Q$14>=Q19,Q19,IF(AND(N20=0,K20=0,H20=0,E20=0),$N$3-M20-J20-G20-D20+Q$14+N$14+K$14+H$14+E$14+SUM(U20,X20,AA20),Q$14)))","v":0},{"$f":"IF((Q19-P20)<=0.0001,0,(Q19-P20)*(1+(Q$15/12)))","v":0},{"$f":"IF(Q19=0,Q$14,0)","v":0},{"$f":"IF(AND(((T19-$N$3+P20+M20+J20+G20+D20-T$14-Q$14-N$14-K$14-H$14-E$14-SUM(X20,AA20))<=0),Q20+N20+K20+H20+E20=0),T19,IF(T$14>=T19,T19,IF(AND(Q20=0,N20=0,K20=0,H20=0),$N$3-P20-M20-J20-G20-D20+T$14+Q$14+N$14+K$14+H$14+E$14+SUM(X20,AA20),T$14)))","v":0},{"$f":"IF((T19-S20)<=0.0001,0,(T19-S20)*(1+(T$15/12)))","v":0},{"$f":"IF(T19=0,T$14,0)","v":0},{"$f":"IF(AND(((W19-$N$3+S20+P20+M20+J20+G20+D20-W$14-T$14-Q$14-N$14-K$14-H$14-E$14-SUM(AA20))<=0),T20+Q20+N20+K20+H20+E20=0),W19,IF(W$14>=W19,W19,IF(AND(T20=0,Q20=0,N20=0,K20=0,H20=0,E20=0),$N$3-S20-P20-M20-J20-G20-D20+W$14+T$14+Q$14+N$14+K$14+H$14+E$14+SUM(AA20),W$14)))","v":0},{"$f":"IF((W19-V20)<=0.0001,0,(W19-V20)*(1+(W$15/12)))","v":0},{"$f":"IF(W19=0,W$14,0)","v":0},{"$f":"IF(AND(((Z19-$N$3+V20+S20+P20+M20+J20+G20+D20-Z$14-W$14-T$14-Q$14-N$14-K$14-H$14-E$14)<=0),W20+T20+Q20+N20+K20+H20+E20=0),Z19,IF(Z$14>=Z19,Z19,IF(AND(W20=0,T20=0,Q20=0,N20=0,K20=0,H20=0,E20=0),$N$3-V20-S20-P20-M20-J20-G20-D20+Z$14+W$14+T$14+Q$14+N$14+K$14+H$14+E$14,Z$14)))","v":0},{"$f":"IF((Z19-Y20)<=0.0001,0,(Z19-Y20)*(1+(Z$15/12)))","v":0},{"$f":"IF(Z19=0,Z$14,0)","v":0},null,{"$f":"IF((AC19-AB20)<=0.0001,0,(AC19-AB20)*(1+(AC$15/12)))","v":0},{"$f":"IF(AC19=0,AC$14,0)","v":0},{"$f":"IF(AND(((AF19-$N$3+AB20+Y20+V20+S20+P20+M20+J20+G20+D20-AF$14-AC$14-Z$14-W$14-T$14-Q$14-N$14-K$14-H$14-E$14-SUM(AJ20,AM20,AP20,AS20,AV20,AY20,BB20,BE20,BH20,BK20,BN20,BQ20,BT20,BW20,BZ20,CC20,CF20,CI20,CL20,CO20,CR20,CU20))<=0),AC20+Z20+W20+T20+Q20+N20+K20+H20+E20=0),AF19,IF(AF$14>=AF19,AF19,IF(AND(AC20=0,Z20=0,W20=0,T20=0,Q20=0,N20=0,K20=0,H20=0,E20=0),$N$3-AB20-Y20-V20-S20-P20-M20-J20-G20-D20+AF$14+AC$14+Z$14+W$14+T$14+Q$14+N$14+K$14+H$14+E$14+SUM(AJ20,AM20,AP20,AS20,AV20,AY20,BB20,BE20,BH20,BK20,BN20,BQ20,BT20,BW20,BZ20,CC20,CF20,CI20,CL20,CO20,CR20,CU20),AF$14)))","v":0},{"$f":"IF((AF19-AE20)<=0.0001,0,(AF19-AE20)*(1+(AF$15/12)))","v":0},{"$f":"IF(AF19=0,AF$14,0)","v":0},{"$f":"IF(AND(((AI19-$N$3+AE20+AB20+Y20+V20+S20+P20+M20+J20+G20+D20-AI$14-AF$14-AC$14-Z$14-W$14-T$14-Q$14-N$14-K$14-H$14-E$14-SUM(AM20,AP20,AS20,AV20,AY20,BB20,BE20,BH20,BK20,BN20,BQ20,BT20,BW20,BZ20,CC20,CF20,CI20,CL20,CO20,CR20,CU20))<=0),AF20+AC20+Z20+W20+T20+Q20+N20+K20+H20+E20=0),AI19,IF(AI$14>=AI19,AI19,IF(AND(AF20=0,AC20=0,Z20=0,W20=0,T20=0,Q20=0,N20=0,K20=0,H20=0,E20=0),$N$3-AE20-AB20-Y20-V20-S20-P20-M20-J20-G20-D20+AI$14+AF$14+AC$14+Z$14+W$14+T$14+Q$14+N$14+K$14+H$14+E$14+SUM(AM20,AP20,AS20,AV20,AY20,BB20,BE20,BH20,BK20,BN20,BQ20,BT20,BW20,BZ20,CC20,CF20,CI20,CL20,CO20,CR20,CU20),AI$14)))","v":0},{"$f":"IF((AI19-AH20)<=0.0001,0,(AI19-AH20)*(1+(AI$15/12)))","v":0},{"$f":"IF(AI19=0,AI$14,0)","v":0},{"$f":"IF(AND(((AL19-$N$3+AH20+AE20+AB20+Y20+V20+S20+P20+M20+J20+G20+D20-AL$14-AI$14-AF$14-AC$14-Z$14-W$14-T$14-Q$14-N$14-K$14-H$14-E$14-SUM(AP20,AS20,AV20,AY20,BB20,BE20,BH20,BK20,BN20,BQ20,BT20,BW20,BZ20,CC20,CF20,CI20,CL20,CO20,CR20,CU20))<=0),AI20+AF20+AC20+Z20+W20+T20+Q20+N20+K20+H20+E20=0),AL19,IF(AL$14>=AL19,AL19,IF(AND(AI20=0,AF20=0,AC20=0,Z20=0,W20=0,T20=0,Q20=0,N20=0,K20=0,H20=0,E20=0),$N$3-AH20-AE20-AB20-Y20-V20-S20-P20-M20-J20-G20-D20+AL$14+AI$14+AF$14+AC$14+Z$14+W$14+T$14+Q$14+N$14+K$14+H$14+E$14+SUM(AP20,AS20,AV20,AY20,BB20,BE20,BH20,BK20,BN20,BQ20,BT20,BW20,BZ20,CC20,CF20,CI20,CL20,CO20,CR20,CU20),AL$14)))","v":0},{"$f":"IF((AL19-AK20)<=0.0001,0,(AL19-AK20)*(1+(AL$15/12)))","v":0},{"$f":"IF(AL19=0,AL$14,0)","v":0},{"$f":"IF(AND(((AO19-$N$3+AK20+AH20+AE20+AB20+Y20+V20+S20+P20+M20+J20+G20+D20-AO$14-AL$14-AI$14-AF$14-AC$14-Z$14-W$14-T$14-Q$14-N$14-K$14-H$14-E$14-SUM(AS20,AV20,AY20,BB20,BE20,BH20,BK20,BN20,BQ20,BT20,BW20,BZ20,CC20,CF20,CI20,CL20,CO20,CR20,CU20))<=0),AL20+AI20+AF20+AC20+Z20+W20+T20+Q20+N20+K20+H20+E20=0),AO19,IF(AO$14>=AO19,AO19,IF(AND(AL20=0,AI20=0,AF20=0,AC20=0,Z20=0,W20=0,T20=0,Q20=0,N20=0,K20=0,H20=0,E20=0),$N$3-AK20-AH20-AE20-AB20-Y20-V20-S20-P20-M20-J20-G20-D20+AO$14+AL$14+AI$14+AF$14+AC$14+Z$14+W$14+T$14+Q$14+N$14+K$14+H$14+E$14+SUM(AS20,AV20,AY20,BB20,BE20,BH20,BK20,BN20,BQ20,BT20,BW20,BZ20,CC20,CF20,CI20,CL20,CO20,CR20,CU20),AO$14)))","v":0},{"$f":"IF((AO19-AN20)<=0.0001,0,(AO19-AN20)*(1+(AO$15/12)))","v":0},{"$f":"IF(AO19=0,AO$14,0)","v":0},{"$f":"IF(AND(((AR19-$N$3+AN20+AK20+AH20+AE20+AB20+Y20+V20+S20+P20+M20+J20+G20+D20-AR$14-AO$14-AL$14-AI$14-AF$14-AC$14-Z$14-W$14-T$14-Q$14-N$14-K$14-H$14-E$14-SUM(AV20,AY20,BB20,BE20,BH20,BK20,BN20,BQ20,BT20,BW20,BZ20,CC20,CF20,CI20,CL20,CO20,CR20,CU20))<=0),AO20+AL20+AI20+AF20+AC20+Z20+W20+T20+Q20+N20+K20+H20+E20=0),AR19,IF(AR$14>=AR19,AR19,IF(AND(AO20=0,AL20=0,AI20=0,AF20=0,AC20=0,Z20=0,W20=0,T20=0,Q20=0,N20=0,K20=0,H20=0,E20=0),$N$3-AN20-AK20-AH20-AE20-AB20-Y20-V20-S20-P20-M20-J20-G20-D20+AR$14+AO$14+AL$14+AI$14+AF$14+AC$14+Z$14+W$14+T$14+Q$14+N$14+K$14+H$14+E$14+SUM(AV20,AY20,BB20,BE20,BH20,BK20,BN20,BQ20,BT20,BW20,BZ20,CC20,CF20,CI20,CL20,CO20,CR20,CU20),AR$14)))","v":0},{"$f":"IF((AR19-AQ20)<=0.0001,0,(AR19-AQ20)*(1+(AR$15/12)))","v":0},{"$f":"IF(AR19=0,AR$14,0)","v":0},{"$f":"IF(AND(((AU19-$N$3+AQ20+AN20+AK20+AH20+AE20+AB20+Y20+V20+S20+P20+M20+J20+G20+D20-AU$14-AR$14-AO$14-AL$14-AI$14-AF$14-AC$14-Z$14-W$14-T$14-Q$14-N$14-K$14-H$14-E$14-SUM(AY20,BB20,BE20,BH20,BK20,BN20,BQ20,BT20,BW20,BZ20,CC20,CF20,CI20,CL20,CO20,CR20,CU20))<=0),AR20+AO20+AL20+AI20+AF20+AC20+Z20+W20+T20+Q20+N20+K20+H20+E20=0),AU19,IF(AU$14>=AU19,AU19,IF(AND(AR20=0,AO20=0,AL20=0,AI20=0,AF20=0,AC20=0,Z20=0,W20=0,T20=0,Q20=0,N20=0,K20=0,H20=0,E20=0),$N$3-AQ20-AN20-AK20-AH20-AE20-AB20-Y20-V20-S20-P20-M20-J20-G20-D20+AU$14+AR$14+AO$14+AL$14+AI$14+AF$14+AC$14+Z$14+W$14+T$14+Q$14+N$14+K$14+H$14+E$14+SUM(AY20,BB20,BE20,BH20,BK20,BN20,BQ20,BT20,BW20,BZ20,CC20,CF20,CI20,CL20,CO20,CR20,CU20),AU$14)))","v":0},{"$f":"IF((AU19-AT20)<=0.0001,0,(AU19-AT20)*(1+(AU$15/12)))","v":0},{"$f":"IF(AU19=0,AU$14,0)","v":0},{"$f":"IF(AND(((AX19-$N$3+AT20+AQ20+AN20+AK20+AH20+AE20+AB20+Y20+V20+S20+P20+M20+J20+G20+D20-AX$14-AU$14-AR$14-AO$14-AL$14-AI$14-AF$14-AC$14-Z$14-W$14-T$14-Q$14-N$14-K$14-H$14-E$14-SUM(BB20,BE20,BH20,BK20,BN20,BQ20,BT20,BW20,BZ20,CC20,CF20,CI20,CL20,CO20,CR20,CU20))<=0),AU20+AR20+AO20+AL20+AI20+AF20+AC20+Z20+W20+T20+Q20+N20+K20+H20+E20=0),AX19,IF(AX$14>=AX19,AX19,IF(AND(AU20=0,AR20=0,AO20=0,AL20=0,AI20=0,AF20=0,AC20=0,Z20=0,W20=0,T20=0,Q20=0,N20=0,K20=0,H20=0,E20=0),$N$3-AT20-AQ20-AN20-AK20-AH20-AE20-AB20-Y20-V20-S20-P20-M20-J20-G20-D20+AX$14+AU$14+AR$14+AO$14+AL$14+AI$14+AF$14+AC$14+Z$14+W$14+T$14+Q$14+N$14+K$14+H$14+E$14+SUM(BB20,BE20,BH20,BK20,BN20,BQ20,BT20,BW20,BZ20,CC20,CF20,CI20,CL20,CO20,CR20,CU20),AX$14)))","v":0},{"$f":"IF((AX19-AW20)<=0.0001,0,(AX19-AW20)*(1+(AX$15/12)))","v":0},{"$f":"IF(AX19=0,AX$14,0)","v":0},{"$f":"IF(AND(((BA19-$N$3+AW20+AT20+AQ20+AN20+AK20+AH20+AE20+AB20+Y20+V20+S20+P20+M20+J20+G20+D20-BA$14-AX$14-AU$14-AR$14-AO$14-AL$14-AI$14-AF$14-AC$14-Z$14-W$14-T$14-Q$14-N$14-K$14-H$14-E$14-SUM(BE20,BH20,BK20,BN20,BQ20,BT20,BW20,BZ20,CC20,CF20,CI20,CL20,CO20,CR20,CU20))<=0),AX20+AU20+AR20+AO20+AL20+AI20+AF20+AC20+Z20+W20+T20+Q20+N20+K20+H20+E20=0),BA19,IF(BA$14>=BA19,BA19,IF(AND(AX20=0,AU20=0,AR20=0,AO20=0,AL20=0,AI20=0,AF20=0,AC20=0,Z20=0,W20=0,T20=0,Q20=0,N20=0,K20=0,H20=0,E20=0),$N$3-AW20-AT20-AQ20-AN20-AK20-AH20-AE20-AB20-Y20-V20-S20-P20-M20-J20-G20-D20+BA$14+AX$14+AU$14+AR$14+AO$14+AL$14+AI$14+AF$14+AC$14+Z$14+W$14+T$14+Q$14+N$14+K$14+H$14+E$14+SUM(BE20,BH20,BK20,BN20,BQ20,BT20,BW20,BZ20,CC20,CF20,CI20,CL20,CO20,CR20,CU20),BA$14)))","v":0},{"$f":"IF((BA19-AZ20)<=0.0001,0,(BA19-AZ20)*(1+(BA$15/12)))","v":0},{"$f":"IF(BA19=0,BA$14,0)","v":0},{"$f":"IF(AND(((BD19-$N$3+AZ20+AW20+AT20+AQ20+AN20+AK20+AH20+AE20+AB20+Y20+V20+S20+P20+M20+J20+G20+D20-BD$14-BA$14-AX$14-AU$14-AR$14-AO$14-AL$14-AI$14-AF$14-AC$14-Z$14-W$14-T$14-Q$14-N$14-K$14-H$14-E$14-SUM(BH20,BK20,BN20,BQ20,BT20,BW20,BZ20,CC20,CF20,CI20,CL20,CO20,CR20,CU20))<=0),BA20+AX20+AU20+AR20+AO20+AL20+AI20+AF20+AC20+Z20+W20+T20+Q20+N20+K20+H20+E20=0),BD19,IF(BD$14>=BD19,BD19,IF(AND(BA20=0,AX20=0,AU20=0,AR20=0,AO20=0,AL20=0,AI20=0,AF20=0,AC20=0,Z20=0,W20=0,T20=0,Q20=0,N20=0,K20=0,H20=0,E20=0),$N$3-AZ20-AW20-AT20-AQ20-AN20-AK20-AH20-AE20-AB20-Y20-V20-S20-P20-M20-J20-G20-D20+BD$14+BA$14+AX$14+AU$14+AR$14+AO$14+AL$14+AI$14+AF$14+AC$14+Z$14+W$14+T$14+Q$14+N$14+K$14+H$14+E$14+SUM(BH20,BK20,BN20,BQ20,BT20,BW20,BZ20,CC20,CF20,CI20,CL20,CO20,CR20,CU20),BD$14)))","v":0},{"$f":"IF((BD19-BC20)<=0.0001,0,(BD19-BC20)*(1+(BD$15/12)))","v":0},{"$f":"IF(BD19=0,BD$14,0)","v":0},{"$f":"IF(AND(((BG19-$N$3+BC20+AZ20+AW20+AT20+AQ20+AN20+AK20+AH20+AE20+AB20+Y20+V20+S20+P20+M20+J20+G20+D20-BG$14-BD$14-BA$14-AX$14-AU$14-AR$14-AO$14-AL$14-AI$14-AF$14-AC$14-Z$14-W$14-T$14-Q$14-N$14-K$14-H$14-E$14-SUM(BK20,BN20,BQ20,BT20,BW20,BZ20,CC20,CF20,CI20,CL20,CO20,CR20,CU20))<=0),BD20+BA20+AX20+AU20+AR20+AO20+AL20+AI20+AF20+AC20+Z20+W20+T20+Q20+N20+K20+H20+E20=0),BG19,IF(BG$14>=BG19,BG19,IF(AND(BD20=0,BA20=0,AX20=0,AU20=0,AR20=0,AO20=0,AL20=0,AI20=0,AF20=0,AC20=0,Z20=0,W20=0,T20=0,Q20=0,N20=0,K20=0,H20=0,E20=0),$N$3-BC20-AZ20-AW20-AT20-AQ20-AN20-AK20-AH20-AE20-AB20-Y20-V20-S20-P20-M20-J20-G20-D20+BG$14+BD$14+BA$14+AX$14+AU$14+AR$14+AO$14+AL$14+AI$14+AF$14+AC$14+Z$14+W$14+T$14+Q$14+N$14+K$14+H$14+E$14+SUM(BK20,BN20,BQ20,BT20,BW20,BZ20,CC20,CF20,CI20,CL20,CO20,CR20,CU20),BG$14)))","v":0},{"$f":"IF((BG19-BF20)<=0.0001,0,(BG19-BF20)*(1+(BG$15/12)))","v":0},{"$f":"IF(BG19=0,BG$14,0)","v":0},{"$f":"IF(AND(((BJ19-$N$3+BF20+BC20+AZ20+AW20+AT20+AQ20+AN20+AK20+AH20+AE20+AB20+Y20+V20+S20+P20+M20+J20+G20+D20-BJ$14-BG$14-BD$14-BA$14-AX$14-AU$14-AR$14-AO$14-AL$14-AI$14-AF$14-AC$14-Z$14-W$14-T$14-Q$14-N$14-K$14-H$14-E$14-SUM(BN20,BQ20,BT20,BW20,BZ20,CC20,CF20,CI20,CL20,CO20,CR20,CU20))<=0),BG20+BD20+BA20+AX20+AU20+AR20+AO20+AL20+AI20+AF20+AC20+Z20+W20+T20+Q20+N20+K20+H20+E20=0),BJ19,IF(BJ$14>=BJ19,BJ19,IF(AND(BG20=0,BD20=0,BA20=0,AX20=0,AU20=0,AR20=0,AO20=0,AL20=0,AI20=0,AF20=0,AC20=0,Z20=0,W20=0,T20=0,Q20=0,N20=0,K20=0,H20=0,E20=0),$N$3-BF20-BC20-AZ20-AW20-AT20-AQ20-AN20-AK20-AH20-AE20-AB20-Y20-V20-S20-P20-M20-J20-G20-D20+BJ$14+BG$14+BD$14+BA$14+AX$14+AU$14+AR$14+AO$14+AL$14+AI$14+AF$14+AC$14+Z$14+W$14+T$14+Q$14+N$14+K$14+H$14+E$14+SUM(BN20,BQ20,BT20,BW20,BZ20,CC20,CF20,CI20,CL20,CO20,CR20,CU20),BJ$14)))","v":0},{"$f":"IF((BJ19-BI20)<=0.0001,0,(BJ19-BI20)*(1+(BJ$15/12)))","v":0},{"$f":"IF(BJ19=0,BJ$14,0)","v":0},{"$f":"IF(AND(((BM19-$N$3+BI20+BF20+BC20+AZ20+AW20+AT20+AQ20+AN20+AK20+AH20+AE20+AB20+Y20+V20+S20+P20+M20+J20+G20+D20-BM$14-BJ$14-BG$14-BD$14-BA$14-AX$14-AU$14-AR$14-AO$14-AL$14-AI$14-AF$14-AC$14-Z$14-W$14-T$14-Q$14-N$14-K$14-H$14-E$14-SUM(BQ20,BT20,BW20,BZ20,CC20,CF20,CI20,CL20,CO20,CR20,CU20))<=0),BJ20+BG20+BD20+BA20+AX20+AU20+AR20+AO20+AL20+AI20+AF20+AC20+Z20+W20+T20+Q20+N20+K20+H20+E20=0),BM19,IF(BM$14>=BM19,BM19,IF(AND(BJ20=0,BG20=0,BD20=0,BA20=0,AX20=0,AU20=0,AR20=0,AO20=0,AL20=0,AI20=0,AF20=0,AC20=0,Z20=0,W20=0,T20=0,Q20=0,N20=0,K20=0,H20=0,E20=0),$N$3-BI20-BF20-BC20-AZ20-AW20-AT20-AQ20-AN20-AK20-AH20-AE20-AB20-Y20-V20-S20-P20-M20-J20-G20-D20+BM$14+BJ$14+BG$14+BD$14+BA$14+AX$14+AU$14+AR$14+AO$14+AL$14+AI$14+AF$14+AC$14+Z$14+W$14+T$14+Q$14+N$14+K$14+H$14+E$14+SUM(BQ20,BT20,BW20,BZ20,CC20,CF20,CI20,CL20,CO20,CR20,CU20),BM$14)))","v":0},{"$f":"IF((BM19-BL20)<=0.0001,0,(BM19-BL20)*(1+(BM$15/12)))","v":0},{"$f":"IF(BM19=0,BM$14,0)","v":0},{"$f":"IF(AND(((BP19-$N$3+BL20+BI20+BF20+BC20+AZ20+AW20+AT20+AQ20+AN20+AK20+AH20+AE20+AB20+Y20+V20+S20+P20+M20+J20+G20+D20-BP$14-BM$14-BJ$14-BG$14-BD$14-BA$14-AX$14-AU$14-AR$14-AO$14-AL$14-AI$14-AF$14-AC$14-Z$14-W$14-T$14-Q$14-N$14-K$14-H$14-E$14-SUM(BT20,BW20,BZ20,CC20,CF20,CI20,CL20,CO20,CR20,CU20))<=0),BM20+BJ20+BG20+BD20+BA20+AX20+AU20+AR20+AO20+AL20+AI20+AF20+AC20+Z20+W20+T20+Q20+N20+K20+H20+E20=0),BP19,IF(BP$14>=BP19,BP19,IF(AND(BM20=0,BJ20=0,BG20=0,BD20=0,BA20=0,AX20=0,AU20=0,AR20=0,AO20=0,AL20=0,AI20=0,AF20=0,AC20=0,Z20=0,W20=0,T20=0,Q20=0,N20=0,K20=0,H20=0,E20=0),$N$3-BL20-BI20-BF20-BC20-AZ20-AW20-AT20-AQ20-AN20-AK20-AH20-AE20-AB20-Y20-V20-S20-P20-M20-J20-G20-D20+BP$14+BM$14+BJ$14+BG$14+BD$14+BA$14+AX$14+AU$14+AR$14+AO$14+AL$14+AI$14+AF$14+AC$14+Z$14+W$14+T$14+Q$14+N$14+K$14+H$14+E$14+SUM(BT20,BW20,BZ20,CC20,CF20,CI20,CL20,CO20,CR20,CU20),BP$14)))","v":0},{"$f":"IF((BP19-BO20)<=0.0001,0,(BP19-BO20)*(1+(BP$15/12)))","v":0},{"$f":"IF(BP19=0,BP$14,0)","v":0},{"$f":"IF(AND(((BS19-$N$3+BO20+BL20+BI20+BF20+BC20+AZ20+AW20+AT20+AQ20+AN20+AK20+AH20+AE20+AB20+Y20+V20+S20+P20+M20+J20+G20+D20-BS$14-BP$14-BM$14-BJ$14-BG$14-BD$14-BA$14-AX$14-AU$14-AR$14-AO$14-AL$14-AI$14-AF$14-AC$14-Z$14-W$14-T$14-Q$14-N$14-K$14-H$14-E$14-SUM(BW20,BZ20,CC20,CF20,CI20,CL20,CO20,CR20,CU20))<=0),BP20+BM20+BJ20+BG20+BD20+BA20+AX20+AU20+AR20+AO20+AL20+AI20+AF20+AC20+Z20+W20+T20+Q20+N20+K20+H20+E20=0),BS19,IF(BS$14>=BS19,BS19,IF(AND(BP20=0,BM20=0,BJ20=0,BG20=0,BD20=0,BA20=0,AX20=0,AU20=0,AR20=0,AO20=0,AL20=0,AI20=0,AF20=0,AC20=0,Z20=0,W20=0,T20=0,Q20=0,N20=0,K20=0,H20=0,E20=0),$N$3-BO20-BL20-BI20-BF20-BC20-AZ20-AW20-AT20-AQ20-AN20-AK20-AH20-AE20-AB20-Y20-V20-S20-P20-M20-J20-G20-D20+BS$14+BP$14+BM$14+BJ$14+BG$14+BD$14+BA$14+AX$14+AU$14+AR$14+AO$14+AL$14+AI$14+AF$14+AC$14+Z$14+W$14+T$14+Q$14+N$14+K$14+H$14+E$14+SUM(BW20,BZ20,CC20,CF20,CI20,CL20,CO20,CR20,CU20),BS$14)))","v":0},{"$f":"IF((BS19-BR20)<=0.0001,0,(BS19-BR20)*(1+(BS$15/12)))","v":0},{"$f":"IF(BS19=0,BS$14,0)","v":0},{"$f":"IF(AND(((BV19-$N$3+BR20+BO20+BL20+BI20+BF20+BC20+AZ20+AW20+AT20+AQ20+AN20+AK20+AH20+AE20+AB20+Y20+V20+S20+P20+M20+J20+G20+D20-BV$14-BS$14-BP$14-BM$14-BJ$14-BG$14-BD$14-BA$14-AX$14-AU$14-AR$14-AO$14-AL$14-AI$14-AF$14-AC$14-Z$14-W$14-T$14-Q$14-N$14-K$14-H$14-E$14-SUM(BZ20,CC20,CF20,CI20,CL20,CO20,CR20,CU20))<=0),BS20+BP20+BM20+BJ20+BG20+BD20+BA20+AX20+AU20+AR20+AO20+AL20+AI20+AF20+AC20+Z20+W20+T20+Q20+N20+K20+H20+E20=0),BV19,IF(BV$14>=BV19,BV19,IF(AND(BS20=0,BP20=0,BM20=0,BJ20=0,BG20=0,BD20=0,BA20=0,AX20=0,AU20=0,AR20=0,AO20=0,AL20=0,AI20=0,AF20=0,AC20=0,Z20=0,W20=0,T20=0,Q20=0,N20=0,K20=0,H20=0,E20=0),$N$3-BR20-BO20-BL20-BI20-BF20-BC20-AZ20-AW20-AT20-AQ20-AN20-AK20-AH20-AE20-AB20-Y20-V20-S20-P20-M20-J20-G20-D20+BV$14+BS$14+BP$14+BM$14+BJ$14+BG$14+BD$14+BA$14+AX$14+AU$14+AR$14+AO$14+AL$14+AI$14+AF$14+AC$14+Z$14+W$14+T$14+Q$14+N$14+K$14+H$14+E$14+SUM(BZ20,CC20,CF20,CI20,CL20,CO20,CR20,CU20),BV$14)))","v":0},{"$f":"IF((BV19-BU20)<=0.0001,0,(BV19-BU20)*(1+(BV$15/12)))","v":0},{"$f":"IF(BV19=0,BV$14,0)","v":0},{"$f":"IF(AND(((BY19-$N$3+BU20+BR20+BO20+BL20+BI20+BF20+BC20+AZ20+AW20+AT20+AQ20+AN20+AK20+AH20+AE20+AB20+Y20+V20+S20+P20+M20+J20+G20+D20-BY$14-BV$14-BS$14-BP$14-BM$14-BJ$14-BG$14-BD$14-BA$14-AX$14-AU$14-AR$14-AO$14-AL$14-AI$14-AF$14-AC$14-Z$14-W$14-T$14-Q$14-N$14-K$14-H$14-E$14-SUM(CC20,CF20,CI20,CL20,CO20,CR20,CU20))<=0),BV20+BS20+BP20+BM20+BJ20+BG20+BD20+BA20+AX20+AU20+AR20+AO20+AL20+AI20+AF20+AC20+Z20+W20+T20+Q20+N20+K20+H20+E20=0),BY19,IF(BY$14>=BY19,BY19,IF(AND(BV20=0,BS20=0,BP20=0,BM20=0,BJ20=0,BG20=0,BD20=0,BA20=0,AX20=0,AU20=0,AR20=0,AO20=0,AL20=0,AI20=0,AF20=0,AC20=0,Z20=0,W20=0,T20=0,Q20=0,N20=0,K20=0,H20=0,E20=0),$N$3-BU20-BR20-BO20-BL20-BI20-BF20-BC20-AZ20-AW20-AT20-AQ20-AN20-AK20-AH20-AE20-AB20-Y20-V20-S20-P20-M20-J20-G20-D20+BY$14+BV$14+BS$14+BP$14+BM$14+BJ$14+BG$14+BD$14+BA$14+AX$14+AU$14+AR$14+AO$14+AL$14+AI$14+AF$14+AC$14+Z$14+W$14+T$14+Q$14+N$14+K$14+H$14+E$14+SUM(CC20,CF20,CI20,CL20,CO20,CR20,CU20),BY$14)))","v":0},{"$f":"IF((BY19-BX20)<=0.0001,0,(BY19-BX20)*(1+(BY$15/12)))","v":0},{"$f":"IF(BY19=0,BY$14,0)","v":0},{"$f":"IF(AND(((CB19-$N$3+BX20+BU20+BR20+BO20+BL20+BI20+BF20+BC20+AZ20+AW20+AT20+AQ20+AN20+AK20+AH20+AE20+AB20+Y20+V20+S20+P20+M20+J20+G20+D20-CB$14-BY$14-BV$14-BS$14-BP$14-BM$14-BJ$14-BG$14-BD$14-BA$14-AX$14-AU$14-AR$14-AO$14-AL$14-AI$14-AF$14-AC$14-Z$14-W$14-T$14-Q$14-N$14-K$14-H$14-E$14-SUM(CF20,CI20,CL20,CO20,CR20,CU20))<=0),BY20+BV20+BS20+BP20+BM20+BJ20+BG20+BD20+BA20+AX20+AU20+AR20+AO20+AL20+AI20+AF20+AC20+Z20+W20+T20+Q20+N20+K20+H20+E20=0),CB19,IF(CB$14>=CB19,CB19,IF(AND(BY20=0,BV20=0,BS20=0,BP20=0,BM20=0,BJ20=0,BG20=0,BD20=0,BA20=0,AX20=0,AU20=0,AR20=0,AO20=0,AL20=0,AI20=0,AF20=0,AC20=0,Z20=0,W20=0,T20=0,Q20=0,N20=0,K20=0,H20=0,E20=0),$N$3-BX20-BU20-BR20-BO20-BL20-BI20-BF20-BC20-AZ20-AW20-AT20-AQ20-AN20-AK20-AH20-AE20-AB20-Y20-V20-S20-P20-M20-J20-G20-D20+CB$14+BY$14+BV$14+BS$14+BP$14+BM$14+BJ$14+BG$14+BD$14+BA$14+AX$14+AU$14+AR$14+AO$14+AL$14+AI$14+AF$14+AC$14+Z$14+W$14+T$14+Q$14+N$14+K$14+H$14+E$14+SUM(CF20,CI20,CL20,CO20,CR20,CU20),CB$14)))","v":0},{"$f":"IF((CB19-CA20)<=0.0001,0,(CB19-CA20)*(1+(CB$15/12)))","v":0},{"$f":"IF(CB19=0,CB$14,0)","v":0},{"$f":"IF(AND(((CE19-$N$3+CA20+BX20+BU20+BR20+BO20+BL20+BI20+BF20+BC20+AZ20+AW20+AT20+AQ20+AN20+AK20+AH20+AE20+AB20+Y20+V20+S20+P20+M20+J20+G20+D20-CE$14-CB$14-BY$14-BV$14-BS$14-BP$14-BM$14-BJ$14-BG$14-BD$14-BA$14-AX$14-AU$14-AR$14-AO$14-AL$14-AI$14-AF$14-AC$14-Z$14-W$14-T$14-Q$14-N$14-K$14-H$14-E$14-SUM(CI20,CL20,CO20,CR20,CU20))<=0),CB20+BY20+BV20+BS20+BP20+BM20+BJ20+BG20+BD20+BA20+AX20+AU20+AR20+AO20+AL20+AI20+AF20+AC20+Z20+W20+T20+Q20+N20+K20+H20+E20=0),CE19,IF(CE$14>=CE19,CE19,IF(AND(CB20=0,BY20=0,BV20=0,BS20=0,BP20=0,BM20=0,BJ20=0,BG20=0,BD20=0,BA20=0,AX20=0,AU20=0,AR20=0,AO20=0,AL20=0,AI20=0,AF20=0,AC20=0,Z20=0,W20=0,T20=0,Q20=0,N20=0,K20=0,H20=0,E20=0),$N$3-CA20-BX20-BU20-BR20-BO20-BL20-BI20-BF20-BC20-AZ20-AW20-AT20-AQ20-AN20-AK20-AH20-AE20-AB20-Y20-V20-S20-P20-M20-J20-G20-D20+CE$14+CB$14+BY$14+BV$14+BS$14+BP$14+BM$14+BJ$14+BG$14+BD$14+BA$14+AX$14+AU$14+AR$14+AO$14+AL$14+AI$14+AF$14+AC$14+Z$14+W$14+T$14+Q$14+N$14+K$14+H$14+E$14+SUM(CI20,CL20,CO20,CR20,CU20),CE$14)))","v":0},{"$f":"IF((CE19-CD20)<=0.0001,0,(CE19-CD20)*(1+(CE$15/12)))","v":0},{"$f":"IF(CE19=0,CE$14,0)","v":0},{"$f":"IF(AND(((CH19-$N$3+CD20+CA20+BX20+BU20+BR20+BO20+BL20+BI20+BF20+BC20+AZ20+AW20+AT20+AQ20+AN20+AK20+AH20+AE20+AB20+Y20+V20+S20+P20+M20+J20+G20+D20-CH$14-CE$14-CB$14-BY$14-BV$14-BS$14-BP$14-BM$14-BJ$14-BG$14-BD$14-BA$14-AX$14-AU$14-AR$14-AO$14-AL$14-AI$14-AF$14-AC$14-Z$14-W$14-T$14-Q$14-N$14-K$14-H$14-E$14-SUM(CL20,CO20,CR20,CU20))<=0),CE20+CB20+BY20+BV20+BS20+BP20+BM20+BJ20+BG20+BD20+BA20+AX20+AU20+AR20+AO20+AL20+AI20+AF20+AC20+Z20+W20+T20+Q20+N20+K20+H20+E20=0),CH19,IF(CH$14>=CH19,CH19,IF(AND(CE20=0,CB20=0,BY20=0,BV20=0,BS20=0,BP20=0,BM20=0,BJ20=0,BG20=0,BD20=0,BA20=0,AX20=0,AU20=0,AR20=0,AO20=0,AL20=0,AI20=0,AF20=0,AC20=0,Z20=0,W20=0,T20=0,Q20=0,N20=0,K20=0,H20=0,E20=0),$N$3-CD20-CA20-BX20-BU20-BR20-BO20-BL20-BI20-BF20-BC20-AZ20-AW20-AT20-AQ20-AN20-AK20-AH20-AE20-AB20-Y20-V20-S20-P20-M20-J20-G20-D20+CH$14+CE$14+CB$14+BY$14+BV$14+BS$14+BP$14+BM$14+BJ$14+BG$14+BD$14+BA$14+AX$14+AU$14+AR$14+AO$14+AL$14+AI$14+AF$14+AC$14+Z$14+W$14+T$14+Q$14+N$14+K$14+H$14+E$14+SUM(CL20,CO20,CR20,CU20),CH$14)))","v":0},{"$f":"IF((CH19-CG20)<=0.0001,0,(CH19-CG20)*(1+(CH$15/12)))","v":0},{"$f":"IF(CH19=0,CH$14,0)","v":0},{"$f":"IF(AND(((CK19-$N$3+CG20+CD20+CA20+BX20+BU20+BR20+BO20+BL20+BI20+BF20+BC20+AZ20+AW20+AT20+AQ20+AN20+AK20+AH20+AE20+AB20+Y20+V20+S20+P20+M20+J20+G20+D20-CK$14-CH$14-CE$14-CB$14-BY$14-BV$14-BS$14-BP$14-BM$14-BJ$14-BG$14-BD$14-BA$14-AX$14-AU$14-AR$14-AO$14-AL$14-AI$14-AF$14-AC$14-Z$14-W$14-T$14-Q$14-N$14-K$14-H$14-E$14-SUM(CO20,CR20,CU20))<=0),CH20+CE20+CB20+BY20+BV20+BS20+BP20+BM20+BJ20+BG20+BD20+BA20+AX20+AU20+AR20+AO20+AL20+AI20+AF20+AC20+Z20+W20+T20+Q20+N20+K20+H20+E20=0),CK19,IF(CK$14>=CK19,CK19,IF(AND(CH20=0,CE20=0,CB20=0,BY20=0,BV20=0,BS20=0,BP20=0,BM20=0,BJ20=0,BG20=0,BD20=0,BA20=0,AX20=0,AU20=0,AR20=0,AO20=0,AL20=0,AI20=0,AF20=0,AC20=0,Z20=0,W20=0,T20=0,Q20=0,N20=0,K20=0,H20=0,E20=0),$N$3-CG20-CD20-CA20-BX20-BU20-BR20-BO20-BL20-BI20-BF20-BC20-AZ20-AW20-AT20-AQ20-AN20-AK20-AH20-AE20-AB20-Y20-V20-S20-P20-M20-J20-G20-D20+CK$14+CH$14+CE$14+CB$14+BY$14+BV$14+BS$14+BP$14+BM$14+BJ$14+BG$14+BD$14+BA$14+AX$14+AU$14+AR$14+AO$14+AL$14+AI$14+AF$14+AC$14+Z$14+W$14+T$14+Q$14+N$14+K$14+H$14+E$14+SUM(CO20,CR20,CU20),CK$14)))","v":0},{"$f":"IF((CK19-CJ20)<=0.0001,0,(CK19-CJ20)*(1+(CK$15/12)))","v":0},{"$f":"IF(CK19=0,CK$14,0)","v":0},{"$f":"IF(AND(((CN19-$N$3+CJ20+CG20+CD20+CA20+BX20+BU20+BR20+BO20+BL20+BI20+BF20+BC20+AZ20+AW20+AT20+AQ20+AN20+AK20+AH20+AE20+AB20+Y20+V20+S20+P20+M20+J20+G20+D20-CN$14-CK$14-CH$14-CE$14-CB$14-BY$14-BV$14-BS$14-BP$14-BM$14-BJ$14-BG$14-BD$14-BA$14-AX$14-AU$14-AR$14-AO$14-AL$14-AI$14-AF$14-AC$14-Z$14-W$14-T$14-Q$14-N$14-K$14-H$14-E$14-SUM(CR20,CU20))<=0),CK20+CH20+CE20+CB20+BY20+BV20+BS20+BP20+BM20+BJ20+BG20+BD20+BA20+AX20+AU20+AR20+AO20+AL20+AI20+AF20+AC20+Z20+W20+T20+Q20+N20+K20+H20+E20=0),CN19,IF(CN$14>=CN19,CN19,IF(AND(CK20=0,CH20=0,CE20=0,CB20=0,BY20=0,BV20=0,BS20=0,BP20=0,BM20=0,BJ20=0,BG20=0,BD20=0,BA20=0,AX20=0,AU20=0,AR20=0,AO20=0,AL20=0,AI20=0,AF20=0,AC20=0,Z20=0,W20=0,T20=0,Q20=0,N20=0,K20=0,H20=0,E20=0),$N$3-CJ20-CG20-CD20-CA20-BX20-BU20-BR20-BO20-BL20-BI20-BF20-BC20-AZ20-AW20-AT20-AQ20-AN20-AK20-AH20-AE20-AB20-Y20-V20-S20-P20-M20-J20-G20-D20+CN$14+CK$14+CH$14+CE$14+CB$14+BY$14+BV$14+BS$14+BP$14+BM$14+BJ$14+BG$14+BD$14+BA$14+AX$14+AU$14+AR$14+AO$14+AL$14+AI$14+AF$14+AC$14+Z$14+W$14+T$14+Q$14+N$14+K$14+H$14+E$14+SUM(CR20,CU20),CN$14)))","v":0},{"$f":"IF((CN19-CM20)<=0.0001,0,(CN19-CM20)*(1+(CN$15/12)))","v":0},{"$f":"IF(CN19=0,CN$14,0)","v":0},{"$f":"IF(AND(((CQ19-$N$3+CM20+CJ20+CG20+CD20+CA20+BX20+BU20+BR20+BO20+BL20+BI20+BF20+BC20+AZ20+AW20+AT20+AQ20+AN20+AK20+AH20+AE20+AB20+Y20+V20+S20+P20+M20+J20+G20+D20-CQ$14-CN$14-CK$14-CH$14-CE$14-CB$14-BY$14-BV$14-BS$14-BP$14-BM$14-BJ$14-BG$14-BD$14-BA$14-AX$14-AU$14-AR$14-AO$14-AL$14-AI$14-AF$14-AC$14-Z$14-W$14-T$14-Q$14-N$14-K$14-H$14-E$14-SUM(CU20))<=0),CN20+CK20+CH20+CE20+CB20+BY20+BV20+BS20+BP20+BM20+BJ20+BG20+BD20+BA20+AX20+AU20+AR20+AO20+AL20+AI20+AF20+AC20+Z20+W20+T20+Q20+N20+K20+H20+E20=0),CQ19,IF(CQ$14>=CQ19,CQ19,IF(AND(CN20=0,CK20=0,CH20=0,CE20=0,CB20=0,BY20=0,BV20=0,BS20=0,BP20=0,BM20=0,BJ20=0,BG20=0,BD20=0,BA20=0,AX20=0,AU20=0,AR20=0,AO20=0,AL20=0,AI20=0,AF20=0,AC20=0,Z20=0,W20=0,T20=0,Q20=0,N20=0,K20=0,H20=0,E20=0),$N$3-CM20-CJ20-CG20-CD20-CA20-BX20-BU20-BR20-BO20-BL20-BI20-BF20-BC20-AZ20-AW20-AT20-AQ20-AN20-AK20-AH20-AE20-AB20-Y20-V20-S20-P20-M20-J20-G20-D20+CQ$14+CN$14+CK$14+CH$14+CE$14+CB$14+BY$14+BV$14+BS$14+BP$14+BM$14+BJ$14+BG$14+BD$14+BA$14+AX$14+AU$14+AR$14+AO$14+AL$14+AI$14+AF$14+AC$14+Z$14+W$14+T$14+Q$14+N$14+K$14+H$14+E$14+SUM(CU20),CQ$14)))","v":0},{"$f":"IF((CQ19-CP20)<=0.0001,0,(CQ19-CP20)*(1+(CQ$15/12)))","v":0},{"$f":"IF(CQ19=0,CQ$14,0)","v":0},{"$f":"IF(AND(((CT19-$N$3+CP20+CM20+CJ20+CG20+CD20+CA20+BX20+BU20+BR20+BO20+BL20+BI20+BF20+BC20+AZ20+AW20+AT20+AQ20+AN20+AK20+AH20+AE20+AB20+Y20+V20+S20+P20+M20+J20+G20+D20-CT$14-CQ$14-CN$14-CK$14-CH$14-CE$14-CB$14-BY$14-BV$14-BS$14-BP$14-BM$14-BJ$14-BG$14-BD$14-BA$14-AX$14-AU$14-AR$14-AO$14-AL$14-AI$14-AF$14-AC$14-Z$14-W$14-T$14-Q$14-N$14-K$14-H$14-E$14)<=0),CQ20+CN20+CK20+CH20+CE20+CB20+BY20+BV20+BS20+BP20+BM20+BJ20+BG20+BD20+BA20+AX20+AU20+AR20+AO20+AL20+AI20+AF20+AC20+Z20+W20+T20+Q20+N20+K20+H20+E20=0),CT19,IF(CT$14>=CT19,CT19,IF(AND(CQ20=0,CN20=0,CK20=0,CH20=0,CE20=0,CB20=0,BY20=0,BV20=0,BS20=0,BP20=0,BM20=0,BJ20=0,BG20=0,BD20=0,BA20=0,AX20=0,AU20=0,AR20=0,AO20=0,AL20=0,AI20=0,AF20=0,AC20=0,Z20=0,W20=0,T20=0,Q20=0,N20=0,K20=0,H20=0,E20=0),$N$3-CP20-CM20-CJ20-CG20-CD20-CA20-BX20-BU20-BR20-BO20-BL20-BI20-BF20-BC20-AZ20-AW20-AT20-AQ20-AN20-AK20-AH20-AE20-AB20-Y20-V20-S20-P20-M20-J20-G20-D20+CT$14+CQ$14+CN$14+CK$14+CH$14+CE$14+CB$14+BY$14+BV$14+BS$14+BP$14+BM$14+BJ$14+BG$14+BD$14+BA$14+AX$14+AU$14+AR$14+AO$14+AL$14+AI$14+AF$14+AC$14+Z$14+W$14+T$14+Q$14+N$14+K$14+H$14+E$14,CT$14)))","v":0},{"$f":"IF((CT19-CS20)<=0.0001,0,(CT19-CS20)*(1+(CT$15/12)))","v":0},{"$f":"IF(CT19=0,CT$14,0)","v":0},null,null,{"v":2322.997555555556,"d":"$2,323.00"},3,null,{"v":1918.192,"d":"$1,918.19"},3,null,{"v":937.5422222222221,"d":"$937.54"},3,null,0,3,null,0,3,null,0,3,null,0,3,null,0,3,null,0,3,null,0,3,null,0,3,null,0,3,null,0,3,null,0,3,null,0,3,null,0,3,null,0,3,null,0,3,null,0,3,null,0,3,null,0,3,null,0,3,null,0,3,null,0,3,null,0,3,null,0,3,null,0,3,null,0,3,null,0,3,null,0,3,null,0,3,null,0,3]
[{"v":5248.295592962963,"d":"$5,248.30"},{"v":325,"d":"$325.00"},4,{"v":260,"d":"$260.00"},{"$f":"IF((E20-D21)<=0.0001,0,(E20-D21)*(1+(E$15/12)))","v":{"v":2107.6958359259265,"d":"$2,107.70"}},null,{"v":40,"d":"$40.00"},{"v":1896.9739200000001,"d":"$1,896.97"},{"$f":"IF(H20=0,H$14,0)","v":0},{"v":25,"d":"$25.00"},{"v":918.6258370370368,"d":"$918.63"},{"$f":"IF(K20=0,K$14,0)","v":0},0,0,{"$f":"IF(N20=0,N$14,0)","v":0},0,0,{"$f":"IF(Q20=0,Q$14,0)","v":0},0,{"$f":"IF((T20-S21)<=0.0001,0,(T20-S21)*(1+(T$15/12)))","v":0},{"$f":"IF(T20=0,T$14,0)","v":0},0,0,{"$f":"IF(W20=0,W$14,0)","v":0},0,0,{"$f":"IF(Z20=0,Z$14,0)","v":0},null,0,{"$f":"IF(AC20=0,AC$14,0)","v":0},0,0,{"$f":"IF(AF20=0,AF$14,0)","v":0},0,0,{"$f":"IF(AI20=0,AI$14,0)","v":0},0,0,{"$f":"IF(AL20=0,AL$14,0)","v":0},0,0,{"$f":"IF(AO20=0,AO$14,0)","v":0},0,0,{"$f":"IF(AR20=0,AR$14,0)","v":0},0,0,{"$f":"IF(AU20=0,AU$14,0)","v":0},0,0,{"$f":"IF(AX20=0,AX$14,0)","v":0},0,0,{"$f":"IF(BA20=0,BA$14,0)","v":0},0,0,{"$f":"IF(BD20=0,BD$14,0)","v":0},0,0,{"$f":"IF(BG20=0,BG$14,0)","v":0},0,0,{"$f":"IF(BJ20=0,BJ$14,0)","v":0},0,0,{"$f":"IF(BM20=0,BM$14,0)","v":0},0,0,{"$f":"IF(BP20=0,BP$14,0)","v":0},0,0,{"$f":"IF(BS20=0,BS$14,0)","v":0},0,0,{"$f":"IF(BV20=0,BV$14,0)","v":0},0,0,{"$f":"IF(BY20=0,BY$14,0)","v":0},0,0,{"$f":"IF(CB20=0,CB$14,0)","v":0},0,0,{"$f":"IF(CE20=0,CE$14,0)","v":0},0,0,{"$f":"IF(CH20=0,CH$14,0)","v":0},0,0,{"$f":"IF(CK20=0,CK$14,0)","v":0},0,0,{"$f":"IF(CN20=0,CN$14,0)","v":0},0,0,{"$f":"IF(CQ20=0,CQ$14,0)","v":0},0,0,{"$f":"IF(CT20=0,CT$14,0)","v":0},null,null,{"v":2107.6958359259265,"d":"$2,107.70"},4,null,{"v":1896.9739200000001,"d":"$1,896.97"},4,null,{"v":918.6258370370368,"d":"$918.63"},4,null,0,4,null,0,4,null,0,4,null,0,4,null,0,4,null,0,4,null,0,4,null,0,4,null,0,4,null,0,4,null,0,4,null,0,4,null,0,4,null,0,4,null,0,4,null,0,4,null,0,4,null,0,4,null,0,4,null,0,4,null,0,4,null,0,4,null,0,4,null,0,4,null,0,4,null,0,4,null,0,4,null,0,4,null,0,4]
[{"v":4987.856247521606,"d":"$4,987.86"},{"v":325,"d":"$325.00"},5,{"v":260,"d":"$260.00"},{"$f":"IF((E21-D22)<=0.0001,0,(E21-D22)*(1+(E$15/12)))","v":{"v":1887.7292457043218,"d":"$1,887.73"}},null,{"v":40,"d":"$40.00"},{"v":1875.5436592,"d":"$1,875.54"},0,{"v":25,"d":"$25.00"},{"v":899.5833426172837,"d":"$899.58"},0,0,0,0,0,0,0,0,0,0,0,0,0,0,0,0,null,0,0,0,0,0,0,0,0,0,0,0,0,0,0,0,0,0,0,0,0,0,0,0,0,0,0,0,0,0,0,0,0,0,0,0,0,0,0,0,0,0,0,0,0,0,0,0,0,0,0,0,0,0,0,0,0,0,0,0,0,0,0,0,0,0,0,0,0,0,0,0,null,null,{"v":1887.7292457043218,"d":"$1,887.73"},5,null,{"v":1875.5436592,"d":"$1,875.54"},5,null,{"v":899.5833426172837,"d":"$899.58"},5,null,0,5,null,0,5,null,0,5,null,0,5,null,0,5,null,0,5,null,0,5,null,0,5,null,0,5,null,0,5,null,0,5,null,0,5,null,0,5,null,0,5,null,0,5,null,0,5,null,0,5,null,0,5,null,0,5,null,0,5,null,0,5,null,0,5,null,0,5,null,0,5,null,0,5,null,0,5,null,0,5,null,0,5,null,0,5]
[{"v":4722.309706721315,"d":"$4,722.31"},{"v":325,"d":"$325.00"},6,{"v":260,"d":"$260.00"},{"v":1662.9967126945821,"d":"$1,663.00"},null,{"v":40,"d":"$40.00"},{"v":1853.899095792,"d":"$1,853.90"},0,{"v":25,"d":"$25.00"},{"v":880.4138982347322,"d":"$880.41"},0,0,0,0,0,0,0,0,0,0,0,0,0,0,0,0,null,0,0,0,0,0,0,0,0,0,0,0,0,0,0,0,0,0,0,0,0,0,0,0,0,0,0,0,0,0,0,0,0,0,0,0,0,0,0,0,0,0,0,0,0,0,0,0,0,0,0,0,0,0,0,0,0,0,0,0,0,0,0,0,0,0,0,0,0,0,0,0,null,null,{"v":1662.9967126945821,"d":"$1,663.00"},6,null,{"v":1853.899095792,"d":"$1,853.90"},6,null,{"v":880.4138982347322,"d":"$880.41"},6,null,0,6,null,0,6,null,0,6,null,0,6,null,0,6,null,0,6,null,0,6,null,0,6,null,0,6,null,0,6,null,0,6,null,0,6,null,0,6,null,0,6,null,0,6,null,0,6,null,0,6,null,0,6,null,0,6,null,0,6,null,0,6,null,0,6,null,0,6,null,0,6,null,0,6,null,0,6,null,0,6,null,0,6,null,0,6]
[{"v":4451.549719109182,"d":"$4,451.55"},{"v":325,"d":"$325.00"},7,{"v":260,"d":"$260.00"},{"v":1433.3949748029647,"d":"$1,433.39"},null,{"v":40,"d":"$40.00"},{"v":1832.03808674992,"d":"$1,832.04"},0,{"v":25,"d":"$25.00"},{"v":861.116657556297,"d":"$861.12"},0,0,0,0,0,0,0,0,0,0,0,0,0,0,0,0,null,0,0,0,0,0,0,0,0,0,0,0,0,0,0,0,0,0,0,0,0,0,0,0,0,0,0,0,0,0,0,0,0,0,0,0,0,0,0,0,0,0,0,0,0,0,0,0,0,0,0,0,0,0,0,0,0,0,0,0,0,0,0,0,0,0,0,0,0,0,0,0,null,null,{"v":1433.3949748029647,"d":"$1,433.39"},7,null,{"v":1832.03808674992,"d":"$1,832.04"},7,null,{"v":861.116657556297,"d":"$861.12"},7,null,0,7,null,0,7,null,0,7,null,0,7,null,0,7,null,0,7,null,0,7,null,0,7,null,0,7,null,0,7,null,0,7,null,0,7,null,0,7,null,0,7,null,0,7,null,0,7,null,0,7,null,0,7,null,0,7,null,0,7,null,0,7,null,0,7,null,0,7,null,0,7,null,0,7,null,0,7,null,0,7,null,0,7,null,0,7]
[{"v":4175.467768814454,"d":"$4,175.47"},{"v":325,"d":"$325.00"},8,{"v":260,"d":"$260.00"},{"v":1198.8185325903623,"d":"$1,198.82"},null,{"v":40,"d":"$40.00"},{"v":1809.9584676174193,"d":"$1,809.96"},0,{"v":25,"d":"$25.00"},{"v":841.6907686066722,"d":"$841.69"},0,0,0,0,0,0,0,0,0,0,0,0,0,0,0,0,null,0,0,0,0,0,0,0,0,0,0,0,0,0,0,0,0,0,0,0,0,0,0,0,0,0,0,0,0,0,0,0,0,0,0,0,0,0,0,0,0,0,0,0,0,0,0,0,0,0,0,0,0,0,0,0,0,0,0,0,0,0,0,0,0,0,0,0,0,0,0,0,null,null,{"v":1198.8185325903623,"d":"$1,198.82"},8,null,{"v":1809.9584676174193,"d":"$1,809.96"},8,null,{"v":841.6907686066722,"d":"$841.69"},8,null,0,8,null,0,8,null,0,8,null,0,8,null,0,8,null,0,8,null,0,8,null,0,8,null,0,8,null,0,8,null,0,8,null,0,8,null,0,8,null,0,8,null,0,8,null,0,8,null,0,8,null,0,8,null,0,8,null,0,8,null,0,8,null,0,8,null,0,8,null,0,8,null,0,8,null,0,8,null,0,8,null,0,8,null,0,8]
[{"v":3893.953026820797,"d":"$3,893.95"},{"v":325,"d":"$325.00"},9,{"v":260,"d":"$260.00"},{"v":959.1596007964869,"d":"$959.16"},null,{"v":40,"d":"$40.00"},{"v":1787.6580522935935,"d":"$1,787.66"},0,{"v":25,"d":"$25.00"},{"v":822.1353737307167,"d":"$822.14"},0,0,0,0,0,0,0,0,0,0,0,0,0,0,0,0,null,0,0,0,0,0,0,0,0,0,0,0,0,0,0,0,0,0,0,0,0,0,0,0,0,0,0,0,0,0,0,0,0,0,0,0,0,0,0,0,0,0,0,0,0,0,0,0,0,0,0,0,0,0,0,0,0,0,0,0,0,0,0,0,0,0,0,0,0,0,0,0,null,null,{"v":959.1596007964869,"d":"$959.16"},9,null,{"v":1787.6580522935935,"d":"$1,787.66"},9,null,{"v":822.1353737307167,"d":"$822.14"},9,null,0,9,null,0,9,null,0,9,null,0,9,null,0,9,null,0,9,null,0,9,null,0,9,null,0,9,null,0,9,null,0,9,null,0,9,null,0,9,null,0,9,null,0,9,null,0,9,null,0,9,null,0,9,null,0,9,null,0,9,null,0,9,null,0,9,null,0,9,null,0,9,null,0,9,null,0,9,null,0,9,null,0,9,null,0,9]
[{"v":3606.8923011858615,"d":"$3,606.89"},{"v":325,"d":"$325.00"},10,{"v":260,"d":"$260.00"},{"v":714.3080588137441,"d":"$714.31"},null,{"v":40,"d":"$40.00"},{"v":1765.1346328165296,"d":"$1,765.13"},0,{"v":25,"d":"$25.00"},{"v":802.449609555588,"d":"$802.45"},0,0,0,0,0,0,0,0,0,0,0,0,0,0,0,0,null,0,0,0,0,0,0,0,0,0,0,0,0,0,0,0,0,0,0,0,0,0,0,0,0,0,0,0,0,0,0,0,0,0,0,0,0,0,0,0,0,0,0,0,0,0,0,0,0,0,0,0,0,0,0,0,0,0,0,0,0,0,0,0,0,0,0,0,0,0,0,0,null,null,{"v":714.3080588137441,"d":"$714.31"},10,null,{"v":1765.1346328165296,"d":"$1,765.13"},10,null,{"v":802.449609555588,"d":"$802.45"},10,null,0,10,null,0,10,null,0,10,null,0,10,null,0,10,null,0,10,null,0,10,null,0,10,null,0,10,null,0,10,null,0,10,null,0,10,null,0,10,null,0,10,null,0,10,null,0,10,null,0,10,null,0,10,null,0,10,null,0,10,null,0,10,null,0,10,null,0,10,null,0,10,null,0,10,null,0,10,null,0,10,null,0,10,null,0,10]
[{"v":3314.169986185362,"d":"$3,314.17"},{"v":325,"d":"$325.00"},11,{"v":260,"d":"$260.00"},{"v":464.1514000880419,"d":"$464.15"},null,{"v":40,"d":"$40.00"},{"v":1742.3859791446948,"d":"$1,742.39"},0,{"v":25,"d":"$25.00"},{"v":782.6326069526252,"d":"$782.63"},0,0,0,0,0,0,0,0,0,0,0,0,0,0,0,0,null,0,0,0,0,0,0,0,0,0,0,0,0,0,0,0,0,0,0,0,0,0,0,0,0,0,0,0,0,0,0,0,0,0,0,0,0,0,0,0,0,0,0,0,0,0,0,0,0,0,0,0,0,0,0,0,0,0,0,0,0,0,0,0,0,0,0,0,0,0,0,0,null,null,{"v":464.1514000880419,"d":"$464.15"},11,null,{"v":1742.3859791446948,"d":"$1,742.39"},11,null,{"v":782.6326069526252,"d":"$782.63"},11,null,0,11,null,0,11,null,0,11,null,0,11,null,0,11,null,0,11,null,0,11,null,0,11,null,0,11,null,0,11,null,0,11,null,0,11,null,0,11,null,0,11,null,0,11,null,0,11,null,0,11,null,0,11,null,0,11,null,0,11,null,0,11,null,0,11,null,0,11,null,0,11,null,0,11,null,0,11,null,0,11,null,0,11,null,0,11]
[{"v":3015.668010358401,"d":"$3,015.67"},{"v":325,"d":"$325.00"},12,{"v":260,"d":"$260.00"},{"v":208.5746804232828,"d":"$208.57"},null,{"v":40,"d":"$40.00"},{"$f":"IF((H28-G29)<=0.0001,0,(H28-G29)*(1+(H$15/12)))","v":{"v":1719.4098389361418,"d":"$1,719.41"}},0,{"v":25,"d":"$25.00"},{"v":762.683490998976,"d":"$762.68"},0,0,0,0,0,0,0,0,0,0,0,0,0,0,0,0,null,0,0,0,0,0,0,0,0,0,0,0,0,0,0,0,0,0,0,0,0,0,0,0,0,0,0,0,0,0,0,0,0,0,0,0,0,0,0,0,0,0,0,0,0,0,0,0,0,0,0,0,0,0,0,0,0,0,0,0,0,0,0,0,0,0,0,0,0,0,0,0,null,null,{"v":208.5746804232828,"d":"$208.57"},12,null,{"v":1719.4098389361418,"d":"$1,719.41"},12,null,{"v":762.683490998976,"d":"$762.68"},12,null,0,12,null,0,12,null,0,12,null,0,12,null,0,12,null,0,12,null,0,12,null,0,12,null,0,12,null,0,12,null,0,12,null,0,12,null,0,12,null,0,12,null,0,12,null,0,12,null,0,12,null,0,12,null,0,12,null,0,12,null,0,12,null,0,12,null,0,12,null,0,12,null,0,12,null,0,12,null,0,12,null,0,12,null,0,12]
[{"v":2711.865745491988,"d":"$2,711.87"},{"v":325,"d":"$325.00"},13,{"v":208.5746804232828,"d":"$208.57"},0,null,{"v":91.42531957671719,"d":"$91.43"},{"v":1644.2643645530188,"d":"$1,644.26"},0,{"v":25,"d":"$25.00"},{"v":742.6013809389691,"d":"$742.60"},0,0,0,0,0,0,0,0,0,0,0,0,0,0,0,0,null,0,0,0,0,0,0,0,0,0,0,0,0,0,0,0,0,0,0,0,0,0,0,0,0,0,0,0,0,0,0,0,0,0,0,0,0,0,0,0,0,0,0,0,0,0,0,0,0,0,0,0,0,0,0,0,0,0,0,0,0,0,0,0,0,0,0,0,0,0,0,0,null,null,0,13,null,{"v":1644.2643645530188,"d":"$1,644.26"},13,null,{"v":742.6013809389691,"d":"$742.60"},13,null,0,13,null,0,13,null,0,13,null,0,13,null,0,13,null,0,13,null,0,13,null,0,13,null,0,13,null,0,13,null,0,13,null,0,13,null,0,13,null,0,13,null,0,13,null,0,13,null,0,13,null,0,13,null,0,13,null,0,13,null,0,13,null,0,13,null,0,13,null,0,13,null,0,13,null,0,13,null,0,13,null,0,13,null,0,13]
[{"v":2405.092398343778,"d":"$2,405.09"},{"v":325,"d":"$325.00"},14,0,0,null,{"v":300,"d":"$300.00"},{"v":1357.707008198549,"d":"$1,357.71"},0,{"v":25,"d":"$25.00"},{"v":722.3853901452288,"d":"$722.39"},0,0,0,0,0,0,0,0,0,0,0,0,0,0,0,0,null,0,0,0,0,0,0,0,0,0,0,0,0,0,0,0,0,0,0,0,0,0,0,0,0,0,0,0,0,0,0,0,0,0,0,0,0,0,0,0,0,0,0,0,0,0,0,0,0,0,0,0,0,0,0,0,0,0,0,0,0,0,0,0,0,0,0,0,0,0,0,0,null,null,0,14,null,{"v":1357.707008198549,"d":"$1,357.71"},14,null,{"v":722.3853901452288,"d":"$722.39"},14,null,0,14,null,0,14,null,0,14,null,0,14,null,0,14,null,0,14,null,0,14,null,0,14,null,0,14,null,0,14,null,0,14,null,0,14,null,0,14,null,0,14,null,0,14,null,0,14,null,0,14,null,0,14,null,0,14,null,0,14,null,0,14,null,0,14,null,0,14,null,0,14,null,0,14,null,0,14,null,0,14,null,0,14,null,0,14]
[{"v":2095.3187043600647,"d":"$2,095.32"},{"v":325,"d":"$325.00"},15,0,0,null,{"v":300,"d":"$300.00"},{"v":1068.2840782805345,"d":"$1,068.28"},0,{"v":25,"d":"$25.00"},{"v":702.0346260795303,"d":"$702.03"},0,0,0,0,0,0,0,0,0,0,0,0,0,0,0,0,null,0,0,0,0,0,0,0,0,0,0,0,0,0,0,0,0,0,0,0,0,0,0,0,0,0,0,0,0,0,0,0,0,0,0,0,0,0,0,0,0,0,0,0,0,0,0,0,0,0,0,0,0,0,0,0,0,0,0,0,0,0,0,0,0,0,0,0,0,0,0,0,null,null,0,15,null,{"v":1068.2840782805345,"d":"$1,068.28"},15,null,{"v":702.0346260795303,"d":"$702.03"},15,null,0,15,null,0,15,null,0,15,null,0,15,null,0,15,null,0,15,null,0,15,null,0,15,null,0,15,null,0,15,null,0,15,null,0,15,null,0,15,null,0,15,null,0,15,null,0,15,null,0,15,null,0,15,null,0,15,null,0,15,null,0,15,null,0,15,null,0,15,null,0,15,null,0,15,null,0,15,null,0,15,null,0,15,null,0,15]
[{"v":1782.5151093167337,"d":"$1,782.52"},{"v":325,"d":"$325.00"},16,0,0,null,{"v":300,"d":"$300.00"},{"v":775.9669190633398,"d":"$775.97"},0,{"v":25,"d":"$25.00"},{"v":681.5481902533938,"d":"$681.55"},0,0,0,0,0,0,0,0,0,0,0,0,0,0,0,0,null,0,0,0,0,0,0,0,0,0,0,0,0,0,0,0,0,0,0,0,0,0,0,0,0,0,0,0,0,0,0,0,0,0,0,0,0,0,0,0,0,0,0,0,0,0,0,0,0,0,0,0,0,0,0,0,0,0,0,0,0,0,0,0,0,0,0,0,0,0,0,0,null,null,0,16,null,{"v":775.9669190633398,"d":"$775.97"},16,null,{"v":681.5481902533938,"d":"$681.55"},16,null,0,16,null,0,16,null,0,16,null,0,16,null,0,16,null,0,16,null,0,16,null,0,16,null,0,16,null,0,16,null,0,16,null,0,16,null,0,16,null,0,16,null,0,16,null,0,16,null,0,16,null,0,16,null,0,16,null,0,16,null,0,16,null,0,16,null,0,16,null,0,16,null,0,16,null,0,16,null,0,16,null,0,16,null,0,16]
[{"v":1466.6517664423895,"d":"$1,466.65"},{"v":325,"d":"$325.00"},17,0,0,null,{"v":300,"d":"$300.00"},{"v":480.7265882539732,"d":"$480.73"},0,{"v":25,"d":"$25.00"},{"v":660.9251781884165,"d":"$660.93"},0,0,0,0,0,0,0,0,0,0,0,0,0,0,0,0,null,0,0,0,0,0,0,0,0,0,0,0,0,0,0,0,0,0,0,0,0,0,0,0,0,0,0,0,0,0,0,0,0,0,0,0,0,0,0,0,0,0,0,0,0,0,0,0,0,0,0,0,0,0,0,0,0,0,0,0,0,0,0,0,0,0,0,0,0,0,0,0,null,null,0,17,null,{"v":480.7265882539732,"d":"$480.73"},17,null,{"v":660.9251781884165,"d":"$660.93"},17,null,0,17,null,0,17,null,0,17,null,0,17,null,0,17,null,0,17,null,0,17,null,0,17,null,0,17,null,0,17,null,0,17,null,0,17,null,0,17,null,0,17,null,0,17,null,0,17,null,0,17,null,0,17,null,0,17,null,0,17,null,0,17,null,0,17,null,0,17,null,0,17,null,0,17,null,0,17,null,0,17,null,0,17,null,0,17]
[{"v":1147.698533512852,"d":"$1,147.70"},{"v":325,"d":"$325.00"},18,0,0,null,{"v":300,"d":"$300.00"},{"v":182.53385413651293,"d":"$182.53"},0,{"v":25,"d":"$25.00"},{"v":640.1646793763392,"d":"$640.16"},0,0,0,0,0,0,0,0,0,0,0,0,0,0,0,0,null,0,0,0,0,0,0,0,0,0,0,0,0,0,0,0,0,0,0,0,0,0,0,0,0,0,0,0,0,0,0,0,0,0,0,0,0,0,0,0,0,0,0,0,0,0,0,0,0,0,0,0,0,0,0,0,0,0,0,0,0,0,0,0,0,0,0,0,0,0,0,0,null,null,0,18,null,{"v":182.53385413651293,"d":"$182.53"},18,null,{"v":640.1646793763392,"d":"$640.16"},18,null,0,18,null,0,18,null,0,18,null,0,18,null,0,18,null,0,18,null,0,18,null,0,18,null,0,18,null,0,18,null,0,18,null,0,18,null,0,18,null,0,18,null,0,18,null,0,18,null,0,18,null,0,18,null,0,18,null,0,18,null,0,18,null,0,18,null,0,18,null,0,18,null,0,18,null,0,18,null,0,18,null,0,18,null,0,18]
[{"v":826.0165237362711,"d":"$826.02"},{"v":325,"d":"$325.00"},19,0,0,null,{"v":182.53385413651293,"d":"$182.53"},0,0,{"v":142.46614586348707,"d":"$142.47"},{"v":501.0165237362711,"d":"$501.02"},0,0,0,0,0,0,0,0,0,0,0,0,0,0,0,0,null,0,0,0,0,0,0,0,0,0,0,0,0,0,0,0,0,0,0,0,0,0,0,0,0,0,0,0,0,0,0,0,0,0,0,0,0,0,0,0,0,0,0,0,0,0,0,0,0,0,0,0,0,0,0,0,0,0,0,0,0,0,0,0,0,0,0,0,0,0,0,0,null,null,0,19,null,0,19,null,{"v":501.0165237362711,"d":"$501.02"},19,null,0,19,null,0,19,null,0,19,null,0,19,null,0,19,null,0,19,null,0,19,null,0,19,null,0,19,null,0,19,null,0,19,null,0,19,null,0,19,null,0,19,null,0,19,null,0,19,null,0,19,null,0,19,null,0,19,null,0,19,null,0,19,null,0,19,null,0,19,null,0,19,null,0,19,null,0,19,null,0,19,null,0,19,null,0,19]
[{"v":502.18996722784624,"d":"$502.19"},{"v":325,"d":"$325.00"},20,0,0,null,0,0,{"v":40,"d":"$40.00"},{"v":325,"d":"$325.00"},{"v":177.18996722784624,"d":"$177.19"},0,0,0,0,0,0,0,0,0,0,0,0,0,0,0,0,null,0,0,0,0,0,0,0,0,0,0,0,0,0,0,0,0,0,0,0,0,0,0,0,0,0,0,0,0,0,0,0,0,0,0,0,0,0,0,0,0,0,0,0,0,0,0,0,0,0,0,0,0,0,0,0,0,0,0,0,0,0,0,0,0,0,0,0,0,0,0,0,null,null,0,20,null,0,20,null,{"v":177.18996722784624,"d":"$177.19"},20,null,0,20,null,0,20,null,0,20,null,0,20,null,0,20,null,0,20,null,0,20,null,0,20,null,0,20,null,0,20,null,0,20,null,0,20,null,0,20,null,0,20,null,0,20,null,0,20,null,0,20,null,0,20,null,0,20,null,0,20,null,0,20,null,0,20,null,0,20,null,0,20,null,0,20,null,0,20,null,0,20,null,0,20,null,0,20]
[{"v":177.18996722784624,"d":"$177.19"},{"v":177.18996722784624,"d":"$177.19"},21,0,0,null,0,0,{"v":40,"d":"$40.00"},{"v":177.18996722784624,"d":"$177.19"},0,0,0,0,0,0,0,0,0,0,0,0,0,0,0,0,0,null,0,0,0,0,0,0,0,0,0,0,0,0,0,0,0,0,0,0,0,0,0,0,0,0,0,0,0,0,0,0,0,0,0,0,0,0,0,0,0,0,0,0,0,0,0,0,0,0,0,0,0,0,0,0,0,0,0,0,0,0,0,0,0,0,0,0,0,0,0,0,0,null,null,0,21,null,0,21,null,0,21,null,0,21,null,0,21,null,0,21,null,0,21,null,0,21,null,0,21,null,0,21,null,0,21,null,0,21,null,0,21,null,0,21,null,0,21,null,0,21,null,0,21,null,0,21,null,0,21,null,0,21,null,0,21,null,0,21,null,0,21,null,0,21,null,0,21,null,0,21,null,0,21,null,0,21,null,0,21,null,0,21,null,0,21,null,0,21]
[0,0,22,0,0,null,0,0,{"v":40,"d":"$40.00"},0,0,{"v":25,"d":"$25.00"},0,0,0,0,0,0,0,0,0,0,0,0,0,0,0,null,0,0,0,0,0,0,0,0,0,0,0,0,0,0,0,0,0,0,0,0,0,0,0,0,0,0,0,0,0,0,0,0,0,0,0,0,0,0,0,0,0,0,0,0,0,0,0,0,0,0,0,0,0,0,0,0,0,0,0,0,0,0,0,0,0,0,0,0,0,0,0,null,null,0,22,null,0,22,null,0,22,null,0,22,null,0,22,null,0,22,null,0,22,null,0,22,null,0,22,null,0,22,null,0,22,null,0,22,null,0,22,null,0,22,null,0,22,null,0,22,null,0,22,null,0,22,null,0,22,null,0,22,null,0,22,null,0,22,null,0,22,null,0,22,null,0,22,null,0,22,null,0,22,null,0,22,null,0,22,null,0,22,null,0,22,null,0,22]
[0,0,23,0,0,null,0,0,{"v":40,"d":"$40.00"},0,0,{"v":25,"d":"$25.00"},0,0,0,0,0,0,0,0,0,0,0,0,0,0,0,null,0,0,0,0,0,0,0,0,0,0,0,0,0,0,0,0,0,0,0,0,0,0,0,0,0,0,0,0,0,0,0,0,0,0,0,0,0,0,0,0,0,0,0,0,0,0,0,0,0,0,0,0,0,0,0,0,0,0,0,0,0,0,0,0,0,0,0,0,0,0,0,null,null,0,23,null,0,23,null,0,23,null,0,23,null,0,23,null,0,23,null,0,23,null,0,23,null,0,23,null,0,23,null,0,23,null,0,23,null,0,23,null,0,23,null,0,23,null,0,23,null,0,23,null,0,23,null,0,23,null,0,23,null,0,23,null,0,23,null,0,23,null,0,23,null,0,23,null,0,23,null,0,23,null,0,23,null,0,23,null,0,23,null,0,23,null,0,23]
[0,0,24,0,0,null,0,0,{"v":40,"d":"$40.00"},0,0,{"v":25,"d":"$25.00"},0,0,0,0,0,0,0,0,0,0,0,0,0,0,0,null,0,0,0,0,0,0,0,0,0,0,0,0,0,0,0,0,0,0,0,0,0,0,0,0,0,0,0,0,0,0,0,0,0,0,0,0,0,0,0,0,0,0,0,0,0,0,0,0,0,0,0,0,0,0,0,0,0,0,0,0,0,0,0,0,0,0,0,0,0,0,0,null,null,0,24,null,0,24,null,0,24,null,0,24,null,0,24,null,0,24,null,0,24,null,0,24,null,0,24,null,0,24,null,0,24,null,0,24,null,0,24,null,0,24,null,0,24,null,0,24,null,0,24,null,0,24,null,0,24,null,0,24,null,0,24,null,0,24,null,0,24,null,0,24,null,0,24,null,0,24,null,0,24,null,0,24,null,0,24,null,0,24,null,0,24,null,0,24]
[0,0,25,0,0,null,0,0,{"v":40,"d":"$40.00"},0,0,{"v":25,"d":"$25.00"},0,0,0,0,0,0,0,0,0,0,0,0,0,0,0,null,0,0,0,0,0,0,0,0,0,0,0,0,0,0,0,0,0,0,0,0,0,0,0,0,0,0,0,0,0,0,0,0,0,0,0,0,0,0,0,0,0,0,0,0,0,0,0,0,0,0,0,0,0,0,0,0,0,0,0,0,0,0,0,0,0,0,0,0,0,0,0,null,null,0,25,null,0,25,null,0,25,null,0,25,null,0,25,null,0,25,null,0,25,null,0,25,null,0,25,null,0,25,null,0,25,null,0,25,null,0,25,null,0,25,null,0,25,null,0,25,null,0,25,null,0,25,null,0,25,null,0,25,null,0,25,null,0,25,null,0,25,null,0,25,null,0,25,null,0,25,null,0,25,null,0,25,null,0,25,null,0,25,null,0,25,null,0,25]
[0,0,26,0,0,null,0,0,{"v":40,"d":"$40.00"},0,0,{"v":25,"d":"$25.00"},0,0,0,0,0,0,0,0,0,0,0,0,0,0,0,null,0,0,0,0,0,0,0,0,0,0,0,0,0,0,0,0,0,0,0,0,0,0,0,0,0,0,0,0,0,0,0,0,0,0,0,0,0,0,0,0,0,0,0,0,0,0,0,0,0,0,0,0,0,0,0,0,0,0,0,0,0,0,0,0,0,0,0,0,0,0,0,null,null,0,26,null,0,26,null,0,26,null,0,26,null,0,26,null,0,26,null,0,26,null,0,26,null,0,26,null,0,26,null,0,26,null,0,26,null,0,26,null,0,26,null,0,26,null,0,26,null,0,26,null,0,26,null,0,26,null,0,26,null,0,26,null,0,26,null,0,26,null,0,26,null,0,26,null,0,26,null,0,26,null,0,26,null,0,26,null,0,26,null,0,26,null,0,26]
[0,0,27,0,0,null,0,0,{"v":40,"d":"$40.00"},0,0,{"v":25,"d":"$25.00"},0,0,0,0,0,0,0,0,0,0,0,0,0,0,0,null,0,0,0,0,0,0,0,0,0,0,0,0,0,0,0,0,0,0,0,0,0,0,0,0,0,0,0,0,0,0,0,0,0,0,0,0,0,0,0,0,0,0,0,0,0,0,0,0,0,0,0,0,0,0,0,0,0,0,0,0,0,0,0,0,0,0,0,0,0,0,0,null,null,0,27,null,0,27,null,0,27,null,0,27,null,0,27,null,0,27,null,0,27,null,0,27,null,0,27,null,0,27,null,0,27,null,0,27,null,0,27,null,0,27,null,0,27,null,0,27,null,0,27,null,0,27,null,0,27,null,0,27,null,0,27,null,0,27,null,0,27,null,0,27,null,0,27,null,0,27,null,0,27,null,0,27,null,0,27,null,0,27,null,0,27,null,0,27]
[0,0,28,0,0,null,0,0,{"v":40,"d":"$40.00"},0,0,{"v":25,"d":"$25.00"},0,0,0,0,0,0,0,0,0,0,0,0,0,0,0,null,0,0,0,0,0,0,0,0,0,0,0,0,0,0,0,0,0,0,0,0,0,0,0,0,0,0,0,0,0,0,0,0,0,0,0,0,0,0,0,0,0,0,0,0,0,0,0,0,0,0,0,0,0,0,0,0,0,0,0,0,0,0,0,0,0,0,0,0,0,0,0,null,null,0,28,null,0,28,null,0,28,null,0,28,null,0,28,null,0,28,null,0,28,null,0,28,null,0,28,null,0,28,null,0,28,null,0,28,null,0,28,null,0,28,null,0,28,null,0,28,null,0,28,null,0,28,null,0,28,null,0,28,null,0,28,null,0,28,null,0,28,null,0,28,null,0,28,null,0,28,null,0,28,null,0,28,null,0,28,null,0,28,null,0,28,null,0,28]
[0,0,29,0,0,null,0,0,{"v":40,"d":"$40.00"},0,0,{"v":25,"d":"$25.00"},0,0,0,0,0,0,0,0,0,0,0,0,0,0,0,null,0,0,0,0,0,0,0,0,0,0,0,0,0,0,0,0,0,0,0,0,0,0,0,0,0,0,0,0,0,0,0,0,0,0,0,0,0,0,0,0,0,0,0,0,0,0,0,0,0,0,0,0,0,0,0,0,0,0,0,0,0,0,0,0,0,0,0,0,0,0,0,null,null,0,29,null,0,29,null,0,29,null,0,29,null,0,29,null,0,29,null,0,29,null,0,29,null,0,29,null,0,29,null,0,29,null,0,29,null,0,29,null,0,29,null,0,29,null,0,29,null,0,29,null,0,29,null,0,29,null,0,29,null,0,29,null,0,29,null,0,29,null,0,29,null,0,29,null,0,29,null,0,29,null,0,29,null,0,29,null,0,29,null,0,29,null,0,29]
[0,0,30,0,0,null,0,0,{"v":40,"d":"$40.00"},0,0,{"v":25,"d":"$25.00"},0,0,0,0,0,0,0,0,0,0,0,0,0,0,0,null,0,0,0,0,0,0,0,0,0,0,0,0,0,0,0,0,0,0,0,0,0,0,0,0,0,0,0,0,0,0,0,0,0,0,0,0,0,0,0,0,0,0,0,0,0,0,0,0,0,0,0,0,0,0,0,0,0,0,0,0,0,0,0,0,0,0,0,0,0,0,0,null,null,0,30,null,0,30,null,0,30,null,0,30,null,0,30,null,0,30,null,0,30,null,0,30,null,0,30,null,0,30,null,0,30,null,0,30,null,0,30,null,0,30,null,0,30,null,0,30,null,0,30,null,0,30,null,0,30,null,0,30,null,0,30,null,0,30,null,0,30,null,0,30,null,0,30,null,0,30,null,0,30,null,0,30,null,0,30,null,0,30,null,0,30,null,0,30]
[0,0,31,0,0,null,0,0,{"v":40,"d":"$40.00"},0,0,{"v":25,"d":"$25.00"},0,0,0,0,0,0,0,0,0,0,0,0,0,0,0,null,0,0,0,0,0,0,0,0,0,0,0,0,0,0,0,0,0,0,0,0,0,0,0,0,0,0,0,0,0,0,0,0,0,0,0,0,0,0,0,0,0,0,0,0,0,0,0,0,0,0,0,0,0,0,0,0,0,0,0,0,0,0,0,0,0,0,0,0,0,0,0,null,null,0,31,null,0,31,null,0,31,null,0,31,null,0,31,null,0,31,null,0,31,null,0,31,null,0,31,null,0,31,null,0,31,null,0,31,null,0,31,null,0,31,null,0,31,null,0,31,null,0,31,null,0,31,null,0,31,null,0,31,null,0,31,null,0,31,null,0,31,null,0,31,null,0,31,null,0,31,null,0,31,null,0,31,null,0,31,null,0,31,null,0,31,null,0,31]
[0,0,32,0,0,null,0,0,{"v":40,"d":"$40.00"},0,0,{"v":25,"d":"$25.00"},0,0,0,0,0,0,0,0,0,0,0,0,0,0,0,null,0,0,0,0,0,0,0,0,0,0,0,0,0,0,0,0,0,0,0,0,0,0,0,0,0,0,0,0,0,0,0,0,0,0,0,0,0,0,0,0,0,0,0,0,0,0,0,0,0,0,0,0,0,0,0,0,0,0,0,0,0,0,0,0,0,0,0,0,0,0,0,null,null,0,32,null,0,32,null,0,32,null,0,32,null,0,32,null,0,32,null,0,32,null,0,32,null,0,32,null,0,32,null,0,32,null,0,32,null,0,32,null,0,32,null,0,32,null,0,32,null,0,32,null,0,32,null,0,32,null,0,32,null,0,32,null,0,32,null,0,32,null,0,32,null,0,32,null,0,32,null,0,32,null,0,32,null,0,32,null,0,32,null,0,32,null,0,32]
[0,0,33,0,0,null,0,0,{"v":40,"d":"$40.00"},0,0,{"v":25,"d":"$25.00"},0,0,0,0,0,0,0,0,0,0,0,0,0,0,0,null,0,0,0,0,0,0,0,0,0,0,0,0,0,0,0,0,0,0,0,0,0,0,0,0,0,0,0,0,0,0,0,0,0,0,0,0,0,0,0,0,0,0,0,0,0,0,0,0,0,0,0,0,0,0,0,0,0,0,0,0,0,0,0,0,0,0,0,0,0,0,0,null,null,{"$f":"E50","v":0},33,null,{"$f":"H50","v":0},33,null,{"$f":"K50","v":0},33,null,{"$f":"N50","v":0},33,null,{"$f":"Q50","v":0},33,null,{"$f":"T50","v":0},33,null,{"$f":"W50","v":0},33,null,{"$f":"Z50","v":0},33,null,{"$f":"AC50","v":0},33,null,{"$f":"AF50","v":0},33,null,{"$f":"AI50","v":0},33,null,{"$f":"AL50","v":0},33,null,{"$f":"AO50","v":0},33,null,{"$f":"AR50","v":0},33,null,{"$f":"AU50","v":0},33,null,{"$f":"AX50","v":0},33,null,{"$f":"BA50","v":0},33,null,{"$f":"BD50","v":0},33,null,{"$f":"BG50","v":0},33,null,{"$f":"BJ50","v":0},33,null,{"$f":"BM50","v":0},33,null,{"$f":"BP50","v":0},33,null,{"$f":"BS50","v":0},33,null,{"$f":"BV50","v":0},33,null,{"$f":"BY50","v":0},33,null,{"$f":"CB50","v":0},33,null,{"$f":"CE50","v":0},33,null,{"$f":"CH50","v":0},33,null,{"$f":"CK50","v":0},33,null,{"$f":"CN50","v":0},33,null,{"$f":"CQ50","v":0},33,null,{"$f":"CT50","v":0},33]
[0,0,34,0,0,null,0,0,{"v":40,"d":"$40.00"},0,0,{"v":25,"d":"$25.00"},0,0,0,0,0,0,0,0,0,0,0,0,0,0,0,null,0,0,0,0,0,0,0,0,0,0,0,0,0,0,0,0,0,0,0,0,0,0,0,0,0,0,0,0,0,0,0,0,0,0,0,0,0,0,0,0,0,0,0,0,0,0,0,0,0,0,0,0,0,0,0,0,0,0,0,0,0,0,0,0,0,0,0,0,0,0,0,null,null,0,34,null,0,34,null,0,34,null,0,34,null,0,34,null,0,34,null,0,34,null,0,34,null,0,34,null,0,34,null,0,34,null,0,34,null,0,34,null,0,34,null,0,34,null,0,34,null,0,34,null,0,34,null,0,34,null,0,34,null,0,34,null,0,34,null,0,34,null,0,34,null,0,34,null,0,34,null,0,34,null,0,34,null,0,34,null,0,34,null,0,34,null,0,34]
[0,0,35,0,0,null,0,0,{"v":40,"d":"$40.00"},0,0,{"v":25,"d":"$25.00"},0,0,0,0,0,0,0,0,0,0,0,0,0,0,0,null,0,0,0,0,0,0,0,0,0,0,0,0,0,0,0,0,0,0,0,0,0,0,0,0,0,0,0,0,0,0,0,0,0,0,0,0,0,0,0,0,0,0,0,0,0,0,0,0,0,0,0,0,0,0,0,0,0,0,0,0,0,0,0,0,0,0,0,0,0,0,0,null,null,0,35,null,0,35,null,0,35,null,0,35,null,0,35,null,0,35,null,0,35,null,0,35,null,0,35,null,0,35,null,0,35,null,0,35,null,0,35,null,0,35,null,0,35,null,0,35,null,0,35,null,0,35,null,0,35,null,0,35,null,0,35,null,0,35,null,0,35,null,0,35,null,0,35,null,0,35,null,0,35,null,0,35,null,0,35,null,0,35,null,0,35,null,0,35]
[0,0,36,0,0,null,0,0,{"v":40,"d":"$40.00"},0,0,{"v":25,"d":"$25.00"},0,0,0,0,0,0,0,0,0,0,0,0,0,0,0,null,0,0,0,0,0,0,0,0,0,0,0,0,0,0,0,0,0,0,0,0,0,0,0,0,0,0,0,0,0,0,0,0,0,0,0,0,0,0,0,0,0,0,0,0,0,0,0,0,0,0,0,0,0,0,0,0,0,0,0,0,0,0,0,0,0,0,0,0,0,0,0,null,null,0,36,null,0,36,null,0,36,null,0,36,null,0,36,null,0,36,null,0,36,null,0,36,null,0,36,null,0,36,null,0,36,null,0,36,null,0,36,null,0,36,null,0,36,null,0,36,null,0,36,null,0,36,null,0,36,null,0,36,null,0,36,null,0,36,null,0,36,null,0,36,null,0,36,null,0,36,null,0,36,null,0,36,null,0,36,null,0,36,null,0,36,null,0,36]
[0,0,37,0,0,null,0,0,{"v":40,"d":"$40.00"},0,0,{"v":25,"d":"$25.00"},0,0,0,0,0,0,0,0,0,0,0,0,0,0,0,null,0,0,0,0,0,0,0,0,0,0,0,0,0,0,0,0,0,0,0,0,0,0,0,0,0,0,0,0,0,0,0,0,0,0,0,0,0,0,0,0,0,0,0,0,0,0,0,0,0,0,0,0,0,0,0,0,0,0,0,0,0,0,0,0,0,0,0,0,0,0,0,null,null,0,37,null,0,37,null,0,37,null,0,37,null,0,37,null,0,37,null,0,37,null,0,37,null,0,37,null,0,37,null,0,37,null,0,37,null,0,37,null,0,37,null,0,37,null,0,37,null,0,37,null,0,37,null,0,37,null,0,37,null,0,37,null,0,37,null,0,37,null,0,37,null,0,37,null,0,37,null,0,37,null,0,37,null,0,37,null,0,37,null,0,37,null,0,37]
[0,0,38,0,0,null,0,0,{"v":40,"d":"$40.00"},0,0,{"v":25,"d":"$25.00"},0,0,0,0,0,0,0,0,0,0,0,0,0,0,0,null,0,0,0,0,0,0,0,0,0,0,0,0,0,0,0,0,0,0,0,0,0,0,0,0,0,0,0,0,0,0,0,0,0,0,0,0,0,0,0,0,0,0,0,0,0,0,0,0,0,0,0,0,0,0,0,0,0,0,0,0,0,0,0,0,0,0,0,0,0,0,0,null,null,0,38,null,0,38,null,0,38,null,0,38,null,0,38,null,0,38,null,0,38,null,0,38,null,0,38,null,0,38,null,0,38,null,0,38,null,0,38,null,0,38,null,0,38,null,0,38,null,0,38,null,0,38,null,0,38,null,0,38,null,0,38,null,0,38,null,0,38,null,0,38,null,0,38,null,0,38,null,0,38,null,0,38,null,0,38,null,0,38,null,0,38,null,0,38]
[0,0,39,0,0,null,0,0,{"v":40,"d":"$40.00"},0,0,{"v":25,"d":"$25.00"},0,0,0,0,0,0,0,0,0,0,0,0,0,0,0,null,0,0,0,0,0,0,0,0,0,0,0,0,0,0,0,0,0,0,0,0,0,0,0,0,0,0,0,0,0,0,0,0,0,0,0,0,0,0,0,0,0,0,0,0,0,0,0,0,0,0,0,0,0,0,0,0,0,0,0,0,0,0,0,0,0,0,0,0,0,0,0,null,null,0,39,null,0,39,null,0,39,null,0,39,null,0,39,null,0,39,null,0,39,null,0,39,null,0,39,null,0,39,null,0,39,null,0,39,null,0,39,null,0,39,null,0,39,null,0,39,null,0,39,null,0,39,null,0,39,null,0,39,null,0,39,null,0,39,null,0,39,null,0,39,null,0,39,null,0,39,null,0,39,null,0,39,null,0,39,null,0,39,null,0,39,null,0,39]
[0,0,40,0,0,null,0,0,{"v":40,"d":"$40.00"},0,0,{"v":25,"d":"$25.00"},0,0,0,0,0,0,0,0,0,0,0,0,0,0,0,null,0,0,0,0,0,0,0,0,0,0,0,0,0,0,0,0,0,0,0,0,0,0,0,0,0,0,0,0,0,0,0,0,0,0,0,0,0,0,0,0,0,0,0,0,0,0,0,0,0,0,0,0,0,0,0,0,0,0,0,0,0,0,0,0,0,0,0,0,0,0,0,null,null,0,40,null,0,40,null,0,40,null,0,40,null,0,40,null,0,40,null,0,40,null,0,40,null,0,40,null,0,40,null,0,40,null,0,40,null,0,40,null,0,40,null,0,40,null,0,40,null,0,40,null,0,40,null,0,40,null,0,40,null,0,40,null,0,40,null,0,40,null,0,40,null,0,40,null,0,40,null,0,40,null,0,40,null,0,40,null,0,40,null,0,40,null,0,40]
[0,0,41,0,0,null,0,0,{"v":40,"d":"$40.00"},0,0,{"v":25,"d":"$25.00"},0,0,0,0,0,0,0,0,0,0,0,0,0,0,0,null,0,0,0,0,0,0,0,0,0,0,0,0,0,0,0,0,0,0,0,0,0,0,0,0,0,0,0,0,0,0,0,0,0,0,0,0,0,0,0,0,0,0,0,0,0,0,0,0,0,0,0,0,0,0,0,0,0,0,0,0,0,0,0,0,0,0,0,0,0,0,0,null,null,0,41,null,0,41,null,0,41,null,0,41,null,0,41,null,0,41,null,0,41,null,0,41,null,0,41,null,0,41,null,0,41,null,0,41,null,0,41,null,0,41,null,0,41,null,0,41,null,0,41,null,0,41,null,0,41,null,0,41,null,0,41,null,0,41,null,0,41,null,0,41,null,0,41,null,0,41,null,0,41,null,0,41,null,0,41,null,0,41,null,0,41,null,0,41]
[0,0,42,0,0,null,0,0,{"v":40,"d":"$40.00"},0,0,{"v":25,"d":"$25.00"},0,0,0,0,0,0,0,0,0,0,0,0,0,0,0,null,0,0,0,0,0,0,0,0,0,0,0,0,0,0,0,0,0,0,0,0,0,0,0,0,0,0,0,0,0,0,0,0,0,0,0,0,0,0,0,0,0,0,0,0,0,0,0,0,0,0,0,0,0,0,0,0,0,0,0,0,0,0,0,0,0,0,0,0,0,0,0,null,null,0,42,null,0,42,null,0,42,null,0,42,null,0,42,null,0,42,null,0,42,null,0,42,null,0,42,null,0,42,null,0,42,null,0,42,null,0,42,null,0,42,null,0,42,null,0,42,null,0,42,null,0,42,null,0,42,null,0,42,null,0,42,null,0,42,null,0,42,null,0,42,null,0,42,null,0,42,null,0,42,null,0,42,null,0,42,null,0,42,null,0,42,null,0,42]
[0,0,43,0,0,null,0,0,{"v":40,"d":"$40.00"},0,0,{"v":25,"d":"$25.00"},0,0,0,0,0,0,0,0,0,0,0,0,0,0,0,null,0,0,0,0,0,0,0,0,0,0,0,0,0,0,0,0,0,0,0,0,0,0,0,0,0,0,0,0,0,0,0,0,0,0,0,0,0,0,0,0,0,0,0,0,0,0,0,0,0,0,0,0,0,0,0,0,0,0,0,0,0,0,0,0,0,0,0,0,0,0,0,null,null,0,43,null,0,43,null,0,43,null,0,43,null,0,43,null,0,43,null,0,43,null,0,43,null,0,43,null,0,43,null,0,43,null,0,43,null,0,43,null,0,43,null,0,43,null,0,43,null,0,43,null,0,43,null,0,43,null,0,43,null,0,43,null,0,43,null,0,43,null,0,43,null,0,43,null,0,43,null,0,43,null,0,43,null,0,43,null,0,43,null,0,43,null,0,43]
[0,0,44,0,0,null,0,0,{"v":40,"d":"$40.00"},0,0,{"v":25,"d":"$25.00"},0,0,0,0,0,0,0,0,0,0,0,0,0,0,0,null,0,0,0,0,0,0,0,0,0,0,0,0,0,0,0,0,0,0,0,0,0,0,0,0,0,0,0,0,0,0,0,0,0,0,0,0,0,0,0,0,0,0,0,0,0,0,0,0,0,0,0,0,0,0,0,0,0,0,0,0,0,0,0,0,0,0,0,0,0,0,0,null,null,0,44,null,0,44,null,0,44,null,0,44,null,0,44,null,0,44,null,0,44,null,0,44,null,0,44,null,0,44,null,0,44,null,0,44,null,0,44,null,0,44,null,0,44,null,0,44,null,0,44,null,0,44,null,0,44,null,0,44,null,0,44,null,0,44,null,0,44,null,0,44,null,0,44,null,0,44,null,0,44,null,0,44,null,0,44,null,0,44,null,0,44,null,0,44]
[0,0,45,0,0,null,0,0,{"v":40,"d":"$40.00"},0,0,{"v":25,"d":"$25.00"},0,0,0,0,0,0,0,0,0,0,0,0,0,0,0,null,0,0,0,0,0,0,0,0,0,0,0,0,0,0,0,0,0,0,0,0,0,0,0,0,0,0,0,0,0,0,0,0,0,0,0,0,0,0,0,0,0,0,0,0,0,0,0,0,0,0,0,0,0,0,0,0,0,0,0,0,0,0,0,0,0,0,0,0,0,0,0,null,null,0,45,null,0,45,null,0,45,null,0,45,null,0,45,null,0,45,null,0,45,null,0,45,null,0,45,null,0,45,null,0,45,null,0,45,null,0,45,null,0,45,null,0,45,null,0,45,null,0,45,null,0,45,null,0,45,null,0,45,null,0,45,null,0,45,null,0,45,null,0,45,null,0,45,null,0,45,null,0,45,null,0,45,null,0,45,null,0,45,null,0,45,null,0,45]
[0,0,46,0,0,null,0,0,{"v":40,"d":"$40.00"},0,0,{"v":25,"d":"$25.00"},0,0,0,0,0,0,0,0,0,0,0,0,0,0,0,null,0,0,0,0,0,0,0,0,0,0,0,0,0,0,0,0,0,0,0,0,0,0,0,0,0,0,0,0,0,0,0,0,0,0,0,0,0,0,0,0,0,0,0,0,0,0,0,0,0,0,0,0,0,0,0,0,0,0,0,0,0,0,0,0,0,0,0,0,0,0,0,null,null,0,46,null,0,46,null,0,46,null,0,46,null,0,46,null,0,46,null,0,46,null,0,46,null,0,46,null,0,46,null,0,46,null,0,46,null,0,46,null,0,46,null,0,46,null,0,46,null,0,46,null,0,46,null,0,46,null,0,46,null,0,46,null,0,46,null,0,46,null,0,46,null,0,46,null,0,46,null,0,46,null,0,46,null,0,46,null,0,46,null,0,46,null,0,46]
[0,0,47,0,0,null,0,0,{"v":40,"d":"$40.00"},0,0,{"v":25,"d":"$25.00"},0,0,0,0,0,0,0,0,0,0,0,0,0,0,0,null,0,0,0,0,0,0,0,0,0,0,0,0,0,0,0,0,0,0,0,0,0,0,0,0,0,0,0,0,0,0,0,0,0,0,0,0,0,0,0,0,0,0,0,0,0,0,0,0,0,0,0,0,0,0,0,0,0,0,0,0,0,0,0,0,0,0,0,0,0,0,0,null,null,0,47,null,0,47,null,0,47,null,0,47,null,0,47,null,0,47,null,0,47,null,0,47,null,0,47,null,0,47,null,0,47,null,0,47,null,0,47,null,0,47,null,0,47,null,0,47,null,0,47,null,0,47,null,0,47,null,0,47,null,0,47,null,0,47,null,0,47,null,0,47,null,0,47,null,0,47,null,0,47,null,0,47,null,0,47,null,0,47,null,0,47,null,0,47]
[0,0,48,0,0,null,0,0,{"v":40,"d":"$40.00"},0,0,{"v":25,"d":"$25.00"},0,0,0,0,0,0,0,0,0,0,0,0,0,0,0,null,0,0,0,0,0,0,0,0,0,0,0,0,0,0,0,0,0,0,0,0,0,0,0,0,0,0,0,0,0,0,0,0,0,0,0,0,0,0,0,0,0,0,0,0,0,0,0,0,0,0,0,0,0,0,0,0,0,0,0,0,0,0,0,0,0,0,0,0,0,0,0,null,null,0,48,null,0,48,null,0,48,null,0,48,null,0,48,null,0,48,null,0,48,null,0,48,null,0,48,null,0,48,null,0,48,null,0,48,null,0,48,null,0,48,null,0,48,null,0,48,null,0,48,null,0,48,null,0,48,null,0,48,null,0,48,null,0,48,null,0,48,null,0,48,null,0,48,null,0,48,null,0,48,null,0,48,null,0,48,null,0,48,null,0,48,null,0,48]
[0,0,49,0,0,null,0,0,{"v":40,"d":"$40.00"},0,0,{"v":25,"d":"$25.00"},0,0,0,0,0,0,0,0,0,0,0,0,0,0,0,null,0,0,0,0,0,0,0,0,0,0,0,0,0,0,0,0,0,0,0,0,0,0,0,0,0,0,0,0,0,0,0,0,0,0,0,0,0,0,0,0,0,0,0,0,0,0,0,0,0,0,0,0,0,0,0,0,0,0,0,0,0,0,0,0,0,0,0,0,0,0,0,null,null,0,49,null,0,49,null,0,49,null,0,49,null,0,49,null,0,49,null,0,49,null,0,49,null,0,49,null,0,49,null,0,49,null,0,49,null,0,49,null,0,49,null,0,49,null,0,49,null,0,49,null,0,49,null,0,49,null,0,49,null,0,49,null,0,49,null,0,49,null,0,49,null,0,49,null,0,49,null,0,49,null,0,49,null,0,49,null,0,49,null,0,49,null,0,49]
[0,0,50,0,0,null,0,0,{"v":40,"d":"$40.00"},0,0,{"v":25,"d":"$25.00"},0,0,0,0,0,0,0,0,0,0,0,0,0,0,0,null,0,0,0,0,0,0,0,0,0,0,0,0,0,0,0,0,0,0,0,0,0,0,0,0,0,0,0,0,0,0,0,0,0,0,0,0,0,0,0,0,0,0,0,0,0,0,0,0,0,0,0,0,0,0,0,0,0,0,0,0,0,0,0,0,0,0,0,0,0,0,0,null,null,0,50,null,0,50,null,0,50,null,0,50,null,0,50,null,0,50,null,0,50,null,0,50,null,0,50,null,0,50,null,0,50,null,0,50,null,0,50,null,0,50,null,0,50,null,0,50,null,0,50,null,0,50,null,0,50,null,0,50,null,0,50,null,0,50,null,0,50,null,0,50,null,0,50,null,0,50,null,0,50,null,0,50,null,0,50,null,0,50,null,0,50,null,0,50]
[0,0,51,0,0,null,0,0,{"v":40,"d":"$40.00"},0,0,{"v":25,"d":"$25.00"},0,0,0,0,0,0,0,0,0,0,0,0,0,0,0,null,0,0,0,0,0,0,0,0,0,0,0,0,0,0,0,0,0,0,0,0,0,0,0,0,0,0,0,0,0,0,0,0,0,0,0,0,0,0,0,0,0,0,0,0,0,0,0,0,0,0,0,0,0,0,0,0,0,0,0,0,0,0,0,0,0,0,0,0,0,0,0,null,null,0,51,null,0,51,null,0,51,null,0,51,null,0,51,null,0,51,null,0,51,null,0,51,null,0,51,null,0,51,null,0,51,null,0,51,null,0,51,null,0,51,null,0,51,null,0,51,null,0,51,null,0,51,null,0,51,null,0,51,null,0,51,null,0,51,null,0,51,null,0,51,null,0,51,null,0,51,null,0,51,null,0,51,null,0,51,null,0,51,null,0,51,null,0,51]
[0,0,52,0,0,null,0,0,{"v":40,"d":"$40.00"},0,0,{"v":25,"d":"$25.00"},0,0,0,0,0,0,0,0,0,0,0,0,0,0,0,null,0,0,0,0,0,0,0,0,0,0,0,0,0,0,0,0,0,0,0,0,0,0,0,0,0,0,0,0,0,0,0,0,0,0,0,0,0,0,0,0,0,0,0,0,0,0,0,0,0,0,0,0,0,0,0,0,0,0,0,0,0,0,0,0,0,0,0,0,0,0,0,null,null,0,52,null,0,52,null,0,52,null,0,52,null,0,52,null,0,52,null,0,52,null,0,52,null,0,52,null,0,52,null,0,52,null,0,52,null,0,52,null,0,52,null,0,52,null,0,52,null,0,52,null,0,52,null,0,52,null,0,52,null,0,52,null,0,52,null,0,52,null,0,52,null,0,52,null,0,52,null,0,52,null,0,52,null,0,52,null,0,52,null,0,52,null,0,52]
[0,0,53,0,0,null,0,0,{"v":40,"d":"$40.00"},0,0,{"v":25,"d":"$25.00"},0,0,0,0,0,0,0,0,0,0,0,0,0,0,0,null,0,0,0,0,0,0,0,0,0,0,0,0,0,0,0,0,0,0,0,0,0,0,0,0,0,0,0,0,0,0,0,0,0,0,0,0,0,0,0,0,0,0,0,0,0,0,0,0,0,0,0,0,0,0,0,0,0,0,0,0,0,0,0,0,0,0,0,0,0,0,0,null,null,0,53,null,0,53,null,0,53,null,0,53,null,0,53,null,0,53,null,0,53,null,0,53,null,0,53,null,0,53,null,0,53,null,0,53,null,0,53,null,0,53,null,0,53,null,0,53,null,0,53,null,0,53,null,0,53,null,0,53,null,0,53,null,0,53,null,0,53,null,0,53,null,0,53,null,0,53,null,0,53,null,0,53,null,0,53,null,0,53,null,0,53,null,0,53]
[0,0,54,0,0,null,0,0,{"v":40,"d":"$40.00"},0,0,{"v":25,"d":"$25.00"},0,0,0,0,0,0,0,0,0,0,0,0,0,0,0,null,0,0,0,0,0,0,0,0,0,0,0,0,0,0,0,0,0,0,0,0,0,0,0,0,0,0,0,0,0,0,0,0,0,0,0,0,0,0,0,0,0,0,0,0,0,0,0,0,0,0,0,0,0,0,0,0,0,0,0,0,0,0,0,0,0,0,0,0,0,0,0,null,null,0,54,null,0,54,null,0,54,null,0,54,null,0,54,null,0,54,null,0,54,null,0,54,null,0,54,null,0,54,null,0,54,null,0,54,null,0,54,null,0,54,null,0,54,null,0,54,null,0,54,null,0,54,null,0,54,null,0,54,null,0,54,null,0,54,null,0,54,null,0,54,null,0,54,null,0,54,null,0,54,null,0,54,null,0,54,null,0,54,null,0,54,null,0,54]
[0,0,55,0,0,null,0,0,{"v":40,"d":"$40.00"},0,0,{"v":25,"d":"$25.00"},0,0,0,0,0,0,0,0,0,0,0,0,0,0,0,null,0,0,0,0,0,0,0,0,0,0,0,0,0,0,0,0,0,0,0,0,0,0,0,0,0,0,0,0,0,0,0,0,0,0,0,0,0,0,0,0,0,0,0,0,0,0,0,0,0,0,0,0,0,0,0,0,0,0,0,0,0,0,0,0,0,0,0,0,0,0,0,null,null,0,55,null,0,55,null,0,55,null,0,55,null,0,55,null,0,55,null,0,55,null,0,55,null,0,55,null,0,55,null,0,55,null,0,55,null,0,55,null,0,55,null,0,55,null,0,55,null,0,55,null,0,55,null,0,55,null,0,55,null,0,55,null,0,55,null,0,55,null,0,55,null,0,55,null,0,55,null,0,55,null,0,55,null,0,55,null,0,55,null,0,55,null,0,55]
[0,0,56,0,0,null,0,0,{"v":40,"d":"$40.00"},0,0,{"v":25,"d":"$25.00"},0,0,0,0,0,0,0,0,0,0,0,0,0,0,0,null,0,0,0,0,0,0,0,0,0,0,0,0,0,0,0,0,0,0,0,0,0,0,0,0,0,0,0,0,0,0,0,0,0,0,0,0,0,0,0,0,0,0,0,0,0,0,0,0,0,0,0,0,0,0,0,0,0,0,0,0,0,0,0,0,0,0,0,0,0,0,0,null,null,0,56,null,0,56,null,0,56,null,0,56,null,0,56,null,0,56,null,0,56,null,0,56,null,0,56,null,0,56,null,0,56,null,0,56,null,0,56,null,0,56,null,0,56,null,0,56,null,0,56,null,0,56,null,0,56,null,0,56,null,0,56,null,0,56,null,0,56,null,0,56,null,0,56,null,0,56,null,0,56,null,0,56,null,0,56,null,0,56,null,0,56,null,0,56]
[0,0,57,0,0,null,0,0,{"v":40,"d":"$40.00"},0,0,{"v":25,"d":"$25.00"},0,0,0,0,0,0,0,0,0,0,0,0,0,0,0,null,0,0,0,0,0,0,0,0,0,0,0,0,0,0,0,0,0,0,0,0,0,0,0,0,0,0,0,0,0,0,0,0,0,0,0,0,0,0,0,0,0,0,0,0,0,0,0,0,0,0,0,0,0,0,0,0,0,0,0,0,0,0,0,0,0,0,0,0,0,0,0,null,null,0,57,null,0,57,null,0,57,null,0,57,null,0,57,null,0,57,null,0,57,null,0,57,null,0,57,null,0,57,null,0,57,null,0,57,null,0,57,null,0,57,null,0,57,null,0,57,null,0,57,null,0,57,null,0,57,null,0,57,null,0,57,null,0,57,null,0,57,null,0,57,null,0,57,null,0,57,null,0,57,null,0,57,null,0,57,null,0,57,null,0,57,null,0,57]
[0,0,58,0,0,null,0,0,{"v":40,"d":"$40.00"},0,0,{"v":25,"d":"$25.00"},0,0,0,0,0,0,0,0,0,0,0,0,0,0,0,null,0,0,0,0,0,0,0,0,0,0,0,0,0,0,0,0,0,0,0,0,0,0,0,0,0,0,0,0,0,0,0,0,0,0,0,0,0,0,0,0,0,0,0,0,0,0,0,0,0,0,0,0,0,0,0,0,0,0,0,0,0,0,0,0,0,0,0,0,0,0,0,null,null,0,58,null,0,58,null,0,58,null,0,58,null,0,58,null,0,58,null,0,58,null,0,58,null,0,58,null,0,58,null,0,58,null,0,58,null,0,58,null,0,58,null,0,58,null,0,58,null,0,58,null,0,58,null,0,58,null,0,58,null,0,58,null,0,58,null,0,58,null,0,58,null,0,58,null,0,58,null,0,58,null,0,58,null,0,58,null,0,58,null,0,58,null,0,58]
[0,0,59,0,0,null,0,0,{"v":40,"d":"$40.00"},0,0,{"v":25,"d":"$25.00"},0,0,0,0,0,0,0,0,0,0,0,0,0,0,0,null,0,0,0,0,0,0,0,0,0,0,0,0,0,0,0,0,0,0,0,0,0,0,0,0,0,0,0,0,0,0,0,0,0,0,0,0,0,0,0,0,0,0,0,0,0,0,0,0,0,0,0,0,0,0,0,0,0,0,0,0,0,0,0,0,0,0,0,0,0,0,0,null,null,0,59,null,0,59,null,0,59,null,0,59,null,0,59,null,0,59,null,0,59,null,0,59,null,0,59,null,0,59,null,0,59,null,0,59,null,0,59,null,0,59,null,0,59,null,0,59,null,0,59,null,0,59,null,0,59,null,0,59,null,0,59,null,0,59,null,0,59,null,0,59,null,0,59,null,0,59,null,0,59,null,0,59,null,0,59,null,0,59,null,0,59,null,0,59]
[0,0,60,0,0,null,0,0,{"v":40,"d":"$40.00"},0,0,{"v":25,"d":"$25.00"},0,0,0,0,0,0,0,0,0,0,0,0,0,0,0,null,0,0,0,0,0,0,0,0,0,0,0,0,0,0,0,0,0,0,0,0,0,0,0,0,0,0,0,0,0,0,0,0,0,0,0,0,0,0,0,0,0,0,0,0,0,0,0,0,0,0,0,0,0,0,0,0,0,0,0,0,0,0,0,0,0,0,0,0,0,0,0,null,null,0,60,null,0,60,null,0,60,null,0,60,null,0,60,null,0,60,null,0,60,null,0,60,null,0,60,null,0,60,null,0,60,null,0,60,null,0,60,null,0,60,null,0,60,null,0,60,null,0,60,null,0,60,null,0,60,null,0,60,null,0,60,null,0,60,null,0,60,null,0,60,null,0,60,null,0,60,null,0,60,null,0,60,null,0,60,null,0,60,null,0,60,null,0,60]
[0,0,61,0,0,null,0,0,{"v":40,"d":"$40.00"},0,0,{"v":25,"d":"$25.00"},0,0,0,0,0,0,0,0,0,0,0,0,0,0,0,null,0,0,0,0,0,0,0,0,0,0,0,0,0,0,0,0,0,0,0,0,0,0,0,0,0,0,0,0,0,0,0,0,0,0,0,0,0,0,0,0,0,0,0,0,0,0,0,0,0,0,0,0,0,0,0,0,0,0,0,0,0,0,0,0,0,0,0,0,0,0,0,null,null,0,61,null,0,61,null,0,61,null,0,61,null,0,61,null,0,61,null,0,61,null,0,61,null,0,61,null,0,61,null,0,61,null,0,61,null,0,61,null,0,61,null,0,61,null,0,61,null,0,61,null,0,61,null,0,61,null,0,61,null,0,61,null,0,61,null,0,61,null,0,61,null,0,61,null,0,61,null,0,61,null,0,61,null,0,61,null,0,61,null,0,61,null,0,61]
[0,0,62,0,0,null,0,0,{"v":40,"d":"$40.00"},0,0,{"v":25,"d":"$25.00"},0,0,0,0,0,0,0,0,0,0,0,0,0,0,0,null,0,0,0,0,0,0,0,0,0,0,0,0,0,0,0,0,0,0,0,0,0,0,0,0,0,0,0,0,0,0,0,0,0,0,0,0,0,0,0,0,0,0,0,0,0,0,0,0,0,0,0,0,0,0,0,0,0,0,0,0,0,0,0,0,0,0,0,0,0,0,0,null,null,0,62,null,0,62,null,0,62,null,0,62,null,0,62,null,0,62,null,0,62,null,0,62,null,0,62,null,0,62,null,0,62,null,0,62,null,0,62,null,0,62,null,0,62,null,0,62,null,0,62,null,0,62,null,0,62,null,0,62,null,0,62,null,0,62,null,0,62,null,0,62,null,0,62,null,0,62,null,0,62,null,0,62,null,0,62,null,0,62,null,0,62,null,0,62]
[0,0,63,0,0,null,0,0,{"v":40,"d":"$40.00"},0,0,{"v":25,"d":"$25.00"},0,0,0,0,0,0,0,0,0,0,0,0,0,0,0,null,0,0,0,0,0,0,0,0,0,0,0,0,0,0,0,0,0,0,0,0,0,0,0,0,0,0,0,0,0,0,0,0,0,0,0,0,0,0,0,0,0,0,0,0,0,0,0,0,0,0,0,0,0,0,0,0,0,0,0,0,0,0,0,0,0,0,0,0,0,0,0,null,null,0,63,null,0,63,null,0,63,null,0,63,null,0,63,null,0,63,null,0,63,null,0,63,null,0,63,null,0,63,null,0,63,null,0,63,null,0,63,null,0,63,null,0,63,null,0,63,null,0,63,null,0,63,null,0,63,null,0,63,null,0,63,null,0,63,null,0,63,null,0,63,null,0,63,null,0,63,null,0,63,null,0,63,null,0,63,null,0,63,null,0,63,null,0,63]
[0,0,64,0,0,null,0,0,{"v":40,"d":"$40.00"},0,0,{"v":25,"d":"$25.00"},0,0,0,0,0,0,0,0,0,0,0,0,0,0,0,null,0,0,0,0,0,0,0,0,0,0,0,0,0,0,0,0,0,0,0,0,0,0,0,0,0,0,0,0,0,0,0,0,0,0,0,0,0,0,0,0,0,0,0,0,0,0,0,0,0,0,0,0,0,0,0,0,0,0,0,0,0,0,0,0,0,0,0,0,0,0,0,null,null,0,64,null,0,64,null,0,64,null,0,64,null,0,64,null,0,64,null,0,64,null,0,64,null,0,64,null,0,64,null,0,64,null,0,64,null,0,64,null,0,64,null,0,64,null,0,64,null,0,64,null,0,64,null,0,64,null,0,64,null,0,64,null,0,64,null,0,64,null,0,64,null,0,64,null,0,64,null,0,64,null,0,64,null,0,64,null,0,64,null,0,64,null,0,64]
[0,0,65,0,0,null,0,0,{"v":40,"d":"$40.00"},0,0,{"v":25,"d":"$25.00"},0,0,0,0,0,0,0,0,0,0,0,0,0,0,0,null,0,0,0,0,0,0,0,0,0,0,0,0,0,0,0,0,0,0,0,0,0,0,0,0,0,0,0,0,0,0,0,0,0,0,0,0,0,0,0,0,0,0,0,0,0,0,0,0,0,0,0,0,0,0,0,0,0,0,0,0,0,0,0,0,0,0,0,0,0,0,0,null,null,{"$f":"E82","v":0},65,null,{"$f":"H82","v":0},65,null,{"$f":"K82","v":0},65,null,{"$f":"N82","v":0},65,null,{"$f":"Q82","v":0},65,null,{"$f":"T82","v":0},65,null,{"$f":"W82","v":0},65,null,{"$f":"Z82","v":0},65,null,{"$f":"AC82","v":0},65,null,{"$f":"AF82","v":0},65,null,{"$f":"AI82","v":0},65,null,{"$f":"AL82","v":0},65,null,{"$f":"AO82","v":0},65,null,{"$f":"AR82","v":0},65,null,{"$f":"AU82","v":0},65,null,{"$f":"AX82","v":0},65,null,{"$f":"BA82","v":0},65,null,{"$f":"BD82","v":0},65,null,{"$f":"BG82","v":0},65,null,{"$f":"BJ82","v":0},65,null,{"$f":"BM82","v":0},65,null,{"$f":"BP82","v":0},65,null,{"$f":"BS82","v":0},65,null,{"$f":"BV82","v":0},65,null,{"$f":"BY82","v":0},65,null,{"$f":"CB82","v":0},65,null,{"$f":"CE82","v":0},65,null,{"$f":"CH82","v":0},65,null,{"$f":"CK82","v":0},65,null,{"$f":"CN82","v":0},65,null,{"$f":"CQ82","v":0},65,null,{"$f":"CT82","v":0},65]
[{"$f":"SUM(D83:E83,G83:H83,J83:K83,M83:N83,P83:Q83,S83:T83,V83:W83,Y83:Z83,AB83:AC83,AE83:AF83,AH83:AI83,AK83:AL83,AN83:AO83,AQ83:AR83,AT83:AU83,AW83:AX83,AZ83:BA83,BC83:BD83,BF83:BG83,BI83:BJ83,BL83:BM83,BO83:BP83,BR83:BS83,BU83:BV83,BX83:BY83,CA83:CB83,CD83:CE83,CG83:CH83,CJ83:CK83,CM83:CN83,CP83:CQ83,CS83:CT83)","v":0},{"$f":"SUM(D83,G83,J83,M83,P83,S83,V83,Y83,AB83,AE83,AH83,AK83,AN83,AQ83,AT83,AW83,AZ83,BC83,BF83,BI83,BL83,BO83,BR83,BU83,BX83,CA83,CD83,CG83,CJ83,CM83,CP83,CS83)","v":0},66,0,0,null,0,{"$f":"IF((H82-G83)<=0.0001,0,(H82-G83)*(1+(H$15/12)))","v":0},{"v":40,"d":"$40.00"},0,0,{"v":25,"d":"$25.00"},0,0,0,0,0,0,0,0,0,0,0,0,0,0,0,null,0,0,0,0,0,0,0,0,0,0,0,0,0,0,0,0,0,0,0,0,0,0,0,0,0,0,0,0,0,0,0,0,0,0,0,0,0,0,0,0,0,0,0,0,0,0,0,0,0,0,0,0,0,0,0,0,0,0,0,0,0,0,0,0,0,0,0,0,0,0,0,null,null,0,66,null,0,66,null,0,66,null,0,66,null,0,66,null,0,66,null,0,66,null,0,66,null,0,66,null,0,66,null,0,66,null,0,66,null,0,66,null,0,66,null,0,66,null,0,66,null,0,66,null,0,66,null,0,66,null,0,66,null,0,66,null,0,66,null,0,66,null,0,66,null,0,66,null,0,66,null,0,66,null,0,66,null,0,66,null,0,66,null,0,66,null,0,66]
[0,0,67,{"$f":"IF((E83-$N$3-$E$14-SUM(I84,L84,O84,R84,U84,X84,AA84))<=0,($N$3+(E83-$N$3)),($N$3+$E$14+SUM(I84,L84,O84,R84,U84,X84,AA84)))","v":0},0,null,{"$f":"IF(AND(((H83-$N$3+D84-H$14-E$14-SUM(L84,O84,R84,U84,X84,AA84))<=0),E84=0),H83,IF(E84=0,$N$3-D84+H$14+E$14+SUM(L84,O84,R84,U84,X84,AA84),H$14))","v":0},0,{"v":40,"d":"$40.00"},{"$f":"IF(AND(((K83-$N$3+G84+D84-K$14-H$14-E$14-SUM(O84,R84,U84,X84,AA84))<=0),H84+E84=0),K83,IF(K$14>=K83,K83,IF(AND(H84=0,E84=0),$N$3-G84-D84+K$14+H$14+E$14+SUM(O84,R84,U84,X84,AA84),K$14)))","v":0},{"$f":"IF((K83-J84)<=0.0001,0,(K83-J84)*(1+(K$15/12)))","v":0},{"v":25,"d":"$25.00"},{"$f":"IF(AND(((N83-$N$3+J84+G84+D84-N$14-K$14-H$14-E$14-SUM(R84,U84,X84,AA84))<=0),K84+H84+E84=0),N83,IF(N$14>=N83,N83, IF(AND(K84=0,H84=0,E84=0),$N$3-J84-G84-D84+N$14+K$14+H$14+E$14+SUM(R84,U84,X84,AA84),N$14)))","v":0},{"$f":"IF((N83-M84)<=0.0001,0,(N83-M84)*(1+(N$15/12)))","v":0},0,{"$f":"IF(AND(((Q83-$N$3+M84+J84+G84+D84-Q$14-N$14-K$14-H$14-E$14-SUM(U84,X84,AA84))<=0),N84+K84+H84+E84=0),Q83,IF(Q$14>=Q83,Q83,IF(AND(N84=0,K84=0,H84=0,E84=0),$N$3-M84-J84-G84-D84+Q$14+N$14+K$14+H$14+E$14+SUM(U84,X84,AA84),Q$14)))","v":0},{"$f":"IF((Q83-P84)<=0.0001,0,(Q83-P84)*(1+(Q$15/12)))","v":0},0,{"$f":"IF(AND(((T83-$N$3+P84+M84+J84+G84+D84-T$14-Q$14-N$14-K$14-H$14-E$14-SUM(X84,AA84))<=0),Q84+N84+K84+H84+E84=0),T83,IF(T$14>=T83,T83,IF(AND(Q84=0,N84=0,K84=0,H84=0),$N$3-P84-M84-J84-G84-D84+T$14+Q$14+N$14+K$14+H$14+E$14+SUM(X84,AA84),T$14)))","v":0},0,0,{"$f":"IF(AND(((W83-$N$3+S84+P84+M84+J84+G84+D84-W$14-T$14-Q$14-N$14-K$14-H$14-E$14-SUM(AA84))<=0),T84+Q84+N84+K84+H84+E84=0),W83,IF(W$14>=W83,W83,IF(AND(T84=0,Q84=0,N84=0,K84=0,H84=0,E84=0),$N$3-S84-P84-M84-J84-G84-D84+W$14+T$14+Q$14+N$14+K$14+H$14+E$14+SUM(AA84),W$14)))","v":0},{"$f":"IF((W83-V84)<=0.0001,0,(W83-V84)*(1+(W$15/12)))","v":0},0,{"$f":"IF(AND(((Z83-$N$3+V84+S84+P84+M84+J84+G84+D84-Z$14-W$14-T$14-Q$14-N$14-K$14-H$14-E$14)<=0),W84+T84+Q84+N84+K84+H84+E84=0),Z83,IF(Z$14>=Z83,Z83,IF(AND(W84=0,T84=0,Q84=0,N84=0,K84=0,H84=0,E84=0),$N$3-V84-S84-P84-M84-J84-G84-D84+Z$14+W$14+T$14+Q$14+N$14+K$14+H$14+E$14,Z$14)))","v":0},{"$f":"IF((Z83-Y84)<=0.0001,0,(Z83-Y84)*(1+(Z$15/12)))","v":0},0,null,{"$f":"IF((AC83-AB84)<=0.0001,0,(AC83-AB84)*(1+(AC$15/12)))","v":0},0,{"$f":"IF(AND(((AF83-$N$3+AB84+Y84+V84+S84+P84+M84+J84+G84+D84-AF$14-AC$14-Z$14-W$14-T$14-Q$14-N$14-K$14-H$14-E$14-SUM(AJ84,AM84,AP84,AS84,AV84,AY84,BB84,BE84,BH84,BK84,BN84,BQ84,BT84,BW84,BZ84,CC84,CF84,CI84,CL84,CO84,CR84,CU84))<=0),AC84+Z84+W84+T84+Q84+N84+K84+H84+E84=0),AF83,IF(AF$14>=AF83,AF83,IF(AND(AC84=0,Z84=0,W84=0,T84=0,Q84=0,N84=0,K84=0,H84=0,E84=0),$N$3-AB84-Y84-V84-S84-P84-M84-J84-G84-D84+AF$14+AC$14+Z$14+W$14+T$14+Q$14+N$14+K$14+H$14+E$14+SUM(AJ84,AM84,AP84,AS84,AV84,AY84,BB84,BE84,BH84,BK84,BN84,BQ84,BT84,BW84,BZ84,CC84,CF84,CI84,CL84,CO84,CR84,CU84),AF$14)))","v":0},{"$f":"IF((AF83-AE84)<=0.0001,0,(AF83-AE84)*(1+(AF$15/12)))","v":0},0,{"$f":"IF(AND(((AI83-$N$3+AE84+AB84+Y84+V84+S84+P84+M84+J84+G84+D84-AI$14-AF$14-AC$14-Z$14-W$14-T$14-Q$14-N$14-K$14-H$14-E$14-SUM(AM84,AP84,AS84,AV84,AY84,BB84,BE84,BH84,BK84,BN84,BQ84,BT84,BW84,BZ84,CC84,CF84,CI84,CL84,CO84,CR84,CU84))<=0),AF84+AC84+Z84+W84+T84+Q84+N84+K84+H84+E84=0),AI83,IF(AI$14>=AI83,AI83,IF(AND(AF84=0,AC84=0,Z84=0,W84=0,T84=0,Q84=0,N84=0,K84=0,H84=0,E84=0),$N$3-AE84-AB84-Y84-V84-S84-P84-M84-J84-G84-D84+AI$14+AF$14+AC$14+Z$14+W$14+T$14+Q$14+N$14+K$14+H$14+E$14+SUM(AM84,AP84,AS84,AV84,AY84,BB84,BE84,BH84,BK84,BN84,BQ84,BT84,BW84,BZ84,CC84,CF84,CI84,CL84,CO84,CR84,CU84),AI$14)))","v":0},{"$f":"IF((AI83-AH84)<=0.0001,0,(AI83-AH84)*(1+(AI$15/12)))","v":0},0,{"$f":"IF(AND(((AL83-$N$3+AH84+AE84+AB84+Y84+V84+S84+P84+M84+J84+G84+D84-AL$14-AI$14-AF$14-AC$14-Z$14-W$14-T$14-Q$14-N$14-K$14-H$14-E$14-SUM(AP84,AS84,AV84,AY84,BB84,BE84,BH84,BK84,BN84,BQ84,BT84,BW84,BZ84,CC84,CF84,CI84,CL84,CO84,CR84,CU84))<=0),AI84+AF84+AC84+Z84+W84+T84+Q84+N84+K84+H84+E84=0),AL83,IF(AL$14>=AL83,AL83,IF(AND(AI84=0,AF84=0,AC84=0,Z84=0,W84=0,T84=0,Q84=0,N84=0,K84=0,H84=0,E84=0),$N$3-AH84-AE84-AB84-Y84-V84-S84-P84-M84-J84-G84-D84+AL$14+AI$14+AF$14+AC$14+Z$14+W$14+T$14+Q$14+N$14+K$14+H$14+E$14+SUM(AP84,AS84,AV84,AY84,BB84,BE84,BH84,BK84,BN84,BQ84,BT84,BW84,BZ84,CC84,CF84,CI84,CL84,CO84,CR84,CU84),AL$14)))","v":0},{"$f":"IF((AL83-AK84)<=0.0001,0,(AL83-AK84)*(1+(AL$15/12)))","v":0},0,{"$f":"IF(AND(((AO83-$N$3+AK84+AH84+AE84+AB84+Y84+V84+S84+P84+M84+J84+G84+D84-AO$14-AL$14-AI$14-AF$14-AC$14-Z$14-W$14-T$14-Q$14-N$14-K$14-H$14-E$14-SUM(AS84,AV84,AY84,BB84,BE84,BH84,BK84,BN84,BQ84,BT84,BW84,BZ84,CC84,CF84,CI84,CL84,CO84,CR84,CU84))<=0),AL84+AI84+AF84+AC84+Z84+W84+T84+Q84+N84+K84+H84+E84=0),AO83,IF(AO$14>=AO83,AO83,IF(AND(AL84=0,AI84=0,AF84=0,AC84=0,Z84=0,W84=0,T84=0,Q84=0,N84=0,K84=0,H84=0,E84=0),$N$3-AK84-AH84-AE84-AB84-Y84-V84-S84-P84-M84-J84-G84-D84+AO$14+AL$14+AI$14+AF$14+AC$14+Z$14+W$14+T$14+Q$14+N$14+K$14+H$14+E$14+SUM(AS84,AV84,AY84,BB84,BE84,BH84,BK84,BN84,BQ84,BT84,BW84,BZ84,CC84,CF84,CI84,CL84,CO84,CR84,CU84),AO$14)))","v":0},{"$f":"IF((AO83-AN84)<=0.0001,0,(AO83-AN84)*(1+(AO$15/12)))","v":0},0,{"$f":"IF(AND(((AR83-$N$3+AN84+AK84+AH84+AE84+AB84+Y84+V84+S84+P84+M84+J84+G84+D84-AR$14-AO$14-AL$14-AI$14-AF$14-AC$14-Z$14-W$14-T$14-Q$14-N$14-K$14-H$14-E$14-SUM(AV84,AY84,BB84,BE84,BH84,BK84,BN84,BQ84,BT84,BW84,BZ84,CC84,CF84,CI84,CL84,CO84,CR84,CU84))<=0),AO84+AL84+AI84+AF84+AC84+Z84+W84+T84+Q84+N84+K84+H84+E84=0),AR83,IF(AR$14>=AR83,AR83,IF(AND(AO84=0,AL84=0,AI84=0,AF84=0,AC84=0,Z84=0,W84=0,T84=0,Q84=0,N84=0,K84=0,H84=0,E84=0),$N$3-AN84-AK84-AH84-AE84-AB84-Y84-V84-S84-P84-M84-J84-G84-D84+AR$14+AO$14+AL$14+AI$14+AF$14+AC$14+Z$14+W$14+T$14+Q$14+N$14+K$14+H$14+E$14+SUM(AV84,AY84,BB84,BE84,BH84,BK84,BN84,BQ84,BT84,BW84,BZ84,CC84,CF84,CI84,CL84,CO84,CR84,CU84),AR$14)))","v":0},{"$f":"IF((AR83-AQ84)<=0.0001,0,(AR83-AQ84)*(1+(AR$15/12)))","v":0},0,{"$f":"IF(AND(((AU83-$N$3+AQ84+AN84+AK84+AH84+AE84+AB84+Y84+V84+S84+P84+M84+J84+G84+D84-AU$14-AR$14-AO$14-AL$14-AI$14-AF$14-AC$14-Z$14-W$14-T$14-Q$14-N$14-K$14-H$14-E$14-SUM(AY84,BB84,BE84,BH84,BK84,BN84,BQ84,BT84,BW84,BZ84,CC84,CF84,CI84,CL84,CO84,CR84,CU84))<=0),AR84+AO84+AL84+AI84+AF84+AC84+Z84+W84+T84+Q84+N84+K84+H84+E84=0),AU83,IF(AU$14>=AU83,AU83,IF(AND(AR84=0,AO84=0,AL84=0,AI84=0,AF84=0,AC84=0,Z84=0,W84=0,T84=0,Q84=0,N84=0,K84=0,H84=0,E84=0),$N$3-AQ84-AN84-AK84-AH84-AE84-AB84-Y84-V84-S84-P84-M84-J84-G84-D84+AU$14+AR$14+AO$14+AL$14+AI$14+AF$14+AC$14+Z$14+W$14+T$14+Q$14+N$14+K$14+H$14+E$14+SUM(AY84,BB84,BE84,BH84,BK84,BN84,BQ84,BT84,BW84,BZ84,CC84,CF84,CI84,CL84,CO84,CR84,CU84),AU$14)))","v":0},{"$f":"IF((AU83-AT84)<=0.0001,0,(AU83-AT84)*(1+(AU$15/12)))","v":0},0,{"$f":"IF(AND(((AX83-$N$3+AT84+AQ84+AN84+AK84+AH84+AE84+AB84+Y84+V84+S84+P84+M84+J84+G84+D84-AX$14-AU$14-AR$14-AO$14-AL$14-AI$14-AF$14-AC$14-Z$14-W$14-T$14-Q$14-N$14-K$14-H$14-E$14-SUM(BB84,BE84,BH84,BK84,BN84,BQ84,BT84,BW84,BZ84,CC84,CF84,CI84,CL84,CO84,CR84,CU84))<=0),AU84+AR84+AO84+AL84+AI84+AF84+AC84+Z84+W84+T84+Q84+N84+K84+H84+E84=0),AX83,IF(AX$14>=AX83,AX83,IF(AND(AU84=0,AR84=0,AO84=0,AL84=0,AI84=0,AF84=0,AC84=0,Z84=0,W84=0,T84=0,Q84=0,N84=0,K84=0,H84=0,E84=0),$N$3-AT84-AQ84-AN84-AK84-AH84-AE84-AB84-Y84-V84-S84-P84-M84-J84-G84-D84+AX$14+AU$14+AR$14+AO$14+AL$14+AI$14+AF$14+AC$14+Z$14+W$14+T$14+Q$14+N$14+K$14+H$14+E$14+SUM(BB84,BE84,BH84,BK84,BN84,BQ84,BT84,BW84,BZ84,CC84,CF84,CI84,CL84,CO84,CR84,CU84),AX$14)))","v":0},{"$f":"IF((AX83-AW84)<=0.0001,0,(AX83-AW84)*(1+(AX$15/12)))","v":0},0,{"$f":"IF(AND(((BA83-$N$3+AW84+AT84+AQ84+AN84+AK84+AH84+AE84+AB84+Y84+V84+S84+P84+M84+J84+G84+D84-BA$14-AX$14-AU$14-AR$14-AO$14-AL$14-AI$14-AF$14-AC$14-Z$14-W$14-T$14-Q$14-N$14-K$14-H$14-E$14-SUM(BE84,BH84,BK84,BN84,BQ84,BT84,BW84,BZ84,CC84,CF84,CI84,CL84,CO84,CR84,CU84))<=0),AX84+AU84+AR84+AO84+AL84+AI84+AF84+AC84+Z84+W84+T84+Q84+N84+K84+H84+E84=0),BA83,IF(BA$14>=BA83,BA83,IF(AND(AX84=0,AU84=0,AR84=0,AO84=0,AL84=0,AI84=0,AF84=0,AC84=0,Z84=0,W84=0,T84=0,Q84=0,N84=0,K84=0,H84=0,E84=0),$N$3-AW84-AT84-AQ84-AN84-AK84-AH84-AE84-AB84-Y84-V84-S84-P84-M84-J84-G84-D84+BA$14+AX$14+AU$14+AR$14+AO$14+AL$14+AI$14+AF$14+AC$14+Z$14+W$14+T$14+Q$14+N$14+K$14+H$14+E$14+SUM(BE84,BH84,BK84,BN84,BQ84,BT84,BW84,BZ84,CC84,CF84,CI84,CL84,CO84,CR84,CU84),BA$14)))","v":0},{"$f":"IF((BA83-AZ84)<=0.0001,0,(BA83-AZ84)*(1+(BA$15/12)))","v":0},0,{"$f":"IF(AND(((BD83-$N$3+AZ84+AW84+AT84+AQ84+AN84+AK84+AH84+AE84+AB84+Y84+V84+S84+P84+M84+J84+G84+D84-BD$14-BA$14-AX$14-AU$14-AR$14-AO$14-AL$14-AI$14-AF$14-AC$14-Z$14-W$14-T$14-Q$14-N$14-K$14-H$14-E$14-SUM(BH84,BK84,BN84,BQ84,BT84,BW84,BZ84,CC84,CF84,CI84,CL84,CO84,CR84,CU84))<=0),BA84+AX84+AU84+AR84+AO84+AL84+AI84+AF84+AC84+Z84+W84+T84+Q84+N84+K84+H84+E84=0),BD83,IF(BD$14>=BD83,BD83,IF(AND(BA84=0,AX84=0,AU84=0,AR84=0,AO84=0,AL84=0,AI84=0,AF84=0,AC84=0,Z84=0,W84=0,T84=0,Q84=0,N84=0,K84=0,H84=0,E84=0),$N$3-AZ84-AW84-AT84-AQ84-AN84-AK84-AH84-AE84-AB84-Y84-V84-S84-P84-M84-J84-G84-D84+BD$14+BA$14+AX$14+AU$14+AR$14+AO$14+AL$14+AI$14+AF$14+AC$14+Z$14+W$14+T$14+Q$14+N$14+K$14+H$14+E$14+SUM(BH84,BK84,BN84,BQ84,BT84,BW84,BZ84,CC84,CF84,CI84,CL84,CO84,CR84,CU84),BD$14)))","v":0},{"$f":"IF((BD83-BC84)<=0.0001,0,(BD83-BC84)*(1+(BD$15/12)))","v":0},0,{"$f":"IF(AND(((BG83-$N$3+BC84+AZ84+AW84+AT84+AQ84+AN84+AK84+AH84+AE84+AB84+Y84+V84+S84+P84+M84+J84+G84+D84-BG$14-BD$14-BA$14-AX$14-AU$14-AR$14-AO$14-AL$14-AI$14-AF$14-AC$14-Z$14-W$14-T$14-Q$14-N$14-K$14-H$14-E$14-SUM(BK84,BN84,BQ84,BT84,BW84,BZ84,CC84,CF84,CI84,CL84,CO84,CR84,CU84))<=0),BD84+BA84+AX84+AU84+AR84+AO84+AL84+AI84+AF84+AC84+Z84+W84+T84+Q84+N84+K84+H84+E84=0),BG83,IF(BG$14>=BG83,BG83,IF(AND(BD84=0,BA84=0,AX84=0,AU84=0,AR84=0,AO84=0,AL84=0,AI84=0,AF84=0,AC84=0,Z84=0,W84=0,T84=0,Q84=0,N84=0,K84=0,H84=0,E84=0),$N$3-BC84-AZ84-AW84-AT84-AQ84-AN84-AK84-AH84-AE84-AB84-Y84-V84-S84-P84-M84-J84-G84-D84+BG$14+BD$14+BA$14+AX$14+AU$14+AR$14+AO$14+AL$14+AI$14+AF$14+AC$14+Z$14+W$14+T$14+Q$14+N$14+K$14+H$14+E$14+SUM(BK84,BN84,BQ84,BT84,BW84,BZ84,CC84,CF84,CI84,CL84,CO84,CR84,CU84),BG$14)))","v":0},{"$f":"IF((BG83-BF84)<=0.0001,0,(BG83-BF84)*(1+(BG$15/12)))","v":0},0,{"$f":"IF(AND(((BJ83-$N$3+BF84+BC84+AZ84+AW84+AT84+AQ84+AN84+AK84+AH84+AE84+AB84+Y84+V84+S84+P84+M84+J84+G84+D84-BJ$14-BG$14-BD$14-BA$14-AX$14-AU$14-AR$14-AO$14-AL$14-AI$14-AF$14-AC$14-Z$14-W$14-T$14-Q$14-N$14-K$14-H$14-E$14-SUM(BN84,BQ84,BT84,BW84,BZ84,CC84,CF84,CI84,CL84,CO84,CR84,CU84))<=0),BG84+BD84+BA84+AX84+AU84+AR84+AO84+AL84+AI84+AF84+AC84+Z84+W84+T84+Q84+N84+K84+H84+E84=0),BJ83,IF(BJ$14>=BJ83,BJ83,IF(AND(BG84=0,BD84=0,BA84=0,AX84=0,AU84=0,AR84=0,AO84=0,AL84=0,AI84=0,AF84=0,AC84=0,Z84=0,W84=0,T84=0,Q84=0,N84=0,K84=0,H84=0,E84=0),$N$3-BF84-BC84-AZ84-AW84-AT84-AQ84-AN84-AK84-AH84-AE84-AB84-Y84-V84-S84-P84-M84-J84-G84-D84+BJ$14+BG$14+BD$14+BA$14+AX$14+AU$14+AR$14+AO$14+AL$14+AI$14+AF$14+AC$14+Z$14+W$14+T$14+Q$14+N$14+K$14+H$14+E$14+SUM(BN84,BQ84,BT84,BW84,BZ84,CC84,CF84,CI84,CL84,CO84,CR84,CU84),BJ$14)))","v":0},{"$f":"IF((BJ83-BI84)<=0.0001,0,(BJ83-BI84)*(1+(BJ$15/12)))","v":0},0,{"$f":"IF(AND(((BM83-$N$3+BI84+BF84+BC84+AZ84+AW84+AT84+AQ84+AN84+AK84+AH84+AE84+AB84+Y84+V84+S84+P84+M84+J84+G84+D84-BM$14-BJ$14-BG$14-BD$14-BA$14-AX$14-AU$14-AR$14-AO$14-AL$14-AI$14-AF$14-AC$14-Z$14-W$14-T$14-Q$14-N$14-K$14-H$14-E$14-SUM(BQ84,BT84,BW84,BZ84,CC84,CF84,CI84,CL84,CO84,CR84,CU84))<=0),BJ84+BG84+BD84+BA84+AX84+AU84+AR84+AO84+AL84+AI84+AF84+AC84+Z84+W84+T84+Q84+N84+K84+H84+E84=0),BM83,IF(BM$14>=BM83,BM83,IF(AND(BJ84=0,BG84=0,BD84=0,BA84=0,AX84=0,AU84=0,AR84=0,AO84=0,AL84=0,AI84=0,AF84=0,AC84=0,Z84=0,W84=0,T84=0,Q84=0,N84=0,K84=0,H84=0,E84=0),$N$3-BI84-BF84-BC84-AZ84-AW84-AT84-AQ84-AN84-AK84-AH84-AE84-AB84-Y84-V84-S84-P84-M84-J84-G84-D84+BM$14+BJ$14+BG$14+BD$14+BA$14+AX$14+AU$14+AR$14+AO$14+AL$14+AI$14+AF$14+AC$14+Z$14+W$14+T$14+Q$14+N$14+K$14+H$14+E$14+SUM(BQ84,BT84,BW84,BZ84,CC84,CF84,CI84,CL84,CO84,CR84,CU84),BM$14)))","v":0},{"$f":"IF((BM83-BL84)<=0.0001,0,(BM83-BL84)*(1+(BM$15/12)))","v":0},0,{"$f":"IF(AND(((BP83-$N$3+BL84+BI84+BF84+BC84+AZ84+AW84+AT84+AQ84+AN84+AK84+AH84+AE84+AB84+Y84+V84+S84+P84+M84+J84+G84+D84-BP$14-BM$14-BJ$14-BG$14-BD$14-BA$14-AX$14-AU$14-AR$14-AO$14-AL$14-AI$14-AF$14-AC$14-Z$14-W$14-T$14-Q$14-N$14-K$14-H$14-E$14-SUM(BT84,BW84,BZ84,CC84,CF84,CI84,CL84,CO84,CR84,CU84))<=0),BM84+BJ84+BG84+BD84+BA84+AX84+AU84+AR84+AO84+AL84+AI84+AF84+AC84+Z84+W84+T84+Q84+N84+K84+H84+E84=0),BP83,IF(BP$14>=BP83,BP83,IF(AND(BM84=0,BJ84=0,BG84=0,BD84=0,BA84=0,AX84=0,AU84=0,AR84=0,AO84=0,AL84=0,AI84=0,AF84=0,AC84=0,Z84=0,W84=0,T84=0,Q84=0,N84=0,K84=0,H84=0,E84=0),$N$3-BL84-BI84-BF84-BC84-AZ84-AW84-AT84-AQ84-AN84-AK84-AH84-AE84-AB84-Y84-V84-S84-P84-M84-J84-G84-D84+BP$14+BM$14+BJ$14+BG$14+BD$14+BA$14+AX$14+AU$14+AR$14+AO$14+AL$14+AI$14+AF$14+AC$14+Z$14+W$14+T$14+Q$14+N$14+K$14+H$14+E$14+SUM(BT84,BW84,BZ84,CC84,CF84,CI84,CL84,CO84,CR84,CU84),BP$14)))","v":0},{"$f":"IF((BP83-BO84)<=0.0001,0,(BP83-BO84)*(1+(BP$15/12)))","v":0},0,{"$f":"IF(AND(((BS83-$N$3+BO84+BL84+BI84+BF84+BC84+AZ84+AW84+AT84+AQ84+AN84+AK84+AH84+AE84+AB84+Y84+V84+S84+P84+M84+J84+G84+D84-BS$14-BP$14-BM$14-BJ$14-BG$14-BD$14-BA$14-AX$14-AU$14-AR$14-AO$14-AL$14-AI$14-AF$14-AC$14-Z$14-W$14-T$14-Q$14-N$14-K$14-H$14-E$14-SUM(BW84,BZ84,CC84,CF84,CI84,CL84,CO84,CR84,CU84))<=0),BP84+BM84+BJ84+BG84+BD84+BA84+AX84+AU84+AR84+AO84+AL84+AI84+AF84+AC84+Z84+W84+T84+Q84+N84+K84+H84+E84=0),BS83,IF(BS$14>=BS83,BS83,IF(AND(BP84=0,BM84=0,BJ84=0,BG84=0,BD84=0,BA84=0,AX84=0,AU84=0,AR84=0,AO84=0,AL84=0,AI84=0,AF84=0,AC84=0,Z84=0,W84=0,T84=0,Q84=0,N84=0,K84=0,H84=0,E84=0),$N$3-BO84-BL84-BI84-BF84-BC84-AZ84-AW84-AT84-AQ84-AN84-AK84-AH84-AE84-AB84-Y84-V84-S84-P84-M84-J84-G84-D84+BS$14+BP$14+BM$14+BJ$14+BG$14+BD$14+BA$14+AX$14+AU$14+AR$14+AO$14+AL$14+AI$14+AF$14+AC$14+Z$14+W$14+T$14+Q$14+N$14+K$14+H$14+E$14+SUM(BW84,BZ84,CC84,CF84,CI84,CL84,CO84,CR84,CU84),BS$14)))","v":0},{"$f":"IF((BS83-BR84)<=0.0001,0,(BS83-BR84)*(1+(BS$15/12)))","v":0},0,{"$f":"IF(AND(((BV83-$N$3+BR84+BO84+BL84+BI84+BF84+BC84+AZ84+AW84+AT84+AQ84+AN84+AK84+AH84+AE84+AB84+Y84+V84+S84+P84+M84+J84+G84+D84-BV$14-BS$14-BP$14-BM$14-BJ$14-BG$14-BD$14-BA$14-AX$14-AU$14-AR$14-AO$14-AL$14-AI$14-AF$14-AC$14-Z$14-W$14-T$14-Q$14-N$14-K$14-H$14-E$14-SUM(BZ84,CC84,CF84,CI84,CL84,CO84,CR84,CU84))<=0),BS84+BP84+BM84+BJ84+BG84+BD84+BA84+AX84+AU84+AR84+AO84+AL84+AI84+AF84+AC84+Z84+W84+T84+Q84+N84+K84+H84+E84=0),BV83,IF(BV$14>=BV83,BV83,IF(AND(BS84=0,BP84=0,BM84=0,BJ84=0,BG84=0,BD84=0,BA84=0,AX84=0,AU84=0,AR84=0,AO84=0,AL84=0,AI84=0,AF84=0,AC84=0,Z84=0,W84=0,T84=0,Q84=0,N84=0,K84=0,H84=0,E84=0),$N$3-BR84-BO84-BL84-BI84-BF84-BC84-AZ84-AW84-AT84-AQ84-AN84-AK84-AH84-AE84-AB84-Y84-V84-S84-P84-M84-J84-G84-D84+BV$14+BS$14+BP$14+BM$14+BJ$14+BG$14+BD$14+BA$14+AX$14+AU$14+AR$14+AO$14+AL$14+AI$14+AF$14+AC$14+Z$14+W$14+T$14+Q$14+N$14+K$14+H$14+E$14+SUM(BZ84,CC84,CF84,CI84,CL84,CO84,CR84,CU84),BV$14)))","v":0},{"$f":"IF((BV83-BU84)<=0.0001,0,(BV83-BU84)*(1+(BV$15/12)))","v":0},0,{"$f":"IF(AND(((BY83-$N$3+BU84+BR84+BO84+BL84+BI84+BF84+BC84+AZ84+AW84+AT84+AQ84+AN84+AK84+AH84+AE84+AB84+Y84+V84+S84+P84+M84+J84+G84+D84-BY$14-BV$14-BS$14-BP$14-BM$14-BJ$14-BG$14-BD$14-BA$14-AX$14-AU$14-AR$14-AO$14-AL$14-AI$14-AF$14-AC$14-Z$14-W$14-T$14-Q$14-N$14-K$14-H$14-E$14-SUM(CC84,CF84,CI84,CL84,CO84,CR84,CU84))<=0),BV84+BS84+BP84+BM84+BJ84+BG84+BD84+BA84+AX84+AU84+AR84+AO84+AL84+AI84+AF84+AC84+Z84+W84+T84+Q84+N84+K84+H84+E84=0),BY83,IF(BY$14>=BY83,BY83,IF(AND(BV84=0,BS84=0,BP84=0,BM84=0,BJ84=0,BG84=0,BD84=0,BA84=0,AX84=0,AU84=0,AR84=0,AO84=0,AL84=0,AI84=0,AF84=0,AC84=0,Z84=0,W84=0,T84=0,Q84=0,N84=0,K84=0,H84=0,E84=0),$N$3-BU84-BR84-BO84-BL84-BI84-BF84-BC84-AZ84-AW84-AT84-AQ84-AN84-AK84-AH84-AE84-AB84-Y84-V84-S84-P84-M84-J84-G84-D84+BY$14+BV$14+BS$14+BP$14+BM$14+BJ$14+BG$14+BD$14+BA$14+AX$14+AU$14+AR$14+AO$14+AL$14+AI$14+AF$14+AC$14+Z$14+W$14+T$14+Q$14+N$14+K$14+H$14+E$14+SUM(CC84,CF84,CI84,CL84,CO84,CR84,CU84),BY$14)))","v":0},{"$f":"IF((BY83-BX84)<=0.0001,0,(BY83-BX84)*(1+(BY$15/12)))","v":0},0,{"$f":"IF(AND(((CB83-$N$3+BX84+BU84+BR84+BO84+BL84+BI84+BF84+BC84+AZ84+AW84+AT84+AQ84+AN84+AK84+AH84+AE84+AB84+Y84+V84+S84+P84+M84+J84+G84+D84-CB$14-BY$14-BV$14-BS$14-BP$14-BM$14-BJ$14-BG$14-BD$14-BA$14-AX$14-AU$14-AR$14-AO$14-AL$14-AI$14-AF$14-AC$14-Z$14-W$14-T$14-Q$14-N$14-K$14-H$14-E$14-SUM(CF84,CI84,CL84,CO84,CR84,CU84))<=0),BY84+BV84+BS84+BP84+BM84+BJ84+BG84+BD84+BA84+AX84+AU84+AR84+AO84+AL84+AI84+AF84+AC84+Z84+W84+T84+Q84+N84+K84+H84+E84=0),CB83,IF(CB$14>=CB83,CB83,IF(AND(BY84=0,BV84=0,BS84=0,BP84=0,BM84=0,BJ84=0,BG84=0,BD84=0,BA84=0,AX84=0,AU84=0,AR84=0,AO84=0,AL84=0,AI84=0,AF84=0,AC84=0,Z84=0,W84=0,T84=0,Q84=0,N84=0,K84=0,H84=0,E84=0),$N$3-BX84-BU84-BR84-BO84-BL84-BI84-BF84-BC84-AZ84-AW84-AT84-AQ84-AN84-AK84-AH84-AE84-AB84-Y84-V84-S84-P84-M84-J84-G84-D84+CB$14+BY$14+BV$14+BS$14+BP$14+BM$14+BJ$14+BG$14+BD$14+BA$14+AX$14+AU$14+AR$14+AO$14+AL$14+AI$14+AF$14+AC$14+Z$14+W$14+T$14+Q$14+N$14+K$14+H$14+E$14+SUM(CF84,CI84,CL84,CO84,CR84,CU84),CB$14)))","v":0},{"$f":"IF((CB83-CA84)<=0.0001,0,(CB83-CA84)*(1+(CB$15/12)))","v":0},0,{"$f":"IF(AND(((CE83-$N$3+CA84+BX84+BU84+BR84+BO84+BL84+BI84+BF84+BC84+AZ84+AW84+AT84+AQ84+AN84+AK84+AH84+AE84+AB84+Y84+V84+S84+P84+M84+J84+G84+D84-CE$14-CB$14-BY$14-BV$14-BS$14-BP$14-BM$14-BJ$14-BG$14-BD$14-BA$14-AX$14-AU$14-AR$14-AO$14-AL$14-AI$14-AF$14-AC$14-Z$14-W$14-T$14-Q$14-N$14-K$14-H$14-E$14-SUM(CI84,CL84,CO84,CR84,CU84))<=0),CB84+BY84+BV84+BS84+BP84+BM84+BJ84+BG84+BD84+BA84+AX84+AU84+AR84+AO84+AL84+AI84+AF84+AC84+Z84+W84+T84+Q84+N84+K84+H84+E84=0),CE83,IF(CE$14>=CE83,CE83,IF(AND(CB84=0,BY84=0,BV84=0,BS84=0,BP84=0,BM84=0,BJ84=0,BG84=0,BD84=0,BA84=0,AX84=0,AU84=0,AR84=0,AO84=0,AL84=0,AI84=0,AF84=0,AC84=0,Z84=0,W84=0,T84=0,Q84=0,N84=0,K84=0,H84=0,E84=0),$N$3-CA84-BX84-BU84-BR84-BO84-BL84-BI84-BF84-BC84-AZ84-AW84-AT84-AQ84-AN84-AK84-AH84-AE84-AB84-Y84-V84-S84-P84-M84-J84-G84-D84+CE$14+CB$14+BY$14+BV$14+BS$14+BP$14+BM$14+BJ$14+BG$14+BD$14+BA$14+AX$14+AU$14+AR$14+AO$14+AL$14+AI$14+AF$14+AC$14+Z$14+W$14+T$14+Q$14+N$14+K$14+H$14+E$14+SUM(CI84,CL84,CO84,CR84,CU84),CE$14)))","v":0},{"$f":"IF((CE83-CD84)<=0.0001,0,(CE83-CD84)*(1+(CE$15/12)))","v":0},0,{"$f":"IF(AND(((CH83-$N$3+CD84+CA84+BX84+BU84+BR84+BO84+BL84+BI84+BF84+BC84+AZ84+AW84+AT84+AQ84+AN84+AK84+AH84+AE84+AB84+Y84+V84+S84+P84+M84+J84+G84+D84-CH$14-CE$14-CB$14-BY$14-BV$14-BS$14-BP$14-BM$14-BJ$14-BG$14-BD$14-BA$14-AX$14-AU$14-AR$14-AO$14-AL$14-AI$14-AF$14-AC$14-Z$14-W$14-T$14-Q$14-N$14-K$14-H$14-E$14-SUM(CL84,CO84,CR84,CU84))<=0),CE84+CB84+BY84+BV84+BS84+BP84+BM84+BJ84+BG84+BD84+BA84+AX84+AU84+AR84+AO84+AL84+AI84+AF84+AC84+Z84+W84+T84+Q84+N84+K84+H84+E84=0),CH83,IF(CH$14>=CH83,CH83,IF(AND(CE84=0,CB84=0,BY84=0,BV84=0,BS84=0,BP84=0,BM84=0,BJ84=0,BG84=0,BD84=0,BA84=0,AX84=0,AU84=0,AR84=0,AO84=0,AL84=0,AI84=0,AF84=0,AC84=0,Z84=0,W84=0,T84=0,Q84=0,N84=0,K84=0,H84=0,E84=0),$N$3-CD84-CA84-BX84-BU84-BR84-BO84-BL84-BI84-BF84-BC84-AZ84-AW84-AT84-AQ84-AN84-AK84-AH84-AE84-AB84-Y84-V84-S84-P84-M84-J84-G84-D84+CH$14+CE$14+CB$14+BY$14+BV$14+BS$14+BP$14+BM$14+BJ$14+BG$14+BD$14+BA$14+AX$14+AU$14+AR$14+AO$14+AL$14+AI$14+AF$14+AC$14+Z$14+W$14+T$14+Q$14+N$14+K$14+H$14+E$14+SUM(CL84,CO84,CR84,CU84),CH$14)))","v":0},{"$f":"IF((CH83-CG84)<=0.0001,0,(CH83-CG84)*(1+(CH$15/12)))","v":0},0,{"$f":"IF(AND(((CK83-$N$3+CG84+CD84+CA84+BX84+BU84+BR84+BO84+BL84+BI84+BF84+BC84+AZ84+AW84+AT84+AQ84+AN84+AK84+AH84+AE84+AB84+Y84+V84+S84+P84+M84+J84+G84+D84-CK$14-CH$14-CE$14-CB$14-BY$14-BV$14-BS$14-BP$14-BM$14-BJ$14-BG$14-BD$14-BA$14-AX$14-AU$14-AR$14-AO$14-AL$14-AI$14-AF$14-AC$14-Z$14-W$14-T$14-Q$14-N$14-K$14-H$14-E$14-SUM(CO84,CR84,CU84))<=0),CH84+CE84+CB84+BY84+BV84+BS84+BP84+BM84+BJ84+BG84+BD84+BA84+AX84+AU84+AR84+AO84+AL84+AI84+AF84+AC84+Z84+W84+T84+Q84+N84+K84+H84+E84=0),CK83,IF(CK$14>=CK83,CK83,IF(AND(CH84=0,CE84=0,CB84=0,BY84=0,BV84=0,BS84=0,BP84=0,BM84=0,BJ84=0,BG84=0,BD84=0,BA84=0,AX84=0,AU84=0,AR84=0,AO84=0,AL84=0,AI84=0,AF84=0,AC84=0,Z84=0,W84=0,T84=0,Q84=0,N84=0,K84=0,H84=0,E84=0),$N$3-CG84-CD84-CA84-BX84-BU84-BR84-BO84-BL84-BI84-BF84-BC84-AZ84-AW84-AT84-AQ84-AN84-AK84-AH84-AE84-AB84-Y84-V84-S84-P84-M84-J84-G84-D84+CK$14+CH$14+CE$14+CB$14+BY$14+BV$14+BS$14+BP$14+BM$14+BJ$14+BG$14+BD$14+BA$14+AX$14+AU$14+AR$14+AO$14+AL$14+AI$14+AF$14+AC$14+Z$14+W$14+T$14+Q$14+N$14+K$14+H$14+E$14+SUM(CO84,CR84,CU84),CK$14)))","v":0},{"$f":"IF((CK83-CJ84)<=0.0001,0,(CK83-CJ84)*(1+(CK$15/12)))","v":0},0,{"$f":"IF(AND(((CN83-$N$3+CJ84+CG84+CD84+CA84+BX84+BU84+BR84+BO84+BL84+BI84+BF84+BC84+AZ84+AW84+AT84+AQ84+AN84+AK84+AH84+AE84+AB84+Y84+V84+S84+P84+M84+J84+G84+D84-CN$14-CK$14-CH$14-CE$14-CB$14-BY$14-BV$14-BS$14-BP$14-BM$14-BJ$14-BG$14-BD$14-BA$14-AX$14-AU$14-AR$14-AO$14-AL$14-AI$14-AF$14-AC$14-Z$14-W$14-T$14-Q$14-N$14-K$14-H$14-E$14-SUM(CR84,CU84))<=0),CK84+CH84+CE84+CB84+BY84+BV84+BS84+BP84+BM84+BJ84+BG84+BD84+BA84+AX84+AU84+AR84+AO84+AL84+AI84+AF84+AC84+Z84+W84+T84+Q84+N84+K84+H84+E84=0),CN83,IF(CN$14>=CN83,CN83,IF(AND(CK84=0,CH84=0,CE84=0,CB84=0,BY84=0,BV84=0,BS84=0,BP84=0,BM84=0,BJ84=0,BG84=0,BD84=0,BA84=0,AX84=0,AU84=0,AR84=0,AO84=0,AL84=0,AI84=0,AF84=0,AC84=0,Z84=0,W84=0,T84=0,Q84=0,N84=0,K84=0,H84=0,E84=0),$N$3-CJ84-CG84-CD84-CA84-BX84-BU84-BR84-BO84-BL84-BI84-BF84-BC84-AZ84-AW84-AT84-AQ84-AN84-AK84-AH84-AE84-AB84-Y84-V84-S84-P84-M84-J84-G84-D84+CN$14+CK$14+CH$14+CE$14+CB$14+BY$14+BV$14+BS$14+BP$14+BM$14+BJ$14+BG$14+BD$14+BA$14+AX$14+AU$14+AR$14+AO$14+AL$14+AI$14+AF$14+AC$14+Z$14+W$14+T$14+Q$14+N$14+K$14+H$14+E$14+SUM(CR84,CU84),CN$14)))","v":0},{"$f":"IF((CN83-CM84)<=0.0001,0,(CN83-CM84)*(1+(CN$15/12)))","v":0},0,{"$f":"IF(AND(((CQ83-$N$3+CM84+CJ84+CG84+CD84+CA84+BX84+BU84+BR84+BO84+BL84+BI84+BF84+BC84+AZ84+AW84+AT84+AQ84+AN84+AK84+AH84+AE84+AB84+Y84+V84+S84+P84+M84+J84+G84+D84-CQ$14-CN$14-CK$14-CH$14-CE$14-CB$14-BY$14-BV$14-BS$14-BP$14-BM$14-BJ$14-BG$14-BD$14-BA$14-AX$14-AU$14-AR$14-AO$14-AL$14-AI$14-AF$14-AC$14-Z$14-W$14-T$14-Q$14-N$14-K$14-H$14-E$14-SUM(CU84))<=0),CN84+CK84+CH84+CE84+CB84+BY84+BV84+BS84+BP84+BM84+BJ84+BG84+BD84+BA84+AX84+AU84+AR84+AO84+AL84+AI84+AF84+AC84+Z84+W84+T84+Q84+N84+K84+H84+E84=0),CQ83,IF(CQ$14>=CQ83,CQ83,IF(AND(CN84=0,CK84=0,CH84=0,CE84=0,CB84=0,BY84=0,BV84=0,BS84=0,BP84=0,BM84=0,BJ84=0,BG84=0,BD84=0,BA84=0,AX84=0,AU84=0,AR84=0,AO84=0,AL84=0,AI84=0,AF84=0,AC84=0,Z84=0,W84=0,T84=0,Q84=0,N84=0,K84=0,H84=0,E84=0),$N$3-CM84-CJ84-CG84-CD84-CA84-BX84-BU84-BR84-BO84-BL84-BI84-BF84-BC84-AZ84-AW84-AT84-AQ84-AN84-AK84-AH84-AE84-AB84-Y84-V84-S84-P84-M84-J84-G84-D84+CQ$14+CN$14+CK$14+CH$14+CE$14+CB$14+BY$14+BV$14+BS$14+BP$14+BM$14+BJ$14+BG$14+BD$14+BA$14+AX$14+AU$14+AR$14+AO$14+AL$14+AI$14+AF$14+AC$14+Z$14+W$14+T$14+Q$14+N$14+K$14+H$14+E$14+SUM(CU84),CQ$14)))","v":0},{"$f":"IF((CQ83-CP84)<=0.0001,0,(CQ83-CP84)*(1+(CQ$15/12)))","v":0},0,{"$f":"IF(AND(((CT83-$N$3+CP84+CM84+CJ84+CG84+CD84+CA84+BX84+BU84+BR84+BO84+BL84+BI84+BF84+BC84+AZ84+AW84+AT84+AQ84+AN84+AK84+AH84+AE84+AB84+Y84+V84+S84+P84+M84+J84+G84+D84-CT$14-CQ$14-CN$14-CK$14-CH$14-CE$14-CB$14-BY$14-BV$14-BS$14-BP$14-BM$14-BJ$14-BG$14-BD$14-BA$14-AX$14-AU$14-AR$14-AO$14-AL$14-AI$14-AF$14-AC$14-Z$14-W$14-T$14-Q$14-N$14-K$14-H$14-E$14)<=0),CQ84+CN84+CK84+CH84+CE84+CB84+BY84+BV84+BS84+BP84+BM84+BJ84+BG84+BD84+BA84+AX84+AU84+AR84+AO84+AL84+AI84+AF84+AC84+Z84+W84+T84+Q84+N84+K84+H84+E84=0),CT83,IF(CT$14>=CT83,CT83,IF(AND(CQ84=0,CN84=0,CK84=0,CH84=0,CE84=0,CB84=0,BY84=0,BV84=0,BS84=0,BP84=0,BM84=0,BJ84=0,BG84=0,BD84=0,BA84=0,AX84=0,AU84=0,AR84=0,AO84=0,AL84=0,AI84=0,AF84=0,AC84=0,Z84=0,W84=0,T84=0,Q84=0,N84=0,K84=0,H84=0,E84=0),$N$3-CP84-CM84-CJ84-CG84-CD84-CA84-BX84-BU84-BR84-BO84-BL84-BI84-BF84-BC84-AZ84-AW84-AT84-AQ84-AN84-AK84-AH84-AE84-AB84-Y84-V84-S84-P84-M84-J84-G84-D84+CT$14+CQ$14+CN$14+CK$14+CH$14+CE$14+CB$14+BY$14+BV$14+BS$14+BP$14+BM$14+BJ$14+BG$14+BD$14+BA$14+AX$14+AU$14+AR$14+AO$14+AL$14+AI$14+AF$14+AC$14+Z$14+W$14+T$14+Q$14+N$14+K$14+H$14+E$14,CT$14)))","v":0},{"$f":"IF((CT83-CS84)<=0.0001,0,(CT83-CS84)*(1+(CT$15/12)))","v":0},0,null,null,0,67,null,0,67,null,0,67,null,0,67,null,0,67,null,0,67,null,0,67,null,0,67,null,0,67,null,0,67,null,0,67,null,0,67,null,0,67,null,0,67,null,0,67,null,0,67,null,0,67,null,0,67,null,0,67,null,0,67,null,0,67,null,0,67,null,0,67,null,0,67,null,0,67,null,0,67,null,0,67,null,0,67,null,0,67,null,0,67,null,0,67,null,0,67]
[0,0,68,0,0,null,0,0,{"$f":"IF(H84=0,H$14,0)","v":{"v":40,"d":"$40.00"}},0,0,{"$f":"IF(K84=0,K$14,0)","v":{"v":25,"d":"$25.00"}},0,0,{"$f":"IF(N84=0,N$14,0)","v":0},0,0,{"$f":"IF(Q84=0,Q$14,0)","v":0},0,{"$f":"IF((T84-S85)<=0.0001,0,(T84-S85)*(1+(T$15/12)))","v":0},{"$f":"IF(T84=0,T$14,0)","v":0},0,0,{"$f":"IF(W84=0,W$14,0)","v":0},0,0,{"$f":"IF(Z84=0,Z$14,0)","v":0},null,0,{"$f":"IF(AC84=0,AC$14,0)","v":0},0,0,{"$f":"IF(AF84=0,AF$14,0)","v":0},0,0,{"$f":"IF(AI84=0,AI$14,0)","v":0},0,0,{"$f":"IF(AL84=0,AL$14,0)","v":0},0,0,{"$f":"IF(AO84=0,AO$14,0)","v":0},0,0,{"$f":"IF(AR84=0,AR$14,0)","v":0},0,0,{"$f":"IF(AU84=0,AU$14,0)","v":0},0,0,{"$f":"IF(AX84=0,AX$14,0)","v":0},0,0,{"$f":"IF(BA84=0,BA$14,0)","v":0},0,0,{"$f":"IF(BD84=0,BD$14,0)","v":0},0,0,{"$f":"IF(BG84=0,BG$14,0)","v":0},0,0,{"$f":"IF(BJ84=0,BJ$14,0)","v":0},0,0,{"$f":"IF(BM84=0,BM$14,0)","v":0},0,0,{"$f":"IF(BP84=0,BP$14,0)","v":0},0,0,{"$f":"IF(BS84=0,BS$14,0)","v":0},0,0,{"$f":"IF(BV84=0,BV$14,0)","v":0},0,0,{"$f":"IF(BY84=0,BY$14,0)","v":0},0,0,{"$f":"IF(CB84=0,CB$14,0)","v":0},0,0,{"$f":"IF(CE84=0,CE$14,0)","v":0},0,0,{"$f":"IF(CH84=0,CH$14,0)","v":0},0,0,{"$f":"IF(CK84=0,CK$14,0)","v":0},0,0,{"$f":"IF(CN84=0,CN$14,0)","v":0},0,0,{"$f":"IF(CQ84=0,CQ$14,0)","v":0},0,0,{"$f":"IF(CT84=0,CT$14,0)","v":0},null,null,0,68,null,0,68,null,0,68,null,0,68,null,0,68,null,0,68,null,0,68,null,0,68,null,0,68,null,0,68,null,0,68,null,0,68,null,0,68,null,0,68,null,0,68,null,0,68,null,0,68,null,0,68,null,0,68,null,0,68,null,0,68,null,0,68,null,0,68,null,0,68,null,0,68,null,0,68,null,0,68,null,0,68,null,0,68,null,0,68,null,0,68,null,0,68]
[0,0,69,0,{"$f":"IF((E85-D86)<=0.0001,0,(E85-D86)*(1+(E$15/12)))","v":0},null,0,0,{"v":40,"d":"$40.00"},0,0,{"v":25,"d":"$25.00"},0,0,0,0,0,0,0,0,0,0,0,0,0,0,0,null,0,0,0,0,0,0,0,0,0,0,0,0,0,0,0,0,0,0,0,0,0,0,0,0,0,0,0,0,0,0,0,0,0,0,0,0,0,0,0,0,0,0,0,0,0,0,0,0,0,0,0,0,0,0,0,0,0,0,0,0,0,0,0,0,0,0,0,0,0,0,0,null,null,0,69,null,0,69,null,0,69,null,0,69,null,0,69,null,0,69,null,0,69,null,0,69,null,0,69,null,0,69,null,0,69,null,0,69,null,0,69,null,0,69,null,0,69,null,0,69,null,0,69,null,0,69,null,0,69,null,0,69,null,0,69,null,0,69,null,0,69,null,0,69,null,0,69,null,0,69,null,0,69,null,0,69,null,0,69,null,0,69,null,0,69,null,0,69]
[0,0,70,0,0,null,0,0,{"v":40,"d":"$40.00"},0,0,{"v":25,"d":"$25.00"},0,0,0,0,0,0,0,0,0,0,0,0,0,0,0,null,0,0,0,0,0,0,0,0,0,0,0,0,0,0,0,0,0,0,0,0,0,0,0,0,0,0,0,0,0,0,0,0,0,0,0,0,0,0,0,0,0,0,0,0,0,0,0,0,0,0,0,0,0,0,0,0,0,0,0,0,0,0,0,0,0,0,0,0,0,0,0,null,null,0,70,null,0,70,null,0,70,null,0,70,null,0,70,null,0,70,null,0,70,null,0,70,null,0,70,null,0,70,null,0,70,null,0,70,null,0,70,null,0,70,null,0,70,null,0,70,null,0,70,null,0,70,null,0,70,null,0,70,null,0,70,null,0,70,null,0,70,null,0,70,null,0,70,null,0,70,null,0,70,null,0,70,null,0,70,null,0,70,null,0,70,null,0,70]
[0,0,71,0,0,null,0,0,{"v":40,"d":"$40.00"},0,0,{"v":25,"d":"$25.00"},0,0,0,0,0,0,0,0,0,0,0,0,0,0,0,null,0,0,0,0,0,0,0,0,0,0,0,0,0,0,0,0,0,0,0,0,0,0,0,0,0,0,0,0,0,0,0,0,0,0,0,0,0,0,0,0,0,0,0,0,0,0,0,0,0,0,0,0,0,0,0,0,0,0,0,0,0,0,0,0,0,0,0,0,0,0,0,null,null,0,71,null,0,71,null,0,71,null,0,71,null,0,71,null,0,71,null,0,71,null,0,71,null,0,71,null,0,71,null,0,71,null,0,71,null,0,71,null,0,71,null,0,71,null,0,71,null,0,71,null,0,71,null,0,71,null,0,71,null,0,71,null,0,71,null,0,71,null,0,71,null,0,71,null,0,71,null,0,71,null,0,71,null,0,71,null,0,71,null,0,71,null,0,71]
[0,0,72,0,0,null,0,0,{"v":40,"d":"$40.00"},0,0,{"v":25,"d":"$25.00"},0,0,0,0,0,0,0,0,0,0,0,0,0,0,0,null,0,0,0,0,0,0,0,0,0,0,0,0,0,0,0,0,0,0,0,0,0,0,0,0,0,0,0,0,0,0,0,0,0,0,0,0,0,0,0,0,0,0,0,0,0,0,0,0,0,0,0,0,0,0,0,0,0,0,0,0,0,0,0,0,0,0,0,0,0,0,0,null,null,0,72,null,0,72,null,0,72,null,0,72,null,0,72,null,0,72,null,0,72,null,0,72,null,0,72,null,0,72,null,0,72,null,0,72,null,0,72,null,0,72,null,0,72,null,0,72,null,0,72,null,0,72,null,0,72,null,0,72,null,0,72,null,0,72,null,0,72,null,0,72,null,0,72,null,0,72,null,0,72,null,0,72,null,0,72,null,0,72,null,0,72,null,0,72]
[0,0,73,0,0,null,0,0,{"v":40,"d":"$40.00"},0,0,{"v":25,"d":"$25.00"},0,0,0,0,0,0,0,0,0,0,0,0,0,0,0,null,0,0,0,0,0,0,0,0,0,0,0,0,0,0,0,0,0,0,0,0,0,0,0,0,0,0,0,0,0,0,0,0,0,0,0,0,0,0,0,0,0,0,0,0,0,0,0,0,0,0,0,0,0,0,0,0,0,0,0,0,0,0,0,0,0,0,0,0,0,0,0,null,null,0,73,null,0,73,null,0,73,null,0,73,null,0,73,null,0,73,null,0,73,null,0,73,null,0,73,null,0,73,null,0,73,null,0,73,null,0,73,null,0,73,null,0,73,null,0,73,null,0,73,null,0,73,null,0,73,null,0,73,null,0,73,null,0,73,null,0,73,null,0,73,null,0,73,null,0,73,null,0,73,null,0,73,null,0,73,null,0,73,null,0,73,null,0,73]
[0,0,74,0,0,null,0,0,{"v":40,"d":"$40.00"},0,0,{"v":25,"d":"$25.00"},0,0,0,0,0,0,0,0,0,0,0,0,0,0,0,null,0,0,0,0,0,0,0,0,0,0,0,0,0,0,0,0,0,0,0,0,0,0,0,0,0,0,0,0,0,0,0,0,0,0,0,0,0,0,0,0,0,0,0,0,0,0,0,0,0,0,0,0,0,0,0,0,0,0,0,0,0,0,0,0,0,0,0,0,0,0,0,null,null,0,74,null,0,74,null,0,74,null,0,74,null,0,74,null,0,74,null,0,74,null,0,74,null,0,74,null,0,74,null,0,74,null,0,74,null,0,74,null,0,74,null,0,74,null,0,74,null,0,74,null,0,74,null,0,74,null,0,74,null,0,74,null,0,74,null,0,74,null,0,74,null,0,74,null,0,74,null,0,74,null,0,74,null,0,74,null,0,74,null,0,74,null,0,74]
[0,0,75,0,0,null,0,0,{"v":40,"d":"$40.00"},0,0,{"v":25,"d":"$25.00"},0,0,0,0,0,0,0,0,0,0,0,0,0,0,0,null,0,0,0,0,0,0,0,0,0,0,0,0,0,0,0,0,0,0,0,0,0,0,0,0,0,0,0,0,0,0,0,0,0,0,0,0,0,0,0,0,0,0,0,0,0,0,0,0,0,0,0,0,0,0,0,0,0,0,0,0,0,0,0,0,0,0,0,0,0,0,0,null,null,0,75,null,0,75,null,0,75,null,0,75,null,0,75,null,0,75,null,0,75,null,0,75,null,0,75,null,0,75,null,0,75,null,0,75,null,0,75,null,0,75,null,0,75,null,0,75,null,0,75,null,0,75,null,0,75,null,0,75,null,0,75,null,0,75,null,0,75,null,0,75,null,0,75,null,0,75,null,0,75,null,0,75,null,0,75,null,0,75,null,0,75,null,0,75]
[0,0,76,0,0,null,0,0,{"v":40,"d":"$40.00"},0,0,{"v":25,"d":"$25.00"},0,0,0,0,0,0,0,0,0,0,0,0,0,0,0,null,0,0,0,0,0,0,0,0,0,0,0,0,0,0,0,0,0,0,0,0,0,0,0,0,0,0,0,0,0,0,0,0,0,0,0,0,0,0,0,0,0,0,0,0,0,0,0,0,0,0,0,0,0,0,0,0,0,0,0,0,0,0,0,0,0,0,0,0,0,0,0,null,null,0,76,null,0,76,null,0,76,null,0,76,null,0,76,null,0,76,null,0,76,null,0,76,null,0,76,null,0,76,null,0,76,null,0,76,null,0,76,null,0,76,null,0,76,null,0,76,null,0,76,null,0,76,null,0,76,null,0,76,null,0,76,null,0,76,null,0,76,null,0,76,null,0,76,null,0,76,null,0,76,null,0,76,null,0,76,null,0,76,null,0,76,null,0,76]
[0,0,77,0,0,null,0,0,{"v":40,"d":"$40.00"},0,0,{"v":25,"d":"$25.00"},0,0,0,0,0,0,0,0,0,0,0,0,0,0,0,null,0,0,0,0,0,0,0,0,0,0,0,0,0,0,0,0,0,0,0,0,0,0,0,0,0,0,0,0,0,0,0,0,0,0,0,0,0,0,0,0,0,0,0,0,0,0,0,0,0,0,0,0,0,0,0,0,0,0,0,0,0,0,0,0,0,0,0,0,0,0,0,null,null,0,77,null,0,77,null,0,77,null,0,77,null,0,77,null,0,77,null,0,77,null,0,77,null,0,77,null,0,77,null,0,77,null,0,77,null,0,77,null,0,77,null,0,77,null,0,77,null,0,77,null,0,77,null,0,77,null,0,77,null,0,77,null,0,77,null,0,77,null,0,77,null,0,77,null,0,77,null,0,77,null,0,77,null,0,77,null,0,77,null,0,77,null,0,77]
[0,0,78,0,0,null,0,0,{"v":40,"d":"$40.00"},0,0,{"v":25,"d":"$25.00"},0,0,0,0,0,0,0,0,0,0,0,0,0,0,0,null,0,0,0,0,0,0,0,0,0,0,0,0,0,0,0,0,0,0,0,0,0,0,0,0,0,0,0,0,0,0,0,0,0,0,0,0,0,0,0,0,0,0,0,0,0,0,0,0,0,0,0,0,0,0,0,0,0,0,0,0,0,0,0,0,0,0,0,0,0,0,0,null,null,0,78,null,0,78,null,0,78,null,0,78,null,0,78,null,0,78,null,0,78,null,0,78,null,0,78,null,0,78,null,0,78,null,0,78,null,0,78,null,0,78,null,0,78,null,0,78,null,0,78,null,0,78,null,0,78,null,0,78,null,0,78,null,0,78,null,0,78,null,0,78,null,0,78,null,0,78,null,0,78,null,0,78,null,0,78,null,0,78,null,0,78,null,0,78]
[0,0,79,0,0,null,0,0,{"v":40,"d":"$40.00"},0,0,{"v":25,"d":"$25.00"},0,0,0,0,0,0,0,0,0,0,0,0,0,0,0,null,0,0,0,0,0,0,0,0,0,0,0,0,0,0,0,0,0,0,0,0,0,0,0,0,0,0,0,0,0,0,0,0,0,0,0,0,0,0,0,0,0,0,0,0,0,0,0,0,0,0,0,0,0,0,0,0,0,0,0,0,0,0,0,0,0,0,0,0,0,0,0,null,null,0,79,null,0,79,null,0,79,null,0,79,null,0,79,null,0,79,null,0,79,null,0,79,null,0,79,null,0,79,null,0,79,null,0,79,null,0,79,null,0,79,null,0,79,null,0,79,null,0,79,null,0,79,null,0,79,null,0,79,null,0,79,null,0,79,null,0,79,null,0,79,null,0,79,null,0,79,null,0,79,null,0,79,null,0,79,null,0,79,null,0,79,null,0,79]
[0,0,80,0,0,null,0,0,{"v":40,"d":"$40.00"},0,0,{"v":25,"d":"$25.00"},0,0,0,0,0,0,0,0,0,0,0,0,0,0,0,null,0,0,0,0,0,0,0,0,0,0,0,0,0,0,0,0,0,0,0,0,0,0,0,0,0,0,0,0,0,0,0,0,0,0,0,0,0,0,0,0,0,0,0,0,0,0,0,0,0,0,0,0,0,0,0,0,0,0,0,0,0,0,0,0,0,0,0,0,0,0,0,null,null,0,80,null,0,80,null,0,80,null,0,80,null,0,80,null,0,80,null,0,80,null,0,80,null,0,80,null,0,80,null,0,80,null,0,80,null,0,80,null,0,80,null,0,80,null,0,80,null,0,80,null,0,80,null,0,80,null,0,80,null,0,80,null,0,80,null,0,80,null,0,80,null,0,80,null,0,80,null,0,80,null,0,80,null,0,80,null,0,80,null,0,80,null,0,80]
[0,0,81,0,0,null,0,0,{"v":40,"d":"$40.00"},0,0,{"v":25,"d":"$25.00"},0,0,0,0,0,0,0,0,0,0,0,0,0,0,0,null,0,0,0,0,0,0,0,0,0,0,0,0,0,0,0,0,0,0,0,0,0,0,0,0,0,0,0,0,0,0,0,0,0,0,0,0,0,0,0,0,0,0,0,0,0,0,0,0,0,0,0,0,0,0,0,0,0,0,0,0,0,0,0,0,0,0,0,0,0,0,0,null,null,0,81,null,0,81,null,0,81,null,0,81,null,0,81,null,0,81,null,0,81,null,0,81,null,0,81,null,0,81,null,0,81,null,0,81,null,0,81,null,0,81,null,0,81,null,0,81,null,0,81,null,0,81,null,0,81,null,0,81,null,0,81,null,0,81,null,0,81,null,0,81,null,0,81,null,0,81,null,0,81,null,0,81,null,0,81,null,0,81,null,0,81,null,0,81]
[0,0,82,0,0,null,0,0,{"v":40,"d":"$40.00"},0,0,{"v":25,"d":"$25.00"},0,0,0,0,0,0,0,0,0,0,0,0,0,0,0,null,0,0,0,0,0,0,0,0,0,0,0,0,0,0,0,0,0,0,0,0,0,0,0,0,0,0,0,0,0,0,0,0,0,0,0,0,0,0,0,0,0,0,0,0,0,0,0,0,0,0,0,0,0,0,0,0,0,0,0,0,0,0,0,0,0,0,0,0,0,0,0,null,null,0,82,null,0,82,null,0,82,null,0,82,null,0,82,null,0,82,null,0,82,null,0,82,null,0,82,null,0,82,null,0,82,null,0,82,null,0,82,null,0,82,null,0,82,null,0,82,null,0,82,null,0,82,null,0,82,null,0,82,null,0,82,null,0,82,null,0,82,null,0,82,null,0,82,null,0,82,null,0,82,null,0,82,null,0,82,null,0,82,null,0,82,null,0,82]
[0,0,83,0,0,null,0,0,{"v":40,"d":"$40.00"},0,0,{"v":25,"d":"$25.00"},0,0,0,0,0,0,0,0,0,0,0,0,0,0,0,null,0,0,0,0,0,0,0,0,0,0,0,0,0,0,0,0,0,0,0,0,0,0,0,0,0,0,0,0,0,0,0,0,0,0,0,0,0,0,0,0,0,0,0,0,0,0,0,0,0,0,0,0,0,0,0,0,0,0,0,0,0,0,0,0,0,0,0,0,0,0,0,null,null,0,83,null,0,83,null,0,83,null,0,83,null,0,83,null,0,83,null,0,83,null,0,83,null,0,83,null,0,83,null,0,83,null,0,83,null,0,83,null,0,83,null,0,83,null,0,83,null,0,83,null,0,83,null,0,83,null,0,83,null,0,83,null,0,83,null,0,83,null,0,83,null,0,83,null,0,83,null,0,83,null,0,83,null,0,83,null,0,83,null,0,83,null,0,83]
[0,0,84,0,0,null,0,0,{"v":40,"d":"$40.00"},0,0,{"v":25,"d":"$25.00"},0,0,0,0,0,0,0,0,0,0,0,0,0,0,0,null,0,0,0,0,0,0,0,0,0,0,0,0,0,0,0,0,0,0,0,0,0,0,0,0,0,0,0,0,0,0,0,0,0,0,0,0,0,0,0,0,0,0,0,0,0,0,0,0,0,0,0,0,0,0,0,0,0,0,0,0,0,0,0,0,0,0,0,0,0,0,0,null,null,0,84,null,0,84,null,0,84,null,0,84,null,0,84,null,0,84,null,0,84,null,0,84,null,0,84,null,0,84,null,0,84,null,0,84,null,0,84,null,0,84,null,0,84,null,0,84,null,0,84,null,0,84,null,0,84,null,0,84,null,0,84,null,0,84,null,0,84,null,0,84,null,0,84,null,0,84,null,0,84,null,0,84,null,0,84,null,0,84,null,0,84,null,0,84]
[0,0,85,0,0,null,0,0,{"v":40,"d":"$40.00"},0,0,{"v":25,"d":"$25.00"},0,0,0,0,0,0,0,0,0,0,0,0,0,0,0,null,0,0,0,0,0,0,0,0,0,0,0,0,0,0,0,0,0,0,0,0,0,0,0,0,0,0,0,0,0,0,0,0,0,0,0,0,0,0,0,0,0,0,0,0,0,0,0,0,0,0,0,0,0,0,0,0,0,0,0,0,0,0,0,0,0,0,0,0,0,0,0,null,null,0,85,null,0,85,null,0,85,null,0,85,null,0,85,null,0,85,null,0,85,null,0,85,null,0,85,null,0,85,null,0,85,null,0,85,null,0,85,null,0,85,null,0,85,null,0,85,null,0,85,null,0,85,null,0,85,null,0,85,null,0,85,null,0,85,null,0,85,null,0,85,null,0,85,null,0,85,null,0,85,null,0,85,null,0,85,null,0,85,null,0,85,null,0,85]
[0,0,86,0,0,null,0,0,{"v":40,"d":"$40.00"},0,0,{"v":25,"d":"$25.00"},0,0,0,0,0,0,0,0,0,0,0,0,0,0,0,null,0,0,0,0,0,0,0,0,0,0,0,0,0,0,0,0,0,0,0,0,0,0,0,0,0,0,0,0,0,0,0,0,0,0,0,0,0,0,0,0,0,0,0,0,0,0,0,0,0,0,0,0,0,0,0,0,0,0,0,0,0,0,0,0,0,0,0,0,0,0,0,null,null,0,86,null,0,86,null,0,86,null,0,86,null,0,86,null,0,86,null,0,86,null,0,86,null,0,86,null,0,86,null,0,86,null,0,86,null,0,86,null,0,86,null,0,86,null,0,86,null,0,86,null,0,86,null,0,86,null,0,86,null,0,86,null,0,86,null,0,86,null,0,86,null,0,86,null,0,86,null,0,86,null,0,86,null,0,86,null,0,86,null,0,86,null,0,86]
[0,0,87,0,0,null,0,0,{"v":40,"d":"$40.00"},0,0,{"v":25,"d":"$25.00"},0,0,0,0,0,0,0,0,0,0,0,0,0,0,0,null,0,0,0,0,0,0,0,0,0,0,0,0,0,0,0,0,0,0,0,0,0,0,0,0,0,0,0,0,0,0,0,0,0,0,0,0,0,0,0,0,0,0,0,0,0,0,0,0,0,0,0,0,0,0,0,0,0,0,0,0,0,0,0,0,0,0,0,0,0,0,0,null,null,0,87,null,0,87,null,0,87,null,0,87,null,0,87,null,0,87,null,0,87,null,0,87,null,0,87,null,0,87,null,0,87,null,0,87,null,0,87,null,0,87,null,0,87,null,0,87,null,0,87,null,0,87,null,0,87,null,0,87,null,0,87,null,0,87,null,0,87,null,0,87,null,0,87,null,0,87,null,0,87,null,0,87,null,0,87,null,0,87,null,0,87,null,0,87]
[0,0,88,0,0,null,0,0,{"v":40,"d":"$40.00"},0,0,{"v":25,"d":"$25.00"},0,0,0,0,0,0,0,0,0,0,0,0,0,0,0,null,0,0,0,0,0,0,0,0,0,0,0,0,0,0,0,0,0,0,0,0,0,0,0,0,0,0,0,0,0,0,0,0,0,0,0,0,0,0,0,0,0,0,0,0,0,0,0,0,0,0,0,0,0,0,0,0,0,0,0,0,0,0,0,0,0,0,0,0,0,0,0,null,null,0,88,null,0,88,null,0,88,null,0,88,null,0,88,null,0,88,null,0,88,null,0,88,null,0,88,null,0,88,null,0,88,null,0,88,null,0,88,null,0,88,null,0,88,null,0,88,null,0,88,null,0,88,null,0,88,null,0,88,null,0,88,null,0,88,null,0,88,null,0,88,null,0,88,null,0,88,null,0,88,null,0,88,null,0,88,null,0,88,null,0,88,null,0,88]
[0,0,89,0,0,null,0,0,{"v":40,"d":"$40.00"},0,0,{"v":25,"d":"$25.00"},0,0,0,0,0,0,0,0,0,0,0,0,0,0,0,null,0,0,0,0,0,0,0,0,0,0,0,0,0,0,0,0,0,0,0,0,0,0,0,0,0,0,0,0,0,0,0,0,0,0,0,0,0,0,0,0,0,0,0,0,0,0,0,0,0,0,0,0,0,0,0,0,0,0,0,0,0,0,0,0,0,0,0,0,0,0,0,null,null,0,89,null,0,89,null,0,89,null,0,89,null,0,89,null,0,89,null,0,89,null,0,89,null,0,89,null,0,89,null,0,89,null,0,89,null,0,89,null,0,89,null,0,89,null,0,89,null,0,89,null,0,89,null,0,89,null,0,89,null,0,89,null,0,89,null,0,89,null,0,89,null,0,89,null,0,89,null,0,89,null,0,89,null,0,89,null,0,89,null,0,89,null,0,89]
[0,0,90,0,0,null,0,0,{"v":40,"d":"$40.00"},0,0,{"v":25,"d":"$25.00"},0,0,0,0,0,0,0,0,0,0,0,0,0,0,0,null,0,0,0,0,0,0,0,0,0,0,0,0,0,0,0,0,0,0,0,0,0,0,0,0,0,0,0,0,0,0,0,0,0,0,0,0,0,0,0,0,0,0,0,0,0,0,0,0,0,0,0,0,0,0,0,0,0,0,0,0,0,0,0,0,0,0,0,0,0,0,0,null,null,0,90,null,0,90,null,0,90,null,0,90,null,0,90,null,0,90,null,0,90,null,0,90,null,0,90,null,0,90,null,0,90,null,0,90,null,0,90,null,0,90,null,0,90,null,0,90,null,0,90,null,0,90,null,0,90,null,0,90,null,0,90,null,0,90,null,0,90,null,0,90,null,0,90,null,0,90,null,0,90,null,0,90,null,0,90,null,0,90,null,0,90,null,0,90]
[0,0,91,0,0,null,0,0,{"v":40,"d":"$40.00"},0,0,{"v":25,"d":"$25.00"},0,0,0,0,0,0,0,0,0,0,0,0,0,0,0,null,0,0,0,0,0,0,0,0,0,0,0,0,0,0,0,0,0,0,0,0,0,0,0,0,0,0,0,0,0,0,0,0,0,0,0,0,0,0,0,0,0,0,0,0,0,0,0,0,0,0,0,0,0,0,0,0,0,0,0,0,0,0,0,0,0,0,0,0,0,0,0,null,null,0,91,null,0,91,null,0,91,null,0,91,null,0,91,null,0,91,null,0,91,null,0,91,null,0,91,null,0,91,null,0,91,null,0,91,null,0,91,null,0,91,null,0,91,null,0,91,null,0,91,null,0,91,null,0,91,null,0,91,null,0,91,null,0,91,null,0,91,null,0,91,null,0,91,null,0,91,null,0,91,null,0,91,null,0,91,null,0,91,null,0,91,null,0,91]
[0,0,92,0,0,null,0,0,{"v":40,"d":"$40.00"},0,0,{"v":25,"d":"$25.00"},0,0,0,0,0,0,0,0,0,0,0,0,0,0,0,null,0,0,0,0,0,0,0,0,0,0,0,0,0,0,0,0,0,0,0,0,0,0,0,0,0,0,0,0,0,0,0,0,0,0,0,0,0,0,0,0,0,0,0,0,0,0,0,0,0,0,0,0,0,0,0,0,0,0,0,0,0,0,0,0,0,0,0,0,0,0,0,null,null,0,92,null,0,92,null,0,92,null,0,92,null,0,92,null,0,92,null,0,92,null,0,92,null,0,92,null,0,92,null,0,92,null,0,92,null,0,92,null,0,92,null,0,92,null,0,92,null,0,92,null,0,92,null,0,92,null,0,92,null,0,92,null,0,92,null,0,92,null,0,92,null,0,92,null,0,92,null,0,92,null,0,92,null,0,92,null,0,92,null,0,92,null,0,92]
[0,0,93,0,0,null,0,0,{"v":40,"d":"$40.00"},0,0,{"v":25,"d":"$25.00"},0,0,0,0,0,0,0,0,0,0,0,0,0,0,0,null,0,0,0,0,0,0,0,0,0,0,0,0,0,0,0,0,0,0,0,0,0,0,0,0,0,0,0,0,0,0,0,0,0,0,0,0,0,0,0,0,0,0,0,0,0,0,0,0,0,0,0,0,0,0,0,0,0,0,0,0,0,0,0,0,0,0,0,0,0,0,0,null,null,0,93,null,0,93,null,0,93,null,0,93,null,0,93,null,0,93,null,0,93,null,0,93,null,0,93,null,0,93,null,0,93,null,0,93,null,0,93,null,0,93,null,0,93,null,0,93,null,0,93,null,0,93,null,0,93,null,0,93,null,0,93,null,0,93,null,0,93,null,0,93,null,0,93,null,0,93,null,0,93,null,0,93,null,0,93,null,0,93,null,0,93,null,0,93]
[0,0,94,0,0,null,0,0,{"v":40,"d":"$40.00"},0,0,{"v":25,"d":"$25.00"},0,0,0,0,0,0,0,0,0,0,0,0,0,0,0,null,0,0,0,0,0,0,0,0,0,0,0,0,0,0,0,0,0,0,0,0,0,0,0,0,0,0,0,0,0,0,0,0,0,0,0,0,0,0,0,0,0,0,0,0,0,0,0,0,0,0,0,0,0,0,0,0,0,0,0,0,0,0,0,0,0,0,0,0,0,0,0,null,null,0,94,null,0,94,null,0,94,null,0,94,null,0,94,null,0,94,null,0,94,null,0,94,null,0,94,null,0,94,null,0,94,null,0,94,null,0,94,null,0,94,null,0,94,null,0,94,null,0,94,null,0,94,null,0,94,null,0,94,null,0,94,null,0,94,null,0,94,null,0,94,null,0,94,null,0,94,null,0,94,null,0,94,null,0,94,null,0,94,null,0,94,null,0,94]
[0,0,95,0,0,null,0,0,{"v":40,"d":"$40.00"},0,0,{"v":25,"d":"$25.00"},0,0,0,0,0,0,0,0,0,0,0,0,0,0,0,null,0,0,0,0,0,0,0,0,0,0,0,0,0,0,0,0,0,0,0,0,0,0,0,0,0,0,0,0,0,0,0,0,0,0,0,0,0,0,0,0,0,0,0,0,0,0,0,0,0,0,0,0,0,0,0,0,0,0,0,0,0,0,0,0,0,0,0,0,0,0,0,null,null,0,95,null,0,95,null,0,95,null,0,95,null,0,95,null,0,95,null,0,95,null,0,95,null,0,95,null,0,95,null,0,95,null,0,95,null,0,95,null,0,95,null,0,95,null,0,95,null,0,95,null,0,95,null,0,95,null,0,95,null,0,95,null,0,95,null,0,95,null,0,95,null,0,95,null,0,95,null,0,95,null,0,95,null,0,95,null,0,95,null,0,95,null,0,95]
[0,0,96,0,0,null,0,0,{"v":40,"d":"$40.00"},0,0,{"v":25,"d":"$25.00"},0,0,0,0,0,0,0,0,0,0,0,0,0,0,0,null,0,0,0,0,0,0,0,0,0,0,0,0,0,0,0,0,0,0,0,0,0,0,0,0,0,0,0,0,0,0,0,0,0,0,0,0,0,0,0,0,0,0,0,0,0,0,0,0,0,0,0,0,0,0,0,0,0,0,0,0,0,0,0,0,0,0,0,0,0,0,0,null,null,0,96,null,0,96,null,0,96,null,0,96,null,0,96,null,0,96,null,0,96,null,0,96,null,0,96,null,0,96,null,0,96,null,0,96,null,0,96,null,0,96,null,0,96,null,0,96,null,0,96,null,0,96,null,0,96,null,0,96,null,0,96,null,0,96,null,0,96,null,0,96,null,0,96,null,0,96,null,0,96,null,0,96,null,0,96,null,0,96,null,0,96,null,0,96]
[0,0,97,0,0,null,0,0,{"v":40,"d":"$40.00"},0,0,{"v":25,"d":"$25.00"},0,0,0,0,0,0,0,0,0,0,0,0,0,0,0,null,0,0,0,0,0,0,0,0,0,0,0,0,0,0,0,0,0,0,0,0,0,0,0,0,0,0,0,0,0,0,0,0,0,0,0,0,0,0,0,0,0,0,0,0,0,0,0,0,0,0,0,0,0,0,0,0,0,0,0,0,0,0,0,0,0,0,0,0,0,0,0,null,null,{"$f":"E114","v":0},97,null,{"$f":"H114","v":0},97,null,{"$f":"K114","v":0},97,null,{"$f":"N114","v":0},97,null,{"$f":"Q114","v":0},97,null,{"$f":"T114","v":0},97,null,{"$f":"W114","v":0},97,null,{"$f":"Z114","v":0},97,null,{"$f":"AC114","v":0},97,null,{"$f":"AF114","v":0},97,null,{"$f":"AI114","v":0},97,null,{"$f":"AL114","v":0},97,null,{"$f":"AO114","v":0},97,null,{"$f":"AR114","v":0},97,null,{"$f":"AU114","v":0},97,null,{"$f":"AX114","v":0},97,null,{"$f":"BA114","v":0},97,null,{"$f":"BD114","v":0},97,null,{"$f":"BG114","v":0},97,null,{"$f":"BJ114","v":0},97,null,{"$f":"BM114","v":0},97,null,{"$f":"BP114","v":0},97,null,{"$f":"BS114","v":0},97,null,{"$f":"BV114","v":0},97,null,{"$f":"BY114","v":0},97,null,{"$f":"CB114","v":0},97,null,{"$f":"CE114","v":0},97,null,{"$f":"CH114","v":0},97,null,{"$f":"CK114","v":0},97,null,{"$f":"CN114","v":0},97,null,{"$f":"CQ114","v":0},97,null,{"$f":"CT114","v":0},97]
[0,0,98,0,0,null,0,0,{"v":40,"d":"$40.00"},0,0,{"v":25,"d":"$25.00"},0,0,0,0,0,0,0,0,0,0,0,0,0,0,0,null,0,0,0,0,0,0,0,0,0,0,0,0,0,0,0,0,0,0,0,0,0,0,0,0,0,0,0,0,0,0,0,0,0,0,0,0,0,0,0,0,0,0,0,0,0,0,0,0,0,0,0,0,0,0,0,0,0,0,0,0,0,0,0,0,0,0,0,0,0,0,0,null,null,0,98,null,0,98,null,0,98,null,0,98,null,0,98,null,0,98,null,0,98,null,0,98,null,0,98,null,0,98,null,0,98,null,0,98,null,0,98,null,0,98,null,0,98,null,0,98,null,0,98,null,0,98,null,0,98,null,0,98,null,0,98,null,0,98,null,0,98,null,0,98,null,0,98,null,0,98,null,0,98,null,0,98,null,0,98,null,0,98,null,0,98,null,0,98]
[0,0,99,0,0,null,0,0,{"v":40,"d":"$40.00"},0,0,{"v":25,"d":"$25.00"},0,0,0,0,0,0,0,0,0,0,0,0,0,0,0,null,0,0,0,0,0,0,0,0,0,0,0,0,0,0,0,0,0,0,0,0,0,0,0,0,0,0,0,0,0,0,0,0,0,0,0,0,0,0,0,0,0,0,0,0,0,0,0,0,0,0,0,0,0,0,0,0,0,0,0,0,0,0,0,0,0,0,0,0,0,0,0,null,null,0,99,null,0,99,null,0,99,null,0,99,null,0,99,null,0,99,null,0,99,null,0,99,null,0,99,null,0,99,null,0,99,null,0,99,null,0,99,null,0,99,null,0,99,null,0,99,null,0,99,null,0,99,null,0,99,null,0,99,null,0,99,null,0,99,null,0,99,null,0,99,null,0,99,null,0,99,null,0,99,null,0,99,null,0,99,null,0,99,null,0,99,null,0,99]
[0,0,100,0,0,null,0,0,{"v":40,"d":"$40.00"},0,0,{"v":25,"d":"$25.00"},0,0,0,0,0,0,0,0,0,0,0,0,0,0,0,null,0,0,0,0,0,0,0,0,0,0,0,0,0,0,0,0,0,0,0,0,0,0,0,0,0,0,0,0,0,0,0,0,0,0,0,0,0,0,0,0,0,0,0,0,0,0,0,0,0,0,0,0,0,0,0,0,0,0,0,0,0,0,0,0,0,0,0,0,0,0,0,null,null,0,100,null,0,100,null,0,100,null,0,100,null,0,100,null,0,100,null,0,100,null,0,100,null,0,100,null,0,100,null,0,100,null,0,100,null,0,100,null,0,100,null,0,100,null,0,100,null,0,100,null,0,100,null,0,100,null,0,100,null,0,100,null,0,100,null,0,100,null,0,100,null,0,100,null,0,100,null,0,100,null,0,100,null,0,100,null,0,100,null,0,100,null,0,100]
[0,0,101,0,0,null,0,0,{"v":40,"d":"$40.00"},0,0,{"v":25,"d":"$25.00"},0,0,0,0,0,0,0,0,0,0,0,0,0,0,0,null,0,0,0,0,0,0,0,0,0,0,0,0,0,0,0,0,0,0,0,0,0,0,0,0,0,0,0,0,0,0,0,0,0,0,0,0,0,0,0,0,0,0,0,0,0,0,0,0,0,0,0,0,0,0,0,0,0,0,0,0,0,0,0,0,0,0,0,0,0,0,0,null,null,0,101,null,0,101,null,0,101,null,0,101,null,0,101,null,0,101,null,0,101,null,0,101,null,0,101,null,0,101,null,0,101,null,0,101,null,0,101,null,0,101,null,0,101,null,0,101,null,0,101,null,0,101,null,0,101,null,0,101,null,0,101,null,0,101,null,0,101,null,0,101,null,0,101,null,0,101,null,0,101,null,0,101,null,0,101,null,0,101,null,0,101,null,0,101]
[0,0,102,0,0,null,0,0,{"v":40,"d":"$40.00"},0,0,{"v":25,"d":"$25.00"},0,0,0,0,0,0,0,0,0,0,0,0,0,0,0,null,0,0,0,0,0,0,0,0,0,0,0,0,0,0,0,0,0,0,0,0,0,0,0,0,0,0,0,0,0,0,0,0,0,0,0,0,0,0,0,0,0,0,0,0,0,0,0,0,0,0,0,0,0,0,0,0,0,0,0,0,0,0,0,0,0,0,0,0,0,0,0,null,null,0,102,null,0,102,null,0,102,null,0,102,null,0,102,null,0,102,null,0,102,null,0,102,null,0,102,null,0,102,null,0,102,null,0,102,null,0,102,null,0,102,null,0,102,null,0,102,null,0,102,null,0,102,null,0,102,null,0,102,null,0,102,null,0,102,null,0,102,null,0,102,null,0,102,null,0,102,null,0,102,null,0,102,null,0,102,null,0,102,null,0,102,null,0,102]
[0,0,103,0,0,null,0,0,{"v":40,"d":"$40.00"},0,0,{"v":25,"d":"$25.00"},0,0,0,0,0,0,0,0,0,0,0,0,0,0,0,null,0,0,0,0,0,0,0,0,0,0,0,0,0,0,0,0,0,0,0,0,0,0,0,0,0,0,0,0,0,0,0,0,0,0,0,0,0,0,0,0,0,0,0,0,0,0,0,0,0,0,0,0,0,0,0,0,0,0,0,0,0,0,0,0,0,0,0,0,0,0,0,null,null,0,103,null,0,103,null,0,103,null,0,103,null,0,103,null,0,103,null,0,103,null,0,103,null,0,103,null,0,103,null,0,103,null,0,103,null,0,103,null,0,103,null,0,103,null,0,103,null,0,103,null,0,103,null,0,103,null,0,103,null,0,103,null,0,103,null,0,103,null,0,103,null,0,103,null,0,103,null,0,103,null,0,103,null,0,103,null,0,103,null,0,103,null,0,103]
[0,0,104,0,0,null,0,0,{"v":40,"d":"$40.00"},0,0,{"v":25,"d":"$25.00"},0,0,0,0,0,0,0,0,0,0,0,0,0,0,0,null,0,0,0,0,0,0,0,0,0,0,0,0,0,0,0,0,0,0,0,0,0,0,0,0,0,0,0,0,0,0,0,0,0,0,0,0,0,0,0,0,0,0,0,0,0,0,0,0,0,0,0,0,0,0,0,0,0,0,0,0,0,0,0,0,0,0,0,0,0,0,0,null,null,0,104,null,0,104,null,0,104,null,0,104,null,0,104,null,0,104,null,0,104,null,0,104,null,0,104,null,0,104,null,0,104,null,0,104,null,0,104,null,0,104,null,0,104,null,0,104,null,0,104,null,0,104,null,0,104,null,0,104,null,0,104,null,0,104,null,0,104,null,0,104,null,0,104,null,0,104,null,0,104,null,0,104,null,0,104,null,0,104,null,0,104,null,0,104]
[0,0,105,0,0,null,0,0,{"v":40,"d":"$40.00"},0,0,{"v":25,"d":"$25.00"},0,0,0,0,0,0,0,0,0,0,0,0,0,0,0,null,0,0,0,0,0,0,0,0,0,0,0,0,0,0,0,0,0,0,0,0,0,0,0,0,0,0,0,0,0,0,0,0,0,0,0,0,0,0,0,0,0,0,0,0,0,0,0,0,0,0,0,0,0,0,0,0,0,0,0,0,0,0,0,0,0,0,0,0,0,0,0,null,null,0,105,null,0,105,null,0,105,null,0,105,null,0,105,null,0,105,null,0,105,null,0,105,null,0,105,null,0,105,null,0,105,null,0,105,null,0,105,null,0,105,null,0,105,null,0,105,null,0,105,null,0,105,null,0,105,null,0,105,null,0,105,null,0,105,null,0,105,null,0,105,null,0,105,null,0,105,null,0,105,null,0,105,null,0,105,null,0,105,null,0,105,null,0,105]
[0,0,106,0,0,null,0,0,{"v":40,"d":"$40.00"},0,0,{"v":25,"d":"$25.00"},0,0,0,0,0,0,0,0,0,0,0,0,0,0,0,null,0,0,0,0,0,0,0,0,0,0,0,0,0,0,0,0,0,0,0,0,0,0,0,0,0,0,0,0,0,0,0,0,0,0,0,0,0,0,0,0,0,0,0,0,0,0,0,0,0,0,0,0,0,0,0,0,0,0,0,0,0,0,0,0,0,0,0,0,0,0,0,null,null,0,106,null,0,106,null,0,106,null,0,106,null,0,106,null,0,106,null,0,106,null,0,106,null,0,106,null,0,106,null,0,106,null,0,106,null,0,106,null,0,106,null,0,106,null,0,106,null,0,106,null,0,106,null,0,106,null,0,106,null,0,106,null,0,106,null,0,106,null,0,106,null,0,106,null,0,106,null,0,106,null,0,106,null,0,106,null,0,106,null,0,106,null,0,106]
[0,0,107,0,0,null,0,0,{"v":40,"d":"$40.00"},0,0,{"v":25,"d":"$25.00"},0,0,0,0,0,0,0,0,0,0,0,0,0,0,0,null,0,0,0,0,0,0,0,0,0,0,0,0,0,0,0,0,0,0,0,0,0,0,0,0,0,0,0,0,0,0,0,0,0,0,0,0,0,0,0,0,0,0,0,0,0,0,0,0,0,0,0,0,0,0,0,0,0,0,0,0,0,0,0,0,0,0,0,0,0,0,0,null,null,0,107,null,0,107,null,0,107,null,0,107,null,0,107,null,0,107,null,0,107,null,0,107,null,0,107,null,0,107,null,0,107,null,0,107,null,0,107,null,0,107,null,0,107,null,0,107,null,0,107,null,0,107,null,0,107,null,0,107,null,0,107,null,0,107,null,0,107,null,0,107,null,0,107,null,0,107,null,0,107,null,0,107,null,0,107,null,0,107,null,0,107,null,0,107]
[0,0,108,0,0,null,0,0,{"v":40,"d":"$40.00"},0,0,{"v":25,"d":"$25.00"},0,0,0,0,0,0,0,0,0,0,0,0,0,0,0,null,0,0,0,0,0,0,0,0,0,0,0,0,0,0,0,0,0,0,0,0,0,0,0,0,0,0,0,0,0,0,0,0,0,0,0,0,0,0,0,0,0,0,0,0,0,0,0,0,0,0,0,0,0,0,0,0,0,0,0,0,0,0,0,0,0,0,0,0,0,0,0,null,null,0,108,null,0,108,null,0,108,null,0,108,null,0,108,null,0,108,null,0,108,null,0,108,null,0,108,null,0,108,null,0,108,null,0,108,null,0,108,null,0,108,null,0,108,null,0,108,null,0,108,null,0,108,null,0,108,null,0,108,null,0,108,null,0,108,null,0,108,null,0,108,null,0,108,null,0,108,null,0,108,null,0,108,null,0,108,null,0,108,null,0,108,null,0,108]
[0,0,109,0,0,null,0,0,{"v":40,"d":"$40.00"},0,0,{"v":25,"d":"$25.00"},0,0,0,0,0,0,0,0,0,0,0,0,0,0,0,null,0,0,0,0,0,0,0,0,0,0,0,0,0,0,0,0,0,0,0,0,0,0,0,0,0,0,0,0,0,0,0,0,0,0,0,0,0,0,0,0,0,0,0,0,0,0,0,0,0,0,0,0,0,0,0,0,0,0,0,0,0,0,0,0,0,0,0,0,0,0,0,null,null,0,109,null,0,109,null,0,109,null,0,109,null,0,109,null,0,109,null,0,109,null,0,109,null,0,109,null,0,109,null,0,109,null,0,109,null,0,109,null,0,109,null,0,109,null,0,109,null,0,109,null,0,109,null,0,109,null,0,109,null,0,109,null,0,109,null,0,109,null,0,109,null,0,109,null,0,109,null,0,109,null,0,109,null,0,109,null,0,109,null,0,109,null,0,109]
[0,0,110,0,0,null,0,0,{"v":40,"d":"$40.00"},0,0,{"v":25,"d":"$25.00"},0,0,0,0,0,0,0,0,0,0,0,0,0,0,0,null,0,0,0,0,0,0,0,0,0,0,0,0,0,0,0,0,0,0,0,0,0,0,0,0,0,0,0,0,0,0,0,0,0,0,0,0,0,0,0,0,0,0,0,0,0,0,0,0,0,0,0,0,0,0,0,0,0,0,0,0,0,0,0,0,0,0,0,0,0,0,0,null,null,0,110,null,0,110,null,0,110,null,0,110,null,0,110,null,0,110,null,0,110,null,0,110,null,0,110,null,0,110,null,0,110,null,0,110,null,0,110,null,0,110,null,0,110,null,0,110,null,0,110,null,0,110,null,0,110,null,0,110,null,0,110,null,0,110,null,0,110,null,0,110,null,0,110,null,0,110,null,0,110,null,0,110,null,0,110,null,0,110,null,0,110,null,0,110]
[0,0,111,0,0,null,0,0,{"v":40,"d":"$40.00"},0,0,{"v":25,"d":"$25.00"},0,0,0,0,0,0,0,0,0,0,0,0,0,0,0,null,0,0,0,0,0,0,0,0,0,0,0,0,0,0,0,0,0,0,0,0,0,0,0,0,0,0,0,0,0,0,0,0,0,0,0,0,0,0,0,0,0,0,0,0,0,0,0,0,0,0,0,0,0,0,0,0,0,0,0,0,0,0,0,0,0,0,0,0,0,0,0,null,null,0,111,null,0,111,null,0,111,null,0,111,null,0,111,null,0,111,null,0,111,null,0,111,null,0,111,null,0,111,null,0,111,null,0,111,null,0,111,null,0,111,null,0,111,null,0,111,null,0,111,null,0,111,null,0,111,null,0,111,null,0,111,null,0,111,null,0,111,null,0,111,null,0,111,null,0,111,null,0,111,null,0,111,null,0,111,null,0,111,null,0,111,null,0,111]
[0,0,112,0,0,null,0,0,{"v":40,"d":"$40.00"},0,0,{"v":25,"d":"$25.00"},0,0,0,0,0,0,0,0,0,0,0,0,0,0,0,null,0,0,0,0,0,0,0,0,0,0,0,0,0,0,0,0,0,0,0,0,0,0,0,0,0,0,0,0,0,0,0,0,0,0,0,0,0,0,0,0,0,0,0,0,0,0,0,0,0,0,0,0,0,0,0,0,0,0,0,0,0,0,0,0,0,0,0,0,0,0,0,null,null,0,112,null,0,112,null,0,112,null,0,112,null,0,112,null,0,112,null,0,112,null,0,112,null,0,112,null,0,112,null,0,112,null,0,112,null,0,112,null,0,112,null,0,112,null,0,112,null,0,112,null,0,112,null,0,112,null,0,112,null,0,112,null,0,112,null,0,112,null,0,112,null,0,112,null,0,112,null,0,112,null,0,112,null,0,112,null,0,112,null,0,112,null,0,112]
[0,0,113,0,0,null,0,0,{"v":40,"d":"$40.00"},0,0,{"v":25,"d":"$25.00"},0,0,0,0,0,0,0,0,0,0,0,0,0,0,0,null,0,0,0,0,0,0,0,0,0,0,0,0,0,0,0,0,0,0,0,0,0,0,0,0,0,0,0,0,0,0,0,0,0,0,0,0,0,0,0,0,0,0,0,0,0,0,0,0,0,0,0,0,0,0,0,0,0,0,0,0,0,0,0,0,0,0,0,0,0,0,0,null,null,0,113,null,0,113,null,0,113,null,0,113,null,0,113,null,0,113,null,0,113,null,0,113,null,0,113,null,0,113,null,0,113,null,0,113,null,0,113,null,0,113,null,0,113,null,0,113,null,0,113,null,0,113,null,0,113,null,0,113,null,0,113,null,0,113,null,0,113,null,0,113,null,0,113,null,0,113,null,0,113,null,0,113,null,0,113,null,0,113,null,0,113,null,0,113]
[0,0,114,0,0,null,0,0,{"v":40,"d":"$40.00"},0,0,{"v":25,"d":"$25.00"},0,0,0,0,0,0,0,0,0,0,0,0,0,0,0,null,0,0,0,0,0,0,0,0,0,0,0,0,0,0,0,0,0,0,0,0,0,0,0,0,0,0,0,0,0,0,0,0,0,0,0,0,0,0,0,0,0,0,0,0,0,0,0,0,0,0,0,0,0,0,0,0,0,0,0,0,0,0,0,0,0,0,0,0,0,0,0,null,null,0,114,null,0,114,null,0,114,null,0,114,null,0,114,null,0,114,null,0,114,null,0,114,null,0,114,null,0,114,null,0,114,null,0,114,null,0,114,null,0,114,null,0,114,null,0,114,null,0,114,null,0,114,null,0,114,null,0,114,null,0,114,null,0,114,null,0,114,null,0,114,null,0,114,null,0,114,null,0,114,null,0,114,null,0,114,null,0,114,null,0,114,null,0,114]
[0,0,115,0,0,null,0,0,{"v":40,"d":"$40.00"},0,0,{"v":25,"d":"$25.00"},0,0,0,0,0,0,0,0,0,0,0,0,0,0,0,null,0,0,0,0,0,0,0,0,0,0,0,0,0,0,0,0,0,0,0,0,0,0,0,0,0,0,0,0,0,0,0,0,0,0,0,0,0,0,0,0,0,0,0,0,0,0,0,0,0,0,0,0,0,0,0,0,0,0,0,0,0,0,0,0,0,0,0,0,0,0,0,null,null,0,115,null,0,115,null,0,115,null,0,115,null,0,115,null,0,115,null,0,115,null,0,115,null,0,115,null,0,115,null,0,115,null,0,115,null,0,115,null,0,115,null,0,115,null,0,115,null,0,115,null,0,115,null,0,115,null,0,115,null,0,115,null,0,115,null,0,115,null,0,115,null,0,115,null,0,115,null,0,115,null,0,115,null,0,115,null,0,115,null,0,115,null,0,115]
[0,0,116,0,0,null,0,0,{"v":40,"d":"$40.00"},0,0,{"v":25,"d":"$25.00"},0,0,0,0,0,0,0,0,0,0,0,0,0,0,0,null,0,0,0,0,0,0,0,0,0,0,0,0,0,0,0,0,0,0,0,0,0,0,0,0,0,0,0,0,0,0,0,0,0,0,0,0,0,0,0,0,0,0,0,0,0,0,0,0,0,0,0,0,0,0,0,0,0,0,0,0,0,0,0,0,0,0,0,0,0,0,0,null,null,0,116,null,0,116,null,0,116,null,0,116,null,0,116,null,0,116,null,0,116,null,0,116,null,0,116,null,0,116,null,0,116,null,0,116,null,0,116,null,0,116,null,0,116,null,0,116,null,0,116,null,0,116,null,0,116,null,0,116,null,0,116,null,0,116,null,0,116,null,0,116,null,0,116,null,0,116,null,0,116,null,0,116,null,0,116,null,0,116,null,0,116,null,0,116]
[0,0,117,0,0,null,0,0,{"v":40,"d":"$40.00"},0,0,{"v":25,"d":"$25.00"},0,0,0,0,0,0,0,0,0,0,0,0,0,0,0,null,0,0,0,0,0,0,0,0,0,0,0,0,0,0,0,0,0,0,0,0,0,0,0,0,0,0,0,0,0,0,0,0,0,0,0,0,0,0,0,0,0,0,0,0,0,0,0,0,0,0,0,0,0,0,0,0,0,0,0,0,0,0,0,0,0,0,0,0,0,0,0,null,null,0,117,null,0,117,null,0,117,null,0,117,null,0,117,null,0,117,null,0,117,null,0,117,null,0,117,null,0,117,null,0,117,null,0,117,null,0,117,null,0,117,null,0,117,null,0,117,null,0,117,null,0,117,null,0,117,null,0,117,null,0,117,null,0,117,null,0,117,null,0,117,null,0,117,null,0,117,null,0,117,null,0,117,null,0,117,null,0,117,null,0,117,null,0,117]
[0,0,118,0,0,null,0,0,{"v":40,"d":"$40.00"},0,0,{"v":25,"d":"$25.00"},0,0,0,0,0,0,0,0,0,0,0,0,0,0,0,null,0,0,0,0,0,0,0,0,0,0,0,0,0,0,0,0,0,0,0,0,0,0,0,0,0,0,0,0,0,0,0,0,0,0,0,0,0,0,0,0,0,0,0,0,0,0,0,0,0,0,0,0,0,0,0,0,0,0,0,0,0,0,0,0,0,0,0,0,0,0,0,null,null,0,118,null,0,118,null,0,118,null,0,118,null,0,118,null,0,118,null,0,118,null,0,118,null,0,118,null,0,118,null,0,118,null,0,118,null,0,118,null,0,118,null,0,118,null,0,118,null,0,118,null,0,118,null,0,118,null,0,118,null,0,118,null,0,118,null,0,118,null,0,118,null,0,118,null,0,118,null,0,118,null,0,118,null,0,118,null,0,118,null,0,118,null,0,118]
[0,0,119,0,0,null,0,0,{"v":40,"d":"$40.00"},0,0,{"v":25,"d":"$25.00"},0,0,0,0,0,0,0,0,0,0,0,0,0,0,0,null,0,0,0,0,0,0,0,0,0,0,0,0,0,0,0,0,0,0,0,0,0,0,0,0,0,0,0,0,0,0,0,0,0,0,0,0,0,0,0,0,0,0,0,0,0,0,0,0,0,0,0,0,0,0,0,0,0,0,0,0,0,0,0,0,0,0,0,0,0,0,0,null,null,0,119,null,0,119,null,0,119,null,0,119,null,0,119,null,0,119,null,0,119,null,0,119,null,0,119,null,0,119,null,0,119,null,0,119,null,0,119,null,0,119,null,0,119,null,0,119,null,0,119,null,0,119,null,0,119,null,0,119,null,0,119,null,0,119,null,0,119,null,0,119,null,0,119,null,0,119,null,0,119,null,0,119,null,0,119,null,0,119,null,0,119,null,0,119]
[0,0,120,0,0,null,0,0,{"v":40,"d":"$40.00"},0,0,{"v":25,"d":"$25.00"},0,0,0,0,0,0,0,0,0,0,0,0,0,0,0,null,0,0,0,0,0,0,0,0,0,0,0,0,0,0,0,0,0,0,0,0,0,0,0,0,0,0,0,0,0,0,0,0,0,0,0,0,0,0,0,0,0,0,0,0,0,0,0,0,0,0,0,0,0,0,0,0,0,0,0,0,0,0,0,0,0,0,0,0,0,0,0,null,null,0,120,null,0,120,null,0,120,null,0,120,null,0,120,null,0,120,null,0,120,null,0,120,null,0,120,null,0,120,null,0,120,null,0,120,null,0,120,null,0,120,null,0,120,null,0,120,null,0,120,null,0,120,null,0,120,null,0,120,null,0,120,null,0,120,null,0,120,null,0,120,null,0,120,null,0,120,null,0,120,null,0,120,null,0,120,null,0,120,null,0,120,null,0,120]